{"text_format":"3","workbook":"xlsx","n_sheets":29,"sheets":["Principal","Estai_Resultante","Relat_Flechas","Tabelas_de_Flexas","Caracteristica_CABO","Engastamento","Engastamento_Profundo","Padroes","Tipo_Estai","Parametros","Tabela_Esforco","Multiplex","Tabela","Momento Fletor","Historico","Relat_Estai","Calc_flexa_Multiplex","Configuracoes","Estrut_Primarias","Estrut_Urbana_15KV","Estrut_Urbana_25KV","DT_9_2kN","DT_11_2kN","DT_12_4kN","DT_12_6kN","TC_12_10kN","Graf_Comparativos","Newton","Barras de Ferramentas"],"not_rendered":{"charts":22,"images":53,"macros":1,"external_links":2,"defined_names":30,"comments":11},"read":"whole","date_system":"1900"}

{"sheet":"Principal","index":0,"n_rows":43,"n_cols":27,"rows_kept":43,"merged":[[5,9,21,29],[28,6,29,9],[28,17,29,20],[28,26,29,29],[42,17,43,20]]}
[]
[]
[]
[]
[]
[{"$nulls":9},"Cálculo de Esforços Mecânicos"]
{"$rows_empty":22}
[{"$nulls":6},"Formulários de cálculos",{"$nulls":10},"Materiais",{"$nulls":8},"Outros"]
{"$rows_empty":7}
[{"$nulls":22},""]
[]
[]
[]
[]
[]
[{"$nulls":17},"Configurações"]

{"sheet":"Estai_Resultante","index":1,"n_rows":362,"n_cols":41,"rows_kept":362,"merged":[[0,3,0,5],[0,6,0,7],[1,3,1,5],[1,6,1,7],[7,9,7,10],[13,11,15,11],[13,12,15,12],[18,9,18,10],[20,0,20,3],[21,0,21,3],[24,11,26,11],[24,12,26,12],[29,9,29,10],[35,11,37,11],[35,12,37,12],[40,9,40,10],[46,11,48,11],[46,12,48,12],[51,9,51,10],[57,11,59,11],[57,12,59,12]]}
[null,null,"ângulo","Resultante - kgf",null,null,"Ângulo estai",null,null,"ALTURA POSTE (m)",11,{"$f":"K1-(K1*0.1+0.6)","v":9.3},{"$nulls":8},"REDUZIR T PRI",{"$nulls":5},2,2,2,2,2,2,2,"dsd"]
[null,null,{"$f":"ROUND(IF(D2>0.001,E21),0)","v":255},{"$f":"ROUND(D10,0)","v":{"v":1489,"d":"1,489"}},null,null,{"$f":"ROUND(IF(D2>0.001,E22),0)","v":75},null,null,"DISTANCIA DO TOPO (cm)",20,null,null,1,{"$nulls":6},"RED TENSAO SEC",null,null,"1/0 CA VÃO 40m",230,90,{"$f":"IF(ISERROR(VLOOKUP($Z2,Table444,AA$1,FALSE)),0,VLOOKUP($Z2,Table444,AA$1,FALSE))","v":0},{"$f":"IF(ISERROR(VLOOKUP($Z2,Table555,AB$1,FALSE)),0,VLOOKUP($Z2,Table555,AB$1,FALSE))","v":0},{"$f":"IF(ISERROR(VLOOKUP($Z2,Table666,AC$1,FALSE)),0,VLOOKUP($Z2,Table666,AC$1,FALSE))","v":0},{"$f":"IF(ISERROR(VLOOKUP($Z2,Table888,AD$1,FALSE)),0,VLOOKUP($Z2,Table888,AD$1,FALSE))","v":0},{"$f":"IF(ISERROR(VLOOKUP($Z2,Table999,AE$1,FALSE)),0,VLOOKUP($Z2,Table999,AE$1,FALSE))","v":0},{"$f":"IF(ISERROR(VLOOKUP($Z2,Table222,AF$1,FALSE)),0,VLOOKUP($Z2,Table222,AF$1,FALSE))","v":0},{"$f":"IF(ISERROR(VLOOKUP($Z2,Table333,AG$1,FALSE)),0,VLOOKUP($Z2,Table333,AG$1,FALSE))","v":0},90,1,null,null,{"$f":"ROUND(IF(Estai_Resultante!M14>0.001,Estai_Resultante!M14,3500),0)","v":180},1]
[{"$nulls":9},"AFASTAMENTO BT (cm)",40,{"$nulls":12},"4/0 CA VÃO 40m",460,{"$f":"Z2-1","v":89},0,0,{"$f":"IF(ISERROR(VLOOKUP($Z3,Table666,AB$1,FALSE)),0,VLOOKUP($Z3,Table666,AB$1,FALSE))","v":0},0,0,0,0,45,1,null,null,{"$f":"ROUND(IF(Estai_Resultante!M25>0.001,Estai_Resultante!M25,3500),0)","v":315},1]
[{"$nulls":3},{"$f":"M14+180","v":360},{"$f":"M25+180","v":495},{"$f":"M36+180","v":230},{"$f":"M47+180","v":180},{"$f":"M58+180","v":180},null,"VÃO REGULADOR (m)",80,{"$nulls":12},"336,4 CA VÃO 40m",735,88,0,0,0,0,0,0,0,0,1,null,null,{"$f":"ROUND(IF(Estai_Resultante!M36>0.001,Estai_Resultante!M36,3500),0)","v":50},1]
[{"$nulls":3},{"$f":"RADIANS(D4)","v":{"v":6.283185307179586,"d":"6.28"}},{"$f":"RADIANS(E4)","v":{"v":8.639379797371932,"d":"8.64"}},{"$f":"RADIANS(F4)","v":{"v":4.014257279586958,"d":"4.01"}},{"$f":"RADIANS(G4)","v":{"v":3.141592653589793,"d":"3.14"}},{"$f":"RADIANS(H4)","v":{"v":3.141592653589793,"d":"3.14"}},null,"DISTÂNCIA SECUNDÁRIA SOLO (cm)",null,{"$f":"IF(K5>0,K5,720)","v":720},{"$nulls":13},87,0,0,0,0,0,0,0,315,1,null,null,{"$f":"ROUND(IF(Estai_Resultante!M47>0.001,Estai_Resultante!M47,3500),0)","v":3500},1]
[null,null,"COSENO",{"$f":"COS(D5)*W17","v":{"v":2694.7741935483873,"d":"2,694.77"}},{"$f":"COS(E5)*W28","v":{"v":-1905.4931060245756,"d":"-1,905.49"}},{"$f":"COS(F5)*W39","v":{"v":-394.36056608478367,"d":"-394.36"}},{"$f":"COS(G5)*W50","v":{"v":0,"d":"0.00"}},{"$f":"COS(H5)*W61","v":{"v":0,"d":"0.00"}},null,"DISTÂNCIA TELEFONE/CABO SOLO (cm)",null,{"$f":"IF(K6>0,K6,550)","v":550},{"$nulls":13},86,0,0,0,0,0,0,0,270,1,null,null,{"$f":"ROUND(IF(Estai_Resultante!M58>0.001,Estai_Resultante!M58,3500),0)","v":3500},1]
[null,null,"SENO",{"$f":"SIN(D5)*W17","v":{"v":-6.602996879106858e-13,"d":"-0.00"}},{"$f":"SIN(E5)*W28","v":{"v":1905.4931060245735,"d":"1,905.49"}},{"$f":"SIN(F5)*W39","v":{"v":-469.9806214090271,"d":"-469.98"}},{"$f":"SIN(G5)*W50","v":{"v":0,"d":"0.00"}},{"$f":"SIN(H5)*W61","v":{"v":0,"d":"0.00"}},{"$nulls":17},85,0,0,0,0,0,0,0,225,1,{"$nulls":3},1,{"$f":"IF(Estai_Resultante!G2>0.001,Estai_Resultante!G2,3500)","v":75},1]
[{"$nulls":9},"FORÇA 01",null,"BITOLA","FORMAÇÃO",{"$nulls":9},"kgf","35mm² Cabo Coberto VÃO 40m",190,84,0,0,0,0,0,0,0,180,1,{"$nulls":3},1,{"$f":"IF(Estai_Resultante!C2>0.001,Estai_Resultante!C2,3500)","v":255},1]
[null,null,"COSENO",{"$f":"SUM(D6:H6)","v":{"v":394.92052143902805,"d":"394.92"}},{"$f":"D9*D9","v":{"v":155962.2182536738,"d":"155,962.22"}},{"$nulls":4},"Nº FASES MT",3,"4/0","CAA",{"$f":"IF(L9=\"\",\"0\",CONCATENATE(L9,\" \",M9,\" VÃO \",$K$4,\"m\"))","v":"4/0 CAA VÃO 80m"},{"$f":"IF(ISERROR(VLOOKUP(N9,$X$1:$Y$105,2,FALSE)),\"\",VLOOKUP(N9,$X$1:$Y$105,2,FALSE))","v":918},{"$f":"IF(M9=\"multiplexado\",(O9*1))","v":false},{"$f":"IF(M9=\"Cabo Coberto\",(O9*1))","v":false},{"$f":"IF(M9=\"CAA\",(O9*K9))","v":2754},{"$f":"IF(M9=\"CA\",(O9*K9))","v":false},{"$f":"IF(M9=\"CAZ\",(O9*K9))","v":false},{"$f":"IF(O9=\"\",\"0\",MAX(P9:T9))","v":2754},{"$f":"IF(N9>0,U9-(U9*$V$1/100),0)","v":{"v":2754,"d":"2,754.0"}},{"$f":"V9*($L$1-($K$2/100))/$L$1","v":{"v":2694.7741935483873,"d":"2,694.8"}},"50mm² Cabo Coberto VÃO 40m",270,83,0,0,0,0,0,0,0,135,1,{"$nulls":3},1]
[null,null,"RAIZ",{"$f":"SQRT(D9*D9+D11*D11)","v":{"v":1488.8446231023477,"d":"1,488.84"}},{"$f":"D10*D10","v":{"v":2216658.311740772,"d":"2,216,658.31"}},{"$nulls":4},"NEUTRO MT",{"$nulls":3},{"$f":"IF(L10=\"\",\"0\",CONCATENATE(L10,\" \",M10,\" VÃO \",$K$4,\"m\"))","v":"0"},{"$f":"IF(ISERROR(VLOOKUP(N10,$X$1:$Y$105,2,FALSE)),\"\",VLOOKUP(N10,$X$1:$Y$105,2,FALSE))","v":""},{"$f":"IF(M10=\"multiplexado\",(O10*1))","v":false},{"$f":"IF(M10=\"Cabo Coberto\",(O10*1))","v":false},{"$f":"IF(M10=\"CAA\",(O10*K10))","v":false},{"$f":"IF(M10=\"CA\",(O10*K10))","v":false},{"$f":"IF(M10=\"CAZ\",(O10*K10))","v":false},{"$f":"IF(O10=\"\",\"0\",MAX(P10:S10))","v":"0"},{"$f":"IF(N10>0,U10-(U10*$V$1/100),0)","v":{"v":0,"d":"0.0"}},{"$f":"V10*($L$1-($K$2/100))/$L$1","v":{"v":0,"d":"0.0"}},"95mm² Cabo Coberto VÃO 40m",390,82,0,0,0,0,0,0,0,null,"FORÇA 01",{"$nulls":3},1]
[null,null,"SENO",{"$f":"SUM(D7:H7)","v":{"v":1435.5124846155459,"d":"1,435.51"}},{"$f":"D11*D11","v":{"v":2060696.0934870979,"d":"2,060,696.09"}},{"$nulls":4},"Nº FASES BT",{"$nulls":3},{"$f":"IF(L11=\"\",\"0\",CONCATENATE(L11,\" \",M11,\" VÃO \",$K$4,\"m\"))","v":"0"},{"$f":"IF(ISERROR(VLOOKUP(N11,$X$1:$Y$105,2,FALSE)),\"\",VLOOKUP(N11,$X$1:$Y$105,2,FALSE))","v":""},{"$f":"IF(M11=\"multiplexado\",(O11*1))","v":false},{"$f":"IF(M11=\"Cabo Coberto\",(O11*1))","v":false},{"$f":"IF(M11=\"CAA\",(O11*K11))","v":false},{"$f":"IF(M11=\"CA\",(O11*K11))","v":false},{"$f":"IF(M11=\"CAZ\",(O11*K11))","v":false},{"$f":"IF(O11=\"\",\"0\",MAX(P11:S11))","v":"0"},null,{"$f":"IF(N11>0,((U11)-(U11*$V$2/100))*($L$5/100)/$L$1,0)","v":{"v":0,"d":"0.0"}},"150mm² Cabo Coberto VÃO 40m",450,81,0,0,0,0,0,0,0,null,"FORÇA 02",{"$nulls":3},1]
[{"$nulls":9},"NEUTRO BT",{"$nulls":3},{"$f":"IF(L12=\"\",\"0\",CONCATENATE(L12,\" \",M12,\" VÃO \",$K$4,\"m\"))","v":"0"},{"$f":"IF(ISERROR(VLOOKUP(N12,$X$1:$Y$105,2,FALSE)),\"\",VLOOKUP(N12,$X$1:$Y$105,2,FALSE))","v":""},{"$f":"IF(M12=\"multiplexado\",(O12*1))","v":false},{"$f":"IF(M12=\"Cabo Coberto\",(O12*1))","v":false},{"$f":"IF(M12=\"CAA\",(O12*K12))","v":false},{"$f":"IF(M12=\"CA\",(O12*K12))","v":false},{"$f":"IF(M12=\"CAZ\",(O12*K12))","v":false},{"$f":"IF(O12=\"\",\"0\",MAX(P12:S12))","v":"0"},null,{"$f":"IF(N12>0,((U12)-(U12*$V$2/100))*($L$5/100)/$L$1,0)","v":{"v":0,"d":"0.0"}},"3 (35 + 35)mm² multiplexado VÃO 40m",280,80,0,0,0,0,0,0,0,null,"FORÇA 03",{"$nulls":3},1]
[{"$nulls":4},{"$f":"E9+E10-E11","v":{"v":311924.436507348,"d":"311,924.44"}},{"$nulls":4},"FIO PILOTO IP",{"$nulls":3},{"$f":"IF(L13=\"\",\"0\",CONCATENATE(L13,\" \",M13,\" VÃO \",$K$4,\"m\"))","v":"0"},{"$f":"IF(ISERROR(VLOOKUP(N13,$X$1:$Y$105,2,FALSE)),\"\",VLOOKUP(N13,$X$1:$Y$105,2,FALSE))","v":""},{"$f":"IF(M13=\"multiplexado\",(O13*1))","v":false},{"$f":"IF(M13=\"Cabo Coberto\",(O13*1))","v":false},{"$f":"IF(M13=\"CAA\",(O13*K13))","v":false},{"$f":"IF(M13=\"CA\",(O13*K13))","v":false},{"$f":"IF(M13=\"CAZ\",(O13*K13))","v":false},{"$f":"IF(O13=\"\",\"0\",MAX(P13:S13))","v":"0"},null,{"$f":"IF(N13>0,((U13)-(U13*V2/100))*($L$5/100)/$L$1,0)","v":{"v":0,"d":"0.0"}},"3 (50 + 50)mm² multiplexado VÃO 40m",280,79,0,0,0,0,0,0,0,null,"FORÇA 04",{"$nulls":3},1]
[{"$nulls":4},{"$f":"(2*D9*D10)","v":{"v":1175950.5897945447,"d":"1,175,950.59"}},{"$nulls":4},"TELEFONE N° PARES",null,"ÂNGULO",180,{"$f":"IF(ISERROR(VLOOKUP(K14,$M$66:$N$76,2,FALSE)),\"0\",VLOOKUP(K14,$M$66:$N$76,2,FALSE))","v":"0"},{"$f":"IF($N$2>0,N14,0)","v":"0"},{"$nulls":7},{"$f":"N14*($L$6/100)/($L$1-0.2)","v":{"v":0,"d":"0.0"}},"3 (70 + 70)mm² multiplexado VÃO 40m",280,78,0,0,0,0,0,0,0,null,"FORÇA 05",{"$nulls":3},1]
[{"$nulls":4},{"$f":"E13/E14","v":{"v":0.2652530125112192,"d":"0.27"}},{"$nulls":4},"TV CABO - kgf",{"$nulls":4},{"$f":"IF($N$2>0,K15,0)","v":0},{"$nulls":7},{"$f":"O15*($L$6/100)/($L$1-0.2)","v":{"v":0,"d":"0.0"}},"3 (120 + 70)mm² multiplexado VÃO 40m",400,77,0,0,0,0,0,0,0,null,"ESFORÇO RESULTANTE",{"$nulls":3},1]
[{"$nulls":4},{"$f":"-(E15)","v":{"v":-0.2652530125112192,"d":"-0.27"}},{"$nulls":4},"FIBRA OPTICA - kgf",{"$nulls":4},{"$f":"IF($N$2>0,K16,0)","v":0},{"$nulls":7},{"$f":"O16*($L$6/100)/($L$1-0.2)","v":{"v":0,"d":"0.0"}},"4 CAA VÃO 40m",207,76,0,0,0,0,0,0,0,null,"ÂNGULO ESTAI",{"$nulls":3},1]
[{"$nulls":4},{"$f":"COSH(E15)*360/PI()","v":{"v":118.64653395948532,"d":"118.65"}},{"$nulls":17},{"$f":"IF(N2>0,SUM(W9:W16),0)","v":{"v":2694.7741935483873,"d":"2,694.8"}},"2 CAA VÃO 40m",317,75,0,0,0,0,0,1,0,{"$nulls":5},1]
[{"$nulls":4},{"$f":"ACOS(E15)*180/PI()","v":{"v":74.6180126200841,"d":"74.62"}},{"$f":"360+E19","v":{"v":285.3819873799159,"d":"285.38"}},{"$nulls":17},"1/0 CAA VÃO 40m",492,74,0,0,0,0,0,0,0,{"$nulls":5},1]
[{"$nulls":4},{"$f":"ACOS(E15)*-180/PI()","v":{"v":-74.6180126200841,"d":"-74.62"}},{"$f":"180-E19","v":{"v":254.6180126200841,"d":"254.62"}},{"$nulls":3},"FORÇA 02",null,"BITOLA","FORMAÇÃO",{"$nulls":9},"kgf","2/0 CAA VÃO 40m",588,73,0,0,0,0,0,0,0,{"$nulls":5},1]
[{"$nulls":9},"Nº FASES MT",3,"4/0","CAA",{"$f":"IF(L20=\"\",\"0\",CONCATENATE(L20,\" \",M20,\" VÃO \",$K$4,\"m\"))","v":"4/0 CAA VÃO 80m"},{"$f":"IF(ISERROR(VLOOKUP(N20,$X$1:$Y$105,2,FALSE)),\"\",VLOOKUP(N20,$X$1:$Y$105,2,FALSE))","v":918},{"$f":"IF(M20=\"multiplexado\",(O20*1))","v":false},{"$f":"IF(M20=\"Cabo Coberto\",(O20*1))","v":false},{"$f":"IF(M20=\"CAA\",(O20*K20))","v":2754},{"$f":"IF(M20=\"CA\",(O20*K20))","v":false},{"$f":"IF(M20=\"CAZ\",(O20*K20))","v":false},{"$f":"IF(O20=\"\",\"0\",MAX(P20:T20))","v":2754},{"$f":"IF(N20>0,U20-(U20*$V$1/100),0)","v":{"v":2754,"d":"2,754.0"}},{"$f":"V20*($L$1-($K$2/100))/$L$1","v":{"v":2694.7741935483873,"d":"2,694.8"}},"3/0 CAA VÃO 40m",750,72,0,0,0,0,0,0,0,{"$nulls":5},1]
["Esforço Resultante - kgf",{"$nulls":3},{"$f":"IF(E22>180,E22-180,E22+180)","v":{"v":254.6180126200841,"d":"254.62"}},{"$nulls":4},"NEUTRO MT",{"$nulls":3},{"$f":"IF(L21=\"\",\"0\",CONCATENATE(L21,\" \",M21,\" VÃO \",$K$4,\"m\"))","v":"0"},{"$f":"IF(ISERROR(VLOOKUP(N21,$X$1:$Y$105,2,FALSE)),\"\",VLOOKUP(N21,$X$1:$Y$105,2,FALSE))","v":""},{"$f":"IF(M21=\"multiplexado\",(O21*1))","v":false},{"$f":"IF(M21=\"Cabo Coberto\",(O21*1))","v":false},{"$f":"IF(M21=\"CAA\",(O21*K21))","v":false},{"$f":"IF(M21=\"CA\",(O21*K21))","v":false},{"$f":"IF(M21=\"CAZ\",(O21*K21))","v":false},{"$f":"IF(O21=\"\",\"0\",MAX(P21:S21))","v":"0"},{"$f":"IF(N21>0,U21-(U21*$V$1/100),0)","v":{"v":0,"d":"0.0"}},{"$f":"V21*($L$1-($K$2/100))/$L$1","v":{"v":0,"d":"0.0"}},"4/0 CAA VÃO 40m",945,71,0,0,0,0,0,0,0,{"$nulls":5},1]
["Posição do Estai - Ângulo",{"$nulls":3},{"$f":"IF(D11>0,E18,F18)","v":{"v":74.6180126200841,"d":"74.62"}},{"$nulls":4},"Nº FASES BT",{"$nulls":3},{"$f":"IF(L22=\"\",\"0\",CONCATENATE(L22,\" \",M22,\" VÃO \",$K$4,\"m\"))","v":"0"},{"$f":"IF(ISERROR(VLOOKUP(N22,$X$1:$Y$105,2,FALSE)),\"\",VLOOKUP(N22,$X$1:$Y$105,2,FALSE))","v":""},{"$f":"IF(M22=\"multiplexado\",(O22*1))","v":false},{"$f":"IF(M22=\"Cabo Coberto\",(O22*1))","v":false},{"$f":"IF(M22=\"CAA\",(O22*K22))","v":false},{"$f":"IF(M22=\"CA\",(O22*K22))","v":false},{"$f":"IF(M22=\"CAZ\",(O22*K22))","v":false},{"$f":"IF(O22=\"\",\"0\",MAX(P22:S22))","v":"0"},null,{"$f":"IF(N22>0,((U22)-(U22*$V$2/100))*($L$5/100)/$L$1,0)","v":{"v":0,"d":"0.0"}},"4 CAA VÃO 60m",207,70,0,0,0,0,0,0,0,{"$nulls":5},1]
[{"$nulls":9},"NEUTRO BT",{"$nulls":3},{"$f":"IF(L23=\"\",\"0\",CONCATENATE(L23,\" \",M23,\" VÃO \",$K$4,\"m\"))","v":"0"},{"$f":"IF(ISERROR(VLOOKUP(N23,$X$1:$Y$105,2,FALSE)),\"\",VLOOKUP(N23,$X$1:$Y$105,2,FALSE))","v":""},{"$f":"IF(M23=\"multiplexado\",(O23*1))","v":false},{"$f":"IF(M23=\"Cabo Coberto\",(O23*1))","v":false},{"$f":"IF(M23=\"CAA\",(O23*K23))","v":false},{"$f":"IF(M23=\"CA\",(O23*K23))","v":false},{"$f":"IF(M23=\"CAZ\",(O23*K23))","v":false},{"$f":"IF(O23=\"\",\"0\",MAX(P23:S23))","v":"0"},null,{"$f":"IF(N23>0,((U23)-(U23*$V$2/100))*($L$5/100)/$L$1,0)","v":{"v":0,"d":"0.0"}},"2 CAA VÃO 60m",317,69,0,0,0,0,0,0,0,{"$nulls":5},1]
[{"$nulls":9},"FIO PILOTO IP",{"$nulls":3},{"$f":"IF(L24=\"\",\"0\",CONCATENATE(L24,\" \",M24,\" VÃO \",$K$4,\"m\"))","v":"0"},{"$f":"IF(ISERROR(VLOOKUP(N24,$X$1:$Y$105,2,FALSE)),\"\",VLOOKUP(N24,$X$1:$Y$105,2,FALSE))","v":""},{"$f":"IF(M24=\"multiplexado\",(O24*1))","v":false},{"$f":"IF(M24=\"Cabo Coberto\",(O24*1))","v":false},{"$f":"IF(M24=\"CAA\",(O24*K24))","v":false},{"$f":"IF(M24=\"CA\",(O24*K24))","v":false},{"$f":"IF(M24=\"CAZ\",(O24*K24))","v":false},{"$f":"IF(O24=\"\",\"0\",MAX(P24:S24))","v":"0"},null,{"$f":"IF(N24>0,((U24)-(U24*V13/100))*($L$5/100)/$L$1,0)","v":{"v":0,"d":"0.0"}},"1/0 CAA VÃO 60m",488,68,0,0,0,0,0,0,0,{"$nulls":5},1]
[{"$nulls":9},"TELEFONE N° PARES",null,"ÂNGULO",315,{"$f":"IF(ISERROR(VLOOKUP(K25,$M$66:$N$76,2,FALSE)),\"0\",VLOOKUP(K25,$M$66:$N$76,2,FALSE))","v":"0"},{"$f":"IF($N$2>0,N25,0)","v":"0"},{"$nulls":7},{"$f":"N25*($L$6/100)/($L$1-0.2)","v":{"v":0,"d":"0.0"}},"2/0 CAA VÃO 60m",588,67,0,0,0,0,0,0,0,{"$nulls":5},1]
[{"$nulls":9},"TV CABO - kgf",{"$nulls":4},{"$f":"IF($N$2>0,K26,0)","v":0},{"$nulls":7},{"$f":"O26*($L$6/100)/($L$1-0.2)","v":{"v":0,"d":"0.0"}},"3/0 CAA VÃO 60m",741,66,0,0,0,0,0,0,0]
[{"$nulls":9},"FIBRA OPTICA - kgf",{"$nulls":4},{"$f":"IF($N$2>0,K27,0)","v":0},{"$nulls":7},{"$f":"O27*($L$6/100)/($L$1-0.2)","v":{"v":0,"d":"0.0"}},"4/0 CAA VÃO 60m",933,65,0,0,0,0,0,0,0]
[{"$nulls":22},{"$f":"IF(N13>0,SUM(W20:W27),0)","v":{"v":2694.7741935483873,"d":"2,694.8"}},"4 CAA VÃO 80m",209,64,0,0,0,0,0,0,0]
[{"$nulls":23},"2 CAA VÃO 80m",316,63,0,0,0,0,0,0,0]
[{"$nulls":9},"FORÇA 03",null,"BITOLA","FORMAÇÃO",{"$nulls":9},"kgf","1/0 CAA VÃO 80m",484,62,0,0,0,0,0,0,0]
[{"$nulls":9},"Nº FASES MT",3,4,"CAA",{"$f":"IF(L31=\"\",\"0\",CONCATENATE(L31,\" \",M31,\" VÃO \",$K$4,\"m\"))","v":"4 CAA VÃO 80m"},{"$f":"IF(ISERROR(VLOOKUP(N31,$X$1:$Y$105,2,FALSE)),\"\",VLOOKUP(N31,$X$1:$Y$105,2,FALSE))","v":209},{"$f":"IF(M31=\"multiplexado\",(O31*1))","v":false},{"$f":"IF(M31=\"Cabo Coberto\",(O31*1))","v":false},{"$f":"IF(M31=\"CAA\",(O31*K31))","v":627},{"$f":"IF(M31=\"CA\",(O31*K31))","v":false},{"$f":"IF(M31=\"CAZ\",(O31*K31))","v":false},{"$f":"IF(O31=\"\",\"0\",MAX(P31:T31))","v":627},{"$f":"IF(N31>0,U31-(U31*$V$1/100),0)","v":{"v":627,"d":"627.0"}},{"$f":"V31*($L$1-($K$2/100))/$L$1","v":{"v":613.516129032258,"d":"613.5"}},"2/0 CAA VÃO 80m",580,61,0,0,0,0,0,0,0]
[{"$nulls":9},"NEUTRO MT",{"$nulls":3},{"$f":"IF(L32=\"\",\"0\",CONCATENATE(L32,\" \",M32,\" VÃO \",$K$4,\"m\"))","v":"0"},{"$f":"IF(ISERROR(VLOOKUP(N32,$X$1:$Y$105,2,FALSE)),\"\",VLOOKUP(N32,$X$1:$Y$105,2,FALSE))","v":""},{"$f":"IF(M32=\"multiplexado\",(O32*1))","v":false},{"$f":"IF(M32=\"Cabo Coberto\",(O32*1))","v":false},{"$f":"IF(M32=\"CAA\",(O32*K32))","v":false},{"$f":"IF(M32=\"CA\",(O32*K32))","v":false},{"$f":"IF(M32=\"CAZ\",(O32*K32))","v":false},{"$f":"IF(O32=\"\",\"0\",MAX(P32:S32))","v":"0"},{"$f":"IF(N32>0,U32-(U32*$V$1/100),0)","v":{"v":0,"d":"0.0"}},{"$f":"V32*($L$1-($K$2/100))/$L$1","v":{"v":0,"d":"0.0"}},"3/0 CAA VÃO 80m",730,60,0,0,0,0,0,0,0]
[{"$nulls":9},"Nº FASES BT",{"$nulls":3},{"$f":"IF(L33=\"\",\"0\",CONCATENATE(L33,\" \",M33,\" VÃO \",$K$4,\"m\"))","v":"0"},{"$f":"IF(ISERROR(VLOOKUP(N33,$X$1:$Y$105,2,FALSE)),\"\",VLOOKUP(N33,$X$1:$Y$105,2,FALSE))","v":""},{"$f":"IF(M33=\"multiplexado\",(O33*1))","v":false},{"$f":"IF(M33=\"Cabo Coberto\",(O33*1))","v":false},{"$f":"IF(M33=\"CAA\",(O33*K33))","v":false},{"$f":"IF(M33=\"CA\",(O33*K33))","v":false},{"$f":"IF(M33=\"CAZ\",(O33*K33))","v":false},{"$f":"IF(O33=\"\",\"0\",MAX(P33:S33))","v":"0"},null,{"$f":"IF(N33>0,((U33)-(U33*$V$2/100))*($L$5/100)/$L$1,0)","v":{"v":0,"d":"0.0"}},"4/0 CAA VÃO 80m",918,59,0,0,0,0,0,0,0]
[{"$nulls":9},"NEUTRO BT",{"$nulls":3},{"$f":"IF(L34=\"\",\"0\",CONCATENATE(L34,\" \",M34,\" VÃO \",$K$4,\"m\"))","v":"0"},{"$f":"IF(ISERROR(VLOOKUP(N34,$X$1:$Y$105,2,FALSE)),\"\",VLOOKUP(N34,$X$1:$Y$105,2,FALSE))","v":""},{"$f":"IF(M34=\"multiplexado\",(O34*1))","v":false},{"$f":"IF(M34=\"Cabo Coberto\",(O34*1))","v":false},{"$f":"IF(M34=\"CAA\",(O34*K34))","v":false},{"$f":"IF(M34=\"CA\",(O34*K34))","v":false},{"$f":"IF(M34=\"CAZ\",(O34*K34))","v":false},{"$f":"IF(O34=\"\",\"0\",MAX(P34:S34))","v":"0"},null,{"$f":"IF(N34>0,((U34)-(U34*$V$2/100))*($L$5/100)/$L$1,0)","v":{"v":0,"d":"0.0"}},"4 CAA VÃO 100m",312,58,0,0,0,0,0,0,0]
[{"$nulls":9},"FIO PILOTO IP",{"$nulls":3},{"$f":"IF(L35=\"\",\"0\",CONCATENATE(L35,\" \",M35,\" VÃO \",$K$4,\"m\"))","v":"0"},{"$f":"IF(ISERROR(VLOOKUP(N35,$X$1:$Y$105,2,FALSE)),\"\",VLOOKUP(N35,$X$1:$Y$105,2,FALSE))","v":""},{"$f":"IF(M35=\"multiplexado\",(O35*1))","v":false},{"$f":"IF(M35=\"Cabo Coberto\",(O35*1))","v":false},{"$f":"IF(M35=\"CAA\",(O35*K35))","v":false},{"$f":"IF(M35=\"CA\",(O35*K35))","v":false},{"$f":"IF(M35=\"CAZ\",(O35*K35))","v":false},{"$f":"IF(O35=\"\",\"0\",MAX(P35:S35))","v":"0"},null,{"$f":"IF(N35>0,((U35)-(U35*V24/100))*($L$5/100)/$L$1,0)","v":{"v":0,"d":"0.0"}},"2 CAA VÃO 100m",315,{"$f":"Z34-1","v":57},0,0,0,0,0,0,0]
[{"$nulls":9},"TELEFONE N° PARES",null,"ÂNGULO",50,{"$f":"IF(ISERROR(VLOOKUP(K36,$M$66:$N$76,2,FALSE)),\"0\",VLOOKUP(K36,$M$66:$N$76,2,FALSE))","v":"0"},{"$f":"IF($N$2>0,N36,0)","v":"0"},{"$nulls":7},{"$f":"N36*($L$6/100)/($L$1-0.2)","v":{"v":0,"d":"0.0"}},"1/0 CAA VÃO 100m",479,56,0,0,0,0,0,0,0]
[{"$nulls":9},"TV CABO - kgf",{"$nulls":4},{"$f":"IF($N$2>0,K37,0)","v":0},{"$nulls":7},{"$f":"O37*($L$6/100)/($L$1-0.2)","v":{"v":0,"d":"0.0"}},"2/0 CAA VÃO 100m",575,55,0,0,0,0,0,0,0]
[{"$nulls":9},"FIBRA OPTICA - kgf",{"$nulls":4},{"$f":"IF($N$2>0,K38,0)","v":0},{"$nulls":7},{"$f":"O38*($L$6/100)/($L$1-0.2)","v":{"v":0,"d":"0.0"}},"3/0 CAA VÃO 100m",718,54,0,0,0,0,0,0,0]
[{"$nulls":22},{"$f":"IF(N24>0,SUM(W31:W38),0)","v":{"v":613.516129032258,"d":"613.5"}},"4/0 CAA VÃO 100m",902,53,0,0,0,0,0,0,0]
[{"$nulls":23},"4 CAA VÃO 120m",330,52,0,0,0,0,0,0,0]
[{"$nulls":9},"FORÇA 04",null,"BITOLA","FORMAÇÃO",{"$nulls":9},"kgf","2 CAA VÃO 120m",470,51,0,0,0,0,0,0,0]
[{"$nulls":9},"Nº FASES MT",{"$nulls":3},{"$f":"IF(L42=\"\",\"0\",CONCATENATE(L42,\" \",M42,\" VÃO \",$K$4,\"m\"))","v":"0"},{"$f":"IF(ISERROR(VLOOKUP(N42,$X$1:$Y$105,2,FALSE)),\"\",VLOOKUP(N42,$X$1:$Y$105,2,FALSE))","v":""},{"$f":"IF(M42=\"multiplexado\",(O42*1))","v":false},{"$f":"IF(M42=\"Cabo Coberto\",(O42*1))","v":false},{"$f":"IF(M42=\"CAA\",(O42*K42))","v":false},{"$f":"IF(M42=\"CA\",(O42*K42))","v":false},{"$f":"IF(M42=\"CAZ\",(O42*K42))","v":false},{"$f":"IF(O42=\"\",\"0\",MAX(P42:T42))","v":"0"},{"$f":"IF(N42>0,U42-(U42*$V$1/100),0)","v":{"v":0,"d":"0.0"}},{"$f":"V42*($L$1-($K$2/100))/$L$1","v":{"v":0,"d":"0.0"}},"1/0 CAA VÃO 120m",474,50,0,0,1,0,0,0,0]
[{"$nulls":9},"NEUTRO MT",{"$nulls":3},{"$f":"IF(L43=\"\",\"0\",CONCATENATE(L43,\" \",M43,\" VÃO \",$K$4,\"m\"))","v":"0"},{"$f":"IF(ISERROR(VLOOKUP(N43,$X$1:$Y$105,2,FALSE)),\"\",VLOOKUP(N43,$X$1:$Y$105,2,FALSE))","v":""},{"$f":"IF(M43=\"multiplexado\",(O43*1))","v":false},{"$f":"IF(M43=\"Cabo Coberto\",(O43*1))","v":false},{"$f":"IF(M43=\"CAA\",(O43*K43))","v":false},{"$f":"IF(M43=\"CA\",(O43*K43))","v":false},{"$f":"IF(M43=\"CAZ\",(O43*K43))","v":false},{"$f":"IF(O43=\"\",\"0\",MAX(P43:S43))","v":"0"},{"$f":"IF(N43>0,U43-(U43*$V$1/100),0)","v":{"v":0,"d":"0.0"}},{"$f":"V43*($L$1-($K$2/100))/$L$1","v":{"v":0,"d":"0.0"}},"2/0 CAA VÃO 120m",569,49,0,0,0,0,0,0,0]
[{"$nulls":9},"Nº FASES BT",{"$nulls":3},{"$f":"IF(L44=\"\",\"0\",CONCATENATE(L44,\" \",M44,\" VÃO \",$K$4,\"m\"))","v":"0"},{"$f":"IF(ISERROR(VLOOKUP(N44,$X$1:$Y$105,2,FALSE)),\"\",VLOOKUP(N44,$X$1:$Y$105,2,FALSE))","v":""},{"$f":"IF(M44=\"multiplexado\",(O44*1))","v":false},{"$f":"IF(M44=\"Cabo Coberto\",(O44*1))","v":false},{"$f":"IF(M44=\"CAA\",(O44*K44))","v":false},{"$f":"IF(M44=\"CA\",(O44*K44))","v":false},{"$f":"IF(M44=\"CAZ\",(O44*K44))","v":false},{"$f":"IF(O44=\"\",\"0\",MAX(P44:S44))","v":"0"},null,{"$f":"IF(N44>0,((U44)-(U44*$V$2/100))*($L$5/100)/$L$1,0)","v":{"v":0,"d":"0.0"}},"3/0 CAA VÃO 120m",706,48,0,0,0,0,0,0,0]
[{"$nulls":9},"NEUTRO BT",{"$nulls":3},{"$f":"IF(L45=\"\",\"0\",CONCATENATE(L45,\" \",M45,\" VÃO \",$K$4,\"m\"))","v":"0"},{"$f":"IF(ISERROR(VLOOKUP(N45,$X$1:$Y$105,2,FALSE)),\"\",VLOOKUP(N45,$X$1:$Y$105,2,FALSE))","v":""},{"$f":"IF(M45=\"multiplexado\",(O45*1))","v":false},{"$f":"IF(M45=\"Cabo Coberto\",(O45*1))","v":false},{"$f":"IF(M45=\"CAA\",(O45*K45))","v":false},{"$f":"IF(M45=\"CA\",(O45*K45))","v":false},{"$f":"IF(M45=\"CAZ\",(O45*K45))","v":false},{"$f":"IF(O45=\"\",\"0\",MAX(P45:S45))","v":"0"},null,{"$f":"IF(N45>0,((U45)-(U45*$V$2/100))*($L$5/100)/$L$1,0)","v":{"v":0,"d":"0.0"}},"4/0 CAA VÃO 120m",885,47,0,0,0,0,0,0,0]
[{"$nulls":9},"FIO PILOTO IP",{"$nulls":3},{"$f":"IF(L46=\"\",\"0\",CONCATENATE(L46,\" \",M46,\" VÃO \",$K$4,\"m\"))","v":"0"},{"$f":"IF(ISERROR(VLOOKUP(N46,$X$1:$Y$105,2,FALSE)),\"\",VLOOKUP(N46,$X$1:$Y$105,2,FALSE))","v":""},{"$f":"IF(M46=\"multiplexado\",(O46*1))","v":false},{"$f":"IF(M46=\"Cabo Coberto\",(O46*1))","v":false},{"$f":"IF(M46=\"CAA\",(O46*K46))","v":false},{"$f":"IF(M46=\"CA\",(O46*K46))","v":false},{"$f":"IF(M46=\"CAZ\",(O46*K46))","v":false},{"$f":"IF(O46=\"\",\"0\",MAX(P46:S46))","v":"0"},null,{"$f":"IF(N46>0,((U46)-(U46*V35/100))*($L$5/100)/$L$1,0)","v":{"v":0,"d":"0.0"}},"3,09 CAZ VÃO 40m",{"v":443.22,"d":"443"},46,0,0,0,0,0,0,0]
[{"$nulls":9},"TELEFONE N° PARES",null,"ÂNGULO",null,{"$f":"IF(ISERROR(VLOOKUP(K47,$M$66:$N$76,2,FALSE)),\"0\",VLOOKUP(K47,$M$66:$N$76,2,FALSE))","v":"0"},{"$f":"IF($N$2>0,N47,0)","v":"0"},{"$nulls":7},{"$f":"N47*($L$6/100)/($L$1-0.2)","v":{"v":0,"d":"0.0"}},"4,17 CAZ VÃO 40m",443.22,45,0,0,0,0,0,0,0]
[{"$nulls":9},"TV CABO - kgf",{"$nulls":4},{"$f":"IF($N$2>0,K48,0)","v":0},{"$nulls":7},{"$f":"O48*($L$6/100)/($L$1-0.2)","v":{"v":0,"d":"0.0"}},"4 CA VÃO 40m",116.22,44,0,0,0,0,0,0,0]
[{"$nulls":9},"FIBRA OPTICA - kgf",{"$nulls":4},{"$f":"IF($N$2>0,K49,0)","v":0},{"$nulls":7},{"$f":"O49*($L$6/100)/($L$1-0.2)","v":{"v":0,"d":"0.0"}},"2 CA VÃO 40m",178.08,43,0,0,0,0,0,0,0]
[{"$nulls":22},{"$f":"IF(N35>0,SUM(W42:W49),0)","v":{"v":0,"d":"0.0"}},"1/0 CA VÃO 40m",265.89,42,0,0,0,0,0,0,0]
[{"$nulls":23},"2/0 CA VÃO 40m",579.33,41,0,0,0,0,0,0,0]
[{"$nulls":9},"FORÇA 05",null,"BITOLA","FORMAÇÃO",{"$nulls":9},"kgf","3/0 CA VÃO 40m",407.23,40,0,0,0,0,0,0,0]
[{"$nulls":9},"Nº FASES MT",{"$nulls":3},{"$f":"IF(L53=\"\",\"0\",CONCATENATE(L53,\" \",M53,\" VÃO \",$K$4,\"m\"))","v":"0"},{"$f":"IF(ISERROR(VLOOKUP(N53,$X$1:$Y$105,2,FALSE)),\"\",VLOOKUP(N53,$X$1:$Y$105,2,FALSE))","v":""},{"$f":"IF(M53=\"multiplexado\",(O53*1))","v":false},{"$f":"IF(M53=\"Cabo Coberto\",(O53*1))","v":false},{"$f":"IF(M53=\"CAA\",(O53*K53))","v":false},{"$f":"IF(M53=\"CA\",(O53*K53))","v":false},{"$f":"IF(M53=\"CAZ\",(O53*K53))","v":false},{"$f":"IF(O53=\"\",\"0\",MAX(P53:T53))","v":"0"},{"$f":"IF(N53>0,U53-(U53*$V$1/100),0)","v":{"v":0,"d":"0.0"}},{"$f":"V53*($L$1-($K$2/100))/$L$1","v":{"v":0,"d":"0.0"}},"4/0 CA VÃO 40m",512.53,39,0,0,0,0,0,0,0]
[{"$nulls":9},"NEUTRO MT",{"$nulls":3},{"$f":"IF(L54=\"\",\"0\",CONCATENATE(L54,\" \",M54,\" VÃO \",$K$4,\"m\"))","v":"0"},{"$f":"IF(ISERROR(VLOOKUP(N54,$X$1:$Y$105,2,FALSE)),\"\",VLOOKUP(N54,$X$1:$Y$105,2,FALSE))","v":""},{"$f":"IF(M54=\"multiplexado\",(O54*1))","v":false},{"$f":"IF(M54=\"Cabo Coberto\",(O54*1))","v":false},{"$f":"IF(M54=\"CAA\",(O54*K54))","v":false},{"$f":"IF(M54=\"CA\",(O54*K54))","v":false},{"$f":"IF(M54=\"CAZ\",(O54*K54))","v":false},{"$f":"IF(O54=\"\",\"0\",MAX(P54:S54))","v":"0"},{"$f":"IF(N54>0,U54-(U54*$V$1/100),0)","v":{"v":0,"d":"0.0"}},{"$f":"V54*($L$1-($K$2/100))/$L$1","v":{"v":0,"d":"0.0"}},"336,4 CA VÃO 40m",801.36,38,0,0,0,0,0,0,0]
[{"$nulls":9},"Nº FASES BT",{"$nulls":3},{"$f":"IF(L55=\"\",\"0\",CONCATENATE(L55,\" \",M55,\" VÃO \",$K$4,\"m\"))","v":"0"},{"$f":"IF(ISERROR(VLOOKUP(N55,$X$1:$Y$105,2,FALSE)),\"\",VLOOKUP(N55,$X$1:$Y$105,2,FALSE))","v":""},{"$f":"IF(M55=\"multiplexado\",(O55*1))","v":false},{"$f":"IF(M55=\"Cabo Coberto\",(O55*1))","v":false},{"$f":"IF(M55=\"CAA\",(O55*K55))","v":false},{"$f":"IF(M55=\"CA\",(O55*K55))","v":false},{"$f":"IF(M55=\"CAZ\",(O55*K55))","v":false},{"$f":"IF(O55=\"\",\"0\",MAX(P55:S55))","v":"0"},null,{"$f":"IF(N55>0,((U55)-(U55*$V$2/100))*($L$5/100)/$L$1,0)","v":{"v":0,"d":"0.0"}},"3,09 CAZ VÃO 60m",286.49,37,0,0,0,0,0,0,0]
[{"$nulls":9},"NEUTRO BT",{"$nulls":3},{"$f":"IF(L56=\"\",\"0\",CONCATENATE(L56,\" \",M56,\" VÃO \",$K$4,\"m\"))","v":"0"},{"$f":"IF(ISERROR(VLOOKUP(N56,$X$1:$Y$105,2,FALSE)),\"\",VLOOKUP(N56,$X$1:$Y$105,2,FALSE))","v":""},{"$f":"IF(M56=\"multiplexado\",(O56*1))","v":false},{"$f":"IF(M56=\"Cabo Coberto\",(O56*1))","v":false},{"$f":"IF(M56=\"CAA\",(O56*K56))","v":false},{"$f":"IF(M56=\"CA\",(O56*K56))","v":false},{"$f":"IF(M56=\"CAZ\",(O56*K56))","v":false},{"$f":"IF(O56=\"\",\"0\",MAX(P56:S56))","v":"0"},null,{"$f":"IF(N56>0,((U56)-(U56*$V$2/100))*($L$5/100)/$L$1,0)","v":{"v":0,"d":"0.0"}},"4,17 CAZ VÃO 60m",443.55,36,0,0,0,0,0,0,0]
[{"$nulls":9},"FIO PILOTO IP",{"$nulls":3},{"$f":"IF(L57=\"\",\"0\",CONCATENATE(L57,\" \",M57,\" VÃO \",$K$4,\"m\"))","v":"0"},{"$f":"IF(ISERROR(VLOOKUP(N57,$X$1:$Y$105,2,FALSE)),\"\",VLOOKUP(N57,$X$1:$Y$105,2,FALSE))","v":""},{"$f":"IF(M57=\"multiplexado\",(O57*1))","v":false},{"$f":"IF(M57=\"Cabo Coberto\",(O57*1))","v":false},{"$f":"IF(M57=\"CAA\",(O57*K57))","v":false},{"$f":"IF(M57=\"CA\",(O57*K57))","v":false},{"$f":"IF(M57=\"CAZ\",(O57*K57))","v":false},{"$f":"IF(O57=\"\",\"0\",MAX(P57:S57))","v":"0"},null,{"$f":"IF(N57>0,((U57)-(U57*V46/100))*($L$5/100)/$L$1,0)","v":{"v":0,"d":"0.0"}},"4 CA VÃO 60m",145.86,35,0,0,0,0,0,0,0]
[{"$nulls":9},"TELEFONE N° PARES",null,"ÂNGULO",null,{"$f":"IF(ISERROR(VLOOKUP(K58,$M$66:$N$76,2,FALSE)),\"0\",VLOOKUP(K58,$M$66:$N$76,2,FALSE))","v":"0"},{"$f":"IF($N$2>0,N58,0)","v":"0"},{"$nulls":7},{"$f":"N58*($L$6/100)/($L$1-0.2)","v":{"v":0,"d":"0.0"}},"2 CA VÃO 60m",223.43,34,0,0,0,0,0,0,0]
[{"$nulls":9},"TV CABO - kgf",{"$nulls":4},{"$f":"IF($N$2>0,K59,0)","v":0},{"$nulls":7},{"$f":"O59*($L$6/100)/($L$1-0.2)","v":{"v":0,"d":"0.0"}},"1/0 CA VÃO 60m",259.98,33,0,0,0,0,0,0,0]
[{"$nulls":9},"FIBRA OPTICA - kgf",{"$nulls":4},{"$f":"IF($N$2>0,K60,0)","v":0},{"$nulls":7},{"$f":"O60*($L$6/100)/($L$1-0.2)","v":{"v":0,"d":"0.0"}},"2/0 CA VÃO 60m",579.82,32,0,0,0,0,0,0,0]
[{"$nulls":22},{"$f":"IF(N46>0,SUM(W53:W60),0)","v":{"v":0,"d":"0.0"}},"3/0 CA VÃO 60m",392.58,31,0,0,0,0,0,0,0]
[{"$nulls":23},"4/0 CA VÃO 60m",492.18,30,0,0,0,0,0,0,0]
[{"$nulls":10},"CONFIGURAÇÃO",{"$nulls":12},"336,4 CA VÃO 60m",767.88,29,0,0,0,0,0,0,0]
[{"$nulls":9},"ALTURA POSTE (m)","DISTANCIA DO TOPO","AFASTAMENTO BT","N° Pares","Brasil Telecom","VÃO REGULADOR","Nº FASES","BITOLA","FORMAÇÃO",{"$nulls":5},"3,09 CAZ VÃO 80m",286.81,28,0,0,0,0,0,0,0]
[{"$nulls":9},9,20,20,null,null,0,{"$nulls":8},"4,17 CAZ VÃO 80m",444.22,27,0,0,0,0,0,0,0]
[{"$nulls":9},10,40,40,10,385,40,1,4,"CAA",{"$nulls":5},"4 CA VÃO 80m",141.26,26,{"$f":"IF(ISERROR(VLOOKUP($Z66,Table444,AA$1,FALSE)),0,VLOOKUP($Z66,Table444,AA$1,FALSE))","v":0},{"$f":"IF(ISERROR(VLOOKUP($Z66,Table555,AB$1,FALSE)),0,VLOOKUP($Z66,Table555,AB$1,FALSE))","v":0},0,{"$f":"IF(ISERROR(VLOOKUP($Z66,Table888,AD$1,FALSE)),0,VLOOKUP($Z66,Table888,AD$1,FALSE))","v":0},{"$f":"IF(ISERROR(VLOOKUP($Z66,Table999,AE$1,FALSE)),0,VLOOKUP($Z66,Table999,AE$1,FALSE))","v":0},{"$f":"IF(ISERROR(VLOOKUP($Z66,Table222,AF$1,FALSE)),0,VLOOKUP($Z66,Table222,AF$1,FALSE))","v":0},{"$f":"IF(ISERROR(VLOOKUP($Z66,Table333,AG$1,FALSE)),0,VLOOKUP($Z66,Table333,AG$1,FALSE))","v":0}]
[{"$nulls":9},11,null,60,20,385,60,2,2,"CA",{"$nulls":5},"2 CA VÃO 80m",226.96,{"$f":"Z66-1","v":25},0,0,{"$f":"IF(ISERROR(VLOOKUP($Z67,Table666,AB$1,FALSE)),0,VLOOKUP($Z67,Table666,AB$1,FALSE))","v":0},0,0,0,0]
[{"$nulls":9},12,null,80,30,385,80,3,"1/0","CAZ",{"$nulls":5},"1/0 CA VÃO 80m",329.23,24,0,0,0,0,0,0,0]
[{"$nulls":9},13,null,null,50,379,100,null,"2/0","Cabo Coberto",{"$nulls":5},"2/0 CA VÃO 80m",{"v":580.3,"d":"580.30"},23,0,0,0,0,0,0,0]
[{"$nulls":12},75,379,120,null,"3/0","multiplexado",{"$nulls":5},"3/0 CA VÃO 80m",376.59,22,0,0,0,0,0,0,0]
[{"$nulls":12},100,397,null,null,"4/0",{"$nulls":6},"4/0 CA VÃO 80m",470.13,21,0,0,0,0,0,0,0]
[{"$nulls":12},150,397,null,null,336.4,{"$nulls":6},"336,4 CA VÃO 80m",731.13,20,0,0,0,0,0,0,0]
[{"$nulls":12},200,417,null,null,3.09,{"$nulls":6},"3,09 CAZ VÃO 100m",287.35,19,0,0,0,0,0,0,0]
[{"$nulls":12},300,460,null,null,4.17,{"$nulls":6},"4,17 CAZ VÃO 100m",444.89,18,0,0,0,0,0,0,0]
[{"$nulls":12},400,482,null,null,"35mm²",{"$nulls":6},"4 CA VÃO 100m",148.12,17,0,0,0,0,0,0,0]
[{"$nulls":12},600,546,null,null,"50mm²",{"$nulls":6},"2 CA VÃO 100m",227.02,16,0,0,0,0,0,0,0]
[{"$nulls":16},"95mm²",{"$nulls":6},"1/0 CA VÃO 100m",330.11,15,0,0,0,0,0,0,0]
[{"$nulls":16},"150mm²",{"$nulls":6},"2/0 CA VÃO 100m",580.79,14,0,0,0,0,0,0,0]
[{"$nulls":16},"3 (35 + 35)mm²",{"$nulls":6},"3/0 CA VÃO 100m",508.84,13,0,0,0,0,0,0,0]
[{"$nulls":16},"3 (50 + 50)mm²",{"$nulls":6},"4/0 CA VÃO 100m",627.18,12,0,0,0,0,0,0,0]
[{"$nulls":16},"3 (70 + 70)mm²",{"$nulls":6},"336,4 CA VÃO 100m",696.56,11,0,0,0,0,0,0,0]
[{"$nulls":16},"3 (120 + 70)mm²",{"$nulls":6},"3,09 CAZ VÃO 120m",287.89,10,0,0,0,0,0,0,0]
[{"$nulls":23},"4,17 CAZ VÃO 120m",445.72,9,0,0,0,0,0,0,0]
[{"$nulls":23},"4 CA VÃO 120m",152.92,8,0,0,0,0,0,0,0]
[{"$nulls":23},"2 CA VÃO 120m",152.92,7,0,0,0,0,0,0,0]
[{"$nulls":23},"1/0 CA VÃO 120m",341.65,6,0,0,0,0,0,0,0]
[{"$nulls":23},"2/0 CA VÃO 120m",581.52,5,0,0,0,0,0,0,0]
[{"$nulls":23},"3/0 CA VÃO 120m",501.18,4,0,0,0,0,0,0,0]
[{"$nulls":23},"4/0 CA VÃO 120m",647.02,3,0,0,0,0,0,0,0]
[{"$nulls":23},"336,4 CA VÃO 120m",1018.03,2,0,0,0,0,0,0,0]
[{"$nulls":23},"336,4 CAA (LINNET) VÃO 40m",1570,1,0,0,0,0,0,0,0]
[{"$nulls":23},"336,4 CAA (MERLIN) VÃO 40m",1058.05,0,0,0,0,0,0,0,0]
[{"$nulls":23},"336,4 CAA (ORIOLE) VÃO 40m",1838.11,360,0,0,0,0,0,0,0]
[{"$nulls":23},"336,4 CAA (LINNET) VÃO 60m",{"v":1552.26,"d":"1552"},359,0,0,0,0,0,0,0]
[{"$nulls":23},"336,4 CAA (MERLIN) VÃO 60m",{"v":1029.2,"d":"1029.20"},{"$f":"Z94-1","v":358},0,0,0,0,0,0,0]
[{"$nulls":23},"336,4 CAA (ORIOLE) VÃO 60m",{"v":1824.1,"d":"1824.10"},357,0,0,0,0,0,0,0]
[{"$nulls":23},"336,4 CAA (LINNET) VÃO 80m",1530,356,0,0,0,0,0,0,0]
[{"$nulls":23},"336,4 CAA (MERLIN) VÃO 80m",995.05,355,0,0,0,0,0,0,0]
[{"$nulls":23},"336,4 CAA (ORIOLE) VÃO 80m",1942.39,354,0,0,0,0,0,0,0]
[{"$nulls":23},"336,4 CAA (LINNET) VÃO 100m",1504,353,0,0,0,0,0,0,0]
[{"$nulls":23},"336,4 CAA (MERLIN) VÃO 100m",959.76,352,0,0,0,0,0,0,0]
[{"$nulls":23},"336,4 CAA (ORIOLE) VÃO 100m",1784.41,351,0,0,0,0,0,0,0]
[{"$nulls":23},"336,4 CAA (LINNET) VÃO 120m",1477,350,0,0,0,0,0,0,0]
[{"$nulls":23},"336,4 CAA (MERLIN) VÃO 120m",927.12,349,0,0,0,0,0,0,0]
[{"$nulls":23},"336,4 CAA (ORIOLE) VÃO 120m",1761.07,348,0,0,0,0,0,0,0]
[{"$nulls":25},347,0,0,0,0,0,0,0]
[{"$nulls":25},346,0,0,0,0,0,0,0]
[{"$nulls":25},345,0,0,0,0,0,0,0]
[{"$nulls":25},344,0,0,0,0,0,0,0]
[{"$nulls":25},343,0,0,0,0,0,0,0]
[{"$nulls":25},342,0,0,0,0,0,0,0]
[{"$nulls":25},341,0,0,0,0,0,0,0]
[{"$nulls":25},340,0,0,0,0,0,0,0]
[{"$nulls":25},339,0,0,0,0,0,0,0]
[{"$nulls":25},338,0,0,0,0,0,0,0]
[{"$nulls":25},337,0,0,0,0,0,0,0]
[{"$nulls":25},336,0,0,0,0,0,0,0]
[{"$nulls":25},335,0,0,0,0,0,0,0]
[{"$nulls":25},334,0,0,0,0,0,0,0]
[{"$nulls":25},333,0,0,0,0,0,0,0]
[{"$nulls":25},332,0,0,0,0,0,0,0]
[{"$nulls":25},331,0,0,0,0,0,0,0]
[{"$nulls":25},330,0,0,0,0,0,0,0]
[{"$nulls":25},329,0,0,0,0,0,0,0]
[{"$nulls":25},328,0,0,0,0,0,0,0]
[{"$nulls":25},327,0,0,0,0,0,0,0]
[{"$nulls":25},326,0,0,0,0,0,0,0]
[{"$nulls":25},325,0,0,0,0,0,0,0]
[{"$nulls":25},324,0,0,0,0,0,0,0]
[{"$nulls":25},323,{"$f":"IF(ISERROR(VLOOKUP($Z130,Table444,AA$1,FALSE)),0,VLOOKUP($Z130,Table444,AA$1,FALSE))","v":0},{"$f":"IF(ISERROR(VLOOKUP($Z130,Table555,AB$1,FALSE)),0,VLOOKUP($Z130,Table555,AB$1,FALSE))","v":0},0,{"$f":"IF(ISERROR(VLOOKUP($Z130,Table888,AD$1,FALSE)),0,VLOOKUP($Z130,Table888,AD$1,FALSE))","v":0},{"$f":"IF(ISERROR(VLOOKUP($Z130,Table999,AE$1,FALSE)),0,VLOOKUP($Z130,Table999,AE$1,FALSE))","v":0},{"$f":"IF(ISERROR(VLOOKUP($Z130,Table222,AF$1,FALSE)),0,VLOOKUP($Z130,Table222,AF$1,FALSE))","v":0},{"$f":"IF(ISERROR(VLOOKUP($Z130,Table333,AG$1,FALSE)),0,VLOOKUP($Z130,Table333,AG$1,FALSE))","v":0}]
[{"$nulls":25},322,0,0,{"$f":"IF(ISERROR(VLOOKUP($Z131,Table666,AB$1,FALSE)),0,VLOOKUP($Z131,Table666,AB$1,FALSE))","v":0},0,0,0,0]
[{"$nulls":25},321,0,0,0,0,0,0,0]
[{"$nulls":25},320,0,0,0,0,0,0,0]
[{"$nulls":25},319,0,0,0,0,0,0,0]
[{"$nulls":25},318,0,0,0,0,0,0,0]
[{"$nulls":25},317,0,0,0,0,0,0,0]
[{"$nulls":25},316,0,0,0,0,0,0,0]
[{"$nulls":25},315,0,1,0,0,0,0,0]
[{"$nulls":25},314,0,0,0,0,0,0,0]
[{"$nulls":25},313,0,0,0,0,0,0,0]
[{"$nulls":25},312,0,0,0,0,0,0,0]
[{"$nulls":25},311,0,0,0,0,0,0,0]
[{"$nulls":25},310,0,0,0,0,0,0,0]
[{"$nulls":25},309,0,0,0,0,0,0,0]
[{"$nulls":25},308,0,0,0,0,0,0,0]
[{"$nulls":25},307,0,0,0,0,0,0,0]
[{"$nulls":25},306,0,0,0,0,0,0,0]
[{"$nulls":25},305,0,0,0,0,0,0,0]
[{"$nulls":25},304,0,0,0,0,0,0,0]
[{"$nulls":25},303,0,0,0,0,0,0,0]
[{"$nulls":25},302,0,0,0,0,0,0,0]
[{"$nulls":25},301,0,0,0,0,0,0,0]
[{"$nulls":25},300,0,0,0,0,0,0,0]
[{"$nulls":25},299,0,0,0,0,0,0,0]
[{"$nulls":25},298,0,0,0,0,0,0,0]
[{"$nulls":25},297,0,0,0,0,0,0,0]
[{"$nulls":25},296,0,0,0,0,0,0,0]
[{"$nulls":25},295,0,0,0,0,0,0,0]
[{"$nulls":25},{"$f":"Z158-1","v":294},0,0,0,0,0,0,0]
[{"$nulls":25},293,0,0,0,0,0,0,0]
[{"$nulls":25},292,0,0,0,0,0,0,0]
[{"$nulls":25},291,0,0,0,0,0,0,0]
[{"$nulls":25},290,0,0,0,0,0,0,0]
[{"$nulls":25},289,0,0,0,0,0,0,0]
[{"$nulls":25},288,0,0,0,0,0,0,0]
[{"$nulls":25},287,0,0,0,0,0,0,0]
[{"$nulls":25},286,0,0,0,0,0,0,0]
[{"$nulls":25},285,0,0,0,0,0,0,0]
[{"$nulls":25},284,0,0,0,0,0,0,0]
[{"$nulls":25},283,0,0,0,0,0,0,0]
[{"$nulls":25},282,0,0,0,0,0,0,0]
[{"$nulls":25},281,0,0,0,0,0,0,0]
[{"$nulls":25},280,0,0,0,0,0,0,0]
[{"$nulls":25},279,0,0,0,0,0,0,0]
[{"$nulls":25},278,0,0,0,0,0,0,0]
[{"$nulls":25},277,0,0,0,0,0,0,0]
[{"$nulls":25},276,0,0,0,0,0,0,0]
[{"$nulls":25},275,0,0,0,0,0,0,0]
[{"$nulls":25},274,0,0,0,0,0,0,0]
[{"$nulls":25},273,0,0,0,0,0,0,0]
[{"$nulls":25},272,0,0,0,0,0,0,0]
[{"$nulls":25},271,0,0,0,0,0,0,0]
[{"$nulls":25},270,0,0,0,0,0,0,0]
[{"$nulls":25},269,0,0,0,0,0,0,0]
[{"$nulls":25},268,0,0,0,0,0,0,0]
[{"$nulls":25},267,0,0,0,0,0,0,0]
[{"$nulls":25},266,0,0,0,0,0,0,0]
[{"$nulls":25},265,0,0,0,0,0,0,0]
[{"$nulls":25},264,0,0,0,0,0,0,0]
[{"$nulls":25},263,0,0,0,0,0,0,0]
[{"$nulls":25},262,0,0,0,0,0,0,0]
[{"$nulls":25},261,0,0,0,0,0,0,0]
[{"$nulls":25},260,0,0,0,0,0,0,0]
[{"$nulls":25},259,{"$f":"IF(ISERROR(VLOOKUP($Z194,Table444,AA$1,FALSE)),0,VLOOKUP($Z194,Table444,AA$1,FALSE))","v":0},{"$f":"IF(ISERROR(VLOOKUP($Z194,Table555,AB$1,FALSE)),0,VLOOKUP($Z194,Table555,AB$1,FALSE))","v":0},0,{"$f":"IF(ISERROR(VLOOKUP($Z194,Table888,AD$1,FALSE)),0,VLOOKUP($Z194,Table888,AD$1,FALSE))","v":0},{"$f":"IF(ISERROR(VLOOKUP($Z194,Table999,AE$1,FALSE)),0,VLOOKUP($Z194,Table999,AE$1,FALSE))","v":0},{"$f":"IF(ISERROR(VLOOKUP($Z194,Table222,AF$1,FALSE)),0,VLOOKUP($Z194,Table222,AF$1,FALSE))","v":0},{"$f":"IF(ISERROR(VLOOKUP($Z194,Table333,AG$1,FALSE)),0,VLOOKUP($Z194,Table333,AG$1,FALSE))","v":0}]
[{"$nulls":25},258,0,0,{"$f":"IF(ISERROR(VLOOKUP($Z195,Table666,AB$1,FALSE)),0,VLOOKUP($Z195,Table666,AB$1,FALSE))","v":0},0,0,0,0]
[{"$nulls":25},257,0,0,0,0,0,0,0]
[{"$nulls":25},256,0,0,0,0,0,0,0]
[{"$nulls":25},255,0,0,0,0,0,0,1]
[{"$nulls":25},254,0,0,0,0,0,0,0]
[{"$nulls":25},253,0,0,0,0,0,0,0]
[{"$nulls":25},252,0,0,0,0,0,0,0]
[{"$nulls":25},251,0,0,0,0,0,0,0]
[{"$nulls":25},250,0,0,0,0,0,0,0]
[{"$nulls":25},249,0,0,0,0,0,0,0]
[{"$nulls":25},248,0,0,0,0,0,0,0]
[{"$nulls":25},247,0,0,0,0,0,0,0]
[{"$nulls":25},246,0,0,0,0,0,0,0]
[{"$nulls":25},245,0,0,0,0,0,0,0]
[{"$nulls":25},244,0,0,0,0,0,0,0]
[{"$nulls":25},243,0,0,0,0,0,0,0]
[{"$nulls":25},242,0,0,0,0,0,0,0]
[{"$nulls":25},241,0,0,0,0,0,0,0]
[{"$nulls":25},240,0,0,0,0,0,0,0]
[{"$nulls":25},239,0,0,0,0,0,0,0]
[{"$nulls":25},238,0,0,0,0,0,0,0]
[{"$nulls":25},237,0,0,0,0,0,0,0]
[{"$nulls":25},236,0,0,0,0,0,0,0]
[{"$nulls":25},235,0,0,0,0,0,0,0]
[{"$nulls":25},234,0,0,0,0,0,0,0]
[{"$nulls":25},233,0,0,0,0,0,0,0]
[{"$nulls":25},232,0,0,0,0,0,0,0]
[{"$nulls":25},231,0,0,0,0,0,0,0]
[{"$nulls":25},{"$f":"Z222-1","v":230},0,0,0,0,0,0,0]
[{"$nulls":25},229,0,0,0,0,0,0,0]
[{"$nulls":25},228,0,0,0,0,0,0,0]
[{"$nulls":25},227,0,0,0,0,0,0,0]
[{"$nulls":25},226,0,0,0,0,0,0,0]
[{"$nulls":25},225,0,0,0,0,0,0,0]
[{"$nulls":25},224,0,0,0,0,0,0,0]
[{"$nulls":25},223,0,0,0,0,0,0,0]
[{"$nulls":25},222,0,0,0,0,0,0,0]
[{"$nulls":25},221,0,0,0,0,0,0,0]
[{"$nulls":25},220,0,0,0,0,0,0,0]
[{"$nulls":25},219,0,0,0,0,0,0,0]
[{"$nulls":25},218,0,0,0,0,0,0,0]
[{"$nulls":25},217,0,0,0,0,0,0,0]
[{"$nulls":25},216,0,0,0,0,0,0,0]
[{"$nulls":25},215,0,0,0,0,0,0,0]
[{"$nulls":25},214,0,0,0,0,0,0,0]
[{"$nulls":25},213,0,0,0,0,0,0,0]
[{"$nulls":25},212,0,0,0,0,0,0,0]
[{"$nulls":25},211,0,0,0,0,0,0,0]
[{"$nulls":25},210,0,0,0,0,0,0,0]
[{"$nulls":25},209,0,0,0,0,0,0,0]
[{"$nulls":25},208,0,0,0,0,0,0,0]
[{"$nulls":25},207,0,0,0,0,0,0,0]
[{"$nulls":25},206,0,0,0,0,0,0,0]
[{"$nulls":25},205,0,0,0,0,0,0,0]
[{"$nulls":25},204,0,0,0,0,0,0,0]
[{"$nulls":25},203,0,0,0,0,0,0,0]
[{"$nulls":25},202,0,0,0,0,0,0,0]
[{"$nulls":25},201,0,0,0,0,0,0,0]
[{"$nulls":25},200,0,0,0,0,0,0,0]
[{"$nulls":25},199,0,0,0,0,0,0,0]
[{"$nulls":25},198,0,0,0,0,0,0,0]
[{"$nulls":25},197,0,0,0,0,0,0,0]
[{"$nulls":25},196,0,0,0,0,0,0,0]
[{"$nulls":25},195,{"$f":"IF(ISERROR(VLOOKUP($Z258,Table444,AA$1,FALSE)),0,VLOOKUP($Z258,Table444,AA$1,FALSE))","v":0},{"$f":"IF(ISERROR(VLOOKUP($Z258,Table555,AB$1,FALSE)),0,VLOOKUP($Z258,Table555,AB$1,FALSE))","v":0},0,{"$f":"IF(ISERROR(VLOOKUP($Z258,Table888,AD$1,FALSE)),0,VLOOKUP($Z258,Table888,AD$1,FALSE))","v":0},{"$f":"IF(ISERROR(VLOOKUP($Z258,Table999,AE$1,FALSE)),0,VLOOKUP($Z258,Table999,AE$1,FALSE))","v":0},{"$f":"IF(ISERROR(VLOOKUP($Z258,Table222,AF$1,FALSE)),0,VLOOKUP($Z258,Table222,AF$1,FALSE))","v":0},{"$f":"IF(ISERROR(VLOOKUP($Z258,Table333,AG$1,FALSE)),0,VLOOKUP($Z258,Table333,AG$1,FALSE))","v":0}]
[{"$nulls":25},194,0,0,{"$f":"IF(ISERROR(VLOOKUP($Z259,Table666,AB$1,FALSE)),0,VLOOKUP($Z259,Table666,AB$1,FALSE))","v":0},0,0,0,0]
[{"$nulls":25},193,0,0,0,0,0,0,0]
[{"$nulls":25},192,0,0,0,0,0,0,0]
[{"$nulls":25},191,0,0,0,0,0,0,0]
[{"$nulls":25},190,0,0,0,0,0,0,0]
[{"$nulls":25},189,0,0,0,0,0,0,0]
[{"$nulls":25},188,0,0,0,0,0,0,0]
[{"$nulls":25},187,0,0,0,0,0,0,0]
[{"$nulls":25},186,0,0,0,0,0,0,0]
[{"$nulls":25},185,0,0,0,0,0,0,0]
[{"$nulls":25},184,0,0,0,0,0,0,0]
[{"$nulls":25},183,0,0,0,0,0,0,0]
[{"$nulls":25},182,0,0,0,0,0,0,0]
[{"$nulls":25},181,0,0,0,0,0,0,0]
[{"$nulls":25},180,1,0,0,0,0,0,0]
[{"$nulls":25},179,0,0,0,0,0,0,0]
[{"$nulls":25},178,0,0,0,0,0,0,0]
[{"$nulls":25},177,0,0,0,0,0,0,0]
[{"$nulls":25},176,0,0,0,0,0,0,0]
[{"$nulls":25},175,0,0,0,0,0,0,0]
[{"$nulls":25},174,0,0,0,0,0,0,0]
[{"$nulls":25},173,0,0,0,0,0,0,0]
[{"$nulls":25},172,0,0,0,0,0,0,0]
[{"$nulls":25},171,0,0,0,0,0,0,0]
[{"$nulls":25},170,0,0,0,0,0,0,0]
[{"$nulls":25},169,0,0,0,0,0,0,0]
[{"$nulls":25},168,0,0,0,0,0,0,0]
[{"$nulls":25},167,0,0,0,0,0,0,0]
[{"$nulls":25},{"$f":"Z286-1","v":166},0,0,0,0,0,0,0]
[{"$nulls":25},165,0,0,0,0,0,0,0]
[{"$nulls":25},164,0,0,0,0,0,0,0]
[{"$nulls":25},163,0,0,0,0,0,0,0]
[{"$nulls":25},162,0,0,0,0,0,0,0]
[{"$nulls":25},161,0,0,0,0,0,0,0]
[{"$nulls":25},160,0,0,0,0,0,0,0]
[{"$nulls":25},159,0,0,0,0,0,0,0]
[{"$nulls":25},158,0,0,0,0,0,0,0]
[{"$nulls":25},157,0,0,0,0,0,0,0]
[{"$nulls":25},156,0,0,0,0,0,0,0]
[{"$nulls":25},155,0,0,0,0,0,0,0]
[{"$nulls":25},154,0,0,0,0,0,0,0]
[{"$nulls":25},153,0,0,0,0,0,0,0]
[{"$nulls":25},152,0,0,0,0,0,0,0]
[{"$nulls":25},151,0,0,0,0,0,0,0]
[{"$nulls":25},150,0,0,0,0,0,0,0]
[{"$nulls":25},149,0,0,0,0,0,0,0]
[{"$nulls":25},148,0,0,0,0,0,0,0]
[{"$nulls":25},147,0,0,0,0,0,0,0]
[{"$nulls":25},146,0,0,0,0,0,0,0]
[{"$nulls":25},145,0,0,0,0,0,0,0]
[{"$nulls":25},144,0,0,0,0,0,0,0]
[{"$nulls":25},143,0,0,0,0,0,0,0]
[{"$nulls":25},142,0,0,0,0,0,0,0]
[{"$nulls":25},141,0,0,0,0,0,0,0]
[{"$nulls":25},140,0,0,0,0,0,0,0]
[{"$nulls":25},139,0,0,0,0,0,0,0]
[{"$nulls":25},138,0,0,0,0,0,0,0]
[{"$nulls":25},137,0,0,0,0,0,0,0]
[{"$nulls":25},136,0,0,0,0,0,0,0]
[{"$nulls":25},135,0,0,0,0,0,0,0]
[{"$nulls":25},134,0,0,0,0,0,0,0]
[{"$nulls":25},133,0,0,0,0,0,0,0]
[{"$nulls":25},132,0,0,0,0,0,0,0]
[{"$nulls":25},131,{"$f":"IF(ISERROR(VLOOKUP($Z322,Table444,AA$1,FALSE)),0,VLOOKUP($Z322,Table444,AA$1,FALSE))","v":0},{"$f":"IF(ISERROR(VLOOKUP($Z322,Table555,AB$1,FALSE)),0,VLOOKUP($Z322,Table555,AB$1,FALSE))","v":0},0,{"$f":"IF(ISERROR(VLOOKUP($Z322,Table888,AD$1,FALSE)),0,VLOOKUP($Z322,Table888,AD$1,FALSE))","v":0},{"$f":"IF(ISERROR(VLOOKUP($Z322,Table999,AE$1,FALSE)),0,VLOOKUP($Z322,Table999,AE$1,FALSE))","v":0},{"$f":"IF(ISERROR(VLOOKUP($Z322,Table222,AF$1,FALSE)),0,VLOOKUP($Z322,Table222,AF$1,FALSE))","v":0},{"$f":"IF(ISERROR(VLOOKUP($Z322,Table333,AG$1,FALSE)),0,VLOOKUP($Z322,Table333,AG$1,FALSE))","v":0}]
[{"$nulls":25},130,0,0,{"$f":"IF(ISERROR(VLOOKUP($Z323,Table666,AB$1,FALSE)),0,VLOOKUP($Z323,Table666,AB$1,FALSE))","v":0},0,0,0,0]
[{"$nulls":25},129,0,0,0,0,0,0,0]
[{"$nulls":25},128,0,0,0,0,0,0,0]
[{"$nulls":25},127,0,0,0,0,0,0,0]
[{"$nulls":25},126,0,0,0,0,0,0,0]
[{"$nulls":25},125,0,0,0,0,0,0,0]
[{"$nulls":25},124,0,0,0,0,0,0,0]
[{"$nulls":25},123,0,0,0,0,0,0,0]
[{"$nulls":25},122,0,0,0,0,0,0,0]
[{"$nulls":25},121,0,0,0,0,0,0,0]
[{"$nulls":25},120,0,0,0,0,0,0,0]
[{"$nulls":25},119,0,0,0,0,0,0,0]
[{"$nulls":25},118,0,0,0,0,0,0,0]
[{"$nulls":25},117,0,0,0,0,0,0,0]
[{"$nulls":25},116,0,0,0,0,0,0,0]
[{"$nulls":25},115,0,0,0,0,0,0,0]
[{"$nulls":25},114,0,0,0,0,0,0,0]
[{"$nulls":25},113,0,0,0,0,0,0,0]
[{"$nulls":25},112,0,0,0,0,0,0,0]
[{"$nulls":25},111,0,0,0,0,0,0,0]
[{"$nulls":25},110,0,0,0,0,0,0,0]
[{"$nulls":25},109,0,0,0,0,0,0,0]
[{"$nulls":25},108,0,0,0,0,0,0,0]
[{"$nulls":25},107,0,0,0,0,0,0,0]
[{"$nulls":25},106,0,0,0,0,0,0,0]
[{"$nulls":25},105,0,0,0,0,0,0,0]
[{"$nulls":25},104,0,0,0,0,0,0,0]
[{"$nulls":25},103,0,0,0,0,0,0,0]
[{"$nulls":25},{"$f":"Z350-1","v":102},0,0,0,0,0,0,0]
[{"$nulls":25},101,0,0,0,0,0,0,0]
[{"$nulls":25},100,0,0,0,0,0,0,0]
[{"$nulls":25},99,0,0,0,0,0,0,0]
[{"$nulls":25},98,0,0,0,0,0,0,0]
[{"$nulls":25},97,0,0,0,0,0,0,0]
[{"$nulls":25},96,0,0,0,0,0,0,0]
[{"$nulls":25},95,0,0,0,0,0,0,0]
[{"$nulls":25},94,0,0,0,0,0,0,0]
[{"$nulls":25},93,0,0,0,0,0,0,0]
[{"$nulls":25},92,0,0,0,0,0,0,0]
[{"$nulls":25},91,0,0,0,0,0,0,0]

{"sheet":"Relat_Flechas","index":2,"n_rows":41,"n_cols":12,"rows_kept":41,"merged":[[0,2,0,11],[2,2,2,3],[2,4,2,6],[2,8,2,9],[3,3,3,6],[3,8,3,9],[8,0,8,6],[14,0,14,1],[14,4,14,5],[15,0,15,1],[15,4,15,5],[16,0,16,1],[16,4,16,5],[19,0,19,3],[19,4,19,5],[20,0,20,1],[20,2,20,3],[20,4,20,5],[21,0,21,1],[21,2,21,3],[21,5,21,6],[24,0,25,0],[24,1,25,1],[24,2,25,2],[24,4,24,5],[24,6,24,7]]}
[null,null,"CÁLCULO DE TRAÇÕES E FLECHAS DE MONTAGEM"]
[]
[null,null,"Elaborado por:",null,"Eleandro Luis Marques da Silva",null,null,"CREA:",127488]
[null,null,"Função:","Eletrotécnico",{"$nulls":3},"Data"]
[]
[]
[]
[]
["Dados do condutor"]
["Cabo","Diâmetro","Secção","Peso      (kg / m)","Mod. Elasti.  (kg / m)","Coef.  Dilatação ( / º C)","T. de Ruptura (kgf)"]
[]
["3#50(50CAL)CA-XLPE","0,0279",{"v":61136178437.0208,"d":"6.11E+10"},"0,6690",6600000000,"0,00002304",1640]
[]
[]
["Vão de cálculo",null,"27,5",null,"Võa Crítico (m)",null,"57,24"]
["Projeto nº",{"$nulls":3},"Estrutura",null,"EM NIVEL"]
["Tipo de rede",null,"RURAL",null,"Desnível de:(m)"]
[]
[]
["Condição de Maior duração",{"$nulls":3},"Pior condição",null,"Inverno"]
["Temperatura (º C)",null,"Tração máxima (%)",null,"Vão ficticio (a\") em (m)"]
[20,null,7,null,"Trecho"]
["OBS:. A Flecha f deve ser medida a uma distância (a'' / 2) de A, ou em alguns casos pode se medir f - h a uma distância (a - (a'' / 2 )  de B."]
[]
["Hipótese","Descrição","Temperatura","Pressão","Tração de projeto",null,"Tração de montagem",null,"Flecha","% T. RUP","T. RUP (kgf)","iterações"]
[{"$nulls":3},"do vento","% Máx. T rup.","kgf","% T. RUP","(kgf)","(m)","c / vento","c / vento","neces."]
[55,"Temper. mínima",-5,0,12,"196,80","10,17","166,79","0,38","10,17","166,79",6]
[56,"-",0,0,12,"196,80","9,21","151,03","0,42","9,21","151,04",6]
[57,"-",5,0,12,"196,80","8,47","138,95","0,46","8,47","138,91",6]
[58,"-",10,0,12,"196,80","7,89","129,32","0,49","7,89","129,40",6]
[59,"Vento máximo",15,0,12,"196,80","7,40","121,42","0,52","7,40","121,36",6]
[60,"Maior duração",20,0,12,"196,80","7,00","114,80","0,55","7,00","114,80",6]
[61,"-",25,0,12,"196,80","6,66","109,14","0,58","6,66","109,22",6]
[62,"-",30,0,12,"196,80","6,36","104,24","0,61","6,36","104,30",6]
[63,"-",35,0,12,"196,80","6,09","99,94","0,63","6,09","99,88",6]
[64,"-",40,0,12,"196,80","5,86","96,13","0,66","5,86","96,10",7]
[65,"-",45,0,12,"196,80","5,65","92,71","0,68","5,65","92,66",7]
[66,"Flecha Máxima",50,0,12,"196,80","5,47","89,64","0,71","5,47","89,71",7]
[]
[]
[{"$nulls":5},{"$f":"G12*0.2","v":328}]

{"sheet":"Tabelas_de_Flexas","index":3,"n_rows":43,"n_cols":29,"rows_kept":43,"merged":[[0,1,0,28],[12,1,12,28],[29,1,29,25]]}
[null,"TABELA DE TRAÇÕES E FLECHAS DE MONTAGEM"]
[]
[null,"CONDUTOR: cobertos"]
[null,"Condições:"]
[null,"Temperatura mínima de – 5 °C com 33,33 % da tração de ruptura"]
[null,"Vento máximo de 130 km/h a 15 °C",{"$nulls":4},0]
[null,"Vento reduzido a 15 °C com 40,00 % da tração de ruptura"]
[null,{"$f":"\"Maior duração com temperatura de \"&Relat_Flechas!A22&\" °C com \"&Relat_Flechas!C22&\" % da tração de ruptura\"","v":"Maior duração com temperatura de 20 °C com 7 % da tração de ruptura"}]
[null,"Flecha máxima com 50 °C",{"$nulls":11},"=((Relat_Flechas!$D$12)*(Tabelas_de_Flexas!F$14^2))/(8*C16)"]
[null,"Flechas em metros"]
[]
[]
[null,{"$f":"VLOOKUP(Relat_Flechas!A12,Caracteristica_CABO!A:AH,31,FALSE)&\" - Vão básico \"&Relat_Flechas!C15&\" m\"","v":"Cabo Multiplexado 3#50(50CAL)CA-XLPE - Vão básico 27,5 m"}]
[null,"Temp º","Tração daN",30,35,40,45,50,55,60,65,70,75,80,85,90,95,100,105,110,115,120,125,130,135,140,145,150,155]
[null,-5,{"$f":"Relat_Flechas!H27","v":"166,79"},{"$f":"((Relat_Flechas!$D$12)*(Tabelas_de_Flexas!D$14^2))/(8*C15)","v":{"v":0.45124108159961634,"d":"0.45"}},{"$f":"((Relat_Flechas!$D$12)*(Tabelas_de_Flexas!E$14^2))/(8*C15)","v":{"v":0.6141892499550333,"d":"0.61"}},{"$f":"((Relat_Flechas!$D$12)*(Tabelas_de_Flexas!F$14^2))/(8*C15)","v":{"v":0.8022063672882068,"d":"0.80"}},{"$f":"((Relat_Flechas!$D$12)*(Tabelas_de_Flexas!G$14^2))/(8*C15)","v":{"v":1.0152924335991367,"d":"1.02"}},{"$f":"((Relat_Flechas!$D$12)*(Tabelas_de_Flexas!H$14^2))/(8*C15)","v":{"v":1.2534474488878231,"d":"1.25"}},{"$f":"((Relat_Flechas!$D$12)*(Tabelas_de_Flexas!I$14^2))/(8*C15)","v":{"v":1.516671413154266,"d":"1.52"}},{"$f":"((Relat_Flechas!$D$12)*(Tabelas_de_Flexas!J$14^2))/(8*C15)","v":{"v":1.8049643263984654,"d":"1.80"}},{"$f":"((Relat_Flechas!$D$12)*(Tabelas_de_Flexas!K$14^2))/(8*C15)","v":{"v":2.118326188620421,"d":"2.12"}},{"$f":"((Relat_Flechas!$D$12)*(Tabelas_de_Flexas!L$14^2))/(8*C15)","v":{"v":2.4567569998201333,"d":"2.46"}},{"$f":"((Relat_Flechas!$D$12)*(Tabelas_de_Flexas!M$14^2))/(8*C15)","v":{"v":2.820256759997602,"d":"2.82"}},{"$f":"((Relat_Flechas!$D$12)*(Tabelas_de_Flexas!N$14^2))/(8*C15)","v":{"v":3.2088254691528273,"d":"3.21"}},{"$f":"((Relat_Flechas!$D$12)*(Tabelas_de_Flexas!O$14^2))/(8*C15)","v":{"v":3.622463127285809,"d":"3.62"}},{"$f":"((Relat_Flechas!$D$12)*(Tabelas_de_Flexas!P$14^2))/(8*C15)","v":{"v":4.061169734396547,"d":"4.06"}},{"$f":"((Relat_Flechas!$D$12)*(Tabelas_de_Flexas!Q$14^2))/(8*C15)","v":{"v":4.524945290485041,"d":"4.52"}},{"$f":"((Relat_Flechas!$D$12)*(Tabelas_de_Flexas!R$14^2))/(8*C15)","v":{"v":5.0137897955512924,"d":"5.01"}},{"$f":"((Relat_Flechas!$D$12)*(Tabelas_de_Flexas!S$14^2))/(8*C15)","v":{"v":5.5277032495953,"d":"5.53"}},{"$f":"((Relat_Flechas!$D$12)*(Tabelas_de_Flexas!T$14^2))/(8*C15)","v":{"v":6.066685652617064,"d":"6.07"}},{"$f":"((Relat_Flechas!$D$12)*(Tabelas_de_Flexas!U$14^2))/(8*C15)","v":{"v":6.630737004616583,"d":"6.63"}},{"$f":"((Relat_Flechas!$D$12)*(Tabelas_de_Flexas!V$14^2))/(8*C15)","v":{"v":7.2198573055938615,"d":"7.22"}},{"$f":"((Relat_Flechas!$D$12)*(Tabelas_de_Flexas!W$14^2))/(8*C15)","v":{"v":7.834046555548894,"d":"7.83"}},{"$f":"((Relat_Flechas!$D$12)*(Tabelas_de_Flexas!X$14^2))/(8*C15)","v":{"v":8.473304754481685,"d":"8.47"}},{"$f":"((Relat_Flechas!$D$12)*(Tabelas_de_Flexas!Y$14^2))/(8*C15)","v":{"v":9.137631902392231,"d":"9.14"}},{"$f":"((Relat_Flechas!$D$12)*(Tabelas_de_Flexas!Z$14^2))/(8*C15)","v":{"v":9.827027999280533,"d":"9.83"}},{"$f":"((Relat_Flechas!$D$12)*(Tabelas_de_Flexas!AA$14^2))/(8*C15)","v":{"v":10.541493045146593,"d":"10.54"}},{"$f":"((Relat_Flechas!$D$12)*(Tabelas_de_Flexas!AB$14^2))/(8*C15)","v":{"v":11.281027039990407,"d":"11.28"}},{"$f":"((Relat_Flechas!$D$12)*(Tabelas_de_Flexas!AC$14^2))/(8*C15)","v":{"v":12.04562998381198,"d":"12.05"}}]
[null,0,{"$f":"Relat_Flechas!H28","v":"151,03"},{"$f":"((Relat_Flechas!$D$12)*(Tabelas_de_Flexas!D$14^2))/(8*C16)","v":{"v":0.4983281467258161,"d":"0.50"}},{"$f":"((Relat_Flechas!$D$12)*(Tabelas_de_Flexas!E$14^2))/(8*C16)","v":{"v":0.6782799774879164,"d":"0.68"}},{"$f":"((Relat_Flechas!$D$12)*(Tabelas_de_Flexas!F$14^2))/(8*C16)","v":{"v":0.8859167052903397,"d":"0.89"}},{"$f":"((Relat_Flechas!$D$12)*(Tabelas_de_Flexas!G$14^2))/(8*C16)","v":{"v":1.1212383301330862,"d":"1.12"}},{"$f":"((Relat_Flechas!$D$12)*(Tabelas_de_Flexas!H$14^2))/(8*C16)","v":{"v":1.3842448520161557,"d":"1.38"}},{"$f":"((Relat_Flechas!$D$12)*(Tabelas_de_Flexas!I$14^2))/(8*C16)","v":{"v":1.6749362709395486,"d":"1.67"}},{"$f":"((Relat_Flechas!$D$12)*(Tabelas_de_Flexas!J$14^2))/(8*C16)","v":{"v":1.9933125869032644,"d":"1.99"}},{"$f":"((Relat_Flechas!$D$12)*(Tabelas_de_Flexas!K$14^2))/(8*C16)","v":{"v":2.339373799907303,"d":"2.34"}},{"$f":"((Relat_Flechas!$D$12)*(Tabelas_de_Flexas!L$14^2))/(8*C16)","v":{"v":2.7131199099516654,"d":"2.71"}},{"$f":"((Relat_Flechas!$D$12)*(Tabelas_de_Flexas!M$14^2))/(8*C16)","v":{"v":3.1145509170363503,"d":"3.11"}},{"$f":"((Relat_Flechas!$D$12)*(Tabelas_de_Flexas!N$14^2))/(8*C16)","v":{"v":3.543666821161359,"d":"3.54"}},{"$f":"((Relat_Flechas!$D$12)*(Tabelas_de_Flexas!O$14^2))/(8*C16)","v":{"v":4.00046762232669,"d":"4.00"}},{"$f":"((Relat_Flechas!$D$12)*(Tabelas_de_Flexas!P$14^2))/(8*C16)","v":{"v":4.484953320532345,"d":"4.48"}},{"$f":"((Relat_Flechas!$D$12)*(Tabelas_de_Flexas!Q$14^2))/(8*C16)","v":{"v":4.997123915778323,"d":"5.00"}},{"$f":"((Relat_Flechas!$D$12)*(Tabelas_de_Flexas!R$14^2))/(8*C16)","v":{"v":5.536979408064623,"d":"5.54"}},{"$f":"((Relat_Flechas!$D$12)*(Tabelas_de_Flexas!S$14^2))/(8*C16)","v":{"v":6.104519797391247,"d":"6.10"}},{"$f":"((Relat_Flechas!$D$12)*(Tabelas_de_Flexas!T$14^2))/(8*C16)","v":{"v":6.699745083758194,"d":"6.70"}},{"$f":"((Relat_Flechas!$D$12)*(Tabelas_de_Flexas!U$14^2))/(8*C16)","v":{"v":7.322655267165463,"d":"7.32"}},{"$f":"((Relat_Flechas!$D$12)*(Tabelas_de_Flexas!V$14^2))/(8*C16)","v":{"v":7.973250347613058,"d":"7.97"}},{"$f":"((Relat_Flechas!$D$12)*(Tabelas_de_Flexas!W$14^2))/(8*C16)","v":{"v":8.651530325100973,"d":"8.65"}},{"$f":"((Relat_Flechas!$D$12)*(Tabelas_de_Flexas!X$14^2))/(8*C16)","v":{"v":9.357495199629213,"d":"9.36"}},{"$f":"((Relat_Flechas!$D$12)*(Tabelas_de_Flexas!Y$14^2))/(8*C16)","v":{"v":10.091144971197776,"d":"10.09"}},{"$f":"((Relat_Flechas!$D$12)*(Tabelas_de_Flexas!Z$14^2))/(8*C16)","v":{"v":10.852479639806662,"d":"10.85"}},{"$f":"((Relat_Flechas!$D$12)*(Tabelas_de_Flexas!AA$14^2))/(8*C16)","v":{"v":11.64149920545587,"d":"11.64"}},{"$f":"((Relat_Flechas!$D$12)*(Tabelas_de_Flexas!AB$14^2))/(8*C16)","v":{"v":12.458203668145401,"d":"12.46"}},{"$f":"((Relat_Flechas!$D$12)*(Tabelas_de_Flexas!AC$14^2))/(8*C16)","v":{"v":13.302593027875258,"d":"13.30"}}]
[null,5,{"$f":"Relat_Flechas!H29","v":"138,95"},{"$f":"((Relat_Flechas!$D$12)*(Tabelas_de_Flexas!D$14^2))/(8*C17)","v":{"v":0.541651673263764,"d":"0.54"}},{"$f":"((Relat_Flechas!$D$12)*(Tabelas_de_Flexas!E$14^2))/(8*C17)","v":{"v":0.7372481108312344,"d":"0.74"}},{"$f":"((Relat_Flechas!$D$12)*(Tabelas_de_Flexas!F$14^2))/(8*C17)","v":{"v":0.9629363080244694,"d":"0.96"}},{"$f":"((Relat_Flechas!$D$12)*(Tabelas_de_Flexas!G$14^2))/(8*C17)","v":{"v":1.218716264843469,"d":"1.22"}},{"$f":"((Relat_Flechas!$D$12)*(Tabelas_de_Flexas!H$14^2))/(8*C17)","v":{"v":1.5045879812882332,"d":"1.50"}},{"$f":"((Relat_Flechas!$D$12)*(Tabelas_de_Flexas!I$14^2))/(8*C17)","v":{"v":1.8205514573587624,"d":"1.82"}},{"$f":"((Relat_Flechas!$D$12)*(Tabelas_de_Flexas!J$14^2))/(8*C17)","v":{"v":2.166606693055056,"d":"2.17"}},{"$f":"((Relat_Flechas!$D$12)*(Tabelas_de_Flexas!K$14^2))/(8*C17)","v":{"v":2.5427536883771142,"d":"2.54"}},{"$f":"((Relat_Flechas!$D$12)*(Tabelas_de_Flexas!L$14^2))/(8*C17)","v":{"v":2.9489924433249377,"d":"2.95"}},{"$f":"((Relat_Flechas!$D$12)*(Tabelas_de_Flexas!M$14^2))/(8*C17)","v":{"v":3.385322957898525,"d":"3.39"}},{"$f":"((Relat_Flechas!$D$12)*(Tabelas_de_Flexas!N$14^2))/(8*C17)","v":{"v":3.8517452320978776,"d":"3.85"}},{"$f":"((Relat_Flechas!$D$12)*(Tabelas_de_Flexas!O$14^2))/(8*C17)","v":{"v":4.348259265922994,"d":"4.35"}},{"$f":"((Relat_Flechas!$D$12)*(Tabelas_de_Flexas!P$14^2))/(8*C17)","v":{"v":4.874865059373876,"d":"4.87"}},{"$f":"((Relat_Flechas!$D$12)*(Tabelas_de_Flexas!Q$14^2))/(8*C17)","v":{"v":5.431562612450523,"d":"5.43"}},{"$f":"((Relat_Flechas!$D$12)*(Tabelas_de_Flexas!R$14^2))/(8*C17)","v":{"v":6.018351925152933,"d":"6.02"}},{"$f":"((Relat_Flechas!$D$12)*(Tabelas_de_Flexas!S$14^2))/(8*C17)","v":{"v":6.6352329974811095,"d":"6.64"}},{"$f":"((Relat_Flechas!$D$12)*(Tabelas_de_Flexas!T$14^2))/(8*C17)","v":{"v":7.28220582943505,"d":"7.28"}},{"$f":"((Relat_Flechas!$D$12)*(Tabelas_de_Flexas!U$14^2))/(8*C17)","v":{"v":7.959270421014754,"d":"7.96"}},{"$f":"((Relat_Flechas!$D$12)*(Tabelas_de_Flexas!V$14^2))/(8*C17)","v":{"v":8.666426772220223,"d":"8.67"}},{"$f":"((Relat_Flechas!$D$12)*(Tabelas_de_Flexas!W$14^2))/(8*C17)","v":{"v":9.403674883051458,"d":"9.40"}},{"$f":"((Relat_Flechas!$D$12)*(Tabelas_de_Flexas!X$14^2))/(8*C17)","v":{"v":10.171014753508457,"d":"10.17"}},{"$f":"((Relat_Flechas!$D$12)*(Tabelas_de_Flexas!Y$14^2))/(8*C17)","v":{"v":10.968446383591223,"d":"10.97"}},{"$f":"((Relat_Flechas!$D$12)*(Tabelas_de_Flexas!Z$14^2))/(8*C17)","v":{"v":11.79596977329975,"d":"11.80"}},{"$f":"((Relat_Flechas!$D$12)*(Tabelas_de_Flexas!AA$14^2))/(8*C17)","v":{"v":12.653584922634042,"d":"12.65"}},{"$f":"((Relat_Flechas!$D$12)*(Tabelas_de_Flexas!AB$14^2))/(8*C17)","v":{"v":13.5412918315941,"d":"13.54"}},{"$f":"((Relat_Flechas!$D$12)*(Tabelas_de_Flexas!AC$14^2))/(8*C17)","v":{"v":14.459090500179922,"d":"14.46"}}]
[null,10,{"$f":"Relat_Flechas!H30","v":"129,32"},{"$f":"((Relat_Flechas!$D$12)*(Tabelas_de_Flexas!D$14^2))/(8*C18)","v":{"v":0.5819865450046398,"d":"0.58"}},{"$f":"((Relat_Flechas!$D$12)*(Tabelas_de_Flexas!E$14^2))/(8*C18)","v":{"v":0.7921483529229819,"d":"0.79"}},{"$f":"((Relat_Flechas!$D$12)*(Tabelas_de_Flexas!F$14^2))/(8*C18)","v":{"v":1.034642746674915,"d":"1.03"}},{"$f":"((Relat_Flechas!$D$12)*(Tabelas_de_Flexas!G$14^2))/(8*C18)","v":{"v":1.3094697262604393,"d":"1.31"}},{"$f":"((Relat_Flechas!$D$12)*(Tabelas_de_Flexas!H$14^2))/(8*C18)","v":{"v":1.6166292916795546,"d":"1.62"}},{"$f":"((Relat_Flechas!$D$12)*(Tabelas_de_Flexas!I$14^2))/(8*C18)","v":{"v":1.9561214429322613,"d":"1.96"}},{"$f":"((Relat_Flechas!$D$12)*(Tabelas_de_Flexas!J$14^2))/(8*C18)","v":{"v":2.327946180018559,"d":"2.33"}},{"$f":"((Relat_Flechas!$D$12)*(Tabelas_de_Flexas!K$14^2))/(8*C18)","v":{"v":2.7321035029384473,"d":"2.73"}},{"$f":"((Relat_Flechas!$D$12)*(Tabelas_de_Flexas!L$14^2))/(8*C18)","v":{"v":3.1685934116919277,"d":"3.17"}},{"$f":"((Relat_Flechas!$D$12)*(Tabelas_de_Flexas!M$14^2))/(8*C18)","v":{"v":3.637415906278998,"d":"3.64"}},{"$f":"((Relat_Flechas!$D$12)*(Tabelas_de_Flexas!N$14^2))/(8*C18)","v":{"v":4.13857098669966,"d":"4.14"}},{"$f":"((Relat_Flechas!$D$12)*(Tabelas_de_Flexas!O$14^2))/(8*C18)","v":{"v":4.672058652953914,"d":"4.67"}},{"$f":"((Relat_Flechas!$D$12)*(Tabelas_de_Flexas!P$14^2))/(8*C18)","v":{"v":5.237878905041757,"d":"5.24"}},{"$f":"((Relat_Flechas!$D$12)*(Tabelas_de_Flexas!Q$14^2))/(8*C18)","v":{"v":5.8360317429631925,"d":"5.84"}},{"$f":"((Relat_Flechas!$D$12)*(Tabelas_de_Flexas!R$14^2))/(8*C18)","v":{"v":6.466517166718218,"d":"6.47"}},{"$f":"((Relat_Flechas!$D$12)*(Tabelas_de_Flexas!S$14^2))/(8*C18)","v":{"v":7.129335176306837,"d":"7.13"}},{"$f":"((Relat_Flechas!$D$12)*(Tabelas_de_Flexas!T$14^2))/(8*C18)","v":{"v":7.824485771729045,"d":"7.82"}},{"$f":"((Relat_Flechas!$D$12)*(Tabelas_de_Flexas!U$14^2))/(8*C18)","v":{"v":8.551968952984843,"d":"8.55"}},{"$f":"((Relat_Flechas!$D$12)*(Tabelas_de_Flexas!V$14^2))/(8*C18)","v":{"v":9.311784720074236,"d":"9.31"}},{"$f":"((Relat_Flechas!$D$12)*(Tabelas_de_Flexas!W$14^2))/(8*C18)","v":{"v":10.103933072997217,"d":"10.10"}},{"$f":"((Relat_Flechas!$D$12)*(Tabelas_de_Flexas!X$14^2))/(8*C18)","v":{"v":10.92841401175379,"d":"10.93"}},{"$f":"((Relat_Flechas!$D$12)*(Tabelas_de_Flexas!Y$14^2))/(8*C18)","v":{"v":11.785227536343955,"d":"11.79"}},{"$f":"((Relat_Flechas!$D$12)*(Tabelas_de_Flexas!Z$14^2))/(8*C18)","v":{"v":12.67437364676771,"d":"12.67"}},{"$f":"((Relat_Flechas!$D$12)*(Tabelas_de_Flexas!AA$14^2))/(8*C18)","v":{"v":13.595852343025054,"d":"13.60"}},{"$f":"((Relat_Flechas!$D$12)*(Tabelas_de_Flexas!AB$14^2))/(8*C18)","v":{"v":14.549663625115992,"d":"14.55"}},{"$f":"((Relat_Flechas!$D$12)*(Tabelas_de_Flexas!AC$14^2))/(8*C18)","v":{"v":15.53580749304052,"d":"15.54"}}]
[null,15,{"$f":"Relat_Flechas!H31","v":"121,42"},{"$f":"((Relat_Flechas!$D$12)*(Tabelas_de_Flexas!D$14^2))/(8*C19)","v":{"v":0.6198525778290233,"d":"0.62"}},{"$f":"((Relat_Flechas!$D$12)*(Tabelas_de_Flexas!E$14^2))/(8*C19)","v":{"v":0.8436882309339484,"d":"0.84"}},{"$f":"((Relat_Flechas!$D$12)*(Tabelas_de_Flexas!F$14^2))/(8*C19)","v":{"v":1.101960138362708,"d":"1.10"}},{"$f":"((Relat_Flechas!$D$12)*(Tabelas_de_Flexas!G$14^2))/(8*C19)","v":{"v":1.3946683001153024,"d":"1.39"}},{"$f":"((Relat_Flechas!$D$12)*(Tabelas_de_Flexas!H$14^2))/(8*C19)","v":{"v":1.7218127161917312,"d":"1.72"}},{"$f":"((Relat_Flechas!$D$12)*(Tabelas_de_Flexas!I$14^2))/(8*C19)","v":{"v":2.083393386591995,"d":"2.08"}},{"$f":"((Relat_Flechas!$D$12)*(Tabelas_de_Flexas!J$14^2))/(8*C19)","v":{"v":2.479410311316093,"d":"2.48"}},{"$f":"((Relat_Flechas!$D$12)*(Tabelas_de_Flexas!K$14^2))/(8*C19)","v":{"v":2.909863490364026,"d":"2.91"}},{"$f":"((Relat_Flechas!$D$12)*(Tabelas_de_Flexas!L$14^2))/(8*C19)","v":{"v":3.3747529237357936,"d":"3.37"}},{"$f":"((Relat_Flechas!$D$12)*(Tabelas_de_Flexas!M$14^2))/(8*C19)","v":{"v":3.874078611431395,"d":"3.87"}},{"$f":"((Relat_Flechas!$D$12)*(Tabelas_de_Flexas!N$14^2))/(8*C19)","v":{"v":4.407840553450832,"d":"4.41"}},{"$f":"((Relat_Flechas!$D$12)*(Tabelas_de_Flexas!O$14^2))/(8*C19)","v":{"v":4.976038749794103,"d":"4.98"}},{"$f":"((Relat_Flechas!$D$12)*(Tabelas_de_Flexas!P$14^2))/(8*C19)","v":{"v":5.57867320046121,"d":"5.58"}},{"$f":"((Relat_Flechas!$D$12)*(Tabelas_de_Flexas!Q$14^2))/(8*C19)","v":{"v":6.2157439054521495,"d":"6.22"}},{"$f":"((Relat_Flechas!$D$12)*(Tabelas_de_Flexas!R$14^2))/(8*C19)","v":{"v":6.887250864766925,"d":"6.89"}},{"$f":"((Relat_Flechas!$D$12)*(Tabelas_de_Flexas!S$14^2))/(8*C19)","v":{"v":7.593194078405535,"d":"7.59"}},{"$f":"((Relat_Flechas!$D$12)*(Tabelas_de_Flexas!T$14^2))/(8*C19)","v":{"v":8.33357354636798,"d":"8.33"}},{"$f":"((Relat_Flechas!$D$12)*(Tabelas_de_Flexas!U$14^2))/(8*C19)","v":{"v":9.108389268654257,"d":"9.11"}},{"$f":"((Relat_Flechas!$D$12)*(Tabelas_de_Flexas!V$14^2))/(8*C19)","v":{"v":9.917641245264372,"d":"9.92"}},{"$f":"((Relat_Flechas!$D$12)*(Tabelas_de_Flexas!W$14^2))/(8*C19)","v":{"v":10.76132947619832,"d":"10.76"}},{"$f":"((Relat_Flechas!$D$12)*(Tabelas_de_Flexas!X$14^2))/(8*C19)","v":{"v":11.639453961456104,"d":"11.64"}},{"$f":"((Relat_Flechas!$D$12)*(Tabelas_de_Flexas!Y$14^2))/(8*C19)","v":{"v":12.552014701037722,"d":"12.55"}},{"$f":"((Relat_Flechas!$D$12)*(Tabelas_de_Flexas!Z$14^2))/(8*C19)","v":{"v":13.499011694943174,"d":"13.50"}},{"$f":"((Relat_Flechas!$D$12)*(Tabelas_de_Flexas!AA$14^2))/(8*C19)","v":{"v":14.48044494317246,"d":"14.48"}},{"$f":"((Relat_Flechas!$D$12)*(Tabelas_de_Flexas!AB$14^2))/(8*C19)","v":{"v":15.49631444572558,"d":"15.50"}},{"$f":"((Relat_Flechas!$D$12)*(Tabelas_de_Flexas!AC$14^2))/(8*C19)","v":{"v":16.546620202602536,"d":"16.55"}}]
[null,20,{"$f":"Relat_Flechas!H32","v":"114,80"},{"$f":"((Relat_Flechas!$D$12)*(Tabelas_de_Flexas!D$14^2))/(8*C20)","v":{"v":0.6555966898954704,"d":"0.66"}},{"$f":"((Relat_Flechas!$D$12)*(Tabelas_de_Flexas!E$14^2))/(8*C20)","v":{"v":0.8923399390243903,"d":"0.89"}},{"$f":"((Relat_Flechas!$D$12)*(Tabelas_de_Flexas!F$14^2))/(8*C20)","v":{"v":1.1655052264808363,"d":"1.17"}},{"$f":"((Relat_Flechas!$D$12)*(Tabelas_de_Flexas!G$14^2))/(8*C20)","v":{"v":1.4750925522648086,"d":"1.48"}},{"$f":"((Relat_Flechas!$D$12)*(Tabelas_de_Flexas!H$14^2))/(8*C20)","v":{"v":1.8211019163763067,"d":"1.82"}},{"$f":"((Relat_Flechas!$D$12)*(Tabelas_de_Flexas!I$14^2))/(8*C20)","v":{"v":2.203533318815331,"d":"2.20"}},{"$f":"((Relat_Flechas!$D$12)*(Tabelas_de_Flexas!J$14^2))/(8*C20)","v":{"v":2.6223867595818815,"d":"2.62"}},{"$f":"((Relat_Flechas!$D$12)*(Tabelas_de_Flexas!K$14^2))/(8*C20)","v":{"v":3.0776622386759582,"d":"3.08"}},{"$f":"((Relat_Flechas!$D$12)*(Tabelas_de_Flexas!L$14^2))/(8*C20)","v":{"v":3.5693597560975614,"d":"3.57"}},{"$f":"((Relat_Flechas!$D$12)*(Tabelas_de_Flexas!M$14^2))/(8*C20)","v":{"v":4.09747931184669,"d":"4.10"}},{"$f":"((Relat_Flechas!$D$12)*(Tabelas_de_Flexas!N$14^2))/(8*C20)","v":{"v":4.662020905923345,"d":"4.66"}},{"$f":"((Relat_Flechas!$D$12)*(Tabelas_de_Flexas!O$14^2))/(8*C20)","v":{"v":5.262984538327527,"d":"5.26"}},{"$f":"((Relat_Flechas!$D$12)*(Tabelas_de_Flexas!P$14^2))/(8*C20)","v":{"v":5.9003702090592345,"d":"5.90"}},{"$f":"((Relat_Flechas!$D$12)*(Tabelas_de_Flexas!Q$14^2))/(8*C20)","v":{"v":6.574177918118467,"d":"6.57"}},{"$f":"((Relat_Flechas!$D$12)*(Tabelas_de_Flexas!R$14^2))/(8*C20)","v":{"v":7.284407665505227,"d":"7.28"}},{"$f":"((Relat_Flechas!$D$12)*(Tabelas_de_Flexas!S$14^2))/(8*C20)","v":{"v":8.031059451219512,"d":"8.03"}},{"$f":"((Relat_Flechas!$D$12)*(Tabelas_de_Flexas!T$14^2))/(8*C20)","v":{"v":8.814133275261325,"d":"8.81"}},{"$f":"((Relat_Flechas!$D$12)*(Tabelas_de_Flexas!U$14^2))/(8*C20)","v":{"v":9.633629137630662,"d":"9.63"}},{"$f":"((Relat_Flechas!$D$12)*(Tabelas_de_Flexas!V$14^2))/(8*C20)","v":{"v":10.489547038327526,"d":"10.49"}},{"$f":"((Relat_Flechas!$D$12)*(Tabelas_de_Flexas!W$14^2))/(8*C20)","v":{"v":11.381886977351916,"d":"11.38"}},{"$f":"((Relat_Flechas!$D$12)*(Tabelas_de_Flexas!X$14^2))/(8*C20)","v":{"v":12.310648954703833,"d":"12.31"}},{"$f":"((Relat_Flechas!$D$12)*(Tabelas_de_Flexas!Y$14^2))/(8*C20)","v":{"v":13.275832970383277,"d":"13.28"}},{"$f":"((Relat_Flechas!$D$12)*(Tabelas_de_Flexas!Z$14^2))/(8*C20)","v":{"v":14.277439024390246,"d":"14.28"}},{"$f":"((Relat_Flechas!$D$12)*(Tabelas_de_Flexas!AA$14^2))/(8*C20)","v":{"v":15.31546711672474,"d":"15.32"}},{"$f":"((Relat_Flechas!$D$12)*(Tabelas_de_Flexas!AB$14^2))/(8*C20)","v":{"v":16.38991724738676,"d":"16.39"}},{"$f":"((Relat_Flechas!$D$12)*(Tabelas_de_Flexas!AC$14^2))/(8*C20)","v":{"v":17.500789416376307,"d":"17.50"}}]
[null,25,{"$f":"Relat_Flechas!H33","v":"109,14"},{"$f":"((Relat_Flechas!$D$12)*(Tabelas_de_Flexas!D$14^2))/(8*C21)","v":{"v":0.6895959318306762,"d":"0.69"}},{"$f":"((Relat_Flechas!$D$12)*(Tabelas_de_Flexas!E$14^2))/(8*C21)","v":{"v":0.9386166849917538,"d":"0.94"}},{"$f":"((Relat_Flechas!$D$12)*(Tabelas_de_Flexas!F$14^2))/(8*C21)","v":{"v":1.2259483232545356,"d":"1.23"}},{"$f":"((Relat_Flechas!$D$12)*(Tabelas_de_Flexas!G$14^2))/(8*C21)","v":{"v":1.5515908466190216,"d":"1.55"}},{"$f":"((Relat_Flechas!$D$12)*(Tabelas_de_Flexas!H$14^2))/(8*C21)","v":{"v":1.9155442550852118,"d":"1.92"}},{"$f":"((Relat_Flechas!$D$12)*(Tabelas_de_Flexas!I$14^2))/(8*C21)","v":{"v":2.3178085486531064,"d":"2.32"}},{"$f":"((Relat_Flechas!$D$12)*(Tabelas_de_Flexas!J$14^2))/(8*C21)","v":{"v":2.758383727322705,"d":"2.76"}},{"$f":"((Relat_Flechas!$D$12)*(Tabelas_de_Flexas!K$14^2))/(8*C21)","v":{"v":3.2372697910940076,"d":"3.24"}},{"$f":"((Relat_Flechas!$D$12)*(Tabelas_de_Flexas!L$14^2))/(8*C21)","v":{"v":3.754466739967015,"d":"3.75"}},{"$f":"((Relat_Flechas!$D$12)*(Tabelas_de_Flexas!M$14^2))/(8*C21)","v":{"v":4.309974573941727,"d":"4.31"}},{"$f":"((Relat_Flechas!$D$12)*(Tabelas_de_Flexas!N$14^2))/(8*C21)","v":{"v":4.9037932930181425,"d":"4.90"}},{"$f":"((Relat_Flechas!$D$12)*(Tabelas_de_Flexas!O$14^2))/(8*C21)","v":{"v":5.535922897196262,"d":"5.54"}},{"$f":"((Relat_Flechas!$D$12)*(Tabelas_de_Flexas!P$14^2))/(8*C21)","v":{"v":6.206363386476086,"d":"6.21"}},{"$f":"((Relat_Flechas!$D$12)*(Tabelas_de_Flexas!Q$14^2))/(8*C21)","v":{"v":6.915114760857614,"d":"6.92"}},{"$f":"((Relat_Flechas!$D$12)*(Tabelas_de_Flexas!R$14^2))/(8*C21)","v":{"v":7.662177020340847,"d":"7.66"}},{"$f":"((Relat_Flechas!$D$12)*(Tabelas_de_Flexas!S$14^2))/(8*C21)","v":{"v":8.447550164925783,"d":"8.45"}},{"$f":"((Relat_Flechas!$D$12)*(Tabelas_de_Flexas!T$14^2))/(8*C21)","v":{"v":9.271234194612425,"d":"9.27"}},{"$f":"((Relat_Flechas!$D$12)*(Tabelas_de_Flexas!U$14^2))/(8*C21)","v":{"v":10.13322910940077,"d":"10.13"}},{"$f":"((Relat_Flechas!$D$12)*(Tabelas_de_Flexas!V$14^2))/(8*C21)","v":{"v":11.03353490929082,"d":"11.03"}},{"$f":"((Relat_Flechas!$D$12)*(Tabelas_de_Flexas!W$14^2))/(8*C21)","v":{"v":11.972151594282574,"d":"11.97"}},{"$f":"((Relat_Flechas!$D$12)*(Tabelas_de_Flexas!X$14^2))/(8*C21)","v":{"v":12.94907916437603,"d":"12.95"}},{"$f":"((Relat_Flechas!$D$12)*(Tabelas_de_Flexas!Y$14^2))/(8*C21)","v":{"v":13.964317619571194,"d":"13.96"}},{"$f":"((Relat_Flechas!$D$12)*(Tabelas_de_Flexas!Z$14^2))/(8*C21)","v":{"v":15.01786695986806,"d":"15.02"}},{"$f":"((Relat_Flechas!$D$12)*(Tabelas_de_Flexas!AA$14^2))/(8*C21)","v":{"v":16.10972718526663,"d":"16.11"}},{"$f":"((Relat_Flechas!$D$12)*(Tabelas_de_Flexas!AB$14^2))/(8*C21)","v":{"v":17.239898295766906,"d":"17.24"}},{"$f":"((Relat_Flechas!$D$12)*(Tabelas_de_Flexas!AC$14^2))/(8*C21)","v":{"v":18.408380291368886,"d":"18.41"}}]
[null,30,{"$f":"Relat_Flechas!H34","v":"104,24"},{"$f":"((Relat_Flechas!$D$12)*(Tabelas_de_Flexas!D$14^2))/(8*C22)","v":{"v":0.7220117037605527,"d":"0.72"}},{"$f":"((Relat_Flechas!$D$12)*(Tabelas_de_Flexas!E$14^2))/(8*C22)","v":{"v":0.9827381523407522,"d":"0.98"}},{"$f":"((Relat_Flechas!$D$12)*(Tabelas_de_Flexas!F$14^2))/(8*C22)","v":{"v":1.2835763622409826,"d":"1.28"}},{"$f":"((Relat_Flechas!$D$12)*(Tabelas_de_Flexas!G$14^2))/(8*C22)","v":{"v":1.6245263334612434,"d":"1.62"}},{"$f":"((Relat_Flechas!$D$12)*(Tabelas_de_Flexas!H$14^2))/(8*C22)","v":{"v":2.005588066001535,"d":"2.01"}},{"$f":"((Relat_Flechas!$D$12)*(Tabelas_de_Flexas!I$14^2))/(8*C22)","v":{"v":2.4267615598618577,"d":"2.43"}},{"$f":"((Relat_Flechas!$D$12)*(Tabelas_de_Flexas!J$14^2))/(8*C22)","v":{"v":2.8880468150422107,"d":"2.89"}},{"$f":"((Relat_Flechas!$D$12)*(Tabelas_de_Flexas!K$14^2))/(8*C22)","v":{"v":3.3894438315425943,"d":"3.39"}},{"$f":"((Relat_Flechas!$D$12)*(Tabelas_de_Flexas!L$14^2))/(8*C22)","v":{"v":3.930952609363009,"d":"3.93"}},{"$f":"((Relat_Flechas!$D$12)*(Tabelas_de_Flexas!M$14^2))/(8*C22)","v":{"v":4.512573148503454,"d":"4.51"}},{"$f":"((Relat_Flechas!$D$12)*(Tabelas_de_Flexas!N$14^2))/(8*C22)","v":{"v":5.13430544896393,"d":"5.13"}},{"$f":"((Relat_Flechas!$D$12)*(Tabelas_de_Flexas!O$14^2))/(8*C22)","v":{"v":5.796149510744437,"d":"5.80"}},{"$f":"((Relat_Flechas!$D$12)*(Tabelas_de_Flexas!P$14^2))/(8*C22)","v":{"v":6.498105333844974,"d":"6.50"}},{"$f":"((Relat_Flechas!$D$12)*(Tabelas_de_Flexas!Q$14^2))/(8*C22)","v":{"v":7.240172918265542,"d":"7.24"}},{"$f":"((Relat_Flechas!$D$12)*(Tabelas_de_Flexas!R$14^2))/(8*C22)","v":{"v":8.02235226400614,"d":"8.02"}},{"$f":"((Relat_Flechas!$D$12)*(Tabelas_de_Flexas!S$14^2))/(8*C22)","v":{"v":8.84464337106677,"d":"8.84"}},{"$f":"((Relat_Flechas!$D$12)*(Tabelas_de_Flexas!T$14^2))/(8*C22)","v":{"v":9.70704623944743,"d":"9.71"}},{"$f":"((Relat_Flechas!$D$12)*(Tabelas_de_Flexas!U$14^2))/(8*C22)","v":{"v":10.60956086914812,"d":"10.61"}},{"$f":"((Relat_Flechas!$D$12)*(Tabelas_de_Flexas!V$14^2))/(8*C22)","v":{"v":11.552187260168843,"d":"11.55"}},{"$f":"((Relat_Flechas!$D$12)*(Tabelas_de_Flexas!W$14^2))/(8*C22)","v":{"v":12.534925412509594,"d":"12.53"}},{"$f":"((Relat_Flechas!$D$12)*(Tabelas_de_Flexas!X$14^2))/(8*C22)","v":{"v":13.557775326170377,"d":"13.56"}},{"$f":"((Relat_Flechas!$D$12)*(Tabelas_de_Flexas!Y$14^2))/(8*C22)","v":{"v":14.620737001151191,"d":"14.62"}},{"$f":"((Relat_Flechas!$D$12)*(Tabelas_de_Flexas!Z$14^2))/(8*C22)","v":{"v":15.723810437452036,"d":"15.72"}},{"$f":"((Relat_Flechas!$D$12)*(Tabelas_de_Flexas!AA$14^2))/(8*C22)","v":{"v":16.86699563507291,"d":"16.87"}},{"$f":"((Relat_Flechas!$D$12)*(Tabelas_de_Flexas!AB$14^2))/(8*C22)","v":{"v":18.050292594013815,"d":"18.05"}},{"$f":"((Relat_Flechas!$D$12)*(Tabelas_de_Flexas!AC$14^2))/(8*C22)","v":{"v":19.273701314274753,"d":"19.27"}}]
[null,35,{"$f":"Relat_Flechas!H35","v":"99,94"},{"$f":"((Relat_Flechas!$D$12)*(Tabelas_de_Flexas!D$14^2))/(8*C23)","v":{"v":0.7530768461076647,"d":"0.75"}},{"$f":"((Relat_Flechas!$D$12)*(Tabelas_de_Flexas!E$14^2))/(8*C23)","v":{"v":1.0250212627576547,"d":"1.03"}},{"$f":"((Relat_Flechas!$D$12)*(Tabelas_de_Flexas!F$14^2))/(8*C23)","v":{"v":1.3388032819691817,"d":"1.34"}},{"$f":"((Relat_Flechas!$D$12)*(Tabelas_de_Flexas!G$14^2))/(8*C23)","v":{"v":1.6944229037422456,"d":"1.69"}},{"$f":"((Relat_Flechas!$D$12)*(Tabelas_de_Flexas!H$14^2))/(8*C23)","v":{"v":2.091880128076846,"d":"2.09"}},{"$f":"((Relat_Flechas!$D$12)*(Tabelas_de_Flexas!I$14^2))/(8*C23)","v":{"v":2.531174954972984,"d":"2.53"}},{"$f":"((Relat_Flechas!$D$12)*(Tabelas_de_Flexas!J$14^2))/(8*C23)","v":{"v":3.0123073844306587,"d":"3.01"}},{"$f":"((Relat_Flechas!$D$12)*(Tabelas_de_Flexas!K$14^2))/(8*C23)","v":{"v":3.53527741644987,"d":"3.54"}},{"$f":"((Relat_Flechas!$D$12)*(Tabelas_de_Flexas!L$14^2))/(8*C23)","v":{"v":4.100085051030619,"d":"4.10"}},{"$f":"((Relat_Flechas!$D$12)*(Tabelas_de_Flexas!M$14^2))/(8*C23)","v":{"v":4.706730288172904,"d":"4.71"}},{"$f":"((Relat_Flechas!$D$12)*(Tabelas_de_Flexas!N$14^2))/(8*C23)","v":{"v":5.355213127876727,"d":"5.36"}},{"$f":"((Relat_Flechas!$D$12)*(Tabelas_de_Flexas!O$14^2))/(8*C23)","v":{"v":6.045533570142086,"d":"6.05"}},{"$f":"((Relat_Flechas!$D$12)*(Tabelas_de_Flexas!P$14^2))/(8*C23)","v":{"v":6.777691614968982,"d":"6.78"}},{"$f":"((Relat_Flechas!$D$12)*(Tabelas_de_Flexas!Q$14^2))/(8*C23)","v":{"v":7.551687262357415,"d":"7.55"}},{"$f":"((Relat_Flechas!$D$12)*(Tabelas_de_Flexas!R$14^2))/(8*C23)","v":{"v":8.367520512307385,"d":"8.37"}},{"$f":"((Relat_Flechas!$D$12)*(Tabelas_de_Flexas!S$14^2))/(8*C23)","v":{"v":9.225191364818892,"d":"9.23"}},{"$f":"((Relat_Flechas!$D$12)*(Tabelas_de_Flexas!T$14^2))/(8*C23)","v":{"v":10.124699819891935,"d":"10.12"}},{"$f":"((Relat_Flechas!$D$12)*(Tabelas_de_Flexas!U$14^2))/(8*C23)","v":{"v":11.066045877526516,"d":"11.07"}},{"$f":"((Relat_Flechas!$D$12)*(Tabelas_de_Flexas!V$14^2))/(8*C23)","v":{"v":12.049229537722635,"d":"12.05"}},{"$f":"((Relat_Flechas!$D$12)*(Tabelas_de_Flexas!W$14^2))/(8*C23)","v":{"v":13.07425080048029,"d":"13.07"}},{"$f":"((Relat_Flechas!$D$12)*(Tabelas_de_Flexas!X$14^2))/(8*C23)","v":{"v":14.14110966579948,"d":"14.14"}},{"$f":"((Relat_Flechas!$D$12)*(Tabelas_de_Flexas!Y$14^2))/(8*C23)","v":{"v":15.24980613368021,"d":"15.25"}},{"$f":"((Relat_Flechas!$D$12)*(Tabelas_de_Flexas!Z$14^2))/(8*C23)","v":{"v":16.400340204122475,"d":"16.40"}},{"$f":"((Relat_Flechas!$D$12)*(Tabelas_de_Flexas!AA$14^2))/(8*C23)","v":{"v":17.592711877126277,"d":"17.59"}},{"$f":"((Relat_Flechas!$D$12)*(Tabelas_de_Flexas!AB$14^2))/(8*C23)","v":{"v":18.826921152691614,"d":"18.83"}},{"$f":"((Relat_Flechas!$D$12)*(Tabelas_de_Flexas!AC$14^2))/(8*C23)","v":{"v":20.10296803081849,"d":"20.10"}}]
[null,40,{"$f":"Relat_Flechas!H36","v":"96,13"},{"$f":"((Relat_Flechas!$D$12)*(Tabelas_de_Flexas!D$14^2))/(8*C24)","v":{"v":0.7829241651929679,"d":"0.78"}},{"$f":"((Relat_Flechas!$D$12)*(Tabelas_de_Flexas!E$14^2))/(8*C24)","v":{"v":1.0656467804015397,"d":"1.07"}},{"$f":"((Relat_Flechas!$D$12)*(Tabelas_de_Flexas!F$14^2))/(8*C24)","v":{"v":1.3918651825652764,"d":"1.39"}},{"$f":"((Relat_Flechas!$D$12)*(Tabelas_de_Flexas!G$14^2))/(8*C24)","v":{"v":1.7615793716841779,"d":"1.76"}},{"$f":"((Relat_Flechas!$D$12)*(Tabelas_de_Flexas!H$14^2))/(8*C24)","v":{"v":2.174789347758244,"d":"2.17"}},{"$f":"((Relat_Flechas!$D$12)*(Tabelas_de_Flexas!I$14^2))/(8*C24)","v":{"v":2.6314951107874758,"d":"2.63"}},{"$f":"((Relat_Flechas!$D$12)*(Tabelas_de_Flexas!J$14^2))/(8*C24)","v":{"v":3.1316966607718717,"d":"3.13"}},{"$f":"((Relat_Flechas!$D$12)*(Tabelas_de_Flexas!K$14^2))/(8*C24)","v":{"v":3.6753939977114327,"d":"3.68"}},{"$f":"((Relat_Flechas!$D$12)*(Tabelas_de_Flexas!L$14^2))/(8*C24)","v":{"v":4.262587121606159,"d":"4.26"}},{"$f":"((Relat_Flechas!$D$12)*(Tabelas_de_Flexas!M$14^2))/(8*C24)","v":{"v":4.89327603245605,"d":"4.89"}},{"$f":"((Relat_Flechas!$D$12)*(Tabelas_de_Flexas!N$14^2))/(8*C24)","v":{"v":5.567460730261105,"d":"5.57"}},{"$f":"((Relat_Flechas!$D$12)*(Tabelas_de_Flexas!O$14^2))/(8*C24)","v":{"v":6.285141215021326,"d":"6.29"}},{"$f":"((Relat_Flechas!$D$12)*(Tabelas_de_Flexas!P$14^2))/(8*C24)","v":{"v":7.0463174867367115,"d":"7.05"}},{"$f":"((Relat_Flechas!$D$12)*(Tabelas_de_Flexas!Q$14^2))/(8*C24)","v":{"v":7.850989545407262,"d":"7.85"}},{"$f":"((Relat_Flechas!$D$12)*(Tabelas_de_Flexas!R$14^2))/(8*C24)","v":{"v":8.699157391032976,"d":"8.70"}},{"$f":"((Relat_Flechas!$D$12)*(Tabelas_de_Flexas!S$14^2))/(8*C24)","v":{"v":9.590821023613858,"d":"9.59"}},{"$f":"((Relat_Flechas!$D$12)*(Tabelas_de_Flexas!T$14^2))/(8*C24)","v":{"v":10.525980443149903,"d":"10.53"}},{"$f":"((Relat_Flechas!$D$12)*(Tabelas_de_Flexas!U$14^2))/(8*C24)","v":{"v":11.504635649641111,"d":"11.50"}},{"$f":"((Relat_Flechas!$D$12)*(Tabelas_de_Flexas!V$14^2))/(8*C24)","v":{"v":12.526786643087487,"d":"12.53"}},{"$f":"((Relat_Flechas!$D$12)*(Tabelas_de_Flexas!W$14^2))/(8*C24)","v":{"v":13.592433423489027,"d":"13.59"}},{"$f":"((Relat_Flechas!$D$12)*(Tabelas_de_Flexas!X$14^2))/(8*C24)","v":{"v":14.70157599084573,"d":"14.70"}},{"$f":"((Relat_Flechas!$D$12)*(Tabelas_de_Flexas!Y$14^2))/(8*C24)","v":{"v":15.854214345157601,"d":"15.85"}},{"$f":"((Relat_Flechas!$D$12)*(Tabelas_de_Flexas!Z$14^2))/(8*C24)","v":{"v":17.050348486424635,"d":"17.05"}},{"$f":"((Relat_Flechas!$D$12)*(Tabelas_de_Flexas!AA$14^2))/(8*C24)","v":{"v":18.289978414646832,"d":"18.29"}},{"$f":"((Relat_Flechas!$D$12)*(Tabelas_de_Flexas!AB$14^2))/(8*C24)","v":{"v":19.5731041298242,"d":"19.57"}},{"$f":"((Relat_Flechas!$D$12)*(Tabelas_de_Flexas!AC$14^2))/(8*C24)","v":{"v":20.899725631956727,"d":"20.90"}}]
[null,45,{"$f":"Relat_Flechas!H37","v":"92,71"},{"$f":"((Relat_Flechas!$D$12)*(Tabelas_de_Flexas!D$14^2))/(8*C25)","v":{"v":0.8118056304605761,"d":"0.81"}},{"$f":"((Relat_Flechas!$D$12)*(Tabelas_de_Flexas!E$14^2))/(8*C25)","v":{"v":1.1049576636824507,"d":"1.10"}},{"$f":"((Relat_Flechas!$D$12)*(Tabelas_de_Flexas!F$14^2))/(8*C25)","v":{"v":1.443210009707691,"d":"1.44"}},{"$f":"((Relat_Flechas!$D$12)*(Tabelas_de_Flexas!G$14^2))/(8*C25)","v":{"v":1.8265626685362963,"d":"1.83"}},{"$f":"((Relat_Flechas!$D$12)*(Tabelas_de_Flexas!H$14^2))/(8*C25)","v":{"v":2.2550156401682666,"d":"2.26"}},{"$f":"((Relat_Flechas!$D$12)*(Tabelas_de_Flexas!I$14^2))/(8*C25)","v":{"v":2.728568924603603,"d":"2.73"}},{"$f":"((Relat_Flechas!$D$12)*(Tabelas_de_Flexas!J$14^2))/(8*C25)","v":{"v":3.2472225218423043,"d":"3.25"}},{"$f":"((Relat_Flechas!$D$12)*(Tabelas_de_Flexas!K$14^2))/(8*C25)","v":{"v":3.810976431884371,"d":"3.81"}},{"$f":"((Relat_Flechas!$D$12)*(Tabelas_de_Flexas!L$14^2))/(8*C25)","v":{"v":4.419830654729803,"d":"4.42"}},{"$f":"((Relat_Flechas!$D$12)*(Tabelas_de_Flexas!M$14^2))/(8*C25)","v":{"v":5.0737851903786,"d":"5.07"}},{"$f":"((Relat_Flechas!$D$12)*(Tabelas_de_Flexas!N$14^2))/(8*C25)","v":{"v":5.772840038830764,"d":"5.77"}},{"$f":"((Relat_Flechas!$D$12)*(Tabelas_de_Flexas!O$14^2))/(8*C25)","v":{"v":6.516995200086292,"d":"6.52"}},{"$f":"((Relat_Flechas!$D$12)*(Tabelas_de_Flexas!P$14^2))/(8*C25)","v":{"v":7.306250674145185,"d":"7.31"}},{"$f":"((Relat_Flechas!$D$12)*(Tabelas_de_Flexas!Q$14^2))/(8*C25)","v":{"v":8.140606461007444,"d":"8.14"}},{"$f":"((Relat_Flechas!$D$12)*(Tabelas_de_Flexas!R$14^2))/(8*C25)","v":{"v":9.020062560673066,"d":"9.02"}},{"$f":"((Relat_Flechas!$D$12)*(Tabelas_de_Flexas!S$14^2))/(8*C25)","v":{"v":9.944618973142058,"d":"9.94"}},{"$f":"((Relat_Flechas!$D$12)*(Tabelas_de_Flexas!T$14^2))/(8*C25)","v":{"v":10.914275698414412,"d":"10.91"}},{"$f":"((Relat_Flechas!$D$12)*(Tabelas_de_Flexas!U$14^2))/(8*C25)","v":{"v":11.92903273649013,"d":"11.93"}},{"$f":"((Relat_Flechas!$D$12)*(Tabelas_de_Flexas!V$14^2))/(8*C25)","v":{"v":12.988890087369217,"d":"12.99"}},{"$f":"((Relat_Flechas!$D$12)*(Tabelas_de_Flexas!W$14^2))/(8*C25)","v":{"v":14.093847751051667,"d":"14.09"}},{"$f":"((Relat_Flechas!$D$12)*(Tabelas_de_Flexas!X$14^2))/(8*C25)","v":{"v":15.243905727537484,"d":"15.24"}},{"$f":"((Relat_Flechas!$D$12)*(Tabelas_de_Flexas!Y$14^2))/(8*C25)","v":{"v":16.439064016826666,"d":"16.44"}},{"$f":"((Relat_Flechas!$D$12)*(Tabelas_de_Flexas!Z$14^2))/(8*C25)","v":{"v":17.679322618919212,"d":"17.68"}},{"$f":"((Relat_Flechas!$D$12)*(Tabelas_de_Flexas!AA$14^2))/(8*C25)","v":{"v":18.964681533815124,"d":"18.96"}},{"$f":"((Relat_Flechas!$D$12)*(Tabelas_de_Flexas!AB$14^2))/(8*C25)","v":{"v":20.2951407615144,"d":"20.30"}},{"$f":"((Relat_Flechas!$D$12)*(Tabelas_de_Flexas!AC$14^2))/(8*C25)","v":{"v":21.670700302017046,"d":"21.67"}}]
[null,50,{"$f":"Relat_Flechas!H38","v":"89,64"},{"$f":"((Relat_Flechas!$D$12)*(Tabelas_de_Flexas!D$14^2))/(8*C26)","v":{"v":0.8396084337349398,"d":"0.84"}},{"$f":"((Relat_Flechas!$D$12)*(Tabelas_de_Flexas!E$14^2))/(8*C26)","v":{"v":1.1428003681392236,"d":"1.14"}},{"$f":"((Relat_Flechas!$D$12)*(Tabelas_de_Flexas!F$14^2))/(8*C26)","v":{"v":1.492637215528782,"d":"1.49"}},{"$f":"((Relat_Flechas!$D$12)*(Tabelas_de_Flexas!G$14^2))/(8*C26)","v":{"v":1.8891189759036147,"d":"1.89"}},{"$f":"((Relat_Flechas!$D$12)*(Tabelas_de_Flexas!H$14^2))/(8*C26)","v":{"v":2.3322456492637214,"d":"2.33"}},{"$f":"((Relat_Flechas!$D$12)*(Tabelas_de_Flexas!I$14^2))/(8*C26)","v":{"v":2.822017235609103,"d":"2.82"}},{"$f":"((Relat_Flechas!$D$12)*(Tabelas_de_Flexas!J$14^2))/(8*C26)","v":{"v":3.358433734939759,"d":"3.36"}},{"$f":"((Relat_Flechas!$D$12)*(Tabelas_de_Flexas!K$14^2))/(8*C26)","v":{"v":3.9414951472556896,"d":"3.94"}},{"$f":"((Relat_Flechas!$D$12)*(Tabelas_de_Flexas!L$14^2))/(8*C26)","v":{"v":4.571201472556894,"d":"4.57"}},{"$f":"((Relat_Flechas!$D$12)*(Tabelas_de_Flexas!M$14^2))/(8*C26)","v":{"v":5.247552710843373,"d":"5.25"}},{"$f":"((Relat_Flechas!$D$12)*(Tabelas_de_Flexas!N$14^2))/(8*C26)","v":{"v":5.970548862115128,"d":"5.97"}},{"$f":"((Relat_Flechas!$D$12)*(Tabelas_de_Flexas!O$14^2))/(8*C26)","v":{"v":6.740189926372156,"d":"6.74"}},{"$f":"((Relat_Flechas!$D$12)*(Tabelas_de_Flexas!P$14^2))/(8*C26)","v":{"v":7.556475903614459,"d":"7.56"}},{"$f":"((Relat_Flechas!$D$12)*(Tabelas_de_Flexas!Q$14^2))/(8*C26)","v":{"v":8.419406793842036,"d":"8.42"}},{"$f":"((Relat_Flechas!$D$12)*(Tabelas_de_Flexas!R$14^2))/(8*C26)","v":{"v":9.328982597054885,"d":"9.33"}},{"$f":"((Relat_Flechas!$D$12)*(Tabelas_de_Flexas!S$14^2))/(8*C26)","v":{"v":10.285203313253012,"d":"10.29"}},{"$f":"((Relat_Flechas!$D$12)*(Tabelas_de_Flexas!T$14^2))/(8*C26)","v":{"v":11.288068942436412,"d":"11.29"}},{"$f":"((Relat_Flechas!$D$12)*(Tabelas_de_Flexas!U$14^2))/(8*C26)","v":{"v":12.337579484605087,"d":"12.34"}},{"$f":"((Relat_Flechas!$D$12)*(Tabelas_de_Flexas!V$14^2))/(8*C26)","v":{"v":13.433734939759036,"d":"13.43"}},{"$f":"((Relat_Flechas!$D$12)*(Tabelas_de_Flexas!W$14^2))/(8*C26)","v":{"v":14.57653530789826,"d":"14.58"}},{"$f":"((Relat_Flechas!$D$12)*(Tabelas_de_Flexas!X$14^2))/(8*C26)","v":{"v":15.765980589022758,"d":"15.77"}},{"$f":"((Relat_Flechas!$D$12)*(Tabelas_de_Flexas!Y$14^2))/(8*C26)","v":{"v":17.00207078313253,"d":"17.00"}},{"$f":"((Relat_Flechas!$D$12)*(Tabelas_de_Flexas!Z$14^2))/(8*C26)","v":{"v":18.284805890227577,"d":"18.28"}},{"$f":"((Relat_Flechas!$D$12)*(Tabelas_de_Flexas!AA$14^2))/(8*C26)","v":{"v":19.6141859103079,"d":"19.61"}},{"$f":"((Relat_Flechas!$D$12)*(Tabelas_de_Flexas!AB$14^2))/(8*C26)","v":{"v":20.990210843373493,"d":"20.99"}},{"$f":"((Relat_Flechas!$D$12)*(Tabelas_de_Flexas!AC$14^2))/(8*C26)","v":{"v":22.412880689424366,"d":"22.41"}}]
[]
[]
[]
[null,{"$f":"VLOOKUP(Relat_Flechas!A12,Caracteristica_CABO!A:AH,31,FALSE)&\" - Vão básico \"&Relat_Flechas!C15&\" m\"","v":"Cabo Multiplexado 3#50(50CAL)CA-XLPE - Vão básico 27,5 m"}]
[null,"Temp º","Tração daN",160,165,170,175,180,185,190,195,200,205,210,215,220,225,230,235,240,245,250,255,260,265,270]
[null,-5,{"$f":"C15","v":"166,79"},{"$f":"((Relat_Flechas!$D$12)*(Tabelas_de_Flexas!D$31^2))/(8*C32)","v":{"v":12.83530187661131,"d":"12.84"}},{"$f":"((Relat_Flechas!$D$12)*(Tabelas_de_Flexas!E$31^2))/(8*C32)","v":{"v":13.650042718388395,"d":"13.65"}},{"$f":"((Relat_Flechas!$D$12)*(Tabelas_de_Flexas!F$31^2))/(8*C32)","v":{"v":14.489852509143237,"d":"14.49"}},{"$f":"((Relat_Flechas!$D$12)*(Tabelas_de_Flexas!G$31^2))/(8*C32)","v":{"v":15.354731248875833,"d":"15.35"}},{"$f":"((Relat_Flechas!$D$12)*(Tabelas_de_Flexas!H$31^2))/(8*C32)","v":{"v":16.244678937586187,"d":"16.24"}},{"$f":"((Relat_Flechas!$D$12)*(Tabelas_de_Flexas!I$31^2))/(8*C32)","v":{"v":17.1596955752743,"d":"17.16"}},{"$f":"((Relat_Flechas!$D$12)*(Tabelas_de_Flexas!J$31^2))/(8*C32)","v":{"v":18.099781161940165,"d":"18.10"}},{"$f":"((Relat_Flechas!$D$12)*(Tabelas_de_Flexas!K$31^2))/(8*C32)","v":{"v":19.064935697583792,"d":"19.06"}},{"$f":"((Relat_Flechas!$D$12)*(Tabelas_de_Flexas!L$31^2))/(8*C32)","v":{"v":20.05515918220517,"d":"20.06"}},{"$f":"((Relat_Flechas!$D$12)*(Tabelas_de_Flexas!M$31^2))/(8*C32)","v":{"v":21.07045161580431,"d":"21.07"}},{"$f":"((Relat_Flechas!$D$12)*(Tabelas_de_Flexas!N$31^2))/(8*C32)","v":{"v":22.1108129983812,"d":"22.11"}},{"$f":"((Relat_Flechas!$D$12)*(Tabelas_de_Flexas!O$31^2))/(8*C32)","v":{"v":23.17624332993585,"d":"23.18"}},{"$f":"((Relat_Flechas!$D$12)*(Tabelas_de_Flexas!P$31^2))/(8*C32)","v":{"v":24.266742610468256,"d":"24.27"}},{"$f":"((Relat_Flechas!$D$12)*(Tabelas_de_Flexas!Q$31^2))/(8*C32)","v":{"v":25.382310839978416,"d":"25.38"}},{"$f":"((Relat_Flechas!$D$12)*(Tabelas_de_Flexas!R$31^2))/(8*C32)","v":{"v":26.522948018466334,"d":"26.52"}},{"$f":"((Relat_Flechas!$D$12)*(Tabelas_de_Flexas!S$31^2))/(8*C32)","v":{"v":27.688654145932013,"d":"27.69"}},{"$f":"((Relat_Flechas!$D$12)*(Tabelas_de_Flexas!T$31^2))/(8*C32)","v":{"v":28.879429222375446,"d":"28.88"}},{"$f":"((Relat_Flechas!$D$12)*(Tabelas_de_Flexas!U$31^2))/(8*C32)","v":{"v":30.095273247796637,"d":"30.10"}},{"$f":"((Relat_Flechas!$D$12)*(Tabelas_de_Flexas!V$31^2))/(8*C32)","v":{"v":31.336186222195575,"d":"31.34"}},{"$f":"((Relat_Flechas!$D$12)*(Tabelas_de_Flexas!W$31^2))/(8*C32)","v":{"v":32.602168145572286,"d":"32.60"}},{"$f":"((Relat_Flechas!$D$12)*(Tabelas_de_Flexas!X$31^2))/(8*C32)","v":{"v":33.89321901792674,"d":"33.89"}},{"$f":"((Relat_Flechas!$D$12)*(Tabelas_de_Flexas!Y$31^2))/(8*C32)","v":{"v":35.209338839258955,"d":"35.21"}},{"$f":"((Relat_Flechas!$D$12)*(Tabelas_de_Flexas!Z$31^2))/(8*C32)","v":{"v":36.550527609568924,"d":"36.55"}}]
[null,0,{"$f":"C16","v":"151,03"},{"$f":"((Relat_Flechas!$D$12)*(Tabelas_de_Flexas!D$31^2))/(8*C33)","v":{"v":14.174667284645436,"d":"14.17"}},{"$f":"((Relat_Flechas!$D$12)*(Tabelas_de_Flexas!E$31^2))/(8*C33)","v":{"v":15.074426438455937,"d":"15.07"}},{"$f":"((Relat_Flechas!$D$12)*(Tabelas_de_Flexas!F$31^2))/(8*C33)","v":{"v":16.00187048930676,"d":"16.00"}},{"$f":"((Relat_Flechas!$D$12)*(Tabelas_de_Flexas!G$31^2))/(8*C33)","v":{"v":16.956999437197908,"d":"16.96"}},{"$f":"((Relat_Flechas!$D$12)*(Tabelas_de_Flexas!H$31^2))/(8*C33)","v":{"v":17.93981328212938,"d":"17.94"}},{"$f":"((Relat_Flechas!$D$12)*(Tabelas_de_Flexas!I$31^2))/(8*C33)","v":{"v":18.950312024101173,"d":"18.95"}},{"$f":"((Relat_Flechas!$D$12)*(Tabelas_de_Flexas!J$31^2))/(8*C33)","v":{"v":19.98849566311329,"d":"19.99"}},{"$f":"((Relat_Flechas!$D$12)*(Tabelas_de_Flexas!K$31^2))/(8*C33)","v":{"v":21.05436419916573,"d":"21.05"}},{"$f":"((Relat_Flechas!$D$12)*(Tabelas_de_Flexas!L$31^2))/(8*C33)","v":{"v":22.14791763225849,"d":"22.15"}},{"$f":"((Relat_Flechas!$D$12)*(Tabelas_de_Flexas!M$31^2))/(8*C33)","v":{"v":23.26915596239158,"d":"23.27"}},{"$f":"((Relat_Flechas!$D$12)*(Tabelas_de_Flexas!N$31^2))/(8*C33)","v":{"v":24.41807918956499,"d":"24.42"}},{"$f":"((Relat_Flechas!$D$12)*(Tabelas_de_Flexas!O$31^2))/(8*C33)","v":{"v":25.59468731377872,"d":"25.59"}},{"$f":"((Relat_Flechas!$D$12)*(Tabelas_de_Flexas!P$31^2))/(8*C33)","v":{"v":26.798980335032777,"d":"26.80"}},{"$f":"((Relat_Flechas!$D$12)*(Tabelas_de_Flexas!Q$31^2))/(8*C33)","v":{"v":28.030958253327153,"d":"28.03"}},{"$f":"((Relat_Flechas!$D$12)*(Tabelas_de_Flexas!R$31^2))/(8*C33)","v":{"v":29.290621068661853,"d":"29.29"}},{"$f":"((Relat_Flechas!$D$12)*(Tabelas_de_Flexas!S$31^2))/(8*C33)","v":{"v":30.57796878103688,"d":"30.58"}},{"$f":"((Relat_Flechas!$D$12)*(Tabelas_de_Flexas!T$31^2))/(8*C33)","v":{"v":31.89300139045223,"d":"31.89"}},{"$f":"((Relat_Flechas!$D$12)*(Tabelas_de_Flexas!U$31^2))/(8*C33)","v":{"v":33.235718896907905,"d":"33.24"}},{"$f":"((Relat_Flechas!$D$12)*(Tabelas_de_Flexas!V$31^2))/(8*C33)","v":{"v":34.60612130040389,"d":"34.61"}},{"$f":"((Relat_Flechas!$D$12)*(Tabelas_de_Flexas!W$31^2))/(8*C33)","v":{"v":36.00420860094022,"d":"36.00"}},{"$f":"((Relat_Flechas!$D$12)*(Tabelas_de_Flexas!X$31^2))/(8*C33)","v":{"v":37.42998079851685,"d":"37.43"}},{"$f":"((Relat_Flechas!$D$12)*(Tabelas_de_Flexas!Y$31^2))/(8*C33)","v":{"v":38.88343789313382,"d":"38.88"}},{"$f":"((Relat_Flechas!$D$12)*(Tabelas_de_Flexas!Z$31^2))/(8*C33)","v":{"v":40.364579884791105,"d":"40.36"}}]
[null,5,"138,95",{"$f":"((Relat_Flechas!$D$12)*(Tabelas_de_Flexas!D$31^2))/(8*C34)","v":{"v":15.40698092839151,"d":"15.41"}},{"$f":"((Relat_Flechas!$D$12)*(Tabelas_de_Flexas!E$31^2))/(8*C34)","v":{"v":16.38496311622886,"d":"16.38"}},{"$f":"((Relat_Flechas!$D$12)*(Tabelas_de_Flexas!F$31^2))/(8*C34)","v":{"v":17.393037063691978,"d":"17.39"}},{"$f":"((Relat_Flechas!$D$12)*(Tabelas_de_Flexas!G$31^2))/(8*C34)","v":{"v":18.431202770780857,"d":"18.43"}},{"$f":"((Relat_Flechas!$D$12)*(Tabelas_de_Flexas!H$31^2))/(8*C34)","v":{"v":19.499460237495505,"d":"19.50"}},{"$f":"((Relat_Flechas!$D$12)*(Tabelas_de_Flexas!I$31^2))/(8*C34)","v":{"v":20.597809463835915,"d":"20.60"}},{"$f":"((Relat_Flechas!$D$12)*(Tabelas_de_Flexas!J$31^2))/(8*C34)","v":{"v":21.72625044980209,"d":"21.73"}},{"$f":"((Relat_Flechas!$D$12)*(Tabelas_de_Flexas!K$31^2))/(8*C34)","v":{"v":22.884783195394032,"d":"22.88"}},{"$f":"((Relat_Flechas!$D$12)*(Tabelas_de_Flexas!L$31^2))/(8*C34)","v":{"v":24.07340770061173,"d":"24.07"}},{"$f":"((Relat_Flechas!$D$12)*(Tabelas_de_Flexas!M$31^2))/(8*C34)","v":{"v":25.292123965455204,"d":"25.29"}},{"$f":"((Relat_Flechas!$D$12)*(Tabelas_de_Flexas!N$31^2))/(8*C34)","v":{"v":26.540931989924438,"d":"26.54"}},{"$f":"((Relat_Flechas!$D$12)*(Tabelas_de_Flexas!O$31^2))/(8*C34)","v":{"v":27.819831774019434,"d":"27.82"}},{"$f":"((Relat_Flechas!$D$12)*(Tabelas_de_Flexas!P$31^2))/(8*C34)","v":{"v":29.1288233177402,"d":"29.13"}},{"$f":"((Relat_Flechas!$D$12)*(Tabelas_de_Flexas!Q$31^2))/(8*C34)","v":{"v":30.467906621086723,"d":"30.47"}},{"$f":"((Relat_Flechas!$D$12)*(Tabelas_de_Flexas!R$31^2))/(8*C34)","v":{"v":31.837081684059015,"d":"31.84"}},{"$f":"((Relat_Flechas!$D$12)*(Tabelas_de_Flexas!S$31^2))/(8*C34)","v":{"v":33.23634850665707,"d":"33.24"}},{"$f":"((Relat_Flechas!$D$12)*(Tabelas_de_Flexas!T$31^2))/(8*C34)","v":{"v":34.66570708888089,"d":"34.67"}},{"$f":"((Relat_Flechas!$D$12)*(Tabelas_de_Flexas!U$31^2))/(8*C34)","v":{"v":36.12515743073049,"d":"36.13"}},{"$f":"((Relat_Flechas!$D$12)*(Tabelas_de_Flexas!V$31^2))/(8*C34)","v":{"v":37.61469953220583,"d":"37.61"}},{"$f":"((Relat_Flechas!$D$12)*(Tabelas_de_Flexas!W$31^2))/(8*C34)","v":{"v":39.13433339330695,"d":"39.13"}},{"$f":"((Relat_Flechas!$D$12)*(Tabelas_de_Flexas!X$31^2))/(8*C34)","v":{"v":40.68405901403383,"d":"40.68"}},{"$f":"((Relat_Flechas!$D$12)*(Tabelas_de_Flexas!Y$31^2))/(8*C34)","v":{"v":42.26387639438647,"d":"42.26"}},{"$f":"((Relat_Flechas!$D$12)*(Tabelas_de_Flexas!Z$31^2))/(8*C34)","v":{"v":43.87378553436489,"d":"43.87"}}]
[null,10,"129,32",{"$f":"((Relat_Flechas!$D$12)*(Tabelas_de_Flexas!D$31^2))/(8*C35)","v":{"v":16.55428394679864,"d":"16.55"}},{"$f":"((Relat_Flechas!$D$12)*(Tabelas_de_Flexas!E$31^2))/(8*C35)","v":{"v":17.605092986390353,"d":"17.61"}},{"$f":"((Relat_Flechas!$D$12)*(Tabelas_de_Flexas!F$31^2))/(8*C35)","v":{"v":18.688234611815655,"d":"18.69"}},{"$f":"((Relat_Flechas!$D$12)*(Tabelas_de_Flexas!G$31^2))/(8*C35)","v":{"v":19.803708823074544,"d":"19.80"}},{"$f":"((Relat_Flechas!$D$12)*(Tabelas_de_Flexas!H$31^2))/(8*C35)","v":{"v":20.95151562016703,"d":"20.95"}},{"$f":"((Relat_Flechas!$D$12)*(Tabelas_de_Flexas!I$31^2))/(8*C35)","v":{"v":22.131655003093105,"d":"22.13"}},{"$f":"((Relat_Flechas!$D$12)*(Tabelas_de_Flexas!J$31^2))/(8*C35)","v":{"v":23.34412697185277,"d":"23.34"}},{"$f":"((Relat_Flechas!$D$12)*(Tabelas_de_Flexas!K$31^2))/(8*C35)","v":{"v":24.58893152644603,"d":"24.59"}},{"$f":"((Relat_Flechas!$D$12)*(Tabelas_de_Flexas!L$31^2))/(8*C35)","v":{"v":25.866068666872874,"d":"25.87"}},{"$f":"((Relat_Flechas!$D$12)*(Tabelas_de_Flexas!M$31^2))/(8*C35)","v":{"v":27.175538393133316,"d":"27.18"}},{"$f":"((Relat_Flechas!$D$12)*(Tabelas_de_Flexas!N$31^2))/(8*C35)","v":{"v":28.517340705227348,"d":"28.52"}},{"$f":"((Relat_Flechas!$D$12)*(Tabelas_de_Flexas!O$31^2))/(8*C35)","v":{"v":29.891475603154966,"d":"29.89"}},{"$f":"((Relat_Flechas!$D$12)*(Tabelas_de_Flexas!P$31^2))/(8*C35)","v":{"v":31.29794308691618,"d":"31.30"}},{"$f":"((Relat_Flechas!$D$12)*(Tabelas_de_Flexas!Q$31^2))/(8*C35)","v":{"v":32.73674315651098,"d":"32.74"}},{"$f":"((Relat_Flechas!$D$12)*(Tabelas_de_Flexas!R$31^2))/(8*C35)","v":{"v":34.207875811939374,"d":"34.21"}},{"$f":"((Relat_Flechas!$D$12)*(Tabelas_de_Flexas!S$31^2))/(8*C35)","v":{"v":35.711341053201366,"d":"35.71"}},{"$f":"((Relat_Flechas!$D$12)*(Tabelas_de_Flexas!T$31^2))/(8*C35)","v":{"v":37.247138880296944,"d":"37.25"}},{"$f":"((Relat_Flechas!$D$12)*(Tabelas_de_Flexas!U$31^2))/(8*C35)","v":{"v":38.815269293226116,"d":"38.82"}},{"$f":"((Relat_Flechas!$D$12)*(Tabelas_de_Flexas!V$31^2))/(8*C35)","v":{"v":40.41573229198887,"d":"40.42"}},{"$f":"((Relat_Flechas!$D$12)*(Tabelas_de_Flexas!W$31^2))/(8*C35)","v":{"v":42.048527876585226,"d":"42.05"}},{"$f":"((Relat_Flechas!$D$12)*(Tabelas_de_Flexas!X$31^2))/(8*C35)","v":{"v":43.71365604701516,"d":"43.71"}},{"$f":"((Relat_Flechas!$D$12)*(Tabelas_de_Flexas!Y$31^2))/(8*C35)","v":{"v":45.411116803278695,"d":"45.41"}},{"$f":"((Relat_Flechas!$D$12)*(Tabelas_de_Flexas!Z$31^2))/(8*C35)","v":{"v":47.14091014537582,"d":"47.14"}}]
[null,15,"121,42",{"$f":"((Relat_Flechas!$D$12)*(Tabelas_de_Flexas!D$31^2))/(8*C36)","v":{"v":17.631362213803328,"d":"17.63"}},{"$f":"((Relat_Flechas!$D$12)*(Tabelas_de_Flexas!E$31^2))/(8*C36)","v":{"v":18.750540479327952,"d":"18.75"}},{"$f":"((Relat_Flechas!$D$12)*(Tabelas_de_Flexas!F$31^2))/(8*C36)","v":{"v":19.904154999176413,"d":"19.90"}},{"$f":"((Relat_Flechas!$D$12)*(Tabelas_de_Flexas!G$31^2))/(8*C36)","v":{"v":21.092205773348706,"d":"21.09"}},{"$f":"((Relat_Flechas!$D$12)*(Tabelas_de_Flexas!H$31^2))/(8*C36)","v":{"v":22.31469280184484,"d":"22.31"}},{"$f":"((Relat_Flechas!$D$12)*(Tabelas_de_Flexas!I$31^2))/(8*C36)","v":{"v":23.5716160846648,"d":"23.57"}},{"$f":"((Relat_Flechas!$D$12)*(Tabelas_de_Flexas!J$31^2))/(8*C36)","v":{"v":24.862975621808598,"d":"24.86"}},{"$f":"((Relat_Flechas!$D$12)*(Tabelas_de_Flexas!K$31^2))/(8*C36)","v":{"v":26.188771413276232,"d":"26.19"}},{"$f":"((Relat_Flechas!$D$12)*(Tabelas_de_Flexas!L$31^2))/(8*C36)","v":{"v":27.5490034590677,"d":"27.55"}},{"$f":"((Relat_Flechas!$D$12)*(Tabelas_de_Flexas!M$31^2))/(8*C36)","v":{"v":28.943671759183005,"d":"28.94"}},{"$f":"((Relat_Flechas!$D$12)*(Tabelas_de_Flexas!N$31^2))/(8*C36)","v":{"v":30.37277631362214,"d":"30.37"}},{"$f":"((Relat_Flechas!$D$12)*(Tabelas_de_Flexas!O$31^2))/(8*C36)","v":{"v":31.83631712238511,"d":"31.84"}},{"$f":"((Relat_Flechas!$D$12)*(Tabelas_de_Flexas!P$31^2))/(8*C36)","v":{"v":33.33429418547192,"d":"33.33"}},{"$f":"((Relat_Flechas!$D$12)*(Tabelas_de_Flexas!Q$31^2))/(8*C36)","v":{"v":34.866707502882555,"d":"34.87"}},{"$f":"((Relat_Flechas!$D$12)*(Tabelas_de_Flexas!R$31^2))/(8*C36)","v":{"v":36.43355707461703,"d":"36.43"}},{"$f":"((Relat_Flechas!$D$12)*(Tabelas_de_Flexas!S$31^2))/(8*C36)","v":{"v":38.03484290067534,"d":"38.03"}},{"$f":"((Relat_Flechas!$D$12)*(Tabelas_de_Flexas!T$31^2))/(8*C36)","v":{"v":39.67056498105749,"d":"39.67"}},{"$f":"((Relat_Flechas!$D$12)*(Tabelas_de_Flexas!U$31^2))/(8*C36)","v":{"v":41.34072331576347,"d":"41.34"}},{"$f":"((Relat_Flechas!$D$12)*(Tabelas_de_Flexas!V$31^2))/(8*C36)","v":{"v":43.04531790479328,"d":"43.05"}},{"$f":"((Relat_Flechas!$D$12)*(Tabelas_de_Flexas!W$31^2))/(8*C36)","v":{"v":44.78434874814693,"d":"44.78"}},{"$f":"((Relat_Flechas!$D$12)*(Tabelas_de_Flexas!X$31^2))/(8*C36)","v":{"v":46.557815845824415,"d":"46.56"}},{"$f":"((Relat_Flechas!$D$12)*(Tabelas_de_Flexas!Y$31^2))/(8*C36)","v":{"v":48.36571919782573,"d":"48.37"}},{"$f":"((Relat_Flechas!$D$12)*(Tabelas_de_Flexas!Z$31^2))/(8*C36)","v":{"v":50.20805880415089,"d":"50.21"}}]
[null,20,"114,80",{"$f":"((Relat_Flechas!$D$12)*(Tabelas_de_Flexas!D$31^2))/(8*C37)","v":{"v":18.64808362369338,"d":"18.65"}},{"$f":"((Relat_Flechas!$D$12)*(Tabelas_de_Flexas!E$31^2))/(8*C37)","v":{"v":19.83179986933798,"d":"19.83"}},{"$f":"((Relat_Flechas!$D$12)*(Tabelas_de_Flexas!F$31^2))/(8*C37)","v":{"v":21.051938153310108,"d":"21.05"}},{"$f":"((Relat_Flechas!$D$12)*(Tabelas_de_Flexas!G$31^2))/(8*C37)","v":{"v":22.308498475609756,"d":"22.31"}},{"$f":"((Relat_Flechas!$D$12)*(Tabelas_de_Flexas!H$31^2))/(8*C37)","v":{"v":23.601480836236938,"d":"23.60"}},{"$f":"((Relat_Flechas!$D$12)*(Tabelas_de_Flexas!I$31^2))/(8*C37)","v":{"v":24.93088523519164,"d":"24.93"}},{"$f":"((Relat_Flechas!$D$12)*(Tabelas_de_Flexas!J$31^2))/(8*C37)","v":{"v":26.29671167247387,"d":"26.30"}},{"$f":"((Relat_Flechas!$D$12)*(Tabelas_de_Flexas!K$31^2))/(8*C37)","v":{"v":27.69896014808363,"d":"27.70"}},{"$f":"((Relat_Flechas!$D$12)*(Tabelas_de_Flexas!L$31^2))/(8*C37)","v":{"v":29.137630662020907,"d":"29.14"}},{"$f":"((Relat_Flechas!$D$12)*(Tabelas_de_Flexas!M$31^2))/(8*C37)","v":{"v":30.61272321428572,"d":"30.61"}},{"$f":"((Relat_Flechas!$D$12)*(Tabelas_de_Flexas!N$31^2))/(8*C37)","v":{"v":32.12423780487805,"d":"32.12"}},{"$f":"((Relat_Flechas!$D$12)*(Tabelas_de_Flexas!O$31^2))/(8*C37)","v":{"v":33.67217443379791,"d":"33.67"}},{"$f":"((Relat_Flechas!$D$12)*(Tabelas_de_Flexas!P$31^2))/(8*C37)","v":{"v":35.2565331010453,"d":"35.26"}},{"$f":"((Relat_Flechas!$D$12)*(Tabelas_de_Flexas!Q$31^2))/(8*C37)","v":{"v":36.87731380662021,"d":"36.88"}},{"$f":"((Relat_Flechas!$D$12)*(Tabelas_de_Flexas!R$31^2))/(8*C37)","v":{"v":38.534516550522646,"d":"38.53"}},{"$f":"((Relat_Flechas!$D$12)*(Tabelas_de_Flexas!S$31^2))/(8*C37)","v":{"v":40.228141332752614,"d":"40.23"}},{"$f":"((Relat_Flechas!$D$12)*(Tabelas_de_Flexas!T$31^2))/(8*C37)","v":{"v":41.958188153310104,"d":"41.96"}},{"$f":"((Relat_Flechas!$D$12)*(Tabelas_de_Flexas!U$31^2))/(8*C37)","v":{"v":43.72465701219513,"d":"43.72"}},{"$f":"((Relat_Flechas!$D$12)*(Tabelas_de_Flexas!V$31^2))/(8*C37)","v":{"v":45.527547909407666,"d":"45.53"}},{"$f":"((Relat_Flechas!$D$12)*(Tabelas_de_Flexas!W$31^2))/(8*C37)","v":{"v":47.366860844947745,"d":"47.37"}},{"$f":"((Relat_Flechas!$D$12)*(Tabelas_de_Flexas!X$31^2))/(8*C37)","v":{"v":49.24259581881533,"d":"49.24"}},{"$f":"((Relat_Flechas!$D$12)*(Tabelas_de_Flexas!Y$31^2))/(8*C37)","v":{"v":51.154752831010455,"d":"51.15"}},{"$f":"((Relat_Flechas!$D$12)*(Tabelas_de_Flexas!Z$31^2))/(8*C37)","v":{"v":53.10333188153311,"d":"53.10"}}]
[null,25,"109,14",{"$f":"((Relat_Flechas!$D$12)*(Tabelas_de_Flexas!D$31^2))/(8*C38)","v":{"v":19.61517317207257,"d":"19.62"}},{"$f":"((Relat_Flechas!$D$12)*(Tabelas_de_Flexas!E$31^2))/(8*C38)","v":{"v":20.860276937877956,"d":"20.86"}},{"$f":"((Relat_Flechas!$D$12)*(Tabelas_de_Flexas!F$31^2))/(8*C38)","v":{"v":22.14369158878505,"d":"22.14"}},{"$f":"((Relat_Flechas!$D$12)*(Tabelas_de_Flexas!G$31^2))/(8*C38)","v":{"v":23.46541712479384,"d":"23.47"}},{"$f":"((Relat_Flechas!$D$12)*(Tabelas_de_Flexas!H$31^2))/(8*C38)","v":{"v":24.825453545904345,"d":"24.83"}},{"$f":"((Relat_Flechas!$D$12)*(Tabelas_de_Flexas!I$31^2))/(8*C38)","v":{"v":26.22380085211655,"d":"26.22"}},{"$f":"((Relat_Flechas!$D$12)*(Tabelas_de_Flexas!J$31^2))/(8*C38)","v":{"v":27.660459043430457,"d":"27.66"}},{"$f":"((Relat_Flechas!$D$12)*(Tabelas_de_Flexas!K$31^2))/(8*C38)","v":{"v":29.135428119846072,"d":"29.14"}},{"$f":"((Relat_Flechas!$D$12)*(Tabelas_de_Flexas!L$31^2))/(8*C38)","v":{"v":30.648708081363388,"d":"30.65"}},{"$f":"((Relat_Flechas!$D$12)*(Tabelas_de_Flexas!M$31^2))/(8*C38)","v":{"v":32.20029892798241,"d":"32.20"}},{"$f":"((Relat_Flechas!$D$12)*(Tabelas_de_Flexas!N$31^2))/(8*C38)","v":{"v":33.79020065970313,"d":"33.79"}},{"$f":"((Relat_Flechas!$D$12)*(Tabelas_de_Flexas!O$31^2))/(8*C38)","v":{"v":35.41841327652556,"d":"35.42"}},{"$f":"((Relat_Flechas!$D$12)*(Tabelas_de_Flexas!P$31^2))/(8*C38)","v":{"v":37.0849367784497,"d":"37.08"}},{"$f":"((Relat_Flechas!$D$12)*(Tabelas_de_Flexas!Q$31^2))/(8*C38)","v":{"v":38.789771165475535,"d":"38.79"}},{"$f":"((Relat_Flechas!$D$12)*(Tabelas_de_Flexas!R$31^2))/(8*C38)","v":{"v":40.53291643760308,"d":"40.53"}},{"$f":"((Relat_Flechas!$D$12)*(Tabelas_de_Flexas!S$31^2))/(8*C38)","v":{"v":42.31437259483233,"d":"42.31"}},{"$f":"((Relat_Flechas!$D$12)*(Tabelas_de_Flexas!T$31^2))/(8*C38)","v":{"v":44.13413963716328,"d":"44.13"}},{"$f":"((Relat_Flechas!$D$12)*(Tabelas_de_Flexas!U$31^2))/(8*C38)","v":{"v":45.99221756459594,"d":"45.99"}},{"$f":"((Relat_Flechas!$D$12)*(Tabelas_de_Flexas!V$31^2))/(8*C38)","v":{"v":47.888606377130294,"d":"47.89"}},{"$f":"((Relat_Flechas!$D$12)*(Tabelas_de_Flexas!W$31^2))/(8*C38)","v":{"v":49.823306074766364,"d":"49.82"}},{"$f":"((Relat_Flechas!$D$12)*(Tabelas_de_Flexas!X$31^2))/(8*C38)","v":{"v":51.79631665750412,"d":"51.80"}},{"$f":"((Relat_Flechas!$D$12)*(Tabelas_de_Flexas!Y$31^2))/(8*C38)","v":{"v":53.807638125343594,"d":"53.81"}},{"$f":"((Relat_Flechas!$D$12)*(Tabelas_de_Flexas!Z$31^2))/(8*C38)","v":{"v":55.857270478284775,"d":"55.86"}}]
[null,30,"104,24",{"$f":"((Relat_Flechas!$D$12)*(Tabelas_de_Flexas!D$31^2))/(8*C39)","v":{"v":20.53722179585572,"d":"20.54"}},{"$f":"((Relat_Flechas!$D$12)*(Tabelas_de_Flexas!E$31^2))/(8*C39)","v":{"v":21.840854038756717,"d":"21.84"}},{"$f":"((Relat_Flechas!$D$12)*(Tabelas_de_Flexas!F$31^2))/(8*C39)","v":{"v":23.184598042977747,"d":"23.18"}},{"$f":"((Relat_Flechas!$D$12)*(Tabelas_de_Flexas!G$31^2))/(8*C39)","v":{"v":24.568453808518804,"d":"24.57"}},{"$f":"((Relat_Flechas!$D$12)*(Tabelas_de_Flexas!H$31^2))/(8*C39)","v":{"v":25.992421335379895,"d":"25.99"}},{"$f":"((Relat_Flechas!$D$12)*(Tabelas_de_Flexas!I$31^2))/(8*C39)","v":{"v":27.456500623561016,"d":"27.46"}},{"$f":"((Relat_Flechas!$D$12)*(Tabelas_de_Flexas!J$31^2))/(8*C39)","v":{"v":28.96069167306217,"d":"28.96"}},{"$f":"((Relat_Flechas!$D$12)*(Tabelas_de_Flexas!K$31^2))/(8*C39)","v":{"v":30.50499448388335,"d":"30.50"}},{"$f":"((Relat_Flechas!$D$12)*(Tabelas_de_Flexas!L$31^2))/(8*C39)","v":{"v":32.08940905602456,"d":"32.09"}},{"$f":"((Relat_Flechas!$D$12)*(Tabelas_de_Flexas!M$31^2))/(8*C39)","v":{"v":33.713935389485805,"d":"33.71"}},{"$f":"((Relat_Flechas!$D$12)*(Tabelas_de_Flexas!N$31^2))/(8*C39)","v":{"v":35.37857348426708,"d":"35.38"}},{"$f":"((Relat_Flechas!$D$12)*(Tabelas_de_Flexas!O$31^2))/(8*C39)","v":{"v":37.08332334036839,"d":"37.08"}},{"$f":"((Relat_Flechas!$D$12)*(Tabelas_de_Flexas!P$31^2))/(8*C39)","v":{"v":38.82818495778972,"d":"38.83"}},{"$f":"((Relat_Flechas!$D$12)*(Tabelas_de_Flexas!Q$31^2))/(8*C39)","v":{"v":40.613158336531086,"d":"40.61"}},{"$f":"((Relat_Flechas!$D$12)*(Tabelas_de_Flexas!R$31^2))/(8*C39)","v":{"v":42.43824347659248,"d":"42.44"}},{"$f":"((Relat_Flechas!$D$12)*(Tabelas_de_Flexas!S$31^2))/(8*C39)","v":{"v":44.303440377973914,"d":"44.30"}},{"$f":"((Relat_Flechas!$D$12)*(Tabelas_de_Flexas!T$31^2))/(8*C39)","v":{"v":46.20874904067537,"d":"46.21"}},{"$f":"((Relat_Flechas!$D$12)*(Tabelas_de_Flexas!U$31^2))/(8*C39)","v":{"v":48.154169464696864,"d":"48.15"}},{"$f":"((Relat_Flechas!$D$12)*(Tabelas_de_Flexas!V$31^2))/(8*C39)","v":{"v":50.139701650038376,"d":"50.14"}},{"$f":"((Relat_Flechas!$D$12)*(Tabelas_de_Flexas!W$31^2))/(8*C39)","v":{"v":52.165345596699936,"d":"52.17"}},{"$f":"((Relat_Flechas!$D$12)*(Tabelas_de_Flexas!X$31^2))/(8*C39)","v":{"v":54.23110130468151,"d":"54.23"}},{"$f":"((Relat_Flechas!$D$12)*(Tabelas_de_Flexas!Y$31^2))/(8*C39)","v":{"v":56.33696877398312,"d":"56.34"}},{"$f":"((Relat_Flechas!$D$12)*(Tabelas_de_Flexas!Z$31^2))/(8*C39)","v":{"v":58.482948004604765,"d":"58.48"}}]
[null,35,"99,94",{"$f":"((Relat_Flechas!$D$12)*(Tabelas_de_Flexas!D$31^2))/(8*C40)","v":{"v":21.420852511506908,"d":"21.42"}},{"$f":"((Relat_Flechas!$D$12)*(Tabelas_de_Flexas!E$31^2))/(8*C40)","v":{"v":22.780574594756857,"d":"22.78"}},{"$f":"((Relat_Flechas!$D$12)*(Tabelas_de_Flexas!F$31^2))/(8*C40)","v":{"v":24.182134280568345,"d":"24.18"}},{"$f":"((Relat_Flechas!$D$12)*(Tabelas_de_Flexas!G$31^2))/(8*C40)","v":{"v":25.625531568941366,"d":"25.63"}},{"$f":"((Relat_Flechas!$D$12)*(Tabelas_de_Flexas!H$31^2))/(8*C40)","v":{"v":27.11076645987593,"d":"27.11"}},{"$f":"((Relat_Flechas!$D$12)*(Tabelas_de_Flexas!I$31^2))/(8*C40)","v":{"v":28.637838953372025,"d":"28.64"}},{"$f":"((Relat_Flechas!$D$12)*(Tabelas_de_Flexas!J$31^2))/(8*C40)","v":{"v":30.20674904942966,"d":"30.21"}},{"$f":"((Relat_Flechas!$D$12)*(Tabelas_de_Flexas!K$31^2))/(8*C40)","v":{"v":31.817496748048832,"d":"31.82"}},{"$f":"((Relat_Flechas!$D$12)*(Tabelas_de_Flexas!L$31^2))/(8*C40)","v":{"v":33.47008204922954,"d":"33.47"}},{"$f":"((Relat_Flechas!$D$12)*(Tabelas_de_Flexas!M$31^2))/(8*C40)","v":{"v":35.16450495297179,"d":"35.16"}},{"$f":"((Relat_Flechas!$D$12)*(Tabelas_de_Flexas!N$31^2))/(8*C40)","v":{"v":36.90076545927557,"d":"36.90"}},{"$f":"((Relat_Flechas!$D$12)*(Tabelas_de_Flexas!O$31^2))/(8*C40)","v":{"v":38.67886356814089,"d":"38.68"}},{"$f":"((Relat_Flechas!$D$12)*(Tabelas_de_Flexas!P$31^2))/(8*C40)","v":{"v":40.49879927956774,"d":"40.50"}},{"$f":"((Relat_Flechas!$D$12)*(Tabelas_de_Flexas!Q$31^2))/(8*C40)","v":{"v":42.360572593556135,"d":"42.36"}},{"$f":"((Relat_Flechas!$D$12)*(Tabelas_de_Flexas!R$31^2))/(8*C40)","v":{"v":44.264183510106065,"d":"44.26"}},{"$f":"((Relat_Flechas!$D$12)*(Tabelas_de_Flexas!S$31^2))/(8*C40)","v":{"v":46.20963202921753,"d":"46.21"}},{"$f":"((Relat_Flechas!$D$12)*(Tabelas_de_Flexas!T$31^2))/(8*C40)","v":{"v":48.19691815089054,"d":"48.20"}},{"$f":"((Relat_Flechas!$D$12)*(Tabelas_de_Flexas!U$31^2))/(8*C40)","v":{"v":50.226041875125084,"d":"50.23"}},{"$f":"((Relat_Flechas!$D$12)*(Tabelas_de_Flexas!V$31^2))/(8*C40)","v":{"v":52.29700320192116,"d":"52.30"}},{"$f":"((Relat_Flechas!$D$12)*(Tabelas_de_Flexas!W$31^2))/(8*C40)","v":{"v":54.409802131278774,"d":"54.41"}},{"$f":"((Relat_Flechas!$D$12)*(Tabelas_de_Flexas!X$31^2))/(8*C40)","v":{"v":56.56443866319792,"d":"56.56"}},{"$f":"((Relat_Flechas!$D$12)*(Tabelas_de_Flexas!Y$31^2))/(8*C40)","v":{"v":58.76091279767861,"d":"58.76"}},{"$f":"((Relat_Flechas!$D$12)*(Tabelas_de_Flexas!Z$31^2))/(8*C40)","v":{"v":60.99922453472084,"d":"61.00"}}]
[null,40,"96,13",{"$f":"((Relat_Flechas!$D$12)*(Tabelas_de_Flexas!D$31^2))/(8*C41)","v":{"v":22.26984292104442,"d":"22.27"}},{"$f":"((Relat_Flechas!$D$12)*(Tabelas_de_Flexas!E$31^2))/(8*C41)","v":{"v":23.68345599708728,"d":"23.68"}},{"$f":"((Relat_Flechas!$D$12)*(Tabelas_de_Flexas!F$31^2))/(8*C41)","v":{"v":25.140564860085306,"d":"25.14"}},{"$f":"((Relat_Flechas!$D$12)*(Tabelas_de_Flexas!G$31^2))/(8*C41)","v":{"v":26.64116951003849,"d":"26.64"}},{"$f":"((Relat_Flechas!$D$12)*(Tabelas_de_Flexas!H$31^2))/(8*C41)","v":{"v":28.185269946946846,"d":"28.19"}},{"$f":"((Relat_Flechas!$D$12)*(Tabelas_de_Flexas!I$31^2))/(8*C41)","v":{"v":29.772866170810364,"d":"29.77"}},{"$f":"((Relat_Flechas!$D$12)*(Tabelas_de_Flexas!J$31^2))/(8*C41)","v":{"v":31.403958181629047,"d":"31.40"}},{"$f":"((Relat_Flechas!$D$12)*(Tabelas_de_Flexas!K$31^2))/(8*C41)","v":{"v":33.0785459794029,"d":"33.08"}},{"$f":"((Relat_Flechas!$D$12)*(Tabelas_de_Flexas!L$31^2))/(8*C41)","v":{"v":34.796629564131905,"d":"34.80"}},{"$f":"((Relat_Flechas!$D$12)*(Tabelas_de_Flexas!M$31^2))/(8*C41)","v":{"v":36.55820893581609,"d":"36.56"}},{"$f":"((Relat_Flechas!$D$12)*(Tabelas_de_Flexas!N$31^2))/(8*C41)","v":{"v":38.36328409445543,"d":"38.36"}},{"$f":"((Relat_Flechas!$D$12)*(Tabelas_de_Flexas!O$31^2))/(8*C41)","v":{"v":40.21185504004993,"d":"40.21"}},{"$f":"((Relat_Flechas!$D$12)*(Tabelas_de_Flexas!P$31^2))/(8*C41)","v":{"v":42.10392177259961,"d":"42.10"}},{"$f":"((Relat_Flechas!$D$12)*(Tabelas_de_Flexas!Q$31^2))/(8*C41)","v":{"v":44.03948429210445,"d":"44.04"}},{"$f":"((Relat_Flechas!$D$12)*(Tabelas_de_Flexas!R$31^2))/(8*C41)","v":{"v":46.018542598564444,"d":"46.02"}},{"$f":"((Relat_Flechas!$D$12)*(Tabelas_de_Flexas!S$31^2))/(8*C41)","v":{"v":48.04109669197962,"d":"48.04"}},{"$f":"((Relat_Flechas!$D$12)*(Tabelas_de_Flexas!T$31^2))/(8*C41)","v":{"v":50.10714657234995,"d":"50.11"}},{"$f":"((Relat_Flechas!$D$12)*(Tabelas_de_Flexas!U$31^2))/(8*C41)","v":{"v":52.21669223967545,"d":"52.22"}},{"$f":"((Relat_Flechas!$D$12)*(Tabelas_de_Flexas!V$31^2))/(8*C41)","v":{"v":54.36973369395611,"d":"54.37"}},{"$f":"((Relat_Flechas!$D$12)*(Tabelas_de_Flexas!W$31^2))/(8*C41)","v":{"v":56.56627093519194,"d":"56.57"}},{"$f":"((Relat_Flechas!$D$12)*(Tabelas_de_Flexas!X$31^2))/(8*C41)","v":{"v":58.80630396338292,"d":"58.81"}},{"$f":"((Relat_Flechas!$D$12)*(Tabelas_de_Flexas!Y$31^2))/(8*C41)","v":{"v":61.08983277852908,"d":"61.09"}},{"$f":"((Relat_Flechas!$D$12)*(Tabelas_de_Flexas!Z$31^2))/(8*C41)","v":{"v":63.416857380630404,"d":"63.42"}}]
[null,45,"92,71",{"$f":"((Relat_Flechas!$D$12)*(Tabelas_de_Flexas!D$31^2))/(8*C42)","v":{"v":23.091360155323056,"d":"23.09"}},{"$f":"((Relat_Flechas!$D$12)*(Tabelas_de_Flexas!E$31^2))/(8*C42)","v":{"v":24.55712032143243,"d":"24.56"}},{"$f":"((Relat_Flechas!$D$12)*(Tabelas_de_Flexas!F$31^2))/(8*C42)","v":{"v":26.06798080034517,"d":"26.07"}},{"$f":"((Relat_Flechas!$D$12)*(Tabelas_de_Flexas!G$31^2))/(8*C42)","v":{"v":27.623941592061268,"d":"27.62"}},{"$f":"((Relat_Flechas!$D$12)*(Tabelas_de_Flexas!H$31^2))/(8*C42)","v":{"v":29.22500269658074,"d":"29.23"}},{"$f":"((Relat_Flechas!$D$12)*(Tabelas_de_Flexas!I$31^2))/(8*C42)","v":{"v":30.871164113903575,"d":"30.87"}},{"$f":"((Relat_Flechas!$D$12)*(Tabelas_de_Flexas!J$31^2))/(8*C42)","v":{"v":32.562425844029775,"d":"32.56"}},{"$f":"((Relat_Flechas!$D$12)*(Tabelas_de_Flexas!K$31^2))/(8*C42)","v":{"v":34.29878788695934,"d":"34.30"}},{"$f":"((Relat_Flechas!$D$12)*(Tabelas_de_Flexas!L$31^2))/(8*C42)","v":{"v":36.080250242692266,"d":"36.08"}},{"$f":"((Relat_Flechas!$D$12)*(Tabelas_de_Flexas!M$31^2))/(8*C42)","v":{"v":37.90681291122857,"d":"37.91"}},{"$f":"((Relat_Flechas!$D$12)*(Tabelas_de_Flexas!N$31^2))/(8*C42)","v":{"v":39.77847589256823,"d":"39.78"}},{"$f":"((Relat_Flechas!$D$12)*(Tabelas_de_Flexas!O$31^2))/(8*C42)","v":{"v":41.695239186711255,"d":"41.70"}},{"$f":"((Relat_Flechas!$D$12)*(Tabelas_de_Flexas!P$31^2))/(8*C42)","v":{"v":43.65710279365765,"d":"43.66"}},{"$f":"((Relat_Flechas!$D$12)*(Tabelas_de_Flexas!Q$31^2))/(8*C42)","v":{"v":45.6640667134074,"d":"45.66"}},{"$f":"((Relat_Flechas!$D$12)*(Tabelas_de_Flexas!R$31^2))/(8*C42)","v":{"v":47.71613094596052,"d":"47.72"}},{"$f":"((Relat_Flechas!$D$12)*(Tabelas_de_Flexas!S$31^2))/(8*C42)","v":{"v":49.813295491317014,"d":"49.81"}},{"$f":"((Relat_Flechas!$D$12)*(Tabelas_de_Flexas!T$31^2))/(8*C42)","v":{"v":51.95556034947687,"d":"51.96"}},{"$f":"((Relat_Flechas!$D$12)*(Tabelas_de_Flexas!U$31^2))/(8*C42)","v":{"v":54.142925520440095,"d":"54.14"}},{"$f":"((Relat_Flechas!$D$12)*(Tabelas_de_Flexas!V$31^2))/(8*C42)","v":{"v":56.37539100420667,"d":"56.38"}},{"$f":"((Relat_Flechas!$D$12)*(Tabelas_de_Flexas!W$31^2))/(8*C42)","v":{"v":58.65295680077663,"d":"58.65"}},{"$f":"((Relat_Flechas!$D$12)*(Tabelas_de_Flexas!X$31^2))/(8*C42)","v":{"v":60.97562291014994,"d":"60.98"}},{"$f":"((Relat_Flechas!$D$12)*(Tabelas_de_Flexas!Y$31^2))/(8*C42)","v":{"v":63.343389332326616,"d":"63.34"}},{"$f":"((Relat_Flechas!$D$12)*(Tabelas_de_Flexas!Z$31^2))/(8*C42)","v":{"v":65.75625606730667,"d":"65.76"}}]
[null,50,"89,64",{"$f":"((Relat_Flechas!$D$12)*(Tabelas_de_Flexas!D$31^2))/(8*C43)","v":{"v":23.88219544846051,"d":"23.88"}},{"$f":"((Relat_Flechas!$D$12)*(Tabelas_de_Flexas!E$31^2))/(8*C43)","v":{"v":25.39815512048193,"d":"25.40"}},{"$f":"((Relat_Flechas!$D$12)*(Tabelas_de_Flexas!F$31^2))/(8*C43)","v":{"v":26.960759705488623,"d":"26.96"}},{"$f":"((Relat_Flechas!$D$12)*(Tabelas_de_Flexas!G$31^2))/(8*C43)","v":{"v":28.570009203480588,"d":"28.57"}},{"$f":"((Relat_Flechas!$D$12)*(Tabelas_de_Flexas!H$31^2))/(8*C43)","v":{"v":30.225903614457835,"d":"30.23"}},{"$f":"((Relat_Flechas!$D$12)*(Tabelas_de_Flexas!I$31^2))/(8*C43)","v":{"v":31.92844293842035,"d":"31.93"}},{"$f":"((Relat_Flechas!$D$12)*(Tabelas_de_Flexas!J$31^2))/(8*C43)","v":{"v":33.677627175368144,"d":"33.68"}},{"$f":"((Relat_Flechas!$D$12)*(Tabelas_de_Flexas!K$31^2))/(8*C43)","v":{"v":35.47345632530121,"d":"35.47"}},{"$f":"((Relat_Flechas!$D$12)*(Tabelas_de_Flexas!L$31^2))/(8*C43)","v":{"v":37.31593038821954,"d":"37.32"}},{"$f":"((Relat_Flechas!$D$12)*(Tabelas_de_Flexas!M$31^2))/(8*C43)","v":{"v":39.20504936412316,"d":"39.21"}},{"$f":"((Relat_Flechas!$D$12)*(Tabelas_de_Flexas!N$31^2))/(8*C43)","v":{"v":41.14081325301205,"d":"41.14"}},{"$f":"((Relat_Flechas!$D$12)*(Tabelas_de_Flexas!O$31^2))/(8*C43)","v":{"v":43.12322205488621,"d":"43.12"}},{"$f":"((Relat_Flechas!$D$12)*(Tabelas_de_Flexas!P$31^2))/(8*C43)","v":{"v":45.15227576974565,"d":"45.15"}},{"$f":"((Relat_Flechas!$D$12)*(Tabelas_de_Flexas!Q$31^2))/(8*C43)","v":{"v":47.22797439759036,"d":"47.23"}},{"$f":"((Relat_Flechas!$D$12)*(Tabelas_de_Flexas!R$31^2))/(8*C43)","v":{"v":49.350317938420346,"d":"49.35"}},{"$f":"((Relat_Flechas!$D$12)*(Tabelas_de_Flexas!S$31^2))/(8*C43)","v":{"v":51.51930639223561,"d":"51.52"}},{"$f":"((Relat_Flechas!$D$12)*(Tabelas_de_Flexas!T$31^2))/(8*C43)","v":{"v":53.734939759036145,"d":"53.73"}},{"$f":"((Relat_Flechas!$D$12)*(Tabelas_de_Flexas!U$31^2))/(8*C43)","v":{"v":55.99721803882196,"d":"56.00"}},{"$f":"((Relat_Flechas!$D$12)*(Tabelas_de_Flexas!V$31^2))/(8*C43)","v":{"v":58.30614123159304,"d":"58.31"}},{"$f":"((Relat_Flechas!$D$12)*(Tabelas_de_Flexas!W$31^2))/(8*C43)","v":{"v":60.66170933734941,"d":"60.66"}},{"$f":"((Relat_Flechas!$D$12)*(Tabelas_de_Flexas!X$31^2))/(8*C43)","v":{"v":63.063922356091034,"d":"63.06"}},{"$f":"((Relat_Flechas!$D$12)*(Tabelas_de_Flexas!Y$31^2))/(8*C43)","v":{"v":65.51278028781795,"d":"65.51"}},{"$f":"((Relat_Flechas!$D$12)*(Tabelas_de_Flexas!Z$31^2))/(8*C43)","v":{"v":68.00828313253012,"d":"68.01"}}]

{"sheet":"Caracteristica_CABO","index":4,"n_rows":86,"n_cols":33,"rows_kept":86,"merged":[[4,14,4,21],[5,0,7,0],[5,1,6,1],[5,2,6,2],[5,3,6,3],[5,4,5,5],[5,14,5,17],[5,18,5,21],[5,26,7,26],[6,4,6,5],[7,4,7,5],[85,0,85,4]]}
[]
[]
[]
[]
[{"$nulls":14},"equação dos dois estados"]
["BITOLAS","DIÂMETRO","SEÇÃO","PESO","Mod. DA ",null,"COEF. ","TRAÇÃO DE ","TRAÇÃO  MÁXIMA DE ","TRAÇÃO MÁXIMA DE  ","TRUP. EDS ","TRUP.EDS","TRAÇÃO  MÁXIMA DE RUP.","TRAÇÃO  MÁXIMA DE rup.","Temperatura / velocidade deo vento",{"$nulls":3},"temperatura / velocidade deo vento",{"$nulls":3},"TEMP EDS ","TEMP .EDS","VENTO EDS ","VENTO  EDS","Encordoamento"]
[{"$nulls":4},"ELAST.",null,"DE DILAT.","RUPTURA","RUPT.  Urbano","RUPT. Rural ","Urbano"," Rural","ancorado"," ancorado","temp. urbano","temp .urbano","vento urbana","vento urbana","temp. rural","temp . Rural","vento rural","vento rural","Urbano"," Rural","Urbano"," Rural"]
[null,"D (m)","S (m²)","P (kg/m)","E (kg/mm²)",null,"F (°C-¹ x 10-6","T (kgf)","continuo (%)","continuo (%)",null,null," Urbano"," Rural","verão","inverno","verão","inverno","verão","inverno","verão","inverno"]
["Cabo",{"$nulls":3},"inicial","final"]
["4 CAA",0.00635,2.466e-05,0.0854,8000000000,{"v":8000,"d":"8,000"},1.91E-5,829,40,40,18,18,33.33,33.33,15,0,60,0,15,-5,130,65,20,20,{"$nulls":3},{"$f":"RIGHT(A10,3)","v":"CAA"},"AWG",4,{"$f":"VLOOKUP(AB10,Parametros!$E$44:$F$55,2,FALSE)&\" \"&AD10& \" \"&AC10","v":"Cabo de Alumínio com Alma de Aço - CAA 4 AWG"}]
["2 CAA",0.00802,3.925e-05,0.1359,8000000000,{"v":8000,"d":"8,000"},1.91E-5,1263,40,40,18,18,33.33,33.33,15,0,60,0,15,-5,130,65,20,20,{"$nulls":3},"CAA","AWG",2,{"$f":"VLOOKUP(AB11,Parametros!$E$44:$F$55,2,FALSE)&\" \"&AD11& \" \"&AC11","v":"Cabo de Alumínio com Alma de Aço - CAA 2 AWG"}]
["1/0 CAA",0.01011,6.247e-05,0.2163,8000000000,{"v":8000,"d":"8,000"},1.91E-5,1949,40,40,18,18,33.33,33.33,15,0,60,0,15,-5,130,65,20,20,{"$nulls":3},"CAA","AWG","1/0",{"$f":"VLOOKUP(AB12,Parametros!$E$44:$F$55,2,FALSE)&\" \"&AD12& \" \"&AC12","v":"Cabo de Alumínio com Alma de Aço - CAA 1/0 AWG"}]
["2/0 CAA",0.01134,6.743e-05,0.2721,8000000000,{"v":8000,"d":"8,000"},1.91E-5,2425,40,40,18,18,33.33,33.33,15,0,60,0,15,-5,130,65,20,20,{"$nulls":3},"CAA","AWG","2/0",{"$f":"VLOOKUP(AB13,Parametros!$E$44:$F$55,2,FALSE)&\" \"&AD13& \" \"&AC13","v":"Cabo de Alumínio com Alma de Aço - CAA 2/0 AWG"}]
["3/0 CAA",0.01274,9.916e-05,0.3434,8000000000,{"v":8000,"d":"8,000"},1.91E-5,2945,40,40,18,18,33.33,33.33,15,0,60,0,15,-5,130,65,20,20,{"$nulls":3},"CAA","AWG","3/0",{"$f":"VLOOKUP(AB14,Parametros!$E$44:$F$55,2,FALSE)&\" \"&AD14& \" \"&AC14","v":"Cabo de Alumínio com Alma de Aço - CAA 3/0 AWG"},null,"Dados das NBRs 7270 e 7271."]
["4/0 CAA",0.01431,0.0001251,0.4322,8000000000,{"v":8000,"d":"8,000"},1.91E-5,3714,40,40,18,18,33.33,33.33,15,0,60,0,15,-5,130,65,20,20,{"$nulls":3},"CAA","AWG","4/0",{"$f":"VLOOKUP(AB15,Parametros!$E$44:$F$55,2,FALSE)&\" \"&AD15& \" \"&AC15","v":"Cabo de Alumínio com Alma de Aço - CAA 4/0 AWG"}]
["336,4 CAA (LINNET)",0.01829,1.9803E-4,0.6873,8000000000,{"v":8000,"d":"8,000"},1.89e-05,6310,40,40,18,18,33.33,33.33,15,0,60,0,15,-5,130,65,20,20,{"$nulls":3},"CAA","MCM","336,4 (LINNET)",{"$f":"VLOOKUP(AB16,Parametros!$E$44:$F$55,2,FALSE)&\" \"&AD16& \" \"&AC16","v":"Cabo de Alumínio com Alma de Aço - CAA 336,4 (LINNET) MCM"}]
["336,4 CAA (MERLIN)",0.01736,0.00017989,0.5425,7000000000,{"v":8000,"d":"8,000"},2.12E-5,3795,40,40,18,18,33.33,33.33,15,0,60,0,15,-5,130,65,20,20,{"$nulls":3},"CAA","MCM","336,4 (MERLIN)",{"$f":"VLOOKUP(AB17,Parametros!$E$44:$F$55,2,FALSE)&\" \"&AD17& \" \"&AC17","v":"Cabo de Alumínio com Alma de Aço - CAA 336,4 (MERLIN) MCM"}]
["336,4 CAA (ORIOLE)",0.01883,2.1028E-4,0.7821,8000000000,{"v":8000,"d":"8,000"},1.78e-05,7782,40,40,18,18,33.33,33.33,15,0,60,0,15,-5,130,65,20,20,{"$nulls":3},"CAA","MCM","336,4 (ORIOLE)",{"$f":"VLOOKUP(AB18,Parametros!$E$44:$F$55,2,FALSE)&\" \"&AD18& \" \"&AC18","v":"Cabo de Alumínio com Alma de Aço - CAA 336,4 (ORIOLE) MCM"}]
["4 CA",0.00588,2.114e-05,0.0584,6118000000,{"v":6180,"d":"6,180"},2.304E-5,390,40,40,18,18,33.33,33.33,15,0,60,0,15,-5,130,65,20,20,{"$nulls":3},{"$f":"RIGHT(A19,2)","v":"CA"},"AWG",4,{"$f":"VLOOKUP(AB19,Parametros!$E$44:$F$55,2,FALSE)&\" \"&AD19& \" \"&AC19","v":"Cabo de Alumínio - CA 4 AWG"}]
["2 CA",0.00742,3.365e-05,0.0923,6118000000,{"v":6180,"d":"6,180"},2.304E-5,599,40,40,18,18,33.33,33.33,15,0,60,0,15,-5,130,65,20,20,{"$nulls":3},{"$f":"RIGHT(A20,2)","v":"CA"},"AWG",2,{"$f":"VLOOKUP(AB20,Parametros!$E$44:$F$55,2,FALSE)&\" \"&AD20& \" \"&AC20","v":"Cabo de Alumínio - CA 2 AWG"}]
["1/0 CA",0.00936,5.348e-05,0.1467,6118000000,{"v":6180,"d":"6,180"},2.304E-5,881,40,40,18,18,33.33,33.33,15,0,60,0,15,-5,130,65,20,20,{"$nulls":3},"CA","AWG","1/0",{"$f":"VLOOKUP(AB21,Parametros!$E$44:$F$55,2,FALSE)&\" \"&AD21& \" \"&AC21","v":"Cabo de Alumínio - CA 1/0 AWG"}]
["2/0 CA",0.01134,6.743e-05,0.1844,6118000000,{"v":8000,"d":"8,000"},2.304E-5,1139,40,40,18,18,33.33,33.33,15,0,60,0,15,-5,130,65,20,20,{"$nulls":3},"CA","AWG","2/0",{"$f":"VLOOKUP(AB22,Parametros!$E$44:$F$55,2,FALSE)&\" \"&AD22& \" \"&AC22","v":"Cabo de Alumínio - CA 2/0 AWG"},null,"Dados das NBRs 7270 e 7271."]
["3/0 CA",0.0118,8.499e-05,0.2344,6118000000,{"v":6180,"d":"6,180"},2.304E-5,1344,40,40,18,18,33.33,33.33,15,0,60,0,15,-5,130,65,20,20,{"$nulls":3},"CA","AWG","3/0",{"$f":"VLOOKUP(AB23,Parametros!$E$44:$F$55,2,FALSE)&\" \"&AD23& \" \"&AC23","v":"Cabo de Alumínio - CA 3/0 AWG"}]
["4/0 CA",0.01325,1.0725E-4,0.2943,6118000000,{"v":6180,"d":"6,180"},2.304E-5,1696,40,40,18,18,33.33,33.33,15,0,60,0,15,-5,130,65,20,20,{"$nulls":3},"CA","AWG","4/0",{"$f":"VLOOKUP(AB24,Parametros!$E$44:$F$55,2,FALSE)&\" \"&AD24& \" \"&AC24","v":"Cabo de Alumínio - CA 4/0 AWG"}]
["336,4 CA",0.0169,0.00017057,0.4703,5812000000,{"v":6180,"d":"6,180"},2.304E-5,2722,40,40,18,18,33.33,33.33,15,0,60,0,15,-5,130,65,20,20,{"$nulls":3},"CA","AWG",336.4,{"$f":"VLOOKUP(AB25,Parametros!$E$44:$F$55,2,FALSE)&\" \"&AD25& \" \"&AC25","v":"Cabo de Alumínio - CA 336,4 AWG"}]
["6 CC",0.00411,1.33E-5,0.118,9800000000,{"v":12000,"d":"12,000"},1.6e-05,459,50,50,20,20,33.33,33.33,15,0,60,0,15,-5,130,65,20,20,{"$nulls":3},"CC","AWG",6,{"$f":"VLOOKUP(AB26,Parametros!$E$44:$F$55,2,FALSE)&\" \"&AD26& \" \"&AC26","v":"Cabo de cobre - CC 6 AWG"}]
["4 CC",0.00519,2.115e-05,0.188,9800000000,{"v":12000,"d":"12,000"},1.6e-05,715,50,50,20,20,33.33,33.33,15,0,60,0,15,-5,130,65,20,20,{"$nulls":3},"CC","AWG",4,{"$f":"VLOOKUP(AB27,Parametros!$E$44:$F$55,2,FALSE)&\" \"&AD27& \" \"&AC27","v":"Cabo de cobre - CC 4 AWG"}]
["2 CC",0.00742,3.363e-05,0.305,9800000000,{"v":12000,"d":"12,000"},1.6e-05,1074,50,50,20,20,33.33,33.33,15,0,60,0,15,-5,130,65,20,20,{"$nulls":3},"CC","AWG",2,{"$f":"VLOOKUP(AB28,Parametros!$E$44:$F$55,2,FALSE)&\" \"&AD28& \" \"&AC28","v":"Cabo de cobre - CC 2 AWG"}]
["1/0 CC",0.00936,5.346E-5,0.485,9800000000,{"v":12000,"d":"12,000"},1.6e-05,1684,50,50,20,20,33.33,33.33,15,0,60,0,15,-5,130,65,20,20,{"$nulls":3},"CC","AWG","1/0",{"$f":"VLOOKUP(AB29,Parametros!$E$44:$F$55,2,FALSE)&\" \"&AD29& \" \"&AC29","v":"Cabo de cobre - CC 1/0 AWG"}]
["2/0 CC",0.01051,6.744e-05,0.611,9800000000,{"v":12000,"d":"12,000"},1.6e-05,2094,50,50,20,20,33.33,33.33,15,0,60,0,15,-5,130,65,20,20,{"$nulls":3},"CC","AWG","2/0",{"$f":"VLOOKUP(AB30,Parametros!$E$44:$F$55,2,FALSE)&\" \"&AD30& \" \"&AC30","v":"Cabo de cobre - CC 2/0 AWG"}]
["3/0 CC",0.0118,8.502e-05,0.771,9800000000,{"v":12000,"d":"12,000"},1.6e-05,2640,50,50,20,20,33.33,33.33,15,0,60,0,15,-5,130,65,20,20,{"$nulls":3},"CC","AWG","3/0",{"$f":"VLOOKUP(AB31,Parametros!$E$44:$F$55,2,FALSE)&\" \"&AD31& \" \"&AC31","v":"Cabo de cobre - CC 3/0 AWG"},null,"Dados das NT - Tabelas Praticas, CEE/1975"]
["4/0 CC",0.01325,1.072E-4,0.972,9800000000,{"v":12000,"d":"12,000"},1.6e-05,3280,50,50,20,20,33.33,33.33,15,0,60,0,15,-5,130,65,20,20,{"$nulls":3},"CC","AWG","4/0",{"$f":"VLOOKUP(AB32,Parametros!$E$44:$F$55,2,FALSE)&\" \"&AD32& \" \"&AC32","v":"Cabo de cobre - CC 4/0 AWG"}]
["CAZ 3,09",0.00309,7.5e-06,0.059,20000000000,{"v":20000,"d":"20,000"},1.15E-5,1075,40,40,25,25,33.33,33.33,15,0,60,0,15,5,130,65,15,15,{"$nulls":3},"CAZ","mm²",3.09,{"$f":"VLOOKUP(AB33,Parametros!$E$44:$F$55,2,FALSE)&\" \"&AD33& \" \"&AC33","v":"Cabo de Aço Zincado - CAZ 3,09 mm²"}]
["CAZ 4,17",0.00487,1.193e-05,0.096,18500000000,{"v":16000,"d":"16,000"},1.15E-5,1670,40,40,25,25,33.33,33.33,15,0,60,0,15,5,130,65,15,15,{"$nulls":3},"CAZ","mm²",4.17,{"$f":"VLOOKUP(AB34,Parametros!$E$44:$F$55,2,FALSE)&\" \"&AD34& \" \"&AC34","v":"Cabo de Aço Zincado - CAZ 4,17 mm²"}]
["4 CAL",0.00588,2.114e-05,0.05789,7000000000,{"v":7000,"d":"7,000"},2.304E-5,671,40,40,18,18,33.33,33.33,15,0,60,0,15,-5,130,65,20,20,{"$nulls":3},{"$f":"RIGHT(A35,3)","v":"CAL"},"AWG",4,{"$f":"VLOOKUP(AB35,Parametros!$E$44:$F$55,2,FALSE)&\" \"&AD35& \" \"&AC35","v":"Cabo de Liga de Alumínio - CAL 4 AWG"},null,"Nota: ELETROBRAS - DEER"]
["2 CAL",0.00742,3.365e-05,0.09214,7000000000,{"v":7000,"d":"7,000"},2.304E-5,1066,40,40,18,18,33.33,33.33,15,0,60,0,15,-5,130,65,20,20,{"$nulls":3},"CAL","AWG",2,{"$f":"VLOOKUP(AB36,Parametros!$E$44:$F$55,2,FALSE)&\" \"&AD36& \" \"&AC36","v":"Cabo de Liga de Alumínio - CAL 2 AWG"}]
["1/0 CAL",0.00936,5.348e-05,0.1465,7000000000,{"v":7000,"d":"7,000"},2.304E-5,1701,40,40,18,18,33.33,33.33,15,0,60,0,15,-5,130,65,20,20,{"$nulls":3},"CAL","AWG","1/0",{"$f":"VLOOKUP(AB37,Parametros!$E$44:$F$55,2,FALSE)&\" \"&AD37& \" \"&AC37","v":"Cabo de Liga de Alumínio - CAL 1/0 AWG"}]
["2/0 CAL",0.0105,6.743e-05,0.1847,7000000000,{"v":7000,"d":"7,000"},2.304E-5,2050,40,40,18,18,33.33,33.33,15,0,60,0,15,-5,130,65,20,20,{"$nulls":3},"CAL","AWG","2/0",{"$f":"VLOOKUP(AB38,Parametros!$E$44:$F$55,2,FALSE)&\" \"&AD38& \" \"&AC38","v":"Cabo de Liga de Alumínio - CAL 2/0 AWG"}]
["3/0 CAL",0.0118,8.499e-05,0.2327,7000000000,{"v":7000,"d":"7,000"},2.304E-5,2584,40,40,18,18,33.33,33.33,15,0,60,0,15,-5,130,65,20,20,{"$nulls":3},"CAL","AWG","3/0",{"$f":"VLOOKUP(AB39,Parametros!$E$44:$F$55,2,FALSE)&\" \"&AD39& \" \"&AC39","v":"Cabo de Liga de Alumínio - CAL 3/0 AWG"}]
["4/0 CAL",0.01325,1.0725E-4,0.2937,5600000000,{"v":7000,"d":"7,000"},2.304E-5,3269,40,40,18,18,33.33,33.33,15,0,60,0,15,-5,130,65,20,20,{"$nulls":3},"CAL","AWG","4/0",{"$f":"VLOOKUP(AB40,Parametros!$E$44:$F$55,2,FALSE)&\" \"&AD40& \" \"&AC40","v":"Cabo de Liga de Alumínio - CAL 4/0 AWG"}]
["250 CAL",0.01455,0.0001267,0.3469,5600000000,{"v":7000,"d":"7,000"},2.304E-5,3890,40,40,18,18,33.33,33.33,15,0,60,0,15,-5,130,65,20,20,{"$nulls":3},"CAL","AWG",250,{"$f":"VLOOKUP(AB41,Parametros!$E$44:$F$55,2,FALSE)&\" \"&AD41& \" \"&AC41","v":"Cabo de Liga de Alumínio - CAL 250 AWG"}]
["300 CAL",0.01595,0.000152,0.4166,6500000000,{"v":7000,"d":"7,000"},2.304E-5,4674,40,40,18,18,33.33,33.33,15,0,60,0,15,-5,130,65,20,20,{"$nulls":3},"CAL","AWG",300,{"$f":"VLOOKUP(AB42,Parametros!$E$44:$F$55,2,FALSE)&\" \"&AD42& \" \"&AC42","v":"Cabo de Liga de Alumínio - CAL 300 AWG"}]
["350 CAL",0.01725,1.773E-4,0.4855,6500000000,{"v":7000,"d":"7,000"},2.304E-5,5236,40,40,18,18,33.33,33.33,15,0,60,0,15,-5,130,65,20,20,{"$nulls":3},"CAL","AWG",350,{"$f":"VLOOKUP(AB43,Parametros!$E$44:$F$55,2,FALSE)&\" \"&AD43& \" \"&AC43","v":"Cabo de Liga de Alumínio - CAL 350 AWG"}]
["400 CAL",0.01845,0.0002027,0.5551,6500000000,{"v":7000,"d":"7,000"},2.304E-5,5990,40,40,18,18,33.33,33.33,15,0,60,0,15,-5,130,65,20,20,{"$nulls":3},"CAL","AWG",400,{"$f":"VLOOKUP(AB44,Parametros!$E$44:$F$55,2,FALSE)&\" \"&AD44& \" \"&AC44","v":"Cabo de Liga de Alumínio - CAL 400 AWG"}]
["450 CAL",0.01955,0.000228,0.6244,6500000000,{"v":7000,"d":"7,000"},2.304E-5,6726,40,40,18,18,33.33,33.33,15,0,60,0,15,-5,130,65,20,20,{"$nulls":3},"CAL","AWG",450,{"$f":"VLOOKUP(AB45,Parametros!$E$44:$F$55,2,FALSE)&\" \"&AD45& \" \"&AC45","v":"Cabo de Liga de Alumínio - CAL 450 AWG"}]
["6,35 AÇO",6.365E-3,2.115e-05,0.1804,18500000000,{"v":16000,"d":"16,000"},1.89e-05,1430,22,22,4.6,4.6,10,10,15,0,60,0,15,-5,130,65,20,20,{"$nulls":3},"AÇO","AWG",6.35,{"$f":"VLOOKUP(AB46,Parametros!$E$44:$F$55,2,FALSE)&\" \"&AD46& \" \"&AC46","v":"Cabo de Aço 6,35 AWG"}]
["7,94 AÇO",0.00794,4.215e-05,0.30510000000000004,18500000000,{"v":16000,"d":"16,000"},1.89e-05,3620,22,22,4.6,4.6,10,10,15,0,60,0,15,-5,130,65,20,20,{"$nulls":3},"AÇO","AWG",7.94,{"$f":"VLOOKUP(AB47,Parametros!$E$44:$F$55,2,FALSE)&\" \"&AD47& \" \"&AC47","v":"Cabo de Aço 7,94 AWG"}]
["9,53 AÇO",0.00953,5.114e-05,{"$f":"0.4068","v":0.4068},18500000000,{"v":16000,"d":"16,000"},1.15E-5,4900,22,22,4.6,4.6,10,10,15,0,60,0,15,-5,60,0,20,20,{"$nulls":3},"AÇO","AWG",9.53,{"$f":"VLOOKUP(AB48,Parametros!$E$44:$F$55,2,FALSE)&\" \"&AD48& \" \"&AC48","v":"Cabo de Aço 9,53 AWG"}]
["35 mm² 15kV",{"$f":"13.6/1000","v":0.0136},{"$f":"33.65/10^6","v":3.365e-05},0.19,6118000000,{"v":6180,"d":"6,180"},2.304E-5,464,10,10,2.3,2.3,10,10,15,0,60,0,15,-5,60,0,20,20,{"$nulls":3},"XLPE",{"$f":"\"mm² \"&RIGHT(A49,4)","v":"mm² 15kV"},35,{"$f":"VLOOKUP(AB49,Parametros!$E$44:$F$55,2,FALSE)&\" \"&AD49& \" \"&AC49","v":"Cabo Protegido - XLPE 35 mm² 15kV"}]
["50 mm² 15kV",{"$f":"14.7/1000","v":0.0147},{"$f":"50/10^6","v":5e-05},0.235,6118000000,{"v":6180,"d":"6,180"},2.304E-5,663,10,10,2.3,2.3,10,10,15,0,60,0,15,-5,60,0,20,20,{"$nulls":3},"XLPE",{"$f":"\"mm² \"&RIGHT(A50,4)","v":"mm² 15kV"},50,{"$f":"VLOOKUP(AB50,Parametros!$E$44:$F$55,2,FALSE)&\" \"&AD50& \" \"&AC50","v":"Cabo Protegido - XLPE 50 mm² 15kV"}]
["70 mm² 15kV",{"$f":"16/1000","v":0.016},{"$f":"70/10^6","v":7e-05},0.315,8000000000,{"v":8000,"d":"8,000"},1.91E-5,928,10,10,2.3,2.3,10,10,15,0,60,0,15,-5,60,0,20,20,{"$nulls":3},"XLPE","mm² 15kV",70,{"$f":"VLOOKUP(AB51,Parametros!$E$44:$F$55,2,FALSE)&\" \"&AD51& \" \"&AC51","v":"Cabo Protegido - XLPE 70 mm² 15kV"}]
["95 mm² 15kV",{"$f":"18/1000","v":0.018},{"$f":"95/10^6","v":9.5e-05},0.4,8000000000,{"v":8000,"d":"8,000"},1.91E-5,1259,10,10,2.3,2.3,10,10,15,0,60,0,15,-5,60,0,20,20,{"$nulls":3},"XLPE","mm² 15kV",95,{"$f":"VLOOKUP(AB52,Parametros!$E$44:$F$55,2,FALSE)&\" \"&AD52& \" \"&AC52","v":"Cabo Protegido - XLPE 95 mm² 15kV"}]
["120 mm² 15kV",{"$f":"19.4/1000","v":0.019399999999999997},{"$f":"120/10^6","v":1.2E-4},0.5,8000000000,{"v":8000,"d":"8,000"},1.91E-5,1591,10,10,2.3,2.3,10,10,15,0,60,0,15,-5,60,0,20,20,{"$nulls":3},"XLPE","mm² 15kV",120,{"$f":"VLOOKUP(AB53,Parametros!$E$44:$F$55,2,FALSE)&\" \"&AD53& \" \"&AC53","v":"Cabo Protegido - XLPE 120 mm² 15kV"}]
["150 mm² 15kV",{"$f":"20.7/1000","v":0.0207},{"$f":"150/10^6","v":0.00015},0.58,8000000000,{"v":8000,"d":"8,000"},1.91E-5,1988,10,10,2.3,2.3,10,10,15,0,60,0,15,-5,60,0,20,20,{"$nulls":3},"XLPE","mm² 15kV",150,{"$f":"VLOOKUP(AB54,Parametros!$E$44:$F$55,2,FALSE)&\" \"&AD54& \" \"&AC54","v":"Cabo Protegido - XLPE 150 mm² 15kV"}]
["185 mm² 15kV",{"$f":"22.6/1000","v":0.022600000000000002},{"$f":"185/10^6","v":1.85E-4},0.695,7000000000,{"v":8000,"d":"8,000"},2.12E-5,2452,10,10,2.3,2.3,10,10,15,0,60,0,15,-5,60,0,20,20,{"$nulls":3},"XLPE","mm² 15kV",185,{"$f":"VLOOKUP(AB55,Parametros!$E$44:$F$55,2,FALSE)&\" \"&AD55& \" \"&AC55","v":"Cabo Protegido - XLPE 185 mm² 15kV"}]
["35 mm² 25kV",{"$f":"15.7/1000","v":0.0157},{"$f":"33.65/10^6","v":3.365e-05},0.235,6118000000,{"v":6180,"d":"6,180"},2.304E-5,464,10,10,2.3,2.3,10,10,15,0,60,0,15,-5,60,0,20,20,{"$nulls":3},"XLPE","mm² 25kV",35,{"$f":"VLOOKUP(AB56,Parametros!$E$44:$F$55,2,FALSE)&\" \"&AD56& \" \"&AC56","v":"Cabo Protegido - XLPE 35 mm² 25kV"}]
["50 mm² 25kV",{"$f":"16.8/1000","v":0.016800000000000002},{"$f":"50/10^6","v":5e-05},0.285,6118000000,{"v":6180,"d":"6,180"},2.304E-5,663,10,10,2.3,2.3,10,10,15,0,60,0,15,-5,60,0,20,20,{"$nulls":3},"XLPE","mm² 25kV",50,{"$f":"VLOOKUP(AB57,Parametros!$E$44:$F$55,2,FALSE)&\" \"&AD57& \" \"&AC57","v":"Cabo Protegido - XLPE 50 mm² 25kV"}]
["70 mm² 25kV",{"$f":"18.3/1000","v":0.0183},{"$f":"70/10^6","v":7e-05},0.37,8000000000,{"v":8000,"d":"8,000"},1.91E-5,928,10,10,2.3,2.3,10,10,15,0,60,0,15,-5,60,0,20,20,{"$nulls":3},"XLPE","mm² 25kV",70,{"$f":"VLOOKUP(AB58,Parametros!$E$44:$F$55,2,FALSE)&\" \"&AD58& \" \"&AC58","v":"Cabo Protegido - XLPE 70 mm² 25kV"}]
["95 mm² 25kV",{"$f":"20.1/1000","v":0.0201},{"$f":"95/10^6","v":9.5e-05},0.46,8000000000,{"v":8000,"d":"8,000"},1.91E-5,1259,10,10,2.3,2.3,10,10,15,0,60,0,15,-5,60,0,20,20,{"$nulls":3},"XLPE","mm² 25kV",95,{"$f":"VLOOKUP(AB59,Parametros!$E$44:$F$55,2,FALSE)&\" \"&AD59& \" \"&AC59","v":"Cabo Protegido - XLPE 95 mm² 25kV"}]
["120 mm² 25kV",{"$f":"21.5/1000","v":0.0215},{"$f":"120/10^6","v":1.2E-4},0.65,8000000000,{"v":8000,"d":"8,000"},1.91E-5,1591,10,10,2.3,2.3,10,10,15,0,60,0,15,-5,60,0,20,20,{"$nulls":3},"XLPE","mm² 25kV",120,{"$f":"VLOOKUP(AB60,Parametros!$E$44:$F$55,2,FALSE)&\" \"&AD60& \" \"&AC60","v":"Cabo Protegido - XLPE 120 mm² 25kV"}]
["150 mm² 25kV",{"$f":"22.8/1000","v":0.0228},{"$f":"150/10^6","v":0.00015},0.77,8000000000,{"v":8000,"d":"8,000"},1.91E-5,1988,10,10,2.3,2.3,10,10,15,0,60,0,15,-5,60,0,20,20,{"$nulls":3},"XLPE","mm² 25kV",150,{"$f":"VLOOKUP(AB61,Parametros!$E$44:$F$55,2,FALSE)&\" \"&AD61& \" \"&AC61","v":"Cabo Protegido - XLPE 150 mm² 25kV"}]
["185 mm² 25kV",{"$f":"24.8/1000","v":0.0248},{"$f":"185/10^6","v":1.85E-4},0.663,7000000000,{"v":8000,"d":"8,000"},2.12E-5,2452,10,10,2.3,2.3,10,10,15,0,60,0,15,-5,60,0,20,20,{"$nulls":3},"XLPE","mm² 25kV",185,{"$f":"VLOOKUP(AB62,Parametros!$E$44:$F$55,2,FALSE)&\" \"&AD62& \" \"&AC62","v":"Cabo Protegido - XLPE 185 mm² 25kV"}]
["1#35(35CAL)CA-XLPE",{"$f":"17.7/1000","v":0.0177},{"$f":"((B63/2)^2)*PI()","v":2.460573906107866E-4},0.235,6600000000,{"v":66000,"d":"66,000"},2.304E-5,1222,20,20,12,12,20,20,15,0,60,0,15,-5,60,0,20,20,{"$nulls":3},"CA-XLPE","mm²",35,{"$f":"VLOOKUP(AB63,Parametros!$E$44:$F$55,2,FALSE)& \" \"&A63","v":"Cabo Multiplexado 1#35(35CAL)CA-XLPE"}]
["1#50(50CAL)CA-XLPE",{"$f":"20.4/1000","v":0.020399999999999998},0.000326851299679482,0.313,6600000000,{"v":66000,"d":"66,000"},2.304E-5,1640,20,20,12,12,20,20,15,0,60,0,15,-5,60,0,20,20,{"$nulls":3},"CA-XLPE","mm²",50,{"$f":"VLOOKUP(AB64,Parametros!$E$44:$F$55,2,FALSE)& \" \"&A64","v":"Cabo Multiplexado 1#50(50CAL)CA-XLPE"}]
["2#35(35CAL)CA-XLPE",{"$f":"22.4/1000","v":0.0224},3.9408138246630365E-4,0.375,6600000000,{"v":66000,"d":"66,000"},2.304E-5,1222,20,20,12,12,20,20,15,0,60,0,15,-5,60,0,20,20,{"$nulls":3},"CA-XLPE","mm²",35,{"$f":"VLOOKUP(AB65,Parametros!$E$44:$F$55,2,FALSE)& \" \"&A65","v":"Cabo Multiplexado 2#35(35CAL)CA-XLPE"}]
["2#50(50CAL)CA-XLPE",{"$f":"24.9/1000","v":0.0249},4.8695471528805188E-4,0.491,6600000000,{"v":66000,"d":"66,000"},2.304E-5,1640,20,20,12,12,20,20,15,0,60,0,15,-5,60,0,20,20,{"$nulls":3},"CA-XLPE","mm²",50,{"$f":"VLOOKUP(AB66,Parametros!$E$44:$F$55,2,FALSE)& \" \"&A66","v":"Cabo Multiplexado 2#50(50CAL)CA-XLPE"}]
["3#35(35CAL)CA-XLPE",{"$f":"25.1/1000","v":0.0251},4.948086969220265E-4,0.515,6600000000,{"v":66000,"d":"66,000"},2.304E-5,1222,20,20,12,12,20,20,15,0,60,0,15,-5,60,0,20,20,{"$nulls":3},"CA-XLPE","mm²",35,{"$f":"VLOOKUP(AB67,Parametros!$E$44:$F$55,2,FALSE)& \" \"&A67","v":"Cabo Multiplexado 3#35(35CAL)CA-XLPE"}]
["3#50(50CAL)CA-XLPE",0.0279,6.1136178437020783E-4,0.669,6600000000,{"v":66000,"d":"66,000"},2.304E-5,1640,20,20,12,12,20,20,15,0,60,0,15,-5,60,0,20,20,{"$nulls":3},"CA-XLPE","mm²",50,{"$f":"VLOOKUP(AB68,Parametros!$E$44:$F$55,2,FALSE)& \" \"&A68","v":"Cabo Multiplexado 3#50(50CAL)CA-XLPE"}]
["3#70(70CAL)CA-XLPE",0.0327,8.3981840213925754E-4,0.931,6600000000,{"v":66000,"d":"66,000"},2.304E-5,2169,20,20,12,12,20,20,15,0,60,0,15,-5,60,0,20,20,{"$nulls":3},"CA-XLPE","mm²",70,{"$f":"VLOOKUP(AB69,Parametros!$E$44:$F$55,2,FALSE)& \" \"&A69","v":"Cabo Multiplexado 3#70(70CAL)CA-XLPE"}]
["3#95(70CAL)CA-XLPE",0.03751,1.1050552944400261E-3,{"$f":"1267/1000","v":1.267},6400000000,{"v":64000,"d":"64,000"},2.304E-5,2169,20,20,12,12,20,20,15,0,60,0,15,-5,60,0,20,20,{"$nulls":3},"CA-XLPE","mm²",95,{"$f":"VLOOKUP(AB70,Parametros!$E$44:$F$55,2,FALSE)& \" \"&A70","v":"Cabo Multiplexado 3#95(70CAL)CA-XLPE"}]
["3#120(70CAL)CA-XLPE",0.041100000000000005,1.326702431592604E-3,{"$f":"(1449/1000)","v":1.449},6400000000,{"v":64000,"d":"64,000"},2.304E-5,2169,20,20,12,12,20,20,15,0,60,0,15,-5,60,0,20,20,{"$nulls":3},"CA-XLPE","mm²",120,{"$f":"VLOOKUP(AB71,Parametros!$E$44:$F$55,2,FALSE)& \" \"&A71","v":"Cabo Multiplexado 3#120(70CAL)CA-XLPE"}]
{"$rows_empty":14}
["Método para descobrir a Sção"]

{"sheet":"Engastamento","index":5,"n_rows":197,"n_cols":45,"rows_kept":197,"hidden":true,"merged":[[2,0,2,18],[3,0,3,3],[3,4,3,6],[3,7,3,9],[3,10,3,13],[3,14,3,17],[3,22,3,25],[4,0,4,1],[5,18,13,18],[14,18,21,18],[23,18,30,18],[32,18,39,18],[41,18,50,18],[51,0,51,18],[52,1,52,6],[52,7,52,9],[52,14,52,16],[53,10,53,13],[54,10,54,13],[55,10,55,13],[56,10,56,13],[57,10,57,13],[58,10,58,13],[60,1,60,2],[61,33,61,41],[61,42,64,44],[61,49,61,52],[62,3,62,4],[62,33,62,38],[62,39,62,41],[62,49,62,52],[63,1,63,10],[63,18,63,28],[63,29,64,32],[63,33,63,37],[63,39,63,41],[64,7,64,9],[64,10,64,13],[64,14,64,17],[64,18,64,20],[64,21,64,28],[64,33,64,35],[64,36,64,38],[64,39,64,41],[64,49,65,49],[64,50,65,50],[64,51,65,51],[64,52,65,52],[65,21,65,22],[65,23,65,24],[65,25,65,26],[65,27,65,28],[69,51,69,52],[70,49,71,49],[70,50,71,50],[70,51,71,52],[72,51,72,52],[73,49,73,51],[85,1,85,6],[85,7,85,9],[85,14,85,16],[85,21,85,26],[86,10,86,13],[86,21,86,22],[86,23,86,24],[86,25,86,26],[95,22,96,25],[97,0,97,1],[97,18,106,18],[98,0,106,0],[107,0,115,0],[107,18,115,18],[116,0,124,0],[116,18,124,18],[125,0,133,0],[125,18,133,18],[134,0,141,0],[134,18,141,18],[140,28,140,35],[141,28,141,35],[145,22,145,25],[146,0,146,1],[146,18,156,18],[147,0,155,0],[157,0,165,0],[157,18,165,18],[167,0,175,0],[167,18,175,18],[177,0,185,0],[177,18,185,18],[187,0,194,0],[187,18,194,18]]}
[]
[{"$nulls":29},30]
["CÁLCULO    DO     ENGASTAMENTO"]
["Poste de concreto Tronco Cônico",{"$nulls":3},"DADOS DO POSTE",null,null,"dados escora",null,null,"dados da base concretada",{"$nulls":3},"VALOR DA TRAÇÃO NO TOPO  (daN)",{"$nulls":3},"Poste",{"$nulls":3},"Valores para Critários de Projetos"]
["Comprimento",null,"carga","peso","t","h*","b","m","n","c","d","P","q","K","SIMPLES ","ESCORA\nSIMPLES","ESCORA\nDUPLA","CONCRETADO",null,"Tipo Poste",null,null,"SIMPLES ","ESCORA\nSIMPLES","ESCORA\nDUPLA","CONCRETADO"]
[{"$f":"CONCATENATE(B6,C6)","v":"9150"},9,{"$f":"IF(Padroes!C10=\"\",\"\",Padroes!C10)","v":150},{"$f":"IF(Padroes!D10=\"\",\"\",Padroes!D10)","v":670},{"$f":"IF(D6=\"\",\"\",(0.6+0.1*B6))","v":1.5},{"$f":"IF(E6=\"\",\"\",(B6-E6-0.5))","v":{"v":7,"d":"7.00"}},{"$f":"IF(Padroes!E10=\"\",\"\",Padroes!E10)","v":0.32},{"$f":"IF(E6=\"\",\"\",Padroes!S$8)","v":{"v":1,"d":"1.00"}},{"$f":"IF(E6=\"\",\"\",Padroes!S$9)","v":{"v":0.2,"d":"0.20"}},{"$f":"IF(E6=\"\",\"\",Padroes!S$10)","v":{"v":0.5,"d":"0.50"}},{"$f":"IF(Padroes!AL13=\"\",\"\",Padroes!AL13)","v":{"v":0.6,"d":"0.60"}},{"$f":"IF(D6=\"\",\"\",(D6+(3.1416*K6^2*M6/4*2400)))","v":{"v":1077.15136,"d":"1077"}},{"$f":"Padroes!$AL$8","v":{"v":0.6,"d":"0.60"}},{"$f":"IF(E6=\"\",\"\",Padroes!$AL$23)","v":{"v":1,"d":"1.00"}},{"$f":"IF(E6=\"\",\"\",($B$63*G6*E6^3)/(F6+E6))","v":{"v":254.11764705882354,"d":"254"}},{"$f":"IF(E6=\"\",\"\",(3*$B$63*(2*J6*I6 - I6^2)*(H6-G6))*(E6-J6+I6/2)/(F6+E6/2) + O6)","v":{"v":346.77313092979125,"d":"347"}},{"$f":" IF(E6=\"\",\"\",(3*$B$63 * (2*E6*I6-I6^2)*(H6-G6) ) * (I6/2) / (F6+E6) + P6)","v":{"v":373.65313092979125,"d":"374"}},{"$f":"IF(E6=\"\",\"\",(N6*$B$63*K6*E6^3)/(F6+E6) + (K6*L6/(F6+E6)) * (0.5 - (2*L6/(3*$C$63*K6^2))))","v":{"v":508.42100197464134,"d":"508"}},9,{"$f":"IF(Padroes!F10=\"\",\"\",Padroes!F10)","v":"C-14"},null,null,{"$f":"IF(O6=\"\",\"\",O6*Parametros!$I$26)","v":{"v":203.29411764705884,"d":"203"}},{"$f":"IF(P6=\"\",\"\",P6*Parametros!$I$27)","v":{"v":277.418504743833,"d":"277"}},{"$f":"IF(Q6=\"\",\"\",Q6*Parametros!$I$28)","v":{"v":298.92250474383303,"d":"299"}},{"$f":"IF(R6=\"\",\"\",R6*Parametros!$I$29)","v":{"v":406.7368015797131,"d":"407"}}]
[{"$f":"CONCATENATE(B7,C7)","v":"9200"},9,{"$f":"IF(Padroes!C11=\"\",\"\",Padroes!C11)","v":200},{"$f":"IF(Padroes!D11=\"\",\"\",Padroes!D11)","v":670},{"$f":"IF(D7=\"\",\"\",(0.6+0.1*B7))","v":1.5},{"$f":"IF(E7=\"\",\"\",(B7-E7-0.5))","v":{"v":7,"d":"7.00"}},{"$f":"IF(Padroes!E11=\"\",\"\",Padroes!E11)","v":0.32},{"$f":"IF(E7=\"\",\"\",Padroes!S$8)","v":{"v":1,"d":"1.00"}},{"$f":"IF(E7=\"\",\"\",Padroes!S$9)","v":{"v":0.2,"d":"0.20"}},{"$f":"IF(E7=\"\",\"\",Padroes!S$10)","v":{"v":0.5,"d":"0.50"}},{"$f":"IF(Padroes!AL15=\"\",\"\",Padroes!AL15)","v":{"v":0.7,"d":"0.70"}},{"$f":"IF(D7=\"\",\"\",(D7+(3.1416*K7^2*M7/4*2400)))","v":{"v":1224.17824,"d":"1224"}},{"$f":"Padroes!$AL$8","v":{"v":0.6,"d":"0.60"}},{"$f":"IF(E7=\"\",\"\",Padroes!$AL$23)","v":{"v":1,"d":"1.00"}},{"v":254.11764705882354,"d":"254"},{"v":346.77313092979125,"d":"347"},{"v":373.65313092979125,"d":"374"},{"v":599.5732222597669,"d":"600"},null,{"$f":"IF(Padroes!F11=\"\",\"\",Padroes!F11)","v":"C-14"},null,null,{"$f":"IF(O7=\"\",\"\",O7*Parametros!$I$26)","v":{"v":203.29411764705884,"d":"203"}},{"$f":"IF(P7=\"\",\"\",P7*Parametros!$I$27)","v":{"v":277.418504743833,"d":"277"}},{"$f":"IF(Q7=\"\",\"\",Q7*Parametros!$I$28)","v":{"v":298.92250474383303,"d":"299"}},{"$f":"IF(R7=\"\",\"\",R7*Parametros!$I$29)","v":{"v":479.6585778078136,"d":"480"}}]
["9300",9,{"$f":"IF(Padroes!C12=\"\",\"\",Padroes!C12)","v":300},{"$f":"IF(Padroes!D12=\"\",\"\",Padroes!D12)","v":820},1.5,{"v":7,"d":"7.00"},{"$f":"IF(Padroes!E12=\"\",\"\",Padroes!E12)","v":0.35},{"$f":"IF(E8=\"\",\"\",Padroes!S$8)","v":{"v":1,"d":"1.00"}},{"$f":"IF(E8=\"\",\"\",Padroes!S$9)","v":{"v":0.2,"d":"0.20"}},{"$f":"IF(E8=\"\",\"\",Padroes!S$10)","v":{"v":0.5,"d":"0.50"}},{"$f":"IF(Padroes!AL16=\"\",\"\",Padroes!AL16)","v":{"v":0.9,"d":"0.90"}},{"v":1736.09056,"d":"1736"},{"$f":"Padroes!$AL$8","v":{"v":0.6,"d":"0.60"}},{"$f":"IF(E8=\"\",\"\",Padroes!$AL$23)","v":{"v":1,"d":"1.00"}},{"v":277.94117647058823,"d":"278"},{"v":366.5089184060721,"d":"367"},{"v":392.2030360531309,"d":"392"},{"v":796.1102046099483,"d":"796"},null,{"$f":"IF(Padroes!F12=\"\",\"\",Padroes!F12)","v":"C-17"},null,null,{"$f":"IF(O8=\"\",\"\",O8*Parametros!$I$26)","v":{"v":222.3529411764706,"d":"222"}},{"$f":"IF(P8=\"\",\"\",P8*Parametros!$I$27)","v":{"v":293.20713472485767,"d":"293"}},{"$f":"IF(Q8=\"\",\"\",Q8*Parametros!$I$28)","v":{"v":313.76242884250473,"d":"314"}},{"$f":"IF(R8=\"\",\"\",R8*Parametros!$I$29)","v":{"v":636.8881636879587,"d":"637"}}]
["9400",9,{"$f":"IF(Padroes!C13=\"\",\"\",Padroes!C13)","v":400},{"$f":"IF(Padroes!D13=\"\",\"\",Padroes!D13)","v":820},1.5,{"v":7,"d":"7.00"},{"$f":"IF(Padroes!E13=\"\",\"\",Padroes!E13)","v":0.35},{"$f":"IF(E9=\"\",\"\",Padroes!S$8)","v":{"v":1,"d":"1.00"}},{"$f":"IF(E9=\"\",\"\",Padroes!S$9)","v":{"v":0.2,"d":"0.20"}},{"$f":"IF(E9=\"\",\"\",Padroes!S$10)","v":{"v":0.5,"d":"0.50"}},{"$f":"IF(Padroes!AL17=\"\",\"\",Padroes!AL17)","v":{"v":1.3,"d":"1.30"}},{"v":2731.34944,"d":"2731"},{"$f":"Padroes!$AL$8","v":{"v":0.6,"d":"0.60"}},{"$f":"IF(E9=\"\",\"\",Padroes!$AL$23)","v":{"v":1,"d":"1.00"}},{"v":277.94117647058823,"d":"278"},{"v":366.5089184060721,"d":"367"},{"v":392.2030360531309,"d":"392"},{"v":1223.217171925458,"d":"1223"},null,{"$f":"IF(Padroes!F13=\"\",\"\",Padroes!F13)","v":"C-17"},null,null,{"$f":"IF(O9=\"\",\"\",O9*Parametros!$I$26)","v":{"v":222.3529411764706,"d":"222"}},{"$f":"IF(P9=\"\",\"\",P9*Parametros!$I$27)","v":{"v":293.20713472485767,"d":"293"}},{"$f":"IF(Q9=\"\",\"\",Q9*Parametros!$I$28)","v":{"v":313.76242884250473,"d":"314"}},{"$f":"IF(R9=\"\",\"\",R9*Parametros!$I$29)","v":{"v":978.5737375403664,"d":"979"}}]
["9600",9,{"$f":"IF(Padroes!C14=\"\",\"\",Padroes!C14)","v":600},{"$f":"IF(Padroes!D14=\"\",\"\",Padroes!D14)","v":1000},1.5,{"v":7,"d":"7.00"},{"$f":"IF(Padroes!E14=\"\",\"\",Padroes!E14)","v":0.37},{"$f":"IF(E10=\"\",\"\",Padroes!S$8)","v":{"v":1,"d":"1.00"}},{"$f":"IF(E10=\"\",\"\",Padroes!S$9)","v":{"v":0.2,"d":"0.20"}},{"$f":"IF(E10=\"\",\"\",Padroes!S$10)","v":{"v":0.5,"d":"0.50"}},{"$f":"IF(Padroes!AL18=\"\",\"\",Padroes!AL18)","v":{"v":1.6,"d":"1.60"}},{"v":3895.2985600000006,"d":"3895"},{"$f":"Padroes!$AL$8","v":{"v":0.6,"d":"0.60"}},{"$f":"IF(E10=\"\",\"\",Padroes!$AL$23)","v":{"v":1,"d":"1.00"}},{"v":293.8235294117647,"d":"294"},{"v":379.66611005692596,"d":"380"},{"v":404.56963946869064,"d":"405"},{"v":1607.4529019773763,"d":"1607"},null,{"$f":"IF(Padroes!F14=\"\",\"\",Padroes!F14)","v":"C-19"},null,null,{"$f":"IF(O10=\"\",\"\",O10*Parametros!$I$26)","v":{"v":235.05882352941177,"d":"235"}},{"$f":"IF(P10=\"\",\"\",P10*Parametros!$I$27)","v":{"v":303.7328880455408,"d":"304"}},{"$f":"IF(Q10=\"\",\"\",Q10*Parametros!$I$28)","v":{"v":323.65571157495253,"d":"324"}},{"$f":"IF(R10=\"\",\"\",R10*Parametros!$I$29)","v":{"v":1285.962321581901,"d":"1286"}}]
["91000",9,{"$f":"IF(Padroes!C15=\"\",\"\",Padroes!C15)","v":1000},{"$f":"IF(Padroes!D15=\"\",\"\",Padroes!D15)","v":1160},1.5,{"v":7,"d":"7.00"},{"$f":"IF(Padroes!E15=\"\",\"\",Padroes!E15)","v":0.41},{"$f":"IF(E11=\"\",\"\",Padroes!S$8)","v":{"v":1,"d":"1.00"}},{"$f":"IF(E11=\"\",\"\",Padroes!S$9)","v":{"v":0.2,"d":"0.20"}},{"$f":"IF(E11=\"\",\"\",Padroes!S$10)","v":{"v":0.5,"d":"0.50"}},{"$f":"IF(Padroes!AL19=\"\",\"\",Padroes!AL19)","v":{"v":1.6,"d":"1.60"}},{"v":4055.2985600000006,"d":"4055"},{"$f":"Padroes!$AL$8","v":{"v":0.6,"d":"0.60"}},{"$f":"IF(E11=\"\",\"\",Padroes!$AL$23)","v":{"v":1,"d":"1.00"}},{"v":325.5882352941176,"d":"326"},{"v":405.9804933586338,"d":"406"},{"v":429.30284629981026,"d":"429"},{"v":1620.0174205279645,"d":"1620"},null,{"$f":"IF(Padroes!F15=\"\",\"\",Padroes!F15)","v":"C-23"},null,null,{"$f":"IF(O11=\"\",\"\",O11*Parametros!$I$26)","v":{"v":260.4705882352941,"d":"260"}},{"$f":"IF(P11=\"\",\"\",P11*Parametros!$I$27)","v":{"v":324.78439468690704,"d":"325"}},{"$f":"IF(Q11=\"\",\"\",Q11*Parametros!$I$28)","v":{"v":343.44227703984825,"d":"343"}},{"$f":"IF(R11=\"\",\"\",R11*Parametros!$I$29)","v":{"v":1296.0139364223717,"d":"1296"}}]
["",null,{"$f":"IF(Padroes!C16=\"\",\"\",Padroes!C16)","v":""},{"$f":"IF(Padroes!D16=\"\",\"\",Padroes!D16)","v":""},"","",{"$f":"IF(Padroes!E16=\"\",\"\",Padroes!E16)","v":""},{"$f":"IF(E12=\"\",\"\",Padroes!S$8)","v":""},{"$f":"IF(E12=\"\",\"\",Padroes!S$9)","v":""},{"$f":"IF(E12=\"\",\"\",Padroes!S$10)","v":""},{"$f":"IF(Padroes!AL20=\"\",\"\",Padroes!AL20)","v":{"v":1.8,"d":"1.80"}},"",{"$f":"Padroes!$AL$8","v":{"v":0.6,"d":"0.60"}},{"$f":"IF(E12=\"\",\"\",Padroes!$AL$23)","v":""},"","","","",null,{"$f":"IF(Padroes!F16=\"\",\"\",Padroes!F16)","v":""},null,null,{"$f":"IF(O12=\"\",\"\",O12*Parametros!$I$26)","v":""},{"$f":"IF(P12=\"\",\"\",P12*Parametros!$I$27)","v":""},{"$f":"IF(Q12=\"\",\"\",Q12*Parametros!$I$28)","v":""},{"$f":"IF(R12=\"\",\"\",R12*Parametros!$I$29)","v":""}]
["",null,{"$f":"IF(Padroes!C17=\"\",\"\",Padroes!C17)","v":""},{"$f":"IF(Padroes!D17=\"\",\"\",Padroes!D17)","v":""},"","",{"$f":"IF(Padroes!E17=\"\",\"\",Padroes!E17)","v":""},{"$f":"IF(E13=\"\",\"\",Padroes!S$8)","v":""},{"$f":"IF(E13=\"\",\"\",Padroes!S$9)","v":""},{"$f":"IF(E13=\"\",\"\",Padroes!S$10)","v":""},{"$f":"IF(Padroes!AL21=\"\",\"\",Padroes!AL21)","v":{"v":1.8,"d":"1.80"}},"",{"$f":"Padroes!$AL$8","v":{"v":0.6,"d":"0.60"}},{"$f":"IF(E13=\"\",\"\",Padroes!$AL$23)","v":""},"","","","",null,{"$f":"IF(Padroes!F17=\"\",\"\",Padroes!F17)","v":""},null,null,{"$f":"IF(O13=\"\",\"\",O13*Parametros!$I$26)","v":""},{"$f":"IF(P13=\"\",\"\",P13*Parametros!$I$27)","v":""},{"$f":"IF(Q13=\"\",\"\",Q13*Parametros!$I$28)","v":""},{"$f":"IF(R13=\"\",\"\",R13*Parametros!$I$29)","v":""}]
[9,9,{"$f":"IF(Engastamento_Profundo!F$4=9,Engastamento_Profundo!F$5, 0)","v":0},{"$f":"IF(Engastamento_Profundo!F$6=\"\",VLOOKUP(C14,Padroes!$C$10:$D$17,2,FALSE),Engastamento_Profundo!$F$6 )","v":{"$error":"#N/A"}},{"$f":"IF(Engastamento_Profundo!$F$8=\"\",1.5,Engastamento_Profundo!$F8)","v":{"v":2.617400365452199,"d":"2.6"}},{"$f":"IF(Engastamento_Profundo!F$17=\"\",7,Engastamento_Profundo!F$17)","v":{"v":7,"d":"7.00"}},{"$f":"IF(Engastamento_Profundo!F$7=\"\",VLOOKUP(C14,Padroes!$C$10:$E$17,3,FALSE),Engastamento_Profundo!F$7)","v":{"$error":"#N/A"}},{"$f":"IF(Engastamento_Profundo!F$10=\"\",Padroes!$S$8,Engastamento_Profundo!F$10)","v":{"v":1,"d":"1.00"}},{"$f":"IF(Engastamento_Profundo!F$11=\"\",Padroes!$S$9,Engastamento_Profundo!F$11)","v":{"v":0.2,"d":"0.20"}},{"$f":"IF(Engastamento_Profundo!F$12=\"\",Padroes!$S$10,Engastamento_Profundo!F$12)","v":{"v":0.5,"d":"0.50"}},{"$f":"IF(Engastamento_Profundo!F$14=\"\",VLOOKUP(C14,$C$6:$K$13,9,FALSE),Engastamento_Profundo!F$14)","v":{"$error":"#N/A"}},{"$f":"D14+(3.1416*K14^2*M14/4*2400)","v":{"$error":"#N/A"}},{"$f":"Padroes!$AL$8","v":{"v":0.6,"d":"0.60"}},{"v":1,"d":"1.00"},{"$error":"#N/A"},{"$error":"#N/A"},{"$error":"#N/A"},{"$error":"#N/A"},null,{"$f":"IF(Padroes!F18=\"\",\"\",Padroes!F18)","v":"C-14"},null,null,{"$f":"IF(O14=\"\",\"\",O14*Parametros!$I$26)","v":{"$error":"#N/A"}},{"$f":"IF(P14=\"\",\"\",P14*Parametros!$I$27)","v":{"$error":"#N/A"}},{"$f":"IF(Q14=\"\",\"\",Q14*Parametros!$I$28)","v":{"$error":"#N/A"}},{"$f":"IF(R14=\"\",\"\",R14*Parametros!$I$29)","v":{"$error":"#N/A"}}]
["10150",10,{"$f":"IF(Padroes!C18=\"\",\"\",Padroes!C18)","v":150},{"$f":"IF(Padroes!D18=\"\",\"\",Padroes!D18)","v":750},1.6,{"$f":"IF(E15=\"\",\"\",(B15-E15-0.2))","v":{"v":8.200000000000001,"d":"8.20"}},{"$f":"IF(Padroes!E18=\"\",\"\",Padroes!E18)","v":0.34},{"$f":"IF(E15=\"\",\"\",Padroes!S$8)","v":{"v":1,"d":"1.00"}},{"$f":"IF(E15=\"\",\"\",Padroes!S$9)","v":{"v":0.2,"d":"0.20"}},{"$f":"IF(E15=\"\",\"\",Padroes!S$10)","v":{"v":0.5,"d":"0.50"}},{"$f":"IF(Padroes!AL13=\"\",\"\",Padroes!AL13)","v":{"v":0.6,"d":"0.60"}},{"v":1191.08064,"d":"1191"},{"$f":"Padroes!AL$9","v":0.65},{"$f":"IF(E15=\"\",\"\",Padroes!$AL$23)","v":{"v":1,"d":"1.00"}},{"v":284.21224489795924,"d":"284"},{"v":368.6922448979592,"d":"369"},{"v":392.9371428571429,"d":"393"},{"v":531.5787810839782,"d":"532"},10,{"$f":"IF(Padroes!F19=\"\",\"\",Padroes!F19)","v":"C-17"},null,null,{"$f":"IF(O15=\"\",\"\",O15*Parametros!$I$26)","v":{"v":227.3697959183674,"d":"227"}},{"$f":"IF(P15=\"\",\"\",P15*Parametros!$I$27)","v":{"v":294.95379591836735,"d":"295"}},{"$f":"IF(Q15=\"\",\"\",Q15*Parametros!$I$28)","v":{"v":314.3497142857143,"d":"314"}},{"$f":"IF(R15=\"\",\"\",R15*Parametros!$I$29)","v":{"v":425.2630248671826,"d":"425"}}]
["10300",10,{"$f":"IF(Padroes!C19=\"\",\"\",Padroes!C19)","v":300},{"$f":"IF(Padroes!D19=\"\",\"\",Padroes!D19)","v":910},1.6,{"$f":"IF(E16=\"\",\"\",(B16-E16-0.2))","v":{"v":8.200000000000001,"d":"8.20"}},{"$f":"IF(Padroes!E19=\"\",\"\",Padroes!E19)","v":0.37},{"$f":"IF(E16=\"\",\"\",Padroes!S$8)","v":{"v":1,"d":"1.00"}},{"$f":"IF(E16=\"\",\"\",Padroes!S$9)","v":{"v":0.2,"d":"0.20"}},{"$f":"IF(E16=\"\",\"\",Padroes!S$10)","v":{"v":0.5,"d":"0.50"}},{"$f":"IF(Padroes!AL15=\"\",\"\",Padroes!AL15)","v":{"v":0.7,"d":"0.70"}},{"v":1510.3597599999998,"d":"1510"},{"$f":"Padroes!AL$9","v":0.65},{"$f":"IF(E16=\"\",\"\",Padroes!$AL$23)","v":{"v":1,"d":"1.00"}},{"v":309.2897959183674,"d":"309"},{"v":389.9297959183674,"d":"390"},{"v":413.07265306122457,"d":"413"},{"v":630.2166907303119,"d":"630"},null,{"$f":"IF(Padroes!F20=\"\",\"\",Padroes!F20)","v":"C-17"},null,null,{"$f":"IF(O16=\"\",\"\",O16*Parametros!$I$26)","v":{"v":247.43183673469395,"d":"247"}},{"$f":"IF(P16=\"\",\"\",P16*Parametros!$I$27)","v":{"v":311.94383673469395,"d":"312"}},{"$f":"IF(Q16=\"\",\"\",Q16*Parametros!$I$28)","v":{"v":330.4581224489797,"d":"330"}},{"$f":"IF(R16=\"\",\"\",R16*Parametros!$I$29)","v":{"v":504.1733525842496,"d":"504"}}]
["10400",10,{"$f":"IF(Padroes!C20=\"\",\"\",Padroes!C20)","v":400},{"$f":"IF(Padroes!D20=\"\",\"\",Padroes!D20)","v":910},1.6,{"v":8.200000000000001,"d":"8.20"},{"$f":"IF(Padroes!E20=\"\",\"\",Padroes!E20)","v":0.37},{"$f":"IF(E17=\"\",\"\",Padroes!S$8)","v":{"v":1,"d":"1.00"}},{"$f":"IF(E17=\"\",\"\",Padroes!S$9)","v":{"v":0.2,"d":"0.20"}},{"$f":"IF(E17=\"\",\"\",Padroes!S$10)","v":{"v":0.5,"d":"0.50"}},{"$f":"IF(Padroes!AL16=\"\",\"\",Padroes!AL16)","v":{"v":0.9,"d":"0.90"}},{"v":1902.43144,"d":"1902"},{"$f":"Padroes!AL$9","v":0.65},{"$f":"IF(E17=\"\",\"\",Padroes!$AL$23)","v":{"v":1,"d":"1.00"}},{"v":309.2897959183674,"d":"309"},{"v":389.9297959183674,"d":"390"},{"v":413.07265306122457,"d":"413"},{"v":828.7405354832943,"d":"829"},null,{"$f":"IF(Padroes!F21=\"\",\"\",Padroes!F21)","v":"C-19"},null,null,{"$f":"IF(O17=\"\",\"\",O17*Parametros!$I$26)","v":{"v":247.43183673469395,"d":"247"}},{"$f":"IF(P17=\"\",\"\",P17*Parametros!$I$27)","v":{"v":311.94383673469395,"d":"312"}},{"$f":"IF(Q17=\"\",\"\",Q17*Parametros!$I$28)","v":{"v":330.4581224489797,"d":"330"}},{"$f":"IF(R17=\"\",\"\",R17*Parametros!$I$29)","v":{"v":662.9924283866354,"d":"663"}}]
["10600",10,{"$f":"IF(Padroes!C21=\"\",\"\",Padroes!C21)","v":600},{"$f":"IF(Padroes!D21=\"\",\"\",Padroes!D21)","v":1090},1.6,{"v":8.200000000000001,"d":"8.20"},{"$f":"IF(Padroes!E21=\"\",\"\",Padroes!E21)","v":0.39},{"$f":"IF(E18=\"\",\"\",Padroes!S$8)","v":{"v":1,"d":"1.00"}},{"$f":"IF(E18=\"\",\"\",Padroes!S$9)","v":{"v":0.2,"d":"0.20"}},{"$f":"IF(E18=\"\",\"\",Padroes!S$10)","v":{"v":0.5,"d":"0.50"}},{"$f":"IF(Padroes!AL17=\"\",\"\",Padroes!AL17)","v":{"v":1.3,"d":"1.30"}},{"v":3160.62856,"d":"3161"},{"$f":"Padroes!AL$9","v":0.65},{"$f":"IF(E18=\"\",\"\",Padroes!$AL$23)","v":{"v":1,"d":"1.00"}},{"v":326.00816326530617,"d":"326"},{"v":404.08816326530615,"d":"404"},{"v":426.4963265306123,"d":"426"},{"v":1275.4177804305857,"d":"1275"},null,{"$f":"IF(Padroes!F22=\"\",\"\",Padroes!F22)","v":"C-23"},null,null,{"$f":"IF(O18=\"\",\"\",O18*Parametros!$I$26)","v":{"v":260.80653061224496,"d":"261"}},{"$f":"IF(P18=\"\",\"\",P18*Parametros!$I$27)","v":{"v":323.27053061224495,"d":"323"}},{"$f":"IF(Q18=\"\",\"\",Q18*Parametros!$I$28)","v":{"v":341.19706122448986,"d":"341"}},{"$f":"IF(R18=\"\",\"\",R18*Parametros!$I$29)","v":{"v":1020.3342243444686,"d":"1020"}}]
["101000",10,{"$f":"IF(Padroes!C22=\"\",\"\",Padroes!C22)","v":1000},{"$f":"IF(Padroes!D22=\"\",\"\",Padroes!D22)","v":1350},1.6,{"v":8.200000000000001,"d":"8.20"},{"$f":"IF(Padroes!E22=\"\",\"\",Padroes!E22)","v":0.43},{"$f":"IF(E19=\"\",\"\",Padroes!S$8)","v":{"v":1,"d":"1.00"}},{"$f":"IF(E19=\"\",\"\",Padroes!S$9)","v":{"v":0.2,"d":"0.20"}},{"$f":"IF(E19=\"\",\"\",Padroes!S$10)","v":{"v":0.5,"d":"0.50"}},{"$f":"IF(Padroes!AL18=\"\",\"\",Padroes!AL18)","v":{"v":1.6,"d":"1.60"}},{"v":4486.573440000001,"d":"4487"},{"$f":"Padroes!AL$9","v":0.65},{"$f":"IF(E19=\"\",\"\",Padroes!$AL$23)","v":{"v":1,"d":"1.00"}},{"v":359.4448979591837,"d":"359"},{"v":432.4048979591837,"d":"432"},{"v":453.3436734693878,"d":"453"},{"v":1669.486707291644,"d":"1669"},null,{"$f":"IF(Padroes!F23=\"\",\"\",Padroes!F23)","v":"C-29"},null,null,{"$f":"IF(O19=\"\",\"\",O19*Parametros!$I$26)","v":{"v":287.555918367347,"d":"288"}},{"$f":"IF(P19=\"\",\"\",P19*Parametros!$I$27)","v":{"v":345.92391836734697,"d":"346"}},{"$f":"IF(Q19=\"\",\"\",Q19*Parametros!$I$28)","v":{"v":362.67493877551027,"d":"363"}},{"$f":"IF(R19=\"\",\"\",R19*Parametros!$I$29)","v":{"v":1335.5893658333152,"d":"1336"}}]
["101500",10,{"$f":"IF(Padroes!C23=\"\",\"\",Padroes!C23)","v":1500},{"$f":"IF(Padroes!D23=\"\",\"\",Padroes!D23)","v":1900},1.6,{"v":8.200000000000001,"d":"8.20"},{"$f":"IF(Padroes!E23=\"\",\"\",Padroes!E23)","v":0.49},{"$f":"IF(E20=\"\",\"\",Padroes!S$8)","v":{"v":1,"d":"1.00"}},{"$f":"IF(E20=\"\",\"\",Padroes!S$9)","v":{"v":0.2,"d":"0.20"}},{"$f":"IF(E20=\"\",\"\",Padroes!S$10)","v":{"v":0.5,"d":"0.50"}},{"$f":"IF(Padroes!AL19=\"\",\"\",Padroes!AL19)","v":{"v":1.6,"d":"1.60"}},{"v":5036.573440000001,"d":"5037"},{"$f":"Padroes!AL$9","v":0.65},{"$f":"IF(E20=\"\",\"\",Padroes!$AL$23)","v":{"v":1,"d":"1.00"}},{"v":409.6000000000001,"d":"410"},{"v":474.8800000000001,"d":"475"},{"v":493.61469387755113,"d":"494"},{"v":1705.4769610603514,"d":"1705"},null,{"$f":"IF(Padroes!F24=\"\",\"\",Padroes!F24)","v":""},null,null,{"$f":"IF(O20=\"\",\"\",O20*Parametros!$I$26)","v":{"v":327.68000000000006,"d":"328"}},{"$f":"IF(P20=\"\",\"\",P20*Parametros!$I$27)","v":{"v":379.9040000000001,"d":"380"}},{"$f":"IF(Q20=\"\",\"\",Q20*Parametros!$I$28)","v":{"v":394.8917551020409,"d":"395"}},{"$f":"IF(R20=\"\",\"\",R20*Parametros!$I$29)","v":{"v":1364.3815688482812,"d":"1364"}}]
["",null,{"$f":"IF(Padroes!C24=\"\",\"\",Padroes!C24)","v":""},{"$f":"IF(Padroes!D24=\"\",\"\",Padroes!D24)","v":""},"","",{"$f":"IF(Padroes!E24=\"\",\"\",Padroes!E24)","v":""},{"$f":"IF(E21=\"\",\"\",Padroes!S$8)","v":""},{"$f":"IF(E21=\"\",\"\",Padroes!S$9)","v":""},{"$f":"IF(E21=\"\",\"\",Padroes!S$10)","v":""},{"$f":"IF(Padroes!AL20=\"\",\"\",Padroes!AL20)","v":{"v":1.8,"d":"1.80"}},"",{"$f":"Padroes!AL$9","v":0.65},{"$f":"IF(E21=\"\",\"\",Padroes!$AL$23)","v":""},"","","","",null,{"$f":"IF(Padroes!F25=\"\",\"\",Padroes!F25)","v":""},null,null,{"$f":"IF(O21=\"\",\"\",O21*Parametros!$I$26)","v":""},{"$f":"IF(P21=\"\",\"\",P21*Parametros!$I$27)","v":""},{"$f":"IF(Q21=\"\",\"\",Q21*Parametros!$I$28)","v":""},{"$f":"IF(R21=\"\",\"\",R21*Parametros!$I$29)","v":""}]
["",null,{"$f":"IF(Padroes!C25=\"\",\"\",Padroes!C25)","v":""},{"$f":"IF(Padroes!D25=\"\",\"\",Padroes!D25)","v":""},"","",{"$f":"IF(Padroes!E25=\"\",\"\",Padroes!E25)","v":""},{"$f":"IF(E22=\"\",\"\",Padroes!S$8)","v":""},{"$f":"IF(E22=\"\",\"\",Padroes!S$9)","v":""},{"$f":"IF(E22=\"\",\"\",Padroes!S$10)","v":""},{"$f":"IF(Padroes!AL21=\"\",\"\",Padroes!AL21)","v":{"v":1.8,"d":"1.80"}},"",{"$f":"Padroes!AL$9","v":0.65},{"$f":"IF(E22=\"\",\"\",Padroes!$AL$23)","v":""},"","","","",null,{"$f":"IF(Padroes!F26=\"\",\"\",Padroes!F26)","v":"C-14"},null,null,{"$f":"IF(O22=\"\",\"\",O22*Parametros!$I$26)","v":""},{"$f":"IF(P22=\"\",\"\",P22*Parametros!$I$27)","v":""},{"$f":"IF(Q22=\"\",\"\",Q22*Parametros!$I$28)","v":""},{"$f":"IF(R22=\"\",\"\",R22*Parametros!$I$29)","v":""}]
[10,10,{"$f":"IF(Engastamento_Profundo!F$4=10,Engastamento_Profundo!F$5, 0)","v":0},{"$f":"IF(Engastamento_Profundo!F$6=\"\",VLOOKUP(C23,Padroes!$C$18:$E$25,2,FALSE),Engastamento_Profundo!$F$6 )","v":{"$error":"#N/A"}},{"$f":"IF(Engastamento_Profundo!$F$8=\"\",1.6,Engastamento_Profundo!$F$8)","v":{"v":2.617400365452199,"d":"2.6"}},{"$f":"IF(Engastamento_Profundo!F$17=\"\",8.2,Engastamento_Profundo!F$17)","v":{"v":8.2,"d":"8.20"}},{"$f":"IF(Engastamento_Profundo!F$7=\"\",VLOOKUP(C23,Padroes!$C$18:$E$25,3,FALSE),Engastamento_Profundo!F$7)","v":{"$error":"#N/A"}},{"$f":"IF(Engastamento_Profundo!F$10=\"\",Padroes!$S$8,Engastamento_Profundo!F$10)","v":{"v":1,"d":"1.00"}},{"$f":"IF(Engastamento_Profundo!F$11=\"\",Padroes!$S$9,Engastamento_Profundo!F$11)","v":{"v":0.2,"d":"0.20"}},{"$f":"IF(Engastamento_Profundo!F$12=\"\",Padroes!$S$10,Engastamento_Profundo!F$12)","v":{"v":0.5,"d":"0.50"}},{"$f":"IF(Engastamento_Profundo!F$14=\"\",VLOOKUP(C23,$C$15:$K$22,9,FALSE),Engastamento_Profundo!F$14)","v":{"$error":"#N/A"}},{"$f":"D23+(3.1416*K23^2*M23/4*2400)","v":{"$error":"#N/A"}},{"$f":"Padroes!$AL$9","v":0.65},{"v":1,"d":"1.00"},{"$error":"#N/A"},{"$error":"#N/A"},{"$error":"#N/A"},{"$error":"#N/A"},null,{"$f":"IF(Padroes!F27=\"\",\"\",Padroes!F27)","v":"C-17"},null,null,{"$f":"IF(O23=\"\",\"\",O23*Parametros!$I$26)","v":{"$error":"#N/A"}},{"$f":"IF(P23=\"\",\"\",P23*Parametros!$I$27)","v":{"$error":"#N/A"}},{"$f":"IF(Q23=\"\",\"\",Q23*Parametros!$I$28)","v":{"$error":"#N/A"}},{"$f":"IF(R23=\"\",\"\",R23*Parametros!$I$29)","v":{"$error":"#N/A"}}]
["11200",11,{"$f":"IF(Padroes!C26=\"\",\"\",Padroes!C26)","v":200},{"$f":"IF(Padroes!D26=\"\",\"\",Padroes!D26)","v":870},1.7000000000000002,{"v":9.100000000000001,"d":"9.10"},{"$f":"IF(Padroes!E26=\"\",\"\",Padroes!E26)","v":0.36},{"$f":"IF(E24=\"\",\"\",Padroes!S$8)","v":{"v":1,"d":"1.00"}},{"$f":"IF(E24=\"\",\"\",Padroes!S$9)","v":{"v":0.2,"d":"0.20"}},{"$f":"IF(E24=\"\",\"\",Padroes!S$10)","v":{"v":0.5,"d":"0.50"}},{"$f":"IF(Padroes!AL13=\"\",\"\",Padroes!AL13)","v":{"v":0.6,"d":"0.60"}},{"v":1345.00992,"d":"1345"},{"$f":"Padroes!AL$10","v":{"v":0.7,"d":"0.70"}},{"$f":"IF(E24=\"\",\"\",Padroes!$AL$23)","v":{"v":1,"d":"1.00"}},{"v":327.5333333333334,"d":"328"},{"v":407.8067001675043,"d":"408"},{"v":430.5622557230599,"d":"431"},{"v":575.805618416056,"d":"576"},11,{"$f":"IF(Padroes!F28=\"\",\"\",Padroes!F28)","v":"C-17"},null,null,{"$f":"IF(O24=\"\",\"\",O24*Parametros!$I$26)","v":{"v":262.02666666666676,"d":"262"}},{"$f":"IF(P24=\"\",\"\",P24*Parametros!$I$27)","v":{"v":326.2453601340035,"d":"326"}},{"$f":"IF(Q24=\"\",\"\",Q24*Parametros!$I$28)","v":{"v":344.4498045784479,"d":"344"}},{"$f":"IF(R24=\"\",\"\",R24*Parametros!$I$29)","v":{"v":460.6444947328448,"d":"461"}}]
["11300",11,{"$f":"IF(Padroes!C27=\"\",\"\",Padroes!C27)","v":300},{"$f":"IF(Padroes!D27=\"\",\"\",Padroes!D27)","v":1030},1.7000000000000002,{"v":9.100000000000001,"d":"9.10"},{"$f":"IF(Padroes!E27=\"\",\"\",Padroes!E27)","v":0.39},{"$f":"IF(E25=\"\",\"\",Padroes!S$8)","v":{"v":1,"d":"1.00"}},{"$f":"IF(E25=\"\",\"\",Padroes!S$9)","v":{"v":0.2,"d":"0.20"}},{"$f":"IF(E25=\"\",\"\",Padroes!S$10)","v":{"v":0.5,"d":"0.50"}},{"$f":"IF(Padroes!AL15=\"\",\"\",Padroes!AL15)","v":{"v":0.7,"d":"0.70"}},{"v":1676.54128,"d":"1677"},{"$f":"Padroes!AL$10","v":{"v":0.7,"d":"0.70"}},{"$f":"IF(E25=\"\",\"\",Padroes!$AL$23)","v":{"v":1,"d":"1.00"}},{"v":354.82777777777784,"d":"355"},{"v":431.338330541597,"d":"431"},{"v":453.02721943048584,"d":"453"},{"v":681.2881211515202,"d":"681"},null,{"$f":"IF(Padroes!F29=\"\",\"\",Padroes!F29)","v":"C-19"},null,null,{"$f":"IF(O25=\"\",\"\",O25*Parametros!$I$26)","v":{"v":283.8622222222223,"d":"284"}},{"$f":"IF(P25=\"\",\"\",P25*Parametros!$I$27)","v":{"v":345.0706644332776,"d":"345"}},{"$f":"IF(Q25=\"\",\"\",Q25*Parametros!$I$28)","v":{"v":362.4217755443887,"d":"362"}},{"$f":"IF(R25=\"\",\"\",R25*Parametros!$I$29)","v":{"v":545.0304969212161,"d":"545"}}]
["11400",11,{"$f":"IF(Padroes!C28=\"\",\"\",Padroes!C28)","v":400},{"$f":"IF(Padroes!D28=\"\",\"\",Padroes!D28)","v":1030},1.7000000000000002,{"v":9.100000000000001,"d":"9.10"},{"$f":"IF(Padroes!E28=\"\",\"\",Padroes!E28)","v":0.39},{"$f":"IF(E26=\"\",\"\",Padroes!S$8)","v":{"v":1,"d":"1.00"}},{"$f":"IF(E26=\"\",\"\",Padroes!S$9)","v":{"v":0.2,"d":"0.20"}},{"$f":"IF(E26=\"\",\"\",Padroes!S$10)","v":{"v":0.5,"d":"0.50"}},{"$f":"IF(Padroes!AL16=\"\",\"\",Padroes!AL16)","v":{"v":0.9,"d":"0.90"}},{"v":2098.77232,"d":"2099"},{"$f":"Padroes!AL$10","v":{"v":0.7,"d":"0.70"}},{"$f":"IF(E26=\"\",\"\",Padroes!$AL$23)","v":{"v":1,"d":"1.00"}},{"v":354.82777777777784,"d":"355"},{"v":431.338330541597,"d":"431"},{"v":453.02721943048584,"d":"453"},{"v":894.1975565399227,"d":"894"},null,{"$f":"IF(Padroes!F30=\"\",\"\",Padroes!F30)","v":"C-23"},null,null,{"$f":"IF(O26=\"\",\"\",O26*Parametros!$I$26)","v":{"v":283.8622222222223,"d":"284"}},{"$f":"IF(P26=\"\",\"\",P26*Parametros!$I$27)","v":{"v":345.0706644332776,"d":"345"}},{"$f":"IF(Q26=\"\",\"\",Q26*Parametros!$I$28)","v":{"v":362.4217755443887,"d":"362"}},{"$f":"IF(R26=\"\",\"\",R26*Parametros!$I$29)","v":{"v":715.3580452319383,"d":"715"}}]
["11600",11,{"$f":"IF(Padroes!C29=\"\",\"\",Padroes!C29)","v":600},{"$f":"IF(Padroes!D29=\"\",\"\",Padroes!D29)","v":1260},1.7000000000000002,{"v":9.100000000000001,"d":"9.10"},{"$f":"IF(Padroes!E29=\"\",\"\",Padroes!E29)","v":0.41},{"$f":"IF(E27=\"\",\"\",Padroes!S$8)","v":{"v":1,"d":"1.00"}},{"$f":"IF(E27=\"\",\"\",Padroes!S$9)","v":{"v":0.2,"d":"0.20"}},{"$f":"IF(E27=\"\",\"\",Padroes!S$10)","v":{"v":0.5,"d":"0.50"}},{"$f":"IF(Padroes!AL17=\"\",\"\",Padroes!AL17)","v":{"v":1.3,"d":"1.30"}},{"v":3489.90768,"d":"3490"},{"$f":"Padroes!AL$10","v":{"v":0.7,"d":"0.70"}},{"$f":"IF(E27=\"\",\"\",Padroes!$AL$23)","v":{"v":1,"d":"1.00"}},{"v":373.0240740740741,"d":"373"},{"v":447.0260841243254,"d":"447"},{"v":468.00386190210315,"d":"468"},{"v":1369.6671300951132,"d":"1370"},null,{"$f":"IF(Padroes!F31=\"\",\"\",Padroes!F31)","v":"C-29"},null,null,{"$f":"IF(O27=\"\",\"\",O27*Parametros!$I$26)","v":{"v":298.4192592592593,"d":"298"}},{"$f":"IF(P27=\"\",\"\",P27*Parametros!$I$27)","v":{"v":357.6208672994603,"d":"358"}},{"$f":"IF(Q27=\"\",\"\",Q27*Parametros!$I$28)","v":{"v":374.40308952168255,"d":"374"}},{"$f":"IF(R27=\"\",\"\",R27*Parametros!$I$29)","v":{"v":1095.7337040760906,"d":"1096"}}]
["111000",11,{"$f":"IF(Padroes!C30=\"\",\"\",Padroes!C30)","v":1000},{"$f":"IF(Padroes!D30=\"\",\"\",Padroes!D30)","v":1600},1.7000000000000002,{"v":9.100000000000001,"d":"9.10"},{"$f":"IF(Padroes!E30=\"\",\"\",Padroes!E30)","v":0.45},{"$f":"IF(E28=\"\",\"\",Padroes!S$8)","v":{"v":1,"d":"1.00"}},{"$f":"IF(E28=\"\",\"\",Padroes!S$9)","v":{"v":0.2,"d":"0.20"}},{"$f":"IF(E28=\"\",\"\",Padroes!S$10)","v":{"v":0.5,"d":"0.50"}},{"$f":"IF(Padroes!AL18=\"\",\"\",Padroes!AL18)","v":{"v":1.6,"d":"1.60"}},{"v":4977.848320000001,"d":"4978"},{"$f":"Padroes!AL$10","v":{"v":0.7,"d":"0.70"}},{"$f":"IF(E28=\"\",\"\",Padroes!$AL$23)","v":{"v":1,"d":"1.00"}},{"v":409.4166666666667,"d":"409"},{"v":478.40159128978223,"d":"478"},{"v":497.9571468453378,"d":"498"},{"v":1786.1940516405452,"d":"1786"},null,{"$f":"IF(Padroes!F32=\"\",\"\",Padroes!F32)","v":""},null,null,{"$f":"IF(O28=\"\",\"\",O28*Parametros!$I$26)","v":{"v":327.53333333333336,"d":"328"}},{"$f":"IF(P28=\"\",\"\",P28*Parametros!$I$27)","v":{"v":382.72127303182583,"d":"383"}},{"$f":"IF(Q28=\"\",\"\",Q28*Parametros!$I$28)","v":{"v":398.3657174762702,"d":"398"}},{"$f":"IF(R28=\"\",\"\",R28*Parametros!$I$29)","v":{"v":1428.9552413124363,"d":"1429"}}]
["111500",11,{"$f":"IF(Padroes!C31=\"\",\"\",Padroes!C31)","v":1500},{"$f":"IF(Padroes!D31=\"\",\"\",Padroes!D31)","v":2100},1.7000000000000002,{"v":9.100000000000001,"d":"9.10"},{"$f":"IF(Padroes!E31=\"\",\"\",Padroes!E31)","v":0.51},{"$f":"IF(E29=\"\",\"\",Padroes!S$8)","v":{"v":1,"d":"1.00"}},{"$f":"IF(E29=\"\",\"\",Padroes!S$9)","v":{"v":0.2,"d":"0.20"}},{"$f":"IF(E29=\"\",\"\",Padroes!S$10)","v":{"v":0.5,"d":"0.50"}},{"$f":"IF(Padroes!AL19=\"\",\"\",Padroes!AL19)","v":{"v":1.6,"d":"1.60"}},{"v":5477.848320000001,"d":"5478"},{"$f":"Padroes!AL$10","v":{"v":0.7,"d":"0.70"}},{"$f":"IF(E29=\"\",\"\",Padroes!$AL$23)","v":{"v":1,"d":"1.00"}},{"v":464.00555555555565,"d":"464"},{"v":525.4648520379677,"d":"525"},{"v":542.8870742601899,"d":"543"},{"v":1815.1634215170884,"d":"1815"},null,{"$f":"IF(Padroes!F33=\"\",\"\",Padroes!F33)","v":""},null,null,{"$f":"IF(O29=\"\",\"\",O29*Parametros!$I$26)","v":{"v":371.20444444444456,"d":"371"}},{"$f":"IF(P29=\"\",\"\",P29*Parametros!$I$27)","v":{"v":420.3718816303742,"d":"420"}},{"$f":"IF(Q29=\"\",\"\",Q29*Parametros!$I$28)","v":{"v":434.30965940815196,"d":"434"}},{"$f":"IF(R29=\"\",\"\",R29*Parametros!$I$29)","v":{"v":1452.1307372136707,"d":"1452"}}]
["",null,{"$f":"IF(Padroes!C32=\"\",\"\",Padroes!C32)","v":""},{"$f":"IF(Padroes!D32=\"\",\"\",Padroes!D32)","v":""},"","",{"$f":"IF(Padroes!E32=\"\",\"\",Padroes!E32)","v":""},{"$f":"IF(E30=\"\",\"\",Padroes!S$8)","v":""},{"$f":"IF(E30=\"\",\"\",Padroes!S$9)","v":""},{"$f":"IF(E30=\"\",\"\",Padroes!S$10)","v":""},{"$f":"IF(Padroes!AL20=\"\",\"\",Padroes!AL20)","v":{"v":1.8,"d":"1.80"}},"",{"$f":"Padroes!AL$10","v":{"v":0.7,"d":"0.70"}},{"$f":"IF(E30=\"\",\"\",Padroes!$AL$23)","v":""},"","","","",null,{"$f":"IF(Padroes!F34=\"\",\"\",Padroes!F34)","v":"C-17"},null,null,{"$f":"IF(O30=\"\",\"\",O30*Parametros!$I$26)","v":""},{"$f":"IF(P30=\"\",\"\",P30*Parametros!$I$27)","v":""},{"$f":"IF(Q30=\"\",\"\",Q30*Parametros!$I$28)","v":""},{"$f":"IF(R30=\"\",\"\",R30*Parametros!$I$29)","v":""}]
["",null,{"$f":"IF(Padroes!C33=\"\",\"\",Padroes!C33)","v":""},{"$f":"IF(Padroes!D33=\"\",\"\",Padroes!D33)","v":""},"","",{"$f":"IF(Padroes!E33=\"\",\"\",Padroes!E33)","v":""},{"$f":"IF(E31=\"\",\"\",Padroes!S$8)","v":""},{"$f":"IF(E31=\"\",\"\",Padroes!S$9)","v":""},{"$f":"IF(E31=\"\",\"\",Padroes!S$10)","v":""},{"$f":"IF(Padroes!AL21=\"\",\"\",Padroes!AL21)","v":{"v":1.8,"d":"1.80"}},"",{"$f":"Padroes!AL$10","v":{"v":0.7,"d":"0.70"}},{"$f":"IF(E31=\"\",\"\",Padroes!$AL$23)","v":""},"","","","",null,{"$f":"IF(Padroes!F35=\"\",\"\",Padroes!F35)","v":"C-17"},null,null,{"$f":"IF(O31=\"\",\"\",O31*Parametros!$I$26)","v":""},{"$f":"IF(P31=\"\",\"\",P31*Parametros!$I$27)","v":""},{"$f":"IF(Q31=\"\",\"\",Q31*Parametros!$I$28)","v":""},{"$f":"IF(R31=\"\",\"\",R31*Parametros!$I$29)","v":""}]
[11,11,{"$f":"IF(Engastamento_Profundo!F$4=11,Engastamento_Profundo!F$5, 0)","v":0},{"$f":"IF(Engastamento_Profundo!F$6=\"\",VLOOKUP(C32,Padroes!$C$26:$D$33,2,FALSE),Engastamento_Profundo!$F$6 )","v":{"$error":"#N/A"}},{"$f":"IF(Engastamento_Profundo!$F$8=\"\",1.7,Engastamento_Profundo!$F$8)","v":{"v":2.617400365452199,"d":"2.6"}},{"$f":"IF(Engastamento_Profundo!F$17=\"\",9.1,Engastamento_Profundo!F$17)","v":{"v":9.1,"d":"9.10"}},{"$f":"IF(Engastamento_Profundo!F$7=\"\",VLOOKUP(C32,Padroes!$C$26:$E$33,3,FALSE),Engastamento_Profundo!F$7)","v":{"$error":"#N/A"}},{"$f":"IF(Engastamento_Profundo!F$10=\"\",Padroes!$S$8,Engastamento_Profundo!F$10)","v":{"v":1,"d":"1.00"}},{"$f":"IF(Engastamento_Profundo!F$11=\"\",Padroes!$S$9,Engastamento_Profundo!F$11)","v":{"v":0.2,"d":"0.20"}},{"$f":"IF(Engastamento_Profundo!F$12=\"\",Padroes!$S$10,Engastamento_Profundo!F$12)","v":{"v":0.5,"d":"0.50"}},{"$f":"IF(Engastamento_Profundo!F$14=\"\",VLOOKUP(C32,$C$24:$K$31,9,FALSE),Engastamento_Profundo!F$14)","v":{"$error":"#N/A"}},{"$f":"D32+(3.1416*K32^2*M32/4*2400)","v":{"$error":"#N/A"}},{"$f":"Padroes!$AL$10","v":{"v":0.7,"d":"0.70"}},{"v":1,"d":"1.00"},{"$error":"#N/A"},{"$error":"#N/A"},{"$error":"#N/A"},{"$error":"#N/A"},null,{"$f":"IF(Padroes!F36=\"\",\"\",Padroes!F36)","v":"C-19"},null,null,{"$f":"IF(O32=\"\",\"\",O32*Parametros!$I$26)","v":{"$error":"#N/A"}},{"$f":"IF(P32=\"\",\"\",P32*Parametros!$I$27)","v":{"$error":"#N/A"}},{"$f":"IF(Q32=\"\",\"\",Q32*Parametros!$I$28)","v":{"$error":"#N/A"}},{"$f":"IF(R32=\"\",\"\",R32*Parametros!$I$29)","v":{"$error":"#N/A"}}]
["12300",12,{"$f":"IF(Padroes!C34=\"\",\"\",Padroes!C34)","v":300},{"$f":"IF(Padroes!D34=\"\",\"\",Padroes!D34)","v":1130},1.8000000000000003,{"v":10,"d":"10.00"},{"$f":"IF(Padroes!E34=\"\",\"\",Padroes!E34)","v":0.41},{"$f":"IF(E33=\"\",\"\",Padroes!S$8)","v":{"v":1,"d":"1.00"}},{"$f":"IF(E33=\"\",\"\",Padroes!S$9)","v":{"v":0.2,"d":"0.20"}},{"$f":"IF(E33=\"\",\"\",Padroes!S$10)","v":{"v":0.5,"d":"0.50"}},{"$f":"IF(Padroes!AL13=\"\",\"\",Padroes!AL13)","v":{"v":0.6,"d":"0.60"}},{"v":1638.9392,"d":"1639"},{"$f":"Padroes!AL$11","v":0.75},{"$f":"IF(E33=\"\",\"\",Padroes!$AL$23)","v":{"v":1,"d":"1.00"}},{"v":405.2745762711866,"d":"405"},{"v":478.02320012439765,"d":"478"},{"v":498.4232001243977,"d":"498"},{"v":624.6354723115007,"d":"625"},12,{"$f":"IF(Padroes!F37=\"\",\"\",Padroes!F37)","v":"C-23"},null,null,{"$f":"IF(O33=\"\",\"\",O33*Parametros!$I$26)","v":{"v":324.2196610169493,"d":"324"}},{"$f":"IF(P33=\"\",\"\",P33*Parametros!$I$27)","v":{"v":382.4185600995181,"d":"382"}},{"$f":"IF(Q33=\"\",\"\",Q33*Parametros!$I$28)","v":{"v":398.73856009951817,"d":"399"}},{"$f":"IF(R33=\"\",\"\",R33*Parametros!$I$29)","v":{"v":499.7083778492006,"d":"500"}}]
["12400",12,{"$f":"IF(Padroes!C35=\"\",\"\",Padroes!C35)","v":400},{"$f":"IF(Padroes!D35=\"\",\"\",Padroes!D35)","v":1130},1.8000000000000003,{"v":10,"d":"10.00"},{"$f":"IF(Padroes!E35=\"\",\"\",Padroes!E35)","v":0.41},{"$f":"IF(E34=\"\",\"\",Padroes!S$8)","v":{"v":1,"d":"1.00"}},{"$f":"IF(E34=\"\",\"\",Padroes!S$9)","v":{"v":0.2,"d":"0.20"}},{"$f":"IF(E34=\"\",\"\",Padroes!S$10)","v":{"v":0.5,"d":"0.50"}},{"$f":"IF(Padroes!AL15=\"\",\"\",Padroes!AL15)","v":{"v":0.7,"d":"0.70"}},{"v":1822.7228,"d":"1823"},{"$f":"Padroes!AL$11","v":0.75},{"$f":"IF(E34=\"\",\"\",Padroes!$AL$23)","v":{"v":1,"d":"1.00"}},{"v":405.2745762711866,"d":"405"},{"v":478.02320012439765,"d":"478"},{"v":498.4232001243977,"d":"498"},{"v":735.2702092634713,"d":"735"},null,{"$f":"IF(Padroes!F38=\"\",\"\",Padroes!F38)","v":"C-29"},null,null,{"$f":"IF(O34=\"\",\"\",O34*Parametros!$I$26)","v":{"v":324.2196610169493,"d":"324"}},{"$f":"IF(P34=\"\",\"\",P34*Parametros!$I$27)","v":{"v":382.4185600995181,"d":"382"}},{"$f":"IF(Q34=\"\",\"\",Q34*Parametros!$I$28)","v":{"v":398.73856009951817,"d":"399"}},{"$f":"IF(R34=\"\",\"\",R34*Parametros!$I$29)","v":{"v":588.2161674107771,"d":"588"}}]
["12600",12,{"$f":"IF(Padroes!C36=\"\",\"\",Padroes!C36)","v":600},{"$f":"IF(Padroes!D36=\"\",\"\",Padroes!D36)","v":1440},1.8000000000000003,{"v":10,"d":"10.00"},{"$f":"IF(Padroes!E36=\"\",\"\",Padroes!E36)","v":0.43},{"$f":"IF(E35=\"\",\"\",Padroes!S$8)","v":{"v":1,"d":"1.00"}},{"$f":"IF(E35=\"\",\"\",Padroes!S$9)","v":{"v":0.2,"d":"0.20"}},{"$f":"IF(E35=\"\",\"\",Padroes!S$10)","v":{"v":0.5,"d":"0.50"}},{"$f":"IF(Padroes!AL16=\"\",\"\",Padroes!AL16)","v":{"v":0.9,"d":"0.90"}},{"v":2585.1132,"d":"2585"},{"$f":"Padroes!AL$11","v":0.75},{"$f":"IF(E35=\"\",\"\",Padroes!$AL$23)","v":{"v":1,"d":"1.00"}},{"v":425.0440677966103,"d":"425"},{"v":495.3266366039498,"d":"495"},{"v":515.035111180221,"d":"515"},{"v":971.4315040004667,"d":"971"},null,{"$f":"IF(Padroes!F39=\"\",\"\",Padroes!F39)","v":"C-33"},null,null,{"$f":"IF(O35=\"\",\"\",O35*Parametros!$I$26)","v":{"v":340.03525423728826,"d":"340"}},{"$f":"IF(P35=\"\",\"\",P35*Parametros!$I$27)","v":{"v":396.26130928315985,"d":"396"}},{"$f":"IF(Q35=\"\",\"\",Q35*Parametros!$I$28)","v":{"v":412.0280889441768,"d":"412"}},{"$f":"IF(R35=\"\",\"\",R35*Parametros!$I$29)","v":{"v":777.1452032003734,"d":"777"}}]
["121000",12,{"$f":"IF(Padroes!C37=\"\",\"\",Padroes!C37)","v":1000},{"$f":"IF(Padroes!D37=\"\",\"\",Padroes!D37)","v":1770},1.8000000000000003,{"v":10,"d":"10.00"},{"$f":"IF(Padroes!E37=\"\",\"\",Padroes!E37)","v":0.47},{"$f":"IF(E36=\"\",\"\",Padroes!S$8)","v":{"v":1,"d":"1.00"}},{"$f":"IF(E36=\"\",\"\",Padroes!S$9)","v":{"v":0.2,"d":"0.20"}},{"$f":"IF(E36=\"\",\"\",Padroes!S$10)","v":{"v":0.5,"d":"0.50"}},{"$f":"IF(Padroes!AL17=\"\",\"\",Padroes!AL17)","v":{"v":1.3,"d":"1.30"}},{"v":4159.1867999999995,"d":"4159"},{"$f":"Padroes!AL$11","v":0.75},{"$f":"IF(E36=\"\",\"\",Padroes!$AL$23)","v":{"v":1,"d":"1.00"}},{"v":464.5830508474578,"d":"465"},{"v":529.9335095630541,"d":"530"},{"v":548.2589332918677,"d":"548"},{"v":1484.052841178107,"d":"1484"},null,{"$f":"IF(Padroes!F40=\"\",\"\",Padroes!F40)","v":"C-43"},null,null,{"$f":"IF(O36=\"\",\"\",O36*Parametros!$I$26)","v":{"v":371.66644067796625,"d":"372"}},{"$f":"IF(P36=\"\",\"\",P36*Parametros!$I$27)","v":{"v":423.94680765044336,"d":"424"}},{"$f":"IF(Q36=\"\",\"\",Q36*Parametros!$I$28)","v":{"v":438.6071466334942,"d":"439"}},{"$f":"IF(R36=\"\",\"\",R36*Parametros!$I$29)","v":{"v":1187.2422729424857,"d":"1187"}}]
["121500",12,{"$f":"IF(Padroes!C38=\"\",\"\",Padroes!C38)","v":1500},{"$f":"IF(Padroes!D38=\"\",\"\",Padroes!D38)","v":2450},1.8000000000000003,{"v":10,"d":"10.00"},{"$f":"IF(Padroes!E38=\"\",\"\",Padroes!E38)","v":0.53},{"$f":"IF(E37=\"\",\"\",Padroes!S$8)","v":{"v":1,"d":"1.00"}},{"$f":"IF(E37=\"\",\"\",Padroes!S$9)","v":{"v":0.2,"d":"0.20"}},{"$f":"IF(E37=\"\",\"\",Padroes!S$10)","v":{"v":0.5,"d":"0.50"}},{"$f":"IF(Padroes!AL18=\"\",\"\",Padroes!AL18)","v":{"v":1.6,"d":"1.60"}},{"v":6069.123200000001,"d":"6069"},{"$f":"Padroes!AL$11","v":0.75},{"$f":"IF(E37=\"\",\"\",Padroes!$AL$23)","v":{"v":1,"d":"1.00"}},{"v":523.891525423729,"d":"524"},{"v":581.8438190017107,"d":"582"},{"v":598.0946664593379,"d":"598"},{"v":1940.9995157955118,"d":"1941"},null,{"$f":"IF(Padroes!F41=\"\",\"\",Padroes!F41)","v":""},null,null,{"$f":"IF(O37=\"\",\"\",O37*Parametros!$I$26)","v":{"v":419.11322033898324,"d":"419"}},{"$f":"IF(P37=\"\",\"\",P37*Parametros!$I$27)","v":{"v":465.4750552013686,"d":"465"}},{"$f":"IF(Q37=\"\",\"\",Q37*Parametros!$I$28)","v":{"v":478.4757331674703,"d":"478"}},{"$f":"IF(R37=\"\",\"\",R37*Parametros!$I$29)","v":{"v":1552.7996126364096,"d":"1553"}}]
["122000",12,{"$f":"IF(Padroes!C39=\"\",\"\",Padroes!C39)","v":2000},{"$f":"IF(Padroes!D39=\"\",\"\",Padroes!D39)","v":3000},1.8000000000000003,{"v":10,"d":"10.00"},{"$f":"IF(Padroes!E39=\"\",\"\",Padroes!E39)","v":0.57},{"$f":"IF(E38=\"\",\"\",Padroes!S$8)","v":{"v":1,"d":"1.00"}},{"$f":"IF(E38=\"\",\"\",Padroes!S$9)","v":{"v":0.2,"d":"0.20"}},{"$f":"IF(E38=\"\",\"\",Padroes!S$10)","v":{"v":0.5,"d":"0.50"}},{"$f":"IF(Padroes!AL19=\"\",\"\",Padroes!AL19)","v":{"v":1.6,"d":"1.60"}},{"v":6619.123200000001,"d":"6619"},{"$f":"Padroes!AL$11","v":0.75},{"$f":"IF(E38=\"\",\"\",Padroes!$AL$23)","v":{"v":1,"d":"1.00"}},{"v":563.4305084745765,"d":"563"},{"v":616.4506919608151,"d":"616"},{"v":631.3184885709846,"d":"631"},{"v":1968.4309628011615,"d":"1968"},null,{"$f":"IF(Padroes!F42=\"\",\"\",Padroes!F42)","v":"C-17"},null,null,{"$f":"IF(O38=\"\",\"\",O38*Parametros!$I$26)","v":{"v":450.74440677966123,"d":"451"}},{"$f":"IF(P38=\"\",\"\",P38*Parametros!$I$27)","v":{"v":493.1605535686521,"d":"493"}},{"$f":"IF(Q38=\"\",\"\",Q38*Parametros!$I$28)","v":{"v":505.05479085678775,"d":"505"}},{"$f":"IF(R38=\"\",\"\",R38*Parametros!$I$29)","v":{"v":1574.7447702409293,"d":"1575"}}]
["123000",12,{"$f":"IF(Padroes!C40=\"\",\"\",Padroes!C40)","v":3000},{"$f":"IF(Padroes!D40=\"\",\"\",Padroes!D40)","v":4150},1.8000000000000003,{"v":10,"d":"10.00"},{"$f":"IF(Padroes!E40=\"\",\"\",Padroes!E40)","v":0.67},{"$f":"IF(E39=\"\",\"\",Padroes!S$8)","v":{"v":1,"d":"1.00"}},{"$f":"IF(E39=\"\",\"\",Padroes!S$9)","v":{"v":0.2,"d":"0.20"}},{"$f":"IF(E39=\"\",\"\",Padroes!S$10)","v":{"v":0.5,"d":"0.50"}},{"$f":"IF(Padroes!AL20=\"\",\"\",Padroes!AL20)","v":{"v":1.8,"d":"1.80"}},{"v":8730.4528,"d":"8730"},{"$f":"Padroes!AL$11","v":0.75},{"$f":"IF(E39=\"\",\"\",Padroes!$AL$23)","v":{"v":1,"d":"1.00"}},{"v":662.2779661016951,"d":"662"},{"v":702.9678743585758,"d":"703"},{"v":714.3780438501012,"d":"714"},{"v":2349.4415587030417,"d":"2349"},null,{"$f":"IF(Padroes!F43=\"\",\"\",Padroes!F43)","v":"C-17"},null,null,{"$f":"IF(O39=\"\",\"\",O39*Parametros!$I$26)","v":{"v":529.8223728813562,"d":"530"}},{"$f":"IF(P39=\"\",\"\",P39*Parametros!$I$27)","v":{"v":562.3742994868607,"d":"562"}},{"$f":"IF(Q39=\"\",\"\",Q39*Parametros!$I$28)","v":{"v":571.502435080081,"d":"572"}},{"$f":"IF(R39=\"\",\"\",R39*Parametros!$I$29)","v":{"v":1879.5532469624334,"d":"1880"}}]
["",{"$f":"IF(Engastamento_Profundo!$F$4=12,Engastamento_Profundo!$F$4,\"\")","v":""},{"$f":"IF(Padroes!C41=\"\",\"\",Padroes!C41)","v":""},{"$f":"IF(Padroes!D41=\"\",\"\",Padroes!D41)","v":""},"","",{"$f":"IF(Padroes!E41=\"\",\"\",Padroes!E41)","v":""},{"$f":"IF(E40=\"\",\"\",Padroes!S$8)","v":""},{"$f":"IF(E40=\"\",\"\",Padroes!S$9)","v":""},{"$f":"IF(E40=\"\",\"\",Padroes!S$10)","v":""},{"$f":"IF(Padroes!AL21=\"\",\"\",Padroes!AL21)","v":{"v":1.8,"d":"1.80"}},"",{"$f":"Padroes!AL$11","v":0.75},{"$f":"IF(E40=\"\",\"\",Padroes!$AL$23)","v":""},"","","","",null,{"$f":"IF(Padroes!F44=\"\",\"\",Padroes!F44)","v":"C-19"},null,null,{"$f":"IF(O40=\"\",\"\",O40*Parametros!$I$26)","v":""},{"$f":"IF(P40=\"\",\"\",P40*Parametros!$I$27)","v":""},{"$f":"IF(Q40=\"\",\"\",Q40*Parametros!$I$28)","v":""},{"$f":"IF(R40=\"\",\"\",R40*Parametros!$I$29)","v":""}]
[12,12,{"$f":"IF(Engastamento_Profundo!F$4=12,Engastamento_Profundo!F$5, 0)","v":0},{"$f":"IF(Engastamento_Profundo!F$6=\"\",VLOOKUP(C41,Padroes!$C$34:$E$41,2,FALSE),Engastamento_Profundo!$F$6 )","v":{"$error":"#N/A"}},{"$f":"IF(Engastamento_Profundo!$F$8=\"\",1.8,Engastamento_Profundo!$F$8)","v":{"v":2.617400365452199,"d":"2.6"}},{"$f":"IF(Engastamento_Profundo!F$17=\"\",10,Engastamento_Profundo!F$17)","v":{"v":10,"d":"10.00"}},{"$f":"IF(Engastamento_Profundo!F$7=\"\",VLOOKUP(C41,Padroes!C34:E41,3,FALSE),Engastamento_Profundo!F$7)","v":{"$error":"#N/A"}},{"$f":"IF(Engastamento_Profundo!F$10=\"\",Padroes!$S$8,Engastamento_Profundo!F$10)","v":{"v":1,"d":"1.00"}},{"$f":"IF(Engastamento_Profundo!F$11=\"\",Padroes!$S$9,Engastamento_Profundo!F$11)","v":{"v":0.2,"d":"0.20"}},{"$f":"IF(Engastamento_Profundo!F$12=\"\",Padroes!$S$10,Engastamento_Profundo!F$12)","v":{"v":0.5,"d":"0.50"}},{"$f":"IF(Engastamento_Profundo!F$14=\"\",VLOOKUP(C41,$C$33:$K$40,9,FALSE),Engastamento_Profundo!F$14)","v":{"$error":"#N/A"}},{"$f":"D41+(3.1416*K41^2*M41/4*2400)","v":{"$error":"#N/A"}},{"$f":"Padroes!$AL$11","v":0.75},{"v":1,"d":"1.00"},{"$error":"#N/A"},{"$error":"#N/A"},{"$error":"#N/A"},{"$error":"#N/A"},null,{"$f":"IF(Padroes!F45=\"\",\"\",Padroes!F45)","v":"C-23"},null,null,{"$f":"IF(O41=\"\",\"\",O41*Parametros!$I$26)","v":{"$error":"#N/A"}},{"$f":"IF(P41=\"\",\"\",P41*Parametros!$I$27)","v":{"$error":"#N/A"}},{"$f":"IF(Q41=\"\",\"\",Q41*Parametros!$I$28)","v":{"$error":"#N/A"}},{"$f":"IF(R41=\"\",\"\",R41*Parametros!$I$29)","v":{"$error":"#N/A"}}]
["13300",13,{"$f":"IF(Padroes!C42=\"\",\"\",Padroes!C42)","v":300},{"$f":"IF(Padroes!D42=\"\",\"\",Padroes!D42)","v":1280},1.9,{"v":10.9,"d":"10.90"},{"$f":"IF(Padroes!E42=\"\",\"\",Padroes!E42)","v":0.43},{"$f":"IF(E42=\"\",\"\",Padroes!S$8)","v":{"v":1,"d":"1.00"}},{"$f":"IF(E42=\"\",\"\",Padroes!S$9)","v":{"v":0.2,"d":"0.20"}},{"$f":"IF(E42=\"\",\"\",Padroes!S$10)","v":{"v":0.5,"d":"0.50"}},{"$f":"IF(Padroes!AL13=\"\",\"\",Padroes!AL13)","v":{"v":0.6,"d":"0.60"}},{"v":1822.86848,"d":"1823"},{"$f":"Padroes!AL$12","v":{"v":0.8,"d":"0.80"}},{"$f":"IF(E42=\"\",\"\",Padroes!$AL$23)","v":{"v":1,"d":"1.00"}},{"v":460.8390624999999,"d":"461"},{"v":530.10488528481,"d":"530"},{"v":549.34238528481,"d":"549"},{"v":674.2170581410502,"d":"674"},13,{"$f":"IF(Padroes!F46=\"\",\"\",Padroes!F46)","v":"C-29"},null,null,{"$f":"IF(O42=\"\",\"\",O42*Parametros!$I$26)","v":{"v":368.67124999999993,"d":"369"}},{"$f":"IF(P42=\"\",\"\",P42*Parametros!$I$27)","v":{"v":424.08390822784804,"d":"424"}},{"$f":"IF(Q42=\"\",\"\",Q42*Parametros!$I$28)","v":{"v":439.473908227848,"d":"439"}},{"$f":"IF(R42=\"\",\"\",R42*Parametros!$I$29)","v":{"v":539.3736465128402,"d":"539"}}]
["13400",13,{"$f":"IF(Padroes!C43=\"\",\"\",Padroes!C43)","v":400},{"$f":"IF(Padroes!D43=\"\",\"\",Padroes!D43)","v":1280},1.9,{"v":10.9,"d":"10.90"},{"$f":"IF(Padroes!E43=\"\",\"\",Padroes!E43)","v":0.43},{"$f":"IF(E43=\"\",\"\",Padroes!S$8)","v":{"v":1,"d":"1.00"}},{"$f":"IF(E43=\"\",\"\",Padroes!S$9)","v":{"v":0.2,"d":"0.20"}},{"$f":"IF(E43=\"\",\"\",Padroes!S$10)","v":{"v":0.5,"d":"0.50"}},{"$f":"IF(Padroes!AL15=\"\",\"\",Padroes!AL15)","v":{"v":0.7,"d":"0.70"}},{"v":2018.90432,"d":"2019"},{"$f":"Padroes!AL$12","v":{"v":0.8,"d":"0.80"}},{"$f":"IF(E43=\"\",\"\",Padroes!$AL$23)","v":{"v":1,"d":"1.00"}},{"v":460.8390624999999,"d":"461"},{"v":530.10488528481,"d":"530"},{"v":549.34238528481,"d":"549"},{"v":793.276663055611,"d":"793"},null,{"$f":"IF(Padroes!F47=\"\",\"\",Padroes!F47)","v":"C-33"},null,null,{"$f":"IF(O43=\"\",\"\",O43*Parametros!$I$26)","v":{"v":368.67124999999993,"d":"369"}},{"$f":"IF(P43=\"\",\"\",P43*Parametros!$I$27)","v":{"v":424.08390822784804,"d":"424"}},{"$f":"IF(Q43=\"\",\"\",Q43*Parametros!$I$28)","v":{"v":439.473908227848,"d":"439"}},{"$f":"IF(R43=\"\",\"\",R43*Parametros!$I$29)","v":{"v":634.6213304444889,"d":"635"}}]
["13600",13,{"$f":"IF(Padroes!C44=\"\",\"\",Padroes!C44)","v":600},{"$f":"IF(Padroes!D44=\"\",\"\",Padroes!D44)","v":1680},1.9,{"v":10.9,"d":"10.90"},{"$f":"IF(Padroes!E44=\"\",\"\",Padroes!E44)","v":0.45},{"$f":"IF(E44=\"\",\"\",Padroes!S$8)","v":{"v":1,"d":"1.00"}},{"$f":"IF(E44=\"\",\"\",Padroes!S$9)","v":{"v":0.2,"d":"0.20"}},{"$f":"IF(E44=\"\",\"\",Padroes!S$10)","v":{"v":0.5,"d":"0.50"}},{"$f":"IF(Padroes!AL16=\"\",\"\",Padroes!AL16)","v":{"v":0.9,"d":"0.90"}},{"v":2901.45408,"d":"2901"},{"$f":"Padroes!AL$12","v":{"v":0.8,"d":"0.80"}},{"$f":"IF(E44=\"\",\"\",Padroes!$AL$23)","v":{"v":1,"d":"1.00"}},{"v":482.27343749999994,"d":"482"},{"v":549.1088805379746,"d":"549"},{"v":567.6713805379746,"d":"568"},{"v":1047.0640001427114,"d":"1047"},null,{"$f":"IF(Padroes!F48=\"\",\"\",Padroes!F48)","v":""},null,null,{"$f":"IF(O44=\"\",\"\",O44*Parametros!$I$26)","v":{"v":385.81874999999997,"d":"386"}},{"$f":"IF(P44=\"\",\"\",P44*Parametros!$I$27)","v":{"v":439.2871044303797,"d":"439"}},{"$f":"IF(Q44=\"\",\"\",Q44*Parametros!$I$28)","v":{"v":454.13710443037974,"d":"454"}},{"$f":"IF(R44=\"\",\"\",R44*Parametros!$I$29)","v":{"v":837.6512001141691,"d":"838"}}]
["131000",13,{"$f":"IF(Padroes!C45=\"\",\"\",Padroes!C45)","v":1000},{"$f":"IF(Padroes!D45=\"\",\"\",Padroes!D45)","v":1920},1.9,{"v":10.9,"d":"10.90"},{"$f":"IF(Padroes!E45=\"\",\"\",Padroes!E45)","v":0.49},{"$f":"IF(E45=\"\",\"\",Padroes!S$8)","v":{"v":1,"d":"1.00"}},{"$f":"IF(E45=\"\",\"\",Padroes!S$9)","v":{"v":0.2,"d":"0.20"}},{"$f":"IF(E45=\"\",\"\",Padroes!S$10)","v":{"v":0.5,"d":"0.50"}},{"$f":"IF(Padroes!AL17=\"\",\"\",Padroes!AL17)","v":{"v":1.3,"d":"1.30"}},{"v":4468.465920000001,"d":"4468"},{"$f":"Padroes!AL$12","v":{"v":0.8,"d":"0.80"}},{"$f":"IF(E45=\"\",\"\",Padroes!$AL$23)","v":{"v":1,"d":"1.00"}},{"v":525.1421874999999,"d":"525"},{"v":587.1168710443037,"d":"587"},{"v":604.3293710443037,"d":"604"},{"v":1588.1499617977538,"d":"1588"},null,{"$f":"IF(Padroes!F49=\"\",\"\",Padroes!F49)","v":""},null,null,{"$f":"IF(O45=\"\",\"\",O45*Parametros!$I$26)","v":{"v":420.1137499999999,"d":"420"}},{"$f":"IF(P45=\"\",\"\",P45*Parametros!$I$27)","v":{"v":469.693496835443,"d":"470"}},{"$f":"IF(Q45=\"\",\"\",Q45*Parametros!$I$28)","v":{"v":483.463496835443,"d":"483"}},{"$f":"IF(R45=\"\",\"\",R45*Parametros!$I$29)","v":{"v":1270.5199694382031,"d":"1271"}}]
["131500",13,{"$f":"IF(Padroes!C46=\"\",\"\",Padroes!C46)","v":1500},{"$f":"IF(Padroes!D46=\"\",\"\",Padroes!D46)","v":2700},1.9,{"v":10.9,"d":"10.90"},{"$f":"IF(Padroes!E46=\"\",\"\",Padroes!E46)","v":0.55},{"$f":"IF(E46=\"\",\"\",Padroes!S$8)","v":{"v":1,"d":"1.00"}},{"$f":"IF(E46=\"\",\"\",Padroes!S$9)","v":{"v":0.2,"d":"0.20"}},{"$f":"IF(E46=\"\",\"\",Padroes!S$10)","v":{"v":0.5,"d":"0.50"}},{"$f":"IF(Padroes!AL18=\"\",\"\",Padroes!AL18)","v":{"v":1.6,"d":"1.60"}},{"v":6560.398080000001,"d":"6560"},{"$f":"Padroes!AL$12","v":{"v":0.8,"d":"0.80"}},{"$f":"IF(E46=\"\",\"\",Padroes!$AL$23)","v":{"v":1,"d":"1.00"}},{"v":589.4453124999999,"d":"589"},{"v":644.1288568037974,"d":"644"},{"v":659.3163568037974,"d":"659"},{"v":2068.734745926995,"d":"2069"},null,{"$f":"IF(Padroes!F50=\"\",\"\",Padroes!F50)","v":""},null,null,{"$f":"IF(O46=\"\",\"\",O46*Parametros!$I$26)","v":{"v":471.5562499999999,"d":"472"}},{"$f":"IF(P46=\"\",\"\",P46*Parametros!$I$27)","v":{"v":515.303085443038,"d":"515"}},{"$f":"IF(Q46=\"\",\"\",Q46*Parametros!$I$28)","v":{"v":527.4530854430379,"d":"527"}},{"$f":"IF(R46=\"\",\"\",R46*Parametros!$I$29)","v":{"v":1654.987796741596,"d":"1655"}}]
["132000",13,{"$f":"IF(Padroes!C47=\"\",\"\",Padroes!C47)","v":2000},{"$f":"IF(Padroes!D47=\"\",\"\",Padroes!D47)","v":3500},1.9,{"v":10.9,"d":"10.90"},{"$f":"IF(Padroes!E47=\"\",\"\",Padroes!E47)","v":0.59},{"$f":"IF(E47=\"\",\"\",Padroes!S$8)","v":{"v":1,"d":"1.00"}},{"$f":"IF(E47=\"\",\"\",Padroes!S$9)","v":{"v":0.2,"d":"0.20"}},{"$f":"IF(E47=\"\",\"\",Padroes!S$10)","v":{"v":0.5,"d":"0.50"}},{"$f":"IF(Padroes!AL19=\"\",\"\",Padroes!AL19)","v":{"v":1.6,"d":"1.60"}},{"v":7360.398080000001,"d":"7360"},{"$f":"Padroes!AL$12","v":{"v":0.8,"d":"0.80"}},{"$f":"IF(E47=\"\",\"\",Padroes!$AL$23)","v":{"v":1,"d":"1.00"}},{"v":632.3140624999999,"d":"632"},{"v":682.1368473101264,"d":"682"},{"$f":" IF(E47=\"\",\"\",(3*$B$63 * (2*E47*I47-I47^2)*(H47-G47) ) * (I47/2) / (F47+E47) + P47)","v":{"v":695.9743473101264,"d":"696"}},{"v":2104.2339165936614,"d":"2104"},null,{"$f":"IF(Padroes!F51=\"\",\"\",Padroes!F51)","v":""},null,null,{"$f":"IF(O47=\"\",\"\",O47*Parametros!$I$26)","v":{"v":505.85124999999994,"d":"506"}},{"$f":"IF(P47=\"\",\"\",P47*Parametros!$I$27)","v":{"v":545.7094778481012,"d":"546"}},{"$f":"IF(Q47=\"\",\"\",Q47*Parametros!$I$28)","v":{"v":556.7794778481011,"d":"557"}},{"$f":"IF(R47=\"\",\"\",R47*Parametros!$I$29)","v":{"v":1683.3871332749293,"d":"1683"}}]
["",null,{"$f":"IF(Padroes!C48=\"\",\"\",Padroes!C48)","v":""},{"$f":"IF(Padroes!D48=\"\",\"\",Padroes!D48)","v":""},"","",{"$f":"IF(Padroes!E48=\"\",\"\",Padroes!E48)","v":""},{"$f":"IF(E48=\"\",\"\",Padroes!S$8)","v":""},{"$f":"IF(E48=\"\",\"\",Padroes!S$9)","v":""},{"$f":"IF(E48=\"\",\"\",Padroes!S$10)","v":""},{"$f":"IF(Padroes!AL20=\"\",\"\",Padroes!AL20)","v":{"v":1.8,"d":"1.80"}},"",{"$f":"Padroes!AL$12","v":{"v":0.8,"d":"0.80"}},{"$f":"IF(E48=\"\",\"\",Padroes!$AL$23)","v":""},"","","","",null,{"$f":"IF(Padroes!F52=\"\",\"\",Padroes!F52)","v":""},null,null,{"$f":"IF(O48=\"\",\"\",O48*Parametros!$I$26)","v":""},{"$f":"IF(P48=\"\",\"\",P48*Parametros!$I$27)","v":""},{"$f":"IF(Q48=\"\",\"\",Q48*Parametros!$I$28)","v":""},{"$f":"IF(R48=\"\",\"\",R48*Parametros!$I$29)","v":""}]
["",null,{"$f":"IF(Padroes!C49=\"\",\"\",Padroes!C49)","v":""},{"$f":"IF(Padroes!D49=\"\",\"\",Padroes!D49)","v":""},"","",{"$f":"IF(Padroes!E49=\"\",\"\",Padroes!E49)","v":""},{"$f":"IF(E49=\"\",\"\",Padroes!S$8)","v":""},{"$f":"IF(E49=\"\",\"\",Padroes!S$9)","v":""},{"$f":"IF(E49=\"\",\"\",Padroes!S$10)","v":""},{"$f":"IF(Padroes!AL21=\"\",\"\",Padroes!AL21)","v":{"v":1.8,"d":"1.80"}},"",{"$f":"Padroes!AL$12","v":{"v":0.8,"d":"0.80"}},{"$f":"IF(E49=\"\",\"\",Padroes!$AL$23)","v":""},"","","","",null,{"$f":"IF(Padroes!F53=\"\",\"\",Padroes!F53)","v":""},null,null,{"$f":"IF(O49=\"\",\"\",O49*Parametros!$I$26)","v":""},{"$f":"IF(P49=\"\",\"\",P49*Parametros!$I$27)","v":""},{"$f":"IF(Q49=\"\",\"\",Q49*Parametros!$I$28)","v":""},{"$f":"IF(R49=\"\",\"\",R49*Parametros!$I$29)","v":""}]
[13,13,{"$f":"IF(Engastamento_Profundo!F$4=13,Engastamento_Profundo!F$5, 0)","v":1000},{"$f":"IF(Engastamento_Profundo!F$6=\"\",VLOOKUP(C50,Padroes!$C$42:$E$49,2,FALSE),Engastamento_Profundo!$F$6 )","v":1920},{"$f":"IF(Engastamento_Profundo!$F$8=\"\",1.9,Engastamento_Profundo!$F$8)","v":{"v":2.617400365452199,"d":"2.6"}},{"$f":"IF(Engastamento_Profundo!F$17=\"\",10.9,Engastamento_Profundo!F$17)","v":{"v":10.9,"d":"10.90"}},{"$f":"IF(Engastamento_Profundo!F$7=\"\",VLOOKUP(C50,Padroes!$C$42:$E$49,3,FALSE),Engastamento_Profundo!F$7)","v":0.49},{"$f":"IF(Engastamento_Profundo!F$10=\"\",Padroes!$S$8,Engastamento_Profundo!F$10)","v":{"v":1,"d":"1.00"}},{"$f":"IF(Engastamento_Profundo!F$11=\"\",Padroes!$S$9,Engastamento_Profundo!F$11)","v":{"v":0.2,"d":"0.20"}},{"$f":"IF(Engastamento_Profundo!F$12=\"\",Padroes!$S$10,Engastamento_Profundo!F$12)","v":{"v":0.5,"d":"0.50"}},{"$f":"IF(Engastamento_Profundo!F$14=\"\",VLOOKUP(C50,C42:K49,9,FALSE),Engastamento_Profundo!F$14)","v":{"v":1.3,"d":"1.30"}},{"$f":"D50+(3.1416*K50^2*M50/4*2400)","v":{"v":4468.465920000001,"d":"4468"}},{"$f":"Padroes!$AL$12","v":{"v":0.8,"d":"0.80"}},{"v":1,"d":"1.00"},{"v":1300.0000670024945,"d":"1300"},{"v":1388.9234743003042,"d":"1389"},{"v":1411.7185233778523,"d":"1412"},{"v":3633.550725814842,"d":"3634"},null,{"$f":"IF(Padroes!F54=\"\",\"\",Padroes!F54)","v":""},null,null,{"$f":"IF(O50=\"\",\"\",O50*Parametros!$I$26)","v":{"v":1040.0000536019957,"d":"1,040"}},{"$f":"IF(P50=\"\",\"\",P50*Parametros!$I$27)","v":{"v":1111.1387794402433,"d":"1,111"}},{"$f":"IF(Q50=\"\",\"\",Q50*Parametros!$I$28)","v":{"v":1129.3748187022818,"d":"1,129"}},{"$f":"IF(R50=\"\",\"\",R50*Parametros!$I$29)","v":{"v":2906.8405806518736,"d":"2907"}}]
[]
["*  calculado a 0,20 m do topo do poste - para poste de 9 metros a 0,50 (0,20+0,30)"]
[null,"Poste de Madeira"]
[null,"comprimento","carga","peso","t","h","b","m","n","p",{"$nulls":4},"SIMPLES ","ESCORA SIMPLES","ESCORA DUPLA"]
[null,9,{"$f":"Padroes!W10","v":295},{"$f":"Padroes!X10","v":210},{"$f":"0.6+0.1*B55","v":1.5},{"$f":"B55-0.5-E55","v":{"v":7,"d":"7.00"}},{"$f":"Padroes!Y10","v":0.22},{"$f":"Padroes!S$8","v":{"v":1,"d":"1.00"}},{"$f":"Padroes!S$9","v":{"v":0.2,"d":"0.20"}},{"$f":"Padroes!S$10","v":{"v":0.5,"d":"0.50"}},{"$nulls":4},{"$f":"($B$63*G55*E55^3)/(F55+E55)","v":{"v":174.7058823529412,"d":"175"}},{"$f":"($B$63*G55*E55^3)/(F55+E55)+ (3*$B$63*(2*J55*I55 - I55^2)*(H55-G55))*(E55-J55+I55/2)/(F55+E55/2)","v":{"v":280.98717267552183,"d":"281"}},{"$f":"($B$63*G55*E55^3)/(F55+E55)+ (6*$B$63*I55*J55*(H55-G55)) * (E55+I55-J55-(I55^2/H55)) / (F55+E55)","v":{"v":302.44235294117647,"d":"302"}}]
[null,10,{"$f":"Padroes!W11","v":255},{"$f":"Padroes!X11","v":230},{"$f":"0.6+0.1*B56","v":1.6},{"$f":"B56-0.2-E56","v":{"v":8.200000000000001,"d":"8.20"}},{"$f":"Padroes!Y11","v":0.23},{"$f":"Padroes!S$8","v":{"v":1,"d":"1.00"}},{"$f":"Padroes!S$9","v":{"v":0.2,"d":"0.20"}},{"$f":"Padroes!S$10","v":{"v":0.5,"d":"0.50"}},{"$nulls":4},{"$f":"($B$63*G56*E56^3)/(F56+E56)","v":{"v":192.26122448979595,"d":"192"}},{"$f":"($B$63*G56*E56^3)/(F56+E56)+ (3*$B$63*(2*J56*I56 - I56^2)*(H56-G56))*(E56-J56+I56/2)/(F56+E56/2)","v":{"v":290.82122448979595,"d":"291"}},{"$f":"($B$63*G56*E56^3)/(F56+E56)+ (6*$B$63*I56*J56*(H56-G56)) * (E56+I56-J56-(I56^2/H56)) / (F56+E56)","v":{"v":311.06122448979596,"d":"311"}}]
[null,11,{"$f":"Padroes!W12","v":300},{"$f":"Padroes!X12","v":300},{"$f":"0.6+0.1*B57","v":1.7000000000000002},{"$f":"B57-0.2-E57","v":{"v":9.100000000000001,"d":"9.10"}},{"$f":"Padroes!Y12","v":0.24},{"$f":"Padroes!S$8","v":{"v":1,"d":"1.00"}},{"$f":"Padroes!S$9","v":{"v":0.2,"d":"0.20"}},{"$f":"Padroes!S$10","v":{"v":0.5,"d":"0.50"}},{"$nulls":4},{"$f":"($B$63*G57*E57^3)/(F57+E57)","v":{"v":218.3555555555556,"d":"218"}},{"$f":"($B$63*G57*E57^3)/(F57+E57)+ (3*$B$63*(2*J57*I57 - I57^2)*(H57-G57))*(E57-J57+I57/2)/(F57+E57/2)","v":{"v":313.6801786711335,"d":"314"}},{"$f":"($B$63*G57*E57^3)/(F57+E57)+ (6*$B$63*I57*J57*(H57-G57)) * (E57+I57-J57-(I57^2/H57)) / (F57+E57)","v":{"v":333.20000000000005,"d":"333"}}]
[null,12,{"$f":"Padroes!W13","v":265},{"$f":"Padroes!X13","v":325},{"$f":"0.6+0.1*B58","v":1.8000000000000003},{"$f":"B58-0.2-E58","v":{"v":10,"d":"10.00"}},{"$f":"Padroes!Y13","v":0.24},{"$f":"Padroes!S$8","v":{"v":1,"d":"1.00"}},{"$f":"Padroes!S$9","v":{"v":0.2,"d":"0.20"}},{"$f":"Padroes!S$10","v":{"v":0.5,"d":"0.50"}},{"$nulls":4},{"$f":"($B$63*G58*E58^3)/(F58+E58)","v":{"v":237.2338983050848,"d":"237"}},{"$f":"($B$63*G58*E58^3)/(F58+E58)+ (3*$B$63*(2*J58*I58 - I58^2)*(H58-G58))*(E58-J58+I58/2)/(F58+E58/2)","v":{"v":330.9439900482041,"d":"331"}},{"$f":"($B$63*G58*E58^3)/(F58+E58)+ (6*$B$63*I58*J58*(H58-G58)) * (E58+I58-J58-(I58^2/H58)) / (F58+E58)","v":{"v":350.0745762711865,"d":"350"}}]
[null,13,{"$f":"Padroes!W14","v":230},{"$f":"Padroes!X14","v":370},{"$f":"0.6+0.1*B59","v":1.9},{"$f":"B59-0.2-E59","v":{"v":10.9,"d":"10.90"}},{"$f":"Padroes!Y14","v":0.25},{"$f":"Padroes!S$8","v":{"v":1,"d":"1.00"}},{"$f":"Padroes!S$9","v":{"v":0.2,"d":"0.20"}},{"$f":"Padroes!S$10","v":{"v":0.5,"d":"0.50"}},{"$nulls":4},{"$f":"($B$63*G59*E59^3)/(F59+E59)","v":{"v":267.92968749999994,"d":"268"}},{"$f":"($B$63*G59*E59^3)/(F59+E59)+ (3*$B$63*(2*J59*I59 - I59^2)*(H59-G59))*(E59-J59+I59/2)/(F59+E59/2)","v":{"v":359.0689280063291,"d":"359"}},{"$f":"($B$63*G59*E59^3)/(F59+E59)+ (6*$B$63*I59*J59*(H59-G59)) * (E59+I59-J59-(I59^2/H59)) / (F59+E59)","v":{"v":377.61718749999994,"d":"378"}}]
[]
[null,"terreno:",null,"Concreto"]
[null,"C (kg/m3)","s","Peso específico",{"$nulls":38},"VALOR MÁXIMO DE F\n(o menor entre R. V. U)"]
[null,{"$f":"Tipo_Estai!$AA$9","v":2000},{"v":25000,"d":"25000.0"}," 2400 kg/m3",{"$nulls":29},"ESFORÇO MÁXIMO FUNÇÃO DO CABO DO ESTAI ",{"$nulls":5},"ESFORÇO MÁXIMO FUNÇÃO DO BRAÇO"]
[null,"CÁLCULO        DO       ESTAI       VERTICAL",{"$nulls":16},"ESFORÇOS NO CABO DO ESTAI   -  V  e R",{"$nulls":10},"ESFORÇO NO BRAÇO DO ESTAI - U",{"$nulls":3},"COEFICIENTE DE SEGURANÇA DO CABO :",{"$nulls":4},{"v":1.5,"d":"1.50"},{"$f":"Tipo_Estai!AA8","v":2}]
[null,"Poste de Concreto",null,"Braço: ",null,{"$f":"AN64","v":{"v":2,"d":"2.0"}},"m","dados da escora",null,null,"dados da base concretada",{"$nulls":3},"FORÇA MÁXIMA NO TOPO NO TOPO FUNÇÃO DO TERRENO",{"$nulls":3},"dados ",null,null,"ESFORÇOS NO CABO DO ESTAI   -  V  e R",{"$nulls":11},"R",null,null,"V",null,null,"U"]
[null,"comprimento","carga","dados\npeso","do\nt","poste\nh*","b","m","n","p","d","P","q","K","SIMPLES ","ESCORA SIMPLES","ESCORA DUPLA","CONCRETADO","H","h'","k","                SIMPLES \n             R               V",null,"      ESCORA SIMPLES\n         R               V",null,"           ESCORA DUPLA\n         R                 V",null,"           CONCRETAD0\n            R            V",null,"SIMPLES","ESCORA SIMPLES","ESCORA DUPLA","CONCRETADO",{"$f":"Tabela_Esforco!W10/AM64","v":{"v":1433.3333333333333,"d":"1433"}},{"$f":"Tabela_Esforco!W11/AM64","v":{"v":2413.3333333333335,"d":"2413"}},{"$f":"Tabela_Esforco!W12/AM64","v":{"v":3266.6666666666665,"d":"3267"}},{"$f":"Tabela_Esforco!W10/AM64","v":{"v":1433.3333333333333,"d":"1433"}},{"$f":"Tabela_Esforco!W11/AM64","v":{"v":2413.3333333333335,"d":"2413"}},{"$f":"Tabela_Esforco!W12/AM64","v":{"v":3266.6666666666665,"d":"3267"}},-1000,-1000,-1000,"ev 1","ev 2","ev 3"]
[null,9,200,{"$f":"D6","v":670},{"$f":"0.6+0.1*B$67","v":1.5},{"$f":"B$67-E67-0.5","v":{"v":7,"d":"7.0"}},{"$f":"G6","v":0.32},{"$f":"Padroes!S$8","v":{"v":1,"d":"1.00"}},{"$f":"Padroes!S$9","v":{"v":0.2,"d":"0.20"}},{"$f":"Padroes!S$10","v":{"v":0.5,"d":"0.50"}},{"$f":"K6","v":{"v":0.6,"d":"0.60"}},{"$f":"L6","v":{"v":1077.15136,"d":"1077"}},{"$f":"M6","v":{"v":0.6,"d":"0.60"}},{"$f":"N6","v":{"v":1,"d":"1.00"}},{"$f":"($B$63*G67*E67^3) / ((2*$F$65+3*T67)/(2*$F$65+6*T67)*T67)","v":{"v":773.0526315789474,"d":"773"}},{"$f":"(($B$63*G67*E67^3)+ (3*$B$63*(2*J67*I67 - I67^2)*(H67-G67))*( E67/2 - J67+I67/2)) / ((2*$F$65+3*T67)/(2*$F$65+6*T67)*T67)","v":{"v":854.8244210526316,"d":"855"}},{"$f":"(($B$63*G67*E67^3)+ (6*$B$63*I67*J67*(H67-G67)) * (E67+I67-J67-(I67^2/H67))) / ((2*$F$65+3*T67)/(2*$F$65+6*T67)*T67)","v":{"v":1111.8214736842106,"d":"1112"}},{"$f":"((N67*$B$63*K67*E67^3) + (K67*L67) * (0.5 - (2*L67/(3*$C$63*K67^2)))) / ((2*$F$65+3*T67)/(2*$F$65+6*T67)*T67)","v":{"v":1546.670206007067,"d":"1547"}},{"$f":"F67","v":{"v":7,"d":"7.00"}},{"$f":"S67-$F$65","v":{"v":5,"d":"5.00"}},{"$f":"T67*(2*$F$65+3*T67)/(2*$F$65+6*T67)","v":{"v":2.7941176470588234,"d":"2.79"}},{"$f":"$O67* ($S67-$U67)/$F$65","v":{"v":1625.6842105263158,"d":"1626"}},{"$f":"(1.414)*$O67*($S67-$U67)/$F$65","v":{"v":2298.7174736842103,"d":"2299"}},{"$f":"$P67* ($S67-$U67)/$F$65","v":{"v":1797.6454736842106,"d":"1798"}},{"$f":"1.414*$P67*($S67-$U67)/$F$65","v":{"v":2541.8706997894737,"d":"2542"}},{"$f":"$Q67* ($S67-$U67)/$F$65","v":{"v":2338.095157894737,"d":"2338"}},{"$f":"1.414*$Q67*($S67-$U67)/$F$65","v":{"v":3306.0665532631583,"d":"3306"}},{"$f":"$R67* ($S67-$U67)/$F$65","v":{"v":3252.5564626325086,"d":"3253"}},{"$f":"1.414*$R67*($S67-$U67)/$F$65","v":{"v":4599.114838162367,"d":"4599"}},{"$f":"(U67-S67)*O67/F$65","v":{"v":-1625.6842105263158,"d":"-1626"}},{"$f":"(U67-S67)*P67/F$65","v":{"v":-1797.6454736842106,"d":"-1798"}},{"$f":"(U67-S67)*Q67/F$65","v":{"v":-2338.095157894737,"d":"-2338"}},{"$f":"(U67-S67)*R67/F$65","v":{"v":-3252.5564626325086,"d":"-3253"}},{"$f":"AH$66*F$65/(S67-U67)","v":{"v":681.5850815850815,"d":"682"}},{"$f":"AI$66*F$65/(S67-U67)","v":{"v":1147.5990675990677,"d":"1148"}},{"$f":"AJ$66*F$65/ (S67-U67)","v":{"v":1553.3799533799533,"d":"1553"}},{"$f":"AK$66*$F$65* 0.707 / ($S67-$U67)","v":{"v":481.8806526806526,"d":"482"}},{"v":811.3525407925408,"d":"811"},{"v":1098.239627039627,"d":"1098"},{"$f":"AN$66*( U67-S67)/F$65","v":{"v":2102.9411764705883,"d":"2103"}},{"$f":"AO$66*(U67-S67)/F$65","v":{"v":2102.9411764705883,"d":"2103"}},{"$f":"AP$66*(U67-S67)/F$65","v":{"v":2102.9411764705883,"d":"2103"}},{"$f":"MIN(AH67,AK67,AN67)","v":{"v":481.8806526806526,"d":"482"}},{"$f":"MIN(AI67,AL67,AO67)","v":{"v":811.3525407925408,"d":"811"}},{"$f":"MIN(AJ67,AM67,AP67)","v":{"v":1098.239627039627,"d":"1098"}}]
[null,9,600,{"$f":"D8","v":820},{"$f":"0.6+0.1*B$67","v":1.5},{"$f":"B$67-E68-0.5","v":{"v":7,"d":"7.0"}},{"$f":"G8","v":0.35},{"$f":"Padroes!S$8","v":{"v":1,"d":"1.00"}},{"$f":"Padroes!S$9","v":{"v":0.2,"d":"0.20"}},{"$f":"Padroes!S$10","v":{"v":0.5,"d":"0.50"}},{"$f":"K8","v":{"v":0.9,"d":"0.90"}},{"v":1736.09056,"d":"1736"},{"v":0.6,"d":"0.60"},{"v":1,"d":"1.00"},{"v":845.5263157894738,"d":"846"},{"v":923.6905263157896,"d":"924"},{"v":1169.3494736842106,"d":"1169"},{"v":2421.851043497632,"d":"2422"},{"$f":"F68","v":{"v":7,"d":"7.00"}},{"$f":"S68-$F$65","v":{"v":5,"d":"5.00"}},{"$f":"T68*(2*$F$65+3*T68)/(2*$F$65+6*T68)","v":{"v":2.7941176470588234,"d":"2.79"}},{"$f":"$O68* ($S68-$U68)/$F$65","v":{"v":1778.0921052631581,"d":"1778"}},{"$f":"1.414*$O68*($S68-$U68)/$F$65","v":{"v":2514.2222368421058,"d":"2514"}},{"$f":"$P68* ($S68-$U68)/$F$65","v":{"v":1942.4668421052636,"d":"1942"}},{"$f":"1.414*$P68*($S68-$U68)/$F$65","v":{"v":2746.6481147368427,"d":"2747"}},{"$f":"$Q68* ($S68-$U68)/$F$65","v":{"v":2459.073157894737,"d":"2459"}},{"$f":"1.414*$Q68*($S68-$U68)/$F$65","v":{"v":3477.129445263158,"d":"3477"}},{"$f":"$R68* ($S68-$U68)/$F$65","v":{"v":5093.010282649432,"d":"5093"}},{"$f":"1.414*$R68*($S68-$U68)/$F$65","v":{"v":7201.516539666296,"d":"7202"}},{"$f":"($U68-$S68)*$O68/F$65","v":{"v":-1778.0921052631581,"d":"-1778"}},{"$f":"(U68-S68)*P68/F$65","v":{"v":-1942.4668421052636,"d":"-1942"}},{"$f":"(U68-S68)*Q68/F$65","v":{"v":-2459.073157894737,"d":"-2459"}},{"$f":"(U68-S68)*R68/F$65","v":{"v":-5093.010282649432,"d":"-5093"}},{"$f":"AH$66*F$65/(S68-U68)","v":{"v":681.5850815850815,"d":"682"}},{"$f":"AI$66*F$65/(S68-U68)","v":{"v":1147.5990675990677,"d":"1148"}},{"$f":"AJ$66*F$65/ (S68-U68)","v":{"v":1553.3799533799533,"d":"1553"}},{"v":481.8806526806526,"d":"482"},{"v":811.3525407925408,"d":"811"},{"v":1098.239627039627,"d":"1098"},{"$f":"AN$66*( U68-S68)/F$65","v":{"v":2102.9411764705883,"d":"2103"}},{"$f":"AO$66*(U68-S68)/F$65","v":{"v":2102.9411764705883,"d":"2103"}},{"$f":"AP$66*(U68-S68)/F$65","v":{"v":2102.9411764705883,"d":"2103"}},{"$f":"MIN(AH68,AK68,AN68)","v":{"v":481.8806526806526,"d":"482"}},{"v":811.3525407925408,"d":"811"},{"v":1098.239627039627,"d":"1098"}]
[null,9,1000,{"$f":"D9","v":820},{"$f":"0.6+0.1*B$67","v":1.5},{"$f":"B$67-E69-0.5","v":{"v":7,"d":"7.0"}},{"$f":"G9","v":0.35},{"$f":"Padroes!S$8","v":{"v":1,"d":"1.00"}},{"$f":"Padroes!S$9","v":{"v":0.2,"d":"0.20"}},{"$f":"Padroes!S$10","v":{"v":0.5,"d":"0.50"}},{"v":1.3,"d":"1.30"},{"v":2731.34944,"d":"2731"},{"v":0.6,"d":"0.60"},{"v":1,"d":"1.00"},{"$f":"($B$63*G69*E69^3) / ((2*$F$65+3*T69)/(2*$F$65+6*T69)*T69)","v":{"v":845.5263157894738,"d":"846"}},{"$f":"(($B$63*G69*E69^3)+ (3*$B$63*(2*J69*I69 - I69^2)*(H69-G69))*( E69/2 - J69+I69/2)) / ((2*$F$65+3*T69)/(2*$F$65+6*T69)*T69)","v":{"v":923.6905263157896,"d":"924"}},{"$f":"(($B$63*G69*E69^3)+ (6*$B$63*I69*J69*(H69-G69)) * (E69+I69-J69-(I69^2/H69))) / ((2*$F$65+3*T69)/(2*$F$65+6*T69)*T69)","v":{"v":1169.3494736842106,"d":"1169"}},{"$f":"((N69*$B$63*K69*E69^3) + (K69*L69) * (0.5 - (2*L69/(3*$C$63*K69^2)))) / ((2*$F$65+3*T69)/(2*$F$65+6*T69)*T69)","v":{"v":3721.155396699552,"d":"3721"}},{"$f":"F69","v":{"v":7,"d":"7.00"}},{"v":5,"d":"5.00"},{"v":2.7941176470588234,"d":"2.79"},{"v":1778.0921052631581,"d":"1778"},{"v":2514.2222368421058,"d":"2514"},{"v":1942.4668421052636,"d":"1942"},{"v":2746.6481147368427,"d":"2747"},{"v":2459.073157894737,"d":"2459"},{"v":3477.129445263158,"d":"3477"},{"v":7825.370907765235,"d":"7825"},{"v":11065.074463580042,"d":"11065"},{"$f":"($U69-$S69)*$O69/F$65","v":{"v":-1778.0921052631581,"d":"-1778"}},{"$f":"(U69-S69)*P69/F$65","v":{"v":-1942.4668421052636,"d":"-1942"}},{"$f":"(U69-S69)*Q69/F$65","v":{"v":-2459.073157894737,"d":"-2459"}},{"$f":"(U69-S69)*R69/F$65","v":{"v":-7825.370907765235,"d":"-7825"}},{"$f":"AH$66*F$65/(S69-U69)","v":{"v":681.5850815850815,"d":"682"}},{"$f":"AI$66*F$65/(S69-U69)","v":{"v":1147.5990675990677,"d":"1148"}},{"$f":"AJ$66*F$65/ (S69-U69)","v":{"v":1553.3799533799533,"d":"1553"}},{"v":481.8806526806526,"d":"482"},{"v":811.3525407925408,"d":"811"},{"v":1098.239627039627,"d":"1098"},{"$f":"AN$66*( U69-S69)/F$65","v":{"v":2102.9411764705883,"d":"2103"}},{"$f":"AO$66*(U69-S69)/F$65","v":{"v":2102.9411764705883,"d":"2103"}},{"$f":"AP$66*(U69-S69)/F$65","v":{"v":2102.9411764705883,"d":"2103"}},{"$f":"MIN(AH69,AK69,AN69)","v":{"v":481.8806526806526,"d":"482"}},{"$f":"MIN(AI69,AL69,AO69)","v":{"v":811.3525407925408,"d":"811"}},{"$f":"MIN(AJ69,AM69,AP69)","v":{"v":1098.239627039627,"d":"1098"}}]
[null,10,200,{"$f":"D15","v":750},{"$f":"0.6+0.1*B$70","v":1.6},{"$f":"B$70-E70-0.2","v":8.200000000000001},{"$f":"G15","v":0.34},{"$f":"Padroes!S$8","v":{"v":1,"d":"1.00"}},{"$f":"Padroes!S$9","v":{"v":0.2,"d":"0.20"}},{"$f":"Padroes!S$10","v":{"v":0.5,"d":"0.50"}},{"$f":"K15","v":{"v":0.6,"d":"0.60"}},{"v":1191.08064,"d":"1191"},0.65,{"v":1,"d":"1.00"},{"v":850.5325923504413,"d":"851"},{"v":927.9248043382113,"d":"928"},{"v":1155.2644270522853,"d":"1155"},{"v":1590.8008427862435,"d":"1591"},{"$f":"F70-0.25","v":{"v":7.950000000000001,"d":"7.95"}},{"v":5.950000000000001,"d":"5.95"},{"v":3.2747481108312346,"d":"3.27"},{"v":1988.2270545930044,"d":"1988"},{"v":2811.353055194508,"d":"2811"},{"v":2169.14109724439,"d":"2169"},{"v":3067.1655115035674,"d":"3067"},{"v":2700.576097532835,"d":"2701"},{"v":3818.6146019114285,"d":"3819"},{"v":3718.6973227638255,"d":"3719"},{"v":5258.238014388049,"d":"5258"},{"v":-1988.2270545930044,"d":"-1988"},{"v":-2169.14109724439,"d":"-2169"},{"v":-2700.576097532835,"d":"-2701"},{"v":-3718.6973227638255,"d":"-3719"},{"v":613.1576938791086,"d":"613"},{"v":1032.3864427173828,"d":"1032"},{"v":1397.4291627942475,"d":"1397"},{"v":433.5024895725297,"d":"434"},{"v":729.8972150011897,"d":"730"},{"v":987.9824180955329,"d":"988"},{"v":2337.6259445843834,"d":"2338"},{"v":2337.6259445843834,"d":"2338"},{"v":2337.6259445843834,"d":"2338"},{"v":433.5024895725297,"d":"434"},{"v":729.8972150011897,"d":"730"},{"v":987.9824180955329,"d":"988"}]
[null,10,400,{"$f":"D16","v":910},{"$f":"0.6+0.1*B$70","v":1.6},{"$f":"B$70-E71-0.2","v":8.200000000000001},{"$f":"G16","v":0.37},{"$f":"Padroes!S$8","v":{"v":1,"d":"1.00"}},{"$f":"Padroes!S$9","v":{"v":0.2,"d":"0.20"}},{"$f":"Padroes!S$10","v":{"v":0.5,"d":"0.50"}},{"v":0.7,"d":"0.70"},{"v":1510.3597599999998,"d":"1510"},0.65,{"v":1,"d":"1.00"},{"v":925.5795857931273,"d":"926"},{"v":999.4539699632713,"d":"999"},{"v":1216.4599734630694,"d":"1216"},{"v":1885.9843139475427,"d":"1886"},{"$f":"F71-0.25","v":{"v":7.950000000000001,"d":"7.95"}},{"v":5.950000000000001,"d":"5.95"},{"v":3.2747481108312346,"d":"3.27"},{"v":2163.6588535276815,"d":"2164"},{"v":3059.413618888141,"d":"3059"},{"v":2336.349530604004,"d":"2336"},{"v":3303.598236274061,"d":"3304"},{"v":2843.6283945157015,"d":"2844"},{"v":4020.8905498452013,"d":"4021"},{"v":4408.725863362954,"d":"4409"},{"v":6233.9383707952165,"d":"6234"},{"v":-2163.6588535276815,"d":"-2164"},{"v":-2336.349530604004,"d":"-2336"},{"v":-2843.6283945157015,"d":"-2844"},{"v":-4408.725863362954,"d":"-4409"},{"v":613.1576938791086,"d":"613"},{"v":1032.3864427173828,"d":"1032"},{"v":1397.4291627942475,"d":"1397"},{"v":433.5024895725297,"d":"434"},{"v":729.8972150011897,"d":"730"},{"v":987.9824180955329,"d":"988"},{"v":2337.6259445843834,"d":"2338"},{"v":2337.6259445843834,"d":"2338"},{"v":2337.6259445843834,"d":"2338"},{"v":433.5024895725297,"d":"434"},{"v":729.8972150011897,"d":"730"},{"v":987.9824180955329,"d":"988"}]
[null,10,600,{"$f":"D17","v":910},{"$f":"0.6+0.1*B$70","v":1.6},{"$f":"B$70-E72-0.2","v":8.200000000000001},{"$f":"G17","v":0.37},{"$f":"Padroes!S$8","v":{"v":1,"d":"1.00"}},{"$f":"Padroes!S$9","v":{"v":0.2,"d":"0.20"}},{"$f":"Padroes!S$10","v":{"v":0.5,"d":"0.50"}},{"v":0.9,"d":"0.90"},{"v":1902.43144,"d":"1902"},0.65,{"v":1,"d":"1.00"},{"v":925.5795857931273,"d":"926"},{"v":999.4539699632713,"d":"999"},{"v":1216.4599734630694,"d":"1216"},{"v":2480.086092995638,"d":"2480"},{"v":7.950000000000001,"d":"7.95"},{"v":5.950000000000001,"d":"5.95"},{"v":3.2747481108312346,"d":"3.27"},{"v":2163.6588535276815,"d":"2164"},{"v":3059.413618888141,"d":"3059"},{"v":2336.349530604004,"d":"2336"},{"v":3303.598236274061,"d":"3304"},{"v":2843.6283945157015,"d":"2844"},{"v":4020.8905498452013,"d":"4021"},{"v":5797.513595789521,"d":"5798"},{"v":8197.684224446382,"d":"8198"},{"v":-2163.6588535276815,"d":"-2164"},{"v":-2336.349530604004,"d":"-2336"},{"v":-2843.6283945157015,"d":"-2844"},{"v":-5797.513595789521,"d":"-5798"},{"v":613.1576938791086,"d":"613"},{"v":1032.3864427173828,"d":"1032"},{"v":1397.4291627942475,"d":"1397"},{"v":433.5024895725297,"d":"434"},{"v":729.8972150011897,"d":"730"},{"v":987.9824180955329,"d":"988"},{"v":2337.6259445843834,"d":"2338"},{"v":2337.6259445843834,"d":"2338"},{"v":2337.6259445843834,"d":"2338"},{"v":433.5024895725297,"d":"434"},{"v":729.8972150011897,"d":"730"},{"v":987.9824180955329,"d":"988"}]
[null,10,1000,{"$f":"D18","v":1090},{"$f":"0.6+0.1*B$70","v":1.6},{"$f":"B$70-E73-0.2","v":8.200000000000001},{"$f":"G18","v":0.39},{"$f":"Padroes!S$8","v":{"v":1,"d":"1.00"}},{"$f":"Padroes!S$9","v":{"v":0.2,"d":"0.20"}},{"$f":"Padroes!S$10","v":{"v":0.5,"d":"0.50"}},{"$f":"K18","v":{"v":1.3,"d":"1.30"}},{"$f":"L18","v":{"v":3160.62856,"d":"3161"}},{"$f":"M18","v":0.65},{"$f":"N18","v":{"v":1,"d":"1.00"}},{"v":975.6109147549179,"d":"976"},{"v":1047.1400803799781,"d":"1047"},{"v":1257.257004403592,"d":"1257"},{"v":3816.8108890204307,"d":"3817"},{"v":7.950000000000001,"d":"7.95"},{"v":5.950000000000001,"d":"5.95"},{"v":3.2747481108312346,"d":"3.27"},{"v":2280.613386150799,"d":"2281"},{"v":3224.7873280172294,"d":"3225"},{"v":2447.821819510413,"d":"2448"},{"v":3461.2200527877244,"d":"3461"},{"v":2938.996592504279,"d":"2939"},{"v":4155.74118180105,"d":"4156"},{"v":8922.276159746343,"d":"8922"},{"v":12616.098489881331,"d":"12616"},{"v":-2280.613386150799,"d":"-2281"},{"v":-2447.821819510413,"d":"-2448"},{"v":-2938.996592504279,"d":"-2939"},{"v":-8922.276159746343,"d":"-8922"},{"v":613.1576938791086,"d":"613"},{"v":1032.3864427173828,"d":"1032"},{"v":1397.4291627942475,"d":"1397"},{"v":433.5024895725297,"d":"434"},{"v":729.8972150011897,"d":"730"},{"v":987.9824180955329,"d":"988"},{"v":2337.6259445843834,"d":"2338"},{"v":2337.6259445843834,"d":"2338"},{"v":2337.6259445843834,"d":"2338"},{"v":433.5024895725297,"d":"434"},{"v":729.8972150011897,"d":"730"},{"v":987.9824180955329,"d":"988"}]
[null,11,200,{"$f":"D24","v":870},{"$f":"0.6+0.1*B$74","v":1.7000000000000002},{"$f":"B$74-E74-0.2","v":9.100000000000001},{"$f":"G24","v":0.36},{"$f":"Padroes!S$8","v":{"v":1,"d":"1.00"}},{"$f":"Padroes!S$9","v":{"v":0.2,"d":"0.20"}},{"$f":"Padroes!S$10","v":{"v":0.5,"d":"0.50"}},{"$f":"K24","v":{"v":0.6,"d":"0.60"}},{"$f":"L24","v":{"v":1345.00992,"d":"1345"}},{"$f":"M24","v":{"v":0.7,"d":"0.70"}},{"$f":"N24","v":{"v":1,"d":"1.00"}},{"v":948.6668708281923,"d":"949"},{"v":1022.8146580046681,"d":"1023"},{"v":1228.7807334948786,"d":"1229"},{"v":1667.7622050520613,"d":"1668"},{"v":8.850000000000001,"d":"8.85"},{"v":6.850000000000001,"d":"6.85"},{"v":3.728769401330378,"d":"3.73"},{"v":2429.1709034147502,"d":"2429"},{"v":3434.847657428457,"d":"3435"},{"v":2619.034861670656,"d":"2619"},{"v":3703.3152944023072,"d":"3703"},{"v":3146.434745714838,"d":"3146"},{"v":4449.05873044078,"d":"4449"},{"v":4270.497417908669,"d":"4270"},{"v":6038.483348922858,"d":"6038"},{"v":-2429.1709034147502,"d":"-2429"},{"v":-2619.034861670656,"d":"-2619"},{"v":-3146.434745714838,"d":"-3146"},{"v":-4270.497417908669,"d":"-4270"},{"v":559.7612939771468,"d":"560"},{"v":942.4818066033822,"d":"942"},{"v":1275.735042087451,"d":"1276"},{"v":395.7512348418428,"d":"396"},{"v":666.3346372685912,"d":"666"},{"v":901.9446747558278,"d":"902"},{"v":2560.6152993348114,"d":"2561"},{"v":2560.6152993348114,"d":"2561"},{"v":2560.6152993348114,"d":"2561"},{"v":395.7512348418428,"d":"396"},{"v":666.3346372685912,"d":"666"},{"v":901.9446747558278,"d":"902"}]
[null,11,400,{"$f":"D25","v":1030},{"$f":"0.6+0.1*B$74","v":1.7000000000000002},{"$f":"B$74-E75-0.2","v":9.100000000000001},{"$f":"G25","v":0.39},{"$f":"Padroes!S$8","v":{"v":1,"d":"1.00"}},{"$f":"Padroes!S$9","v":{"v":0.2,"d":"0.20"}},{"$f":"Padroes!S$10","v":{"v":0.5,"d":"0.50"}},{"$f":"K25","v":{"v":0.7,"d":"0.70"}},{"$f":"L25","v":{"v":1676.54128,"d":"1677"}},{"v":0.7,"d":"0.70"},{"v":1,"d":"1.00"},{"v":1027.7224433972083,"d":"1028"},{"v":1098.3945530497867,"d":"1098"},{"v":1294.7059687513936,"d":"1295"},{"v":1973.2815083204687,"d":"1973"},{"v":8.850000000000001,"d":"8.85"},{"v":6.850000000000001,"d":"6.85"},{"v":3.728769401330378,"d":"3.73"},{"v":2631.601812032646,"d":"2632"},{"v":3721.084962214162,"d":"3721"},{"v":2812.565897245306,"d":"2813"},{"v":3976.9681787048626,"d":"3977"},{"v":3315.243911724917,"d":"3315"},{"v":4687.754891179032,"d":"4688"},{"v":5052.814820099865,"d":"5053"},{"v":7144.6801556212085,"d":"7145"},{"v":-2631.601812032646,"d":"-2632"},{"v":-2812.565897245306,"d":"-2813"},{"v":-3315.243911724917,"d":"-3315"},{"v":-5052.814820099865,"d":"-5053"},{"v":559.7612939771468,"d":"560"},{"v":942.4818066033822,"d":"942"},{"v":1275.735042087451,"d":"1276"},{"v":395.7512348418428,"d":"396"},{"v":666.3346372685912,"d":"666"},{"v":901.9446747558278,"d":"902"},{"v":2560.6152993348114,"d":"2561"},{"v":2560.6152993348114,"d":"2561"},{"v":2560.6152993348114,"d":"2561"},{"v":395.7512348418428,"d":"396"},{"v":666.3346372685912,"d":"666"},{"v":901.9446747558278,"d":"902"}]
[null,11,600,{"$f":"D26","v":1030},{"$f":"0.6+0.1*B$74","v":1.7000000000000002},{"$f":"B$74-E76-0.2","v":9.100000000000001},{"$f":"G26","v":0.39},{"$f":"Padroes!S$8","v":{"v":1,"d":"1.00"}},{"$f":"Padroes!S$9","v":{"v":0.2,"d":"0.20"}},{"$f":"Padroes!S$10","v":{"v":0.5,"d":"0.50"}},{"$f":"K26","v":{"v":0.9,"d":"0.90"}},{"v":2098.77232,"d":"2099"},{"v":0.7,"d":"0.70"},{"v":1,"d":"1.00"},{"v":1027.7224433972083,"d":"1028"},{"v":1098.3945530497867,"d":"1098"},{"v":1294.7059687513936,"d":"1295"},{"v":2589.9519576580824,"d":"2590"},{"v":8.850000000000001,"d":"8.85"},{"v":6.850000000000001,"d":"6.85"},{"v":3.728769401330378,"d":"3.73"},{"v":2631.601812032646,"d":"2632"},{"v":3721.084962214162,"d":"3721"},{"v":2812.565897245306,"d":"2813"},{"v":3976.9681787048626,"d":"3977"},{"v":3315.243911724917,"d":"3315"},{"v":4687.754891179032,"d":"4688"},{"v":6631.870607321432,"d":"6632"},{"v":9377.465038752503,"d":"9377"},{"v":-2631.601812032646,"d":"-2632"},{"v":-2812.565897245306,"d":"-2813"},{"v":-3315.243911724917,"d":"-3315"},{"v":-6631.870607321432,"d":"-6632"},{"v":559.7612939771468,"d":"560"},{"v":942.4818066033822,"d":"942"},{"v":1275.735042087451,"d":"1276"},{"v":395.7512348418428,"d":"396"},{"v":666.3346372685912,"d":"666"},{"v":901.9446747558278,"d":"902"},{"v":2560.6152993348114,"d":"2561"},{"v":2560.6152993348114,"d":"2561"},{"v":2560.6152993348114,"d":"2561"},{"v":395.7512348418428,"d":"396"},{"v":666.3346372685912,"d":"666"},{"v":901.9446747558278,"d":"902"}]
[null,11,1000,{"$f":"D27","v":1260},{"$f":"0.6+0.1*B$74","v":1.7000000000000002},{"$f":"B$74-E77-0.2","v":9.100000000000001},{"$f":"G27","v":0.41},{"$f":"Padroes!S$8","v":{"v":1,"d":"1.00"}},{"$f":"Padroes!S$9","v":{"v":0.2,"d":"0.20"}},{"$f":"Padroes!S$10","v":{"v":0.5,"d":"0.50"}},{"$f":"K27","v":{"v":1.3,"d":"1.30"}},{"v":3489.90768,"d":"3490"},{"v":0.7,"d":"0.70"},{"v":1,"d":"1.00"},{"v":1080.4261584432188,"d":"1080"},{"v":1148.7811497465325,"d":"1149"},{"v":1338.6561255890704,"d":"1339"},{"v":3967.1010494104253,"d":"3967"},{"v":8.850000000000001,"d":"8.85"},{"v":6.850000000000001,"d":"6.85"},{"v":3.728769401330378,"d":"3.73"},{"v":2766.5557511112434,"d":"2767"},{"v":3911.909832071298,"d":"3912"},{"v":2941.586587628406,"d":"2942"},{"v":4159.403434906566,"d":"4159"},{"v":3427.783355731636,"d":"3428"},{"v":4846.885665004534,"d":"4847"},{"v":10158.21964112752,"d":"10158"},{"v":14363.722572554314,"d":"14364"},{"v":-2766.5557511112434,"d":"-2767"},{"v":-2941.586587628406,"d":"-2942"},{"v":-3427.783355731636,"d":"-3428"},{"v":-10158.21964112752,"d":"-10158"},{"v":559.7612939771468,"d":"560"},{"v":942.4818066033822,"d":"942"},{"v":1275.735042087451,"d":"1276"},{"v":395.7512348418428,"d":"396"},{"v":666.3346372685912,"d":"666"},{"v":901.9446747558278,"d":"902"},{"v":2560.6152993348114,"d":"2561"},{"v":2560.6152993348114,"d":"2561"},{"v":2560.6152993348114,"d":"2561"},{"v":395.7512348418428,"d":"396"},{"v":666.3346372685912,"d":"666"},{"v":901.9446747558278,"d":"902"}]
[null,12,200,{"$f":"D33","v":1130},{"$f":"0.6+0.1*B$78","v":1.8000000000000003},{"$f":"B$78-E78-0.2","v":10},{"$f":"G33","v":0.41},{"$f":"Padroes!S$8","v":{"v":1,"d":"1.00"}},{"$f":"Padroes!S$9","v":{"v":0.2,"d":"0.20"}},{"$f":"Padroes!S$10","v":{"v":0.5,"d":"0.50"}},{"$f":"K33","v":{"v":0.6,"d":"0.60"}},{"$f":"L33","v":{"v":1638.9392,"d":"1639"}},{"$f":"M33","v":0.75},{"$f":"N33","v":{"v":1,"d":"1.00"}},{"v":1143.548363421131,"d":"1144"},{"v":1211.2682805563782,"d":"1211"},{"v":1390.726060964783,"d":"1391"},{"v":1762.5109343612821,"d":"1763"},9.75,7.75,{"v":4.181930693069307,"d":"4.18"},{"v":3183.678271678012,"d":"3184"},{"v":4501.721076152709,"d":"4502"},{"v":3372.2128677123424,"d":"3372"},{"v":4768.3089949452515,"d":"4768"},{"v":3871.829547203316,"d":"3872"},{"v":5474.766979745489,"d":"5475"},{"v":4906.891518373396,"d":"4907"},{"v":6938.344606979981,"d":"6938"},{"v":-3183.678271678012,"d":"-3184"},{"v":-3372.2128677123424,"d":"-3372"},{"v":-3871.829547203316,"d":"-3872"},{"v":-4906.891518373396,"d":"-4907"},{"v":514.8403348892347,"d":"515"},{"v":866.847447580944,"d":"867"},{"v":1173.3570423056976,"d":"1173"},{"v":363.99211676668887,"d":"364"},{"v":612.8611454397274,"d":"613"},{"v":829.5634289101282,"d":"830"},{"v":2784.0346534653463,"d":"2784"},{"v":2784.0346534653463,"d":"2784"},{"v":2784.0346534653463,"d":"2784"},{"v":363.99211676668887,"d":"364"},{"v":612.8611454397274,"d":"613"},{"v":829.5634289101282,"d":"830"}]
[null,12,400,{"$f":"D34","v":1130},{"$f":"0.6+0.1*B$78","v":1.8000000000000003},{"$f":"B$78-E79-0.2","v":10},{"$f":"G34","v":0.41},{"$f":"Padroes!S$8","v":{"v":1,"d":"1.00"}},{"$f":"Padroes!S$9","v":{"v":0.2,"d":"0.20"}},{"$f":"Padroes!S$10","v":{"v":0.5,"d":"0.50"}},{"$f":"K34","v":{"v":0.7,"d":"0.70"}},{"$f":"L34","v":{"v":1822.7228,"d":"1823"}},0.75,{"v":1,"d":"1.00"},{"v":1143.548363421131,"d":"1144"},{"v":1211.2682805563782,"d":"1211"},{"v":1390.726060964783,"d":"1391"},{"v":2074.6849018057533,"d":"2075"},9.75,7.75,{"v":4.181930693069307,"d":"4.18"},{"v":3183.678271678012,"d":"3184"},{"v":4501.721076152709,"d":"4502"},{"v":3372.2128677123424,"d":"3372"},{"v":4768.3089949452515,"d":"4768"},{"v":3871.829547203316,"d":"3872"},{"v":5474.766979745489,"d":"5475"},{"v":5775.994661648567,"d":"5776"},{"v":8167.256451571073,"d":"8167"},{"v":-3183.678271678012,"d":"-3184"},{"v":-3372.2128677123424,"d":"-3372"},{"v":-3871.829547203316,"d":"-3872"},{"v":-5775.994661648567,"d":"-5776"},{"v":514.8403348892347,"d":"515"},{"v":866.847447580944,"d":"867"},{"v":1173.3570423056976,"d":"1173"},{"v":363.99211676668887,"d":"364"},{"v":612.8611454397274,"d":"613"},{"v":829.5634289101282,"d":"830"},{"v":2784.0346534653463,"d":"2784"},{"v":2784.0346534653463,"d":"2784"},{"v":2784.0346534653463,"d":"2784"},{"v":363.99211676668887,"d":"364"},{"v":612.8611454397274,"d":"613"},{"v":829.5634289101282,"d":"830"}]
[null,12,600,{"$f":"D35","v":1440},{"$f":"0.6+0.1*B$78","v":1.8000000000000003},{"$f":"B$78-E80-0.2","v":10},{"$f":"G35","v":0.43},{"$f":"Padroes!S$8","v":{"v":1,"d":"1.00"}},{"$f":"Padroes!S$9","v":{"v":0.2,"d":"0.20"}},{"$f":"Padroes!S$10","v":{"v":0.5,"d":"0.50"}},{"$f":"K35","v":{"v":0.9,"d":"0.90"}},{"v":2585.1132,"d":"2585"},0.75,{"v":1,"d":"1.00"},{"v":1199.3312104172837,"d":"1199"},{"v":1264.7555371411665,"d":"1265"},{"v":1438.130002959456,"d":"1438"},{"v":2741.052539728337,"d":"2741"},9.75,7.75,{"v":4.181930693069307,"d":"4.18"},{"v":3338.979650784257,"d":"3339"},{"v":4721.317226208939,"d":"4721"},{"v":3521.1232435631855,"d":"3521"},{"v":4978.8682663983445,"d":"4979"},{"v":4003.803764427347,"d":"4004"},{"v":5661.378522900268,"d":"5661"},{"v":7631.185257572888,"d":"7631"},{"v":10790.495954208061,"d":"10790"},{"v":-3338.979650784257,"d":"-3339"},{"v":-3521.1232435631855,"d":"-3521"},{"v":-4003.803764427347,"d":"-4004"},{"v":-7631.185257572888,"d":"-7631"},{"v":514.8403348892347,"d":"515"},{"v":866.847447580944,"d":"867"},{"v":1173.3570423056976,"d":"1173"},{"v":363.99211676668887,"d":"364"},{"v":612.8611454397274,"d":"613"},{"v":829.5634289101282,"d":"830"},{"v":2784.0346534653463,"d":"2784"},{"v":2784.0346534653463,"d":"2784"},{"v":2784.0346534653463,"d":"2784"},{"v":363.99211676668887,"d":"364"},{"v":612.8611454397274,"d":"613"},{"v":829.5634289101282,"d":"830"}]
[null,12,1000,{"$f":"D36","v":1770},{"$f":"0.6+0.1*B$78","v":1.8000000000000003},{"$f":"B$78-E81-0.2","v":10},{"$f":"G36","v":0.47},{"$f":"Padroes!S$8","v":{"v":1,"d":"1.00"}},{"$f":"Padroes!S$9","v":{"v":0.2,"d":"0.20"}},{"$f":"Padroes!S$10","v":{"v":0.5,"d":"0.50"}},{"$f":"K36","v":{"v":1.3,"d":"1.30"}},{"v":4159.1867999999995,"d":"4159"},0.75,{"v":1,"d":"1.00"},{"v":1310.8969044095893,"d":"1311"},{"v":1371.7300503107433,"d":"1372"},{"v":1532.937886948802,"d":"1533"},{"v":4187.497309537894,"d":"4187"},9.75,7.75,{"v":4.181930693069307,"d":"4.18"},{"v":3649.5824089967464,"d":"3650"},{"v":5160.509526321399,"d":"5161"},{"v":3818.9439952648722,"d":"3819"},{"v":5399.98680930453,"d":"5400"},{"v":4267.752198875409,"d":"4268"},{"v":6034.601609209828,"d":"6035"},{"v":11658.1376210464,"d":"11658"},{"v":16484.606596159607,"d":"16485"},{"v":-3649.5824089967464,"d":"-3650"},{"v":-3818.9439952648722,"d":"-3819"},{"v":-4267.752198875409,"d":"-4268"},{"v":-11658.1376210464,"d":"-11658"},{"v":514.8403348892347,"d":"515"},{"v":866.847447580944,"d":"867"},{"v":1173.3570423056976,"d":"1173"},{"v":363.99211676668887,"d":"364"},{"v":612.8611454397274,"d":"613"},{"v":829.5634289101282,"d":"830"},{"v":2784.0346534653463,"d":"2784"},{"v":2784.0346534653463,"d":"2784"},{"v":2784.0346534653463,"d":"2784"},{"v":363.99211676668887,"d":"364"},{"v":612.8611454397274,"d":"613"},{"v":829.5634289101282,"d":"830"}]
[null,13,200,{"$f":"D42","v":1280},{"$f":"0.6+0.1*B$82","v":1.9},{"$f":"B$82-E82-0.2","v":10.9},{"$f":"G42","v":0.43},{"$f":"Padroes!S$8","v":{"v":1,"d":"1.00"}},{"$f":"Padroes!S$9","v":{"v":0.2,"d":"0.20"}},{"$f":"Padroes!S$10","v":{"v":0.5,"d":"0.50"}},{"$f":"K42","v":{"v":0.6,"d":"0.60"}},{"$f":"L42","v":{"v":1822.86848,"d":"1823"}},{"$f":"M42","v":{"v":0.8,"d":"0.80"}},{"$f":"N42","v":{"v":1,"d":"1.00"}},{"v":1272.7940247232862,"d":"1273"},{"v":1337.733332046667,"d":"1338"},{"v":1503.0333870516367,"d":"1503"},{"v":1862.1239230744275,"d":"1862"},{"$f":"F82-0.25","v":10.65},8.65,{"v":4.634481216457961,"d":"4.63"},{"v":3828.2581816514994,"d":"3828"},{"v":5413.15706885522,"d":"5413"},{"v":4023.579993148503,"d":"4024"},{"v":5689.342110311983,"d":"5689"},{"v":4520.762786049967,"d":"4521"},{"v":6392.358579474652,"d":"6392"},{"v":5600.820718268605,"d":"5601"},{"v":7919.560495631807,"d":"7920"},{"$f":"($U82-$S82)*$O82/F$65","v":{"v":-3828.2581816514994,"d":"-3828"}},{"$f":"(U82-S82)*P82/F$65","v":{"v":-4023.579993148503,"d":"-4024"}},{"$f":"(U82-S82)*Q82/F$65","v":{"v":-4520.762786049967,"d":"-4521"}},{"$f":"(U82-S82)*R82/F$65","v":{"v":-5600.820718268605,"d":"-5601"}},{"v":476.54521078209063,"d":"477"},{"v":802.3691455958922,"d":"802"},{"v":1086.0797827126717,"d":"1086"},{"v":336.9174640229381,"d":"337"},{"v":567.2749859362957,"d":"567"},{"v":767.8584063778588,"d":"768"},{"v":3007.7593917710196,"d":"3008"},{"v":3007.7593917710196,"d":"3008"},{"v":3007.7593917710196,"d":"3008"},{"v":336.9174640229381,"d":"337"},{"v":567.2749859362957,"d":"567"},{"v":767.8584063778588,"d":"768"}]
[null,13,400,{"$f":"D43","v":1280},{"$f":"0.6+0.1*B$82","v":1.9},{"$f":"B$82-E83-0.2","v":10.9},{"$f":"G43","v":0.43},{"$f":"Padroes!S$8","v":{"v":1,"d":"1.00"}},{"$f":"Padroes!S$9","v":{"v":0.2,"d":"0.20"}},{"$f":"Padroes!S$10","v":{"v":0.5,"d":"0.50"}},{"$f":"K43","v":{"v":0.7,"d":"0.70"}},{"$f":"L43","v":{"v":2018.90432,"d":"2019"}},{"v":0.8,"d":"0.80"},{"v":1,"d":"1.00"},{"v":1272.7940247232862,"d":"1273"},{"v":1337.733332046667,"d":"1338"},{"v":1503.0333870516367,"d":"1503"},{"v":2190.9553222598383,"d":"2191"},{"$f":"F83-0.25","v":10.65},8.65,{"v":4.634481216457961,"d":"4.63"},{"v":3828.2581816514994,"d":"3828"},{"v":5413.15706885522,"d":"5413"},{"v":4023.579993148503,"d":"4024"},{"v":5689.342110311983,"d":"5689"},{"v":4520.762786049967,"d":"4521"},{"v":6392.358579474652,"d":"6392"},{"v":6589.86644747773,"d":"6590"},{"v":9318.07115673351,"d":"9318"},{"$f":"($U83-$S83)*$O83/F$65","v":{"v":-3828.2581816514994,"d":"-3828"}},{"$f":"(U83-S83)*P83/F$65","v":{"v":-4023.579993148503,"d":"-4024"}},{"$f":"(U83-S83)*Q83/F$65","v":{"v":-4520.762786049967,"d":"-4521"}},{"$f":"(U83-S83)*R83/F$65","v":{"v":-6589.86644747773,"d":"-6590"}},{"v":476.54521078209063,"d":"477"},{"v":802.3691455958922,"d":"802"},{"v":1086.0797827126717,"d":"1086"},{"v":336.9174640229381,"d":"337"},{"v":567.2749859362957,"d":"567"},{"v":767.8584063778588,"d":"768"},{"v":3007.7593917710196,"d":"3008"},{"v":3007.7593917710196,"d":"3008"},{"v":3007.7593917710196,"d":"3008"},{"v":336.9174640229381,"d":"337"},{"v":567.2749859362957,"d":"567"},{"v":767.8584063778588,"d":"768"}]
[null,13,600,{"$f":"D44","v":1680},{"$f":"0.6+0.1*B$82","v":1.9},{"$f":"B$82-E84-0.2","v":10.9},{"$f":"G44","v":0.45},{"$f":"Padroes!S$8","v":{"v":1,"d":"1.00"}},{"$f":"Padroes!S$9","v":{"v":0.2,"d":"0.20"}},{"$f":"Padroes!S$10","v":{"v":0.5,"d":"0.50"}},{"$f":"K44","v":{"v":0.9,"d":"0.90"}},{"v":2901.45408,"d":"2901"},{"v":0.8,"d":"0.80"},{"v":1,"d":"1.00"},{"v":1331.993746803439,"d":"1332"},{"v":1394.6544819400347,"d":"1395"},{"v":1554.1545350150056,"d":"1554"},{"v":2891.8920103143496,"d":"2892"},{"$f":"F84-0.25","v":10.65},8.65,{"v":4.634481216457961,"d":"4.63"},{"v":4006.3167017283135,"d":"4006"},{"v":5664.931816243835,"d":"5665"},{"v":4194.785116330685,"d":"4195"},{"v":5931.426154491589,"d":"5931"},{"v":4674.522898954905,"d":"4675"},{"v":6609.775379122236,"d":"6610"},{"v":8698.115354010559,"d":"8698"},{"v":12299.135110570931,"d":"12299"},{"$f":"($U84-$S84)*$O84/F$65","v":{"v":-4006.3167017283135,"d":"-4006"}},{"$f":"(U84-S84)*P84/F$65","v":{"v":-4194.785116330685,"d":"-4195"}},{"$f":"(U84-S84)*Q84/F$65","v":{"v":-4674.522898954905,"d":"-4675"}},{"$f":"(U84-S84)*R84/F$65","v":{"v":-8698.115354010559,"d":"-8698"}},{"v":476.54521078209063,"d":"477"},{"v":802.3691455958922,"d":"802"},{"v":1086.0797827126717,"d":"1086"},{"v":336.9174640229381,"d":"337"},{"v":567.2749859362957,"d":"567"},{"v":767.8584063778588,"d":"768"},{"v":3007.7593917710196,"d":"3008"},{"v":3007.7593917710196,"d":"3008"},{"v":3007.7593917710196,"d":"3008"},{"v":336.9174640229381,"d":"337"},{"v":567.2749859362957,"d":"567"},{"v":767.8584063778588,"d":"768"}]
[null,13,1000,{"$f":"D45","v":1920},{"$f":"0.6+0.1*B$82","v":1.9},{"$f":"B$82-E85-0.2","v":10.9},{"$f":"G45","v":0.49},{"$f":"Padroes!S$8","v":{"v":1,"d":"1.00"}},{"$f":"Padroes!S$9","v":{"v":0.2,"d":"0.20"}},{"$f":"Padroes!S$10","v":{"v":0.5,"d":"0.50"}},{"$f":"K45","v":{"v":1.3,"d":"1.30"}},{"v":4468.465920000001,"d":"4468"},{"v":0.8,"d":"0.80"},{"v":1,"d":"1.00"},{"v":1450.3931909637447,"d":"1450"},{"v":1508.4967817267695,"d":"1508"},{"v":1656.3968309417426,"d":"1656"},{"v":4386.32040169272,"d":"4386"},{"$f":"F85-0.25","v":10.65},8.65,{"v":4.634481216457961,"d":"4.63"},{"v":4362.433741881941,"d":"4362"},{"v":6168.481311021064,"d":"6168"},{"v":4537.195362695049,"d":"4537"},{"v":6415.5942428508,"d":"6416"},{"v":4982.04312476478,"d":"4982"},{"v":7044.608978417398,"d":"7045"},{"v":13192.99638350811,"d":"13193"},{"v":18654.89688628047,"d":"18655"},{"$f":"($U85-$S85)*$O85/F$65","v":{"v":-4362.433741881941,"d":"-4362"}},{"$f":"(U85-S85)*P85/F$65","v":{"v":-4537.195362695049,"d":"-4537"}},{"$f":"(U85-S85)*Q85/F$65","v":{"v":-4982.04312476478,"d":"-4982"}},{"$f":"(U85-S85)*R85/F$65","v":{"v":-13192.99638350811,"d":"-13193"}},{"v":476.54521078209063,"d":"477"},{"v":802.3691455958922,"d":"802"},{"v":1086.0797827126717,"d":"1086"},{"v":336.9174640229381,"d":"337"},{"v":567.2749859362957,"d":"567"},{"v":767.8584063778588,"d":"768"},{"v":3007.7593917710196,"d":"3008"},{"v":3007.7593917710196,"d":"3008"},{"v":3007.7593917710196,"d":"3008"},{"v":336.9174640229381,"d":"337"},{"v":567.2749859362957,"d":"567"},{"v":767.8584063778588,"d":"768"}]
[null,"Poste de Madeira"]
[null,"comprimento","carga","peso","t","h *","b","m","n","p",{"$nulls":4},"SIMPLES ","ESCORA SIMPLES","ESCORA DUPLA"]
[null,9,{"$f":"Padroes!W10","v":295},209,{"$f":"0.6+0.1*B88","v":1.5},{"$f":"B88-0.2-E88","v":7.300000000000001},{"$f":"Padroes!Y10","v":0.22},{"$f":"Padroes!S$8","v":{"v":1,"d":"1.00"}},{"$f":"Padroes!S$9","v":{"v":0.2,"d":"0.20"}},{"$f":"Padroes!S$10","v":{"v":0.5,"d":"0.50"}},{"$nulls":4},{"$f":"($B$63*G88*E88^3) / ((2*$F$65+3*T88)/(2*$F$65+6*T88)*T88)","v":{"v":531.4736842105261,"d":"531"}},{"$f":"(($B$63*G88*E88^3)+ (3*$B$63*(2*J88*I88 - I88^2)*(H88-G88))*( E88/2 - J88+I88/2)) / ((2*$F$65+3*T88)/(2*$F$65+6*T88)*T88)","v":{"v":625.2707368421051,"d":"625"}},{"$f":"(($B$63*G88*E88^3)+ (6*$B$63*I88*J88*(H88-G88)) * (E88+I88-J88-(I88^2/H88))) / ((2*$F$65+3*T88)/(2*$F$65+6*T88)*T88)","v":{"v":920.0614736842103,"d":"920"}},null,{"$f":"F88-0.3","v":{"v":7.000000000000001,"d":"7.00"}},{"$f":"S88-$F$65","v":{"v":5.000000000000001,"d":"5.00"}},{"$f":"T88*(2*$F$65+3*T88)/(2*$F$65+6*T88)","v":{"v":2.794117647058824,"d":"2.79"}},{"$f":"$O88* ($S88-$U88)/$F$65","v":{"v":1117.657894736842,"d":"1118"}},{"$f":"1.414*$O88*($S88-$U88)/$F$65","v":{"v":1580.3682631578945,"d":"1580"}},{"$f":"$P88* ($S88-$U88)/$F$65","v":{"v":1314.9075789473684,"d":"1315"}},{"$f":"1.414*$P88*($S88-$U88)/$F$65","v":{"v":1859.2793166315787,"d":"1859"}},{"$f":"$Q88* ($S88-$U88)/$F$65","v":{"v":1934.835157894737,"d":"1935"}},{"$f":"1.414*$Q88*($S88-$U88)/$F$65","v":{"v":2735.856913263158,"d":"2736"}},null,null,{"$f":"(U88-S88)*O88/F$65","v":{"v":-1117.657894736842,"d":"-1118"}},{"$f":"(U88-S88)*P88/F$65","v":{"v":-1314.9075789473684,"d":"-1315"}},{"$f":"(U88-S88)*Q88/F$65","v":{"v":-1934.835157894737,"d":"-1935"}},null,{"$f":"AH$66*F$65/(S88-U88)","v":{"v":681.5850815850814,"d":"682"}},{"$f":"AI$66*F$65/(S88-U88)","v":{"v":1147.5990675990674,"d":"1148"}},{"$f":"AJ$66*F$65/ (S88-U88)","v":{"v":1553.379953379953,"d":"1553"}},{"$f":"AK$66*$F$65* 0.707 / ($S88-$U88)","v":{"v":481.88065268065253,"d":"482"}},{"v":811.3525407925406,"d":"811"},{"v":1098.2396270396268,"d":"1098"},{"$f":"AN$66*( U88-S88)/F$65","v":{"v":2102.9411764705887,"d":"2103"}},{"$f":"AO$66*(U88-S88)/F$65","v":{"v":2102.9411764705887,"d":"2103"}},{"$f":"AP$66*(U88-S88)/F$65","v":{"v":2102.9411764705887,"d":"2103"}},{"$f":"MIN(AH88,AK88,AN88)","v":{"v":481.88065268065253,"d":"482"}},{"v":811.3525407925406,"d":"811"},{"v":1098.2396270396268,"d":"1098"}]
[null,10,{"$f":"Padroes!W11","v":255},232,{"$f":"0.6+0.1*B89","v":1.6},{"$f":"B89-0.2-E89","v":8.200000000000001},{"$f":"Padroes!Y11","v":0.23},{"$f":"Padroes!S$8","v":{"v":1,"d":"1.00"}},{"$f":"Padroes!S$9","v":{"v":0.2,"d":"0.20"}},{"$f":"Padroes!S$10","v":{"v":0.5,"d":"0.50"}},{"$nulls":4},{"$f":"($B$63*G89*E89^3) / ((2*$F$65+3*T89)/(2*$F$65+6*T89)*T89)","v":{"v":575.3602830605927,"d":"575"}},{"$f":"(($B$63*G89*E89^3)+ (3*$B$63*(2*J89*I89 - I89^2)*(H89-G89))*( E89/2 - J89+I89/2)) / ((2*$F$65+3*T89)/(2*$F$65+6*T89)*T89)","v":{"v":665.6511970463242,"d":"666"}},{"$f":"(($B$63*G89*E89^3)+ (6*$B$63*I89*J89*(H89-G89)) * (E89+I89-J89-(I89^2/H89))) / ((2*$F$65+3*T89)/(2*$F$65+6*T89)*T89)","v":{"v":930.8807568794107,"d":"931"}},null,{"$f":"F89-0.25","v":{"v":7.950000000000001,"d":"7.95"}},{"$f":"S89-$F$65","v":{"v":5.950000000000001,"d":"5.95"}},{"$f":"T89*(2*$F$65+3*T89)/(2*$F$65+6*T89)","v":{"v":3.2747481108312346,"d":"3.27"}},{"$f":"$O89* ($S89-$U89)/$F$65","v":{"v":1344.977125165856,"d":"1345"}},{"$f":"1.414*$O89*($S89-$U89)/$F$65","v":{"v":1901.7976549845205,"d":"1902"}},{"$f":" $P89/$F$65 * (($F89-0.25) - ((2*$F$65+3*($F89-0.25-$F$65))/(2*$F$65+6*($F89-0.25-$F$65))*($F89-0.25-$F$65)))","v":{"v":1556.0435082591391,"d":"1556"}},{"$f":" ($P89*1.414/$F$65) * (($F89-0.25) - ((2*$F$65+3*($F89-0.25-$F$65))/(2*$F$65+6*($F89-0.25-$F$65))*($F89-0.25-$F$65)))","v":{"v":2200.2455206784225,"d":"2200"}},{"$f":" $Q89/$F$65 * (($F89-0.25) - ((2*$F$65+3*($F89-0.25-$F$65))/(2*$F$65+6*($F89-0.25-$F$65))*($F89-0.25-$F$65)))","v":{"v":2176.051008595658,"d":"2176"}},{"$f":"1.414*$Q89*($S89-$U89)/$F$65","v":{"v":3076.9361261542604,"d":"3077"}},null,null,{"$f":"(U89-S89)*O89/F$65","v":{"v":-1344.977125165856,"d":"-1345"}},{"$f":"(U89-S89)*P89/F$65","v":{"v":-1556.0435082591391,"d":"-1556"}},{"$f":"(U89-S89)*Q89/F$65","v":{"v":-2176.051008595658,"d":"-2176"}},null,{"$f":"AH$66*F$65/(S89-U89)","v":{"v":613.1576938791086,"d":"613"}},{"$f":"AI$66*F$65/(S89-U89)","v":{"v":1032.3864427173828,"d":"1032"}},{"$f":"AJ$66*F$65/ (S89-U89)","v":{"v":1397.4291627942475,"d":"1397"}},{"v":433.5024895725297,"d":"434"},{"v":729.8972150011897,"d":"730"},{"v":987.9824180955329,"d":"988"},{"$f":"AN$66*( U89-S89)/F$65","v":{"v":2337.6259445843834,"d":"2338"}},{"$f":"AO$66*(U89-S89)/F$65","v":{"v":2337.6259445843834,"d":"2338"}},{"$f":"AP$66*(U89-S89)/F$65","v":{"v":2337.6259445843834,"d":"2338"}},{"v":433.5024895725297,"d":"434"},{"v":729.8972150011897,"d":"730"},{"v":987.9824180955329,"d":"988"}]
[null,11,{"$f":"Padroes!W12","v":300},300,{"$f":"0.6+0.1*B90","v":1.7000000000000002},{"$f":"B90-0.2-E90","v":9.100000000000001},{"$f":"Padroes!Y12","v":0.24},{"$f":"Padroes!S$8","v":{"v":1,"d":"1.00"}},{"$f":"Padroes!S$9","v":{"v":0.2,"d":"0.20"}},{"$f":"Padroes!S$10","v":{"v":0.5,"d":"0.50"}},{"$nulls":4},{"$f":"($B$63*G90*E90^3) / ((2*$F$65+3*T90)/(2*$F$65+6*T90)*T90)","v":{"v":632.4445805521282,"d":"632"}},{"$f":"(($B$63*G90*E90^3)+ (3*$B$63*(2*J90*I90 - I90^2)*(H90-G90))*( E90/2 - J90+I90/2)) / ((2*$F$65+3*T90)/(2*$F$65+6*T90)*T90)","v":{"v":720.4950778241932,"d":"720"}},{"$f":"(($B$63*G90*E90^3)+ (6*$B$63*I90*J90*(H90-G90)) * (E90+I90-J90-(I90^2/H90))) / ((2*$F$65+3*T90)/(2*$F$65+6*T90)*T90)","v":{"v":965.0797924688184,"d":"965"}},null,{"$f":"F90-0.25","v":{"v":8.850000000000001,"d":"8.85"}},{"$f":"S90-$F$65","v":{"v":6.850000000000001,"d":"6.85"}},{"$f":"T90*(2*$F$65+3*T90)/(2*$F$65+6*T90)","v":{"v":3.728769401330378,"d":"3.73"}},{"$f":" $O90/$F$65 * (($F90-0.25) - ((2*$F$65+3*($F90-0.25-$F$65))/(2*$F$65+6*($F90-0.25-$F$65))*($F90-0.25-$F$65)))","v":{"v":1619.4472689431673,"d":"1619"}},{"$f":"1.414*$O90*($S90-$U90)/$F$65","v":{"v":2289.898438285638,"d":"2290"}},{"$f":" $P90/$F$65 * (($F90-0.25) - ((2*$F$65+3*($F90-0.25-$F$65))/(2*$F$65+6*($F90-0.25-$F$65))*($F90-0.25-$F$65)))","v":{"v":1844.9107193720552,"d":"1845"}},{"$f":" ($P90*1.414/$F$65) * (($F90-0.25) - ((2*$F$65+3*($F90-0.25-$F$65))/(2*$F$65+6*($F90-0.25-$F$65))*($F90-0.25-$F$65)))","v":{"v":2608.703757192086,"d":"2609"}},{"$f":" $Q90/$F$65 * (($F90-0.25) - ((2*$F$65+3*($F90-0.25-$F$65))/(2*$F$65+6*($F90-0.25-$F$65))*($F90-0.25-$F$65)))","v":{"v":2471.1980816745213,"d":"2471"}},{"$f":" ($Q90*1.414/$F$65) * (($F90-0.25) - ((2*$F$65+3*($F90-0.25-$F$65))/(2*$F$65+6*($F90-0.25-$F$65))*($F90-0.25-$F$65)))","v":{"v":3494.2740874877736,"d":"3494"}},null,null,{"$f":"(U90-S90)*O90/F$65","v":{"v":-1619.447268943167,"d":"-1619"}},{"$f":"(U90-S90)*P90/F$65","v":{"v":-1844.910719372055,"d":"-1845"}},{"$f":"(U90-S90)*Q90/F$65","v":{"v":-2471.1980816745213,"d":"-2471"}},null,{"$f":"AH$66*F$65/(S90-U90)","v":{"v":559.7612939771468,"d":"560"}},{"$f":"AI$66*F$65/(S90-U90)","v":{"v":942.4818066033822,"d":"942"}},{"$f":"AJ$66*F$65/ (S90-U90)","v":{"v":1275.735042087451,"d":"1276"}},{"v":395.7512348418428,"d":"396"},{"v":666.3346372685912,"d":"666"},{"v":901.9446747558278,"d":"902"},{"$f":"AN$66*( U90-S90)/F$65","v":{"v":2560.6152993348114,"d":"2561"}},{"$f":"AO$66*(U90-S90)/F$65","v":{"v":2560.6152993348114,"d":"2561"}},{"$f":"AP$66*(U90-S90)/F$65","v":{"v":2560.6152993348114,"d":"2561"}},{"v":395.7512348418428,"d":"396"},{"v":666.3346372685912,"d":"666"},{"v":901.9446747558278,"d":"902"}]
[null,12,{"$f":"Padroes!W13","v":265},327,{"$f":"0.6+0.1*B91","v":1.8000000000000003},{"$f":"B91-0.2-E91","v":10},{"$f":"Padroes!Y13","v":0.24},{"$f":"Padroes!S$8","v":{"v":1,"d":"1.00"}},{"$f":"Padroes!S$9","v":{"v":0.2,"d":"0.20"}},{"$f":"Padroes!S$10","v":{"v":0.5,"d":"0.50"}},{"$nulls":4},{"$f":"($B$63*G91*E91^3) / ((2*$F$65+3*T91)/(2*$F$65+6*T91)*T91)","v":{"v":669.3941639538327,"d":"669"}},{"$f":"(($B$63*G91*E91^3)+ (3*$B$63*(2*J91*I91 - I91^2)*(H91-G91))*( E91/2 - J91+I91/2)) / ((2*$F$65+3*T91)/(2*$F$65+6*T91)*T91)","v":{"v":756.6265995856764,"d":"757"}},{"$f":"(($B$63*G91*E91^3)+ (6*$B$63*I91*J91*(H91-G91)) * (E91+I91-J91-(I91^2/H91))) / ((2*$F$65+3*T91)/(2*$F$65+6*T91)*T91)","v":{"v":987.7925540100623,"d":"988"}},null,{"$f":"F91-0.25","v":9.75},{"$f":"S91-$F$65","v":7.75},{"$f":"T91*(2*$F$65+3*T91)/(2*$F$65+6*T91)","v":{"v":4.181930693069307,"d":"4.18"}},{"$f":" $O91/$F$65 * (($F91-0.25) - ((2*$F$65+3*($F91-0.25-$F$65))/(2*$F$65+6*($F91-0.25-$F$65))*($F91-0.25-$F$65)))","v":{"v":1863.616549274934,"d":"1864"}},{"$f":"1.414*$O91*($S91-$U91)/$F$65","v":{"v":2635.1538006747564,"d":"2635"}},{"$f":" $P91/$F$65 * (($F91-0.25) - ((2*$F$65+3*($F91-0.25-$F$65))/(2*$F$65+6*($F91-0.25-$F$65))*($F91-0.25-$F$65)))","v":{"v":2106.4746729801723,"d":"2106"}},{"$f":" ($P91*1.414/$F$65) * (($F91-0.25) - ((2*$F$65+3*($F91-0.25-$F$65))/(2*$F$65+6*($F91-0.25-$F$65))*($F91-0.25-$F$65)))","v":{"v":2978.555187593963,"d":"2979"}},{"$f":" $Q91/$F$65 * (($F91-0.25) - ((2*$F$65+3*($F91-0.25-$F$65))/(2*$F$65+6*($F91-0.25-$F$65))*($F91-0.25-$F$65)))","v":{"v":2750.048700799053,"d":"2750"}},{"$f":" ($Q91*1.414/$F$65) * (($F91-0.25) - ((2*$F$65+3*($F91-0.25-$F$65))/(2*$F$65+6*($F91-0.25-$F$65))*($F91-0.25-$F$65)))","v":{"v":3888.568862929861,"d":"3889"}},null,null,{"$f":"(U91-S91)*O91/F$65","v":{"v":-1863.616549274934,"d":"-1864"}},{"$f":"(U91-S91)*P91/F$65","v":{"v":-2106.4746729801723,"d":"-2106"}},{"$f":"(U91-S91)*Q91/F$65","v":{"v":-2750.048700799053,"d":"-2750"}},null,{"$f":"AH$66*F$65/(S91-U91)","v":{"v":514.8403348892347,"d":"515"}},{"$f":"AI$66*F$65/(S91-U91)","v":{"v":866.847447580944,"d":"867"}},{"$f":"AJ$66*F$65/ (S91-U91)","v":{"v":1173.3570423056976,"d":"1173"}},{"v":363.99211676668887,"d":"364"},{"v":612.8611454397274,"d":"613"},{"v":829.5634289101282,"d":"830"},{"$f":"AN$66*( U91-S91)/F$65","v":{"v":2784.0346534653463,"d":"2784"}},{"$f":"AO$66*(U91-S91)/F$65","v":{"v":2784.0346534653463,"d":"2784"}},{"$f":"AP$66*(U91-S91)/F$65","v":{"v":2784.0346534653463,"d":"2784"}},{"v":363.99211676668887,"d":"364"},{"v":612.8611454397274,"d":"613"},{"v":829.5634289101282,"d":"830"}]
[null,13,{"$f":"Padroes!W14","v":230},355,{"$f":"0.6+0.1*B92","v":1.9},{"$f":"B92-0.2-E92","v":10.9},{"$f":"Padroes!Y14","v":0.25},{"$f":"Padroes!S$8","v":{"v":1,"d":"1.00"}},{"$f":"Padroes!S$9","v":{"v":0.2,"d":"0.20"}},{"$f":"Padroes!S$10","v":{"v":0.5,"d":"0.50"}},{"$nulls":4},{"$f":"($B$63*G92*E92^3) / ((2*$F$65+3*T92)/(2*$F$65+6*T92)*T92)","v":{"v":739.9965260019105,"d":"740"}},{"$f":"(($B$63*G92*E92^3)+ (3*$B$63*(2*J92*I92 - I92^2)*(H92-G92))*( E92/2 - J92+I92/2)) / ((2*$F$65+3*T92)/(2*$F$65+6*T92)*T92)","v":{"v":825.4429830063592,"d":"825"}},{"$f":"(($B$63*G92*E92^3)+ (6*$B$63*I92*J92*(H92-G92)) * (E92+I92-J92-(I92^2/H92))) / ((2*$F$65+3*T92)/(2*$F$65+6*T92)*T92)","v":{"v":1042.9430553813195,"d":"1043"}},null,{"$f":"F92-0.25","v":10.65},{"$f":"S92-$F$65","v":8.65},{"$f":"T92*(2*$F$65+3*T92)/(2*$F$65+6*T92)","v":{"v":4.634481216457961,"d":"4.63"}},{"$f":" $O92/$F$65 * (($F92-0.25) - ((2*$F$65+3*($F92-0.25-$F$65))/(2*$F$65+6*($F92-0.25-$F$65))*($F92-0.25-$F$65)))","v":{"v":2225.731500960174,"d":"2226"}},{"$f":"1.414*$O92*($S92-$U92)/$F$65","v":{"v":3147.184342357686,"d":"3147"}},{"$f":" $P92/$F$65 * (($F92-0.25) - ((2*$F$65+3*($F92-0.25-$F$65))/(2*$F$65+6*($F92-0.25-$F$65))*($F92-0.25-$F$65)))","v":{"v":2482.733884508863,"d":"2483"}},{"$f":" ($P92*1.414/$F$65) * (($F92-0.25) - ((2*$F$65+3*($F92-0.25-$F$65))/(2*$F$65+6*($F92-0.25-$F$65))*($F92-0.25-$F$65)))","v":{"v":3510.585712695532,"d":"3511"}},{"$f":" $Q92/$F$65 * (($F92-0.25) - ((2*$F$65+3*($F92-0.25-$F$65))/(2*$F$65+6*($F92-0.25-$F$65))*($F92-0.25-$F$65)))","v":{"v":3136.9217699055266,"d":"3137"}},{"$f":" ($Q92*1.414/$F$65) * (($F92-0.25) - ((2*$F$65+3*($F92-0.25-$F$65))/(2*$F$65+6*($F92-0.25-$F$65))*($F92-0.25-$F$65)))","v":{"v":4435.6073826464135,"d":"4436"}},null,null,{"$f":"(U92-S92)*O92/F$65","v":{"v":-2225.731500960174,"d":"-2226"}},{"$f":"(U92-S92)*P92/F$65","v":{"v":-2482.733884508863,"d":"-2483"}},{"$f":"(U92-S92)*Q92/F$65","v":{"v":-3136.9217699055266,"d":"-3137"}},null,{"$f":"AH$66*F$65/(S92-U92)","v":{"v":476.54521078209063,"d":"477"}},{"$f":"AI$66*F$65/(S92-U92)","v":{"v":802.3691455958922,"d":"802"}},{"$f":"AJ$66*F$65/ (S92-U92)","v":{"v":1086.0797827126717,"d":"1086"}},{"v":336.9174640229381,"d":"337"},{"v":567.2749859362957,"d":"567"},{"v":767.8584063778588,"d":"768"},{"$f":"AN$66*( U92-S92)/F$65","v":{"v":3007.7593917710196,"d":"3008"}},{"$f":"AO$66*(U92-S92)/F$65","v":{"v":3007.7593917710196,"d":"3008"}},{"$f":"AP$66*(U92-S92)/F$65","v":{"v":3007.7593917710196,"d":"3008"}},{"$f":"MIN(AH92,AK92,AN92)","v":{"v":336.9174640229381,"d":"337"}},{"$f":"MIN(AI92,AL92,AO92)","v":{"v":567.2749859362957,"d":"567"}},{"$f":"MIN(AJ92,AM92,AP92)","v":{"v":767.8584063778588,"d":"768"}}]
[]
[]
[]
[{"$nulls":22},"Valores para Critários de Projetos"]
["Poste de concreto Duplo T",{"$nulls":3},"DADOS DO POSTE",null,"Face A","dados escora",null,null,"dados da base concretada",{"$nulls":3},"VALOR DA TRAÇÃO NO TOPO  (daN)"]
["comprimento",null,"carga","peso","t","h*","b","m","n","c","d","P","q","K","SIMPLES ","ESCORA\nSIMPLES","ESCORA\nDUPLA","CONCRETADO",9,{"$nulls":3},"SIMPLES ","ESCORA\nSIMPLES","ESCORA\nDUPLA","CONCRETADO"]
[9,9,{"$f":"IF(Padroes!H10=\"\",\"\",Padroes!H10)","v":150},{"$f":"IF(Padroes!I10<>\"\",Padroes!I10,\"\")","v":470},{"$f":"IF(D99=\"\",\"\",(0.6+0.1*B99))","v":1.5},{"$f":"IF(E99=\"\",\"\",(B99-E99-0.5))","v":{"v":7,"d":"7.00"}},{"$f":"IF(Padroes!J10=\"\",\"\",Padroes!J10)","v":{"v":0.264,"d":"0.26"}},{"$f":"IF(E99=\"\",\"\",Padroes!S$8)","v":{"v":1,"d":"1.00"}},{"$f":"IF(E99=\"\",\"\",Padroes!S$9)","v":{"v":0.2,"d":"0.20"}},{"$f":"IF(E99=\"\",\"\",Padroes!S$10)","v":{"v":0.5,"d":"0.50"}},{"$f":"IF(Padroes!L10=\"\",\"\",Padroes!L10)","v":{"v":0.625,"d":"0.63"}},{"$f":"IF(D99=\"\",\"\",(D99+(3.1416*K99^2*M99/4*2400)))","v":{"v":911.7874999999999,"d":"912"}},{"$f":"IF(E99=\"\",\"\",Padroes!$AI$8)","v":{"v":0.6,"d":"0.60"}},{"$f":"IF(E99=\"\",\"\",Padroes!$AL$23)","v":{"v":1,"d":"1.00"}},{"$f":"IF(E99=\"\",\"\",($B$63*G99*E99^3)/(F99+E99))","v":{"v":209.64705882352942,"d":"210"}},{"$f":"IF(E99=\"\",\"\",(3*$B$63*(2*J99*I99 - I99^2)*(H99-G99))*(E99-J99+I99/2)/(F99+E99/2) + O99)","v":{"v":309.9329943074004,"d":"310"}},{"$f":"IF(E99=\"\",\"\",(3*$B$63 * (2*E99*I99-I99^2)*(H99-G99) ) * (I99/2) / (F99+E99) + P99)","v":{"v":339.02664136622394,"d":"339"}},{"$f":"IF(E99=\"\",\"\",(N99*$B$63*K99*E99^3)/(F99+E99) + (K99*L99/(F99+E99)) * (0.5 - (2*L99/(3*$C$63*K99^2))))","v":{"v":525.6720453439216,"d":"526"}},null,{"$f":"IF(Padroes!N10=\"\",\"\",Padroes!N10)","v":"D"},null,null,{"$f":"IF(O99=\"\",\"\",O99*Parametros!$I$26)","v":{"v":167.71764705882356,"d":"168"}},{"$f":"IF(P99=\"\",\"\",P99*Parametros!$I$27)","v":{"v":247.94639544592033,"d":"248"}},{"$f":"IF(Q99=\"\",\"\",Q99*Parametros!$I$28)","v":{"v":271.2213130929792,"d":"271"}},{"$f":"IF(R99=\"\",\"\",R99*Parametros!$I$29)","v":{"v":420.5376362751373,"d":"421"}}]
[null,9,{"$f":"IF(Padroes!H11=\"\",\"\",Padroes!H11)","v":200},{"$f":"IF(Padroes!I11<>\"\",Padroes!I11,\"\")","v":470},{"$f":"IF(D100=\"\",\"\",(0.6+0.1*B100))","v":1.5},{"$f":"IF(E100=\"\",\"\",(B100-E100-0.5))","v":{"v":7,"d":"7.00"}},{"$f":"IF(Padroes!J11=\"\",\"\",Padroes!J11)","v":{"v":0.264,"d":"0.26"}},{"$f":"IF(E100=\"\",\"\",Padroes!S$8)","v":{"v":1,"d":"1.00"}},{"$f":"IF(E100=\"\",\"\",Padroes!S$9)","v":{"v":0.2,"d":"0.20"}},{"$f":"IF(E100=\"\",\"\",Padroes!S$10)","v":{"v":0.5,"d":"0.50"}},{"$f":"IF(Padroes!L11=\"\",\"\",Padroes!L11)","v":{"v":0.625,"d":"0.63"}},{"$f":"IF(D100=\"\",\"\",(D100+(3.1416*K100^2*M100/4*2400)))","v":{"v":911.7874999999999,"d":"912"}},{"$f":"IF(E100=\"\",\"\",Padroes!$AI$8)","v":{"v":0.6,"d":"0.60"}},{"$f":"IF(E100=\"\",\"\",Padroes!$AL$23)","v":{"v":1,"d":"1.00"}},{"v":209.64705882352942,"d":"210"},{"$f":"IF(E100=\"\",\"\",(3*$B$63*(2*J100*I100 - I100^2)*(H100-G100))*(E100-J100+I100/2)/(F100+E100/2) + O100)","v":{"v":309.9329943074004,"d":"310"}},{"$f":"IF(E100=\"\",\"\",(3*$B$63 * (2*E100*I100-I100^2)*(H100-G100) ) * (I100/2) / (F100+E100) + P100)","v":{"v":339.02664136622394,"d":"339"}},{"$f":"IF(E100=\"\",\"\",(N100*$B$63*K100*E100^3)/(F100+E100) + (K100*L100/(F100+E100)) * (0.5 - (2*L100/(3*$C$63*K100^2))))","v":{"v":525.6720453439216,"d":"526"}},null,{"$f":"IF(Padroes!N11=\"\",\"\",Padroes!N11)","v":"D"},null,null,{"$f":"IF(O100=\"\",\"\",O100*Parametros!$I$26)","v":{"v":167.71764705882356,"d":"168"}},{"$f":"IF(P100=\"\",\"\",P100*Parametros!$I$27)","v":{"v":247.94639544592033,"d":"248"}},{"$f":"IF(Q100=\"\",\"\",Q100*Parametros!$I$28)","v":{"v":271.2213130929792,"d":"271"}},{"$f":"IF(R100=\"\",\"\",R100*Parametros!$I$29)","v":{"v":420.5376362751373,"d":"421"}}]
[null,9,{"$f":"IF(Padroes!H12=\"\",\"\",Padroes!H12)","v":300},{"$f":"IF(Padroes!I12<>\"\",Padroes!I12,\"\")","v":750},1.5,{"v":7,"d":"7.00"},{"$f":"IF(Padroes!J12=\"\",\"\",Padroes!J12)","v":{"v":0.392,"d":"0.39"}},{"$f":"IF(E101=\"\",\"\",Padroes!S$8)","v":{"v":1,"d":"1.00"}},{"$f":"IF(E101=\"\",\"\",Padroes!S$9)","v":{"v":0.2,"d":"0.20"}},{"$f":"IF(E101=\"\",\"\",Padroes!S$10)","v":{"v":0.5,"d":"0.50"}},{"$f":"IF(Padroes!L12=\"\",\"\",Padroes!L12)","v":{"v":0.787,"d":"0.79"}},{"$f":"IF(D101=\"\",\"\",(D101+(3.1416*K101^2*M101/4*2400)))","v":{"v":1450.491474144,"d":"1450"}},{"$f":"IF(E101=\"\",\"\",Padroes!$AI$8)","v":{"v":0.6,"d":"0.60"}},{"$f":"IF(E101=\"\",\"\",Padroes!$AL$23)","v":{"v":1,"d":"1.00"}},{"v":311.29411764705884,"d":"311"},{"$f":"IF(E101=\"\",\"\",(3*$B$63*(2*J101*I101 - I101^2)*(H101-G101))*(E101-J101+I101/2)/(F101+E101/2) + O101)","v":{"v":394.1390208728653,"d":"394"}},{"$f":"IF(E101=\"\",\"\",(3*$B$63 * (2*E101*I101-I101^2)*(H101-G101) ) * (I101/2) / (F101+E101) + P101)","v":{"v":418.17290322580646,"d":"418"}},{"$f":"IF(E101=\"\",\"\",(N101*$B$63*K101*E101^3)/(F101+E101) + (K101*L101/(F101+E101)) * (0.5 - (2*L101/(3*$C$63*K101^2))))","v":{"v":683.7328345142132,"d":"684"}},null,{"$f":"IF(Padroes!N12=\"\",\"\",Padroes!N12)","v":"B"},null,null,{"$f":"IF(O101=\"\",\"\",O101*Parametros!$I$26)","v":{"v":249.03529411764708,"d":"249"}},{"$f":"IF(P101=\"\",\"\",P101*Parametros!$I$27)","v":{"v":315.31121669829224,"d":"315"}},{"$f":"IF(Q101=\"\",\"\",Q101*Parametros!$I$28)","v":{"v":334.5383225806452,"d":"335"}},{"$f":"IF(R101=\"\",\"\",R101*Parametros!$I$29)","v":{"v":546.9862676113706,"d":"547"}}]
[null,9,{"$f":"IF(Padroes!H13=\"\",\"\",Padroes!H13)","v":400},{"$f":"IF(Padroes!I13<>\"\",Padroes!I13,\"\")","v":750},1.5,{"v":7,"d":"7.00"},{"$f":"IF(Padroes!J13=\"\",\"\",Padroes!J13)","v":{"v":0.392,"d":"0.39"}},{"$f":"IF(E102=\"\",\"\",Padroes!S$8)","v":{"v":1,"d":"1.00"}},{"$f":"IF(E102=\"\",\"\",Padroes!S$9)","v":{"v":0.2,"d":"0.20"}},{"$f":"IF(E102=\"\",\"\",Padroes!S$10)","v":{"v":0.5,"d":"0.50"}},{"$f":"IF(Padroes!L13=\"\",\"\",Padroes!L13)","v":{"v":0.787,"d":"0.79"}},{"$f":"IF(D102=\"\",\"\",(D102+(3.1416*K102^2*M102/4*2400)))","v":{"v":1450.491474144,"d":"1450"}},{"$f":"IF(E102=\"\",\"\",Padroes!$AI$8)","v":{"v":0.6,"d":"0.60"}},{"$f":"IF(E102=\"\",\"\",Padroes!$AL$23)","v":{"v":1,"d":"1.00"}},{"v":311.29411764705884,"d":"311"},{"v":394.1390208728653,"d":"394"},{"v":418.17290322580646,"d":"418"},{"v":683.7328345142132,"d":"684"},null,{"$f":"IF(Padroes!N13=\"\",\"\",Padroes!N13)","v":"B"},null,null,{"$f":"IF(O102=\"\",\"\",O102*Parametros!$I$26)","v":{"v":249.03529411764708,"d":"249"}},{"$f":"IF(P102=\"\",\"\",P102*Parametros!$I$27)","v":{"v":315.31121669829224,"d":"315"}},{"$f":"IF(Q102=\"\",\"\",Q102*Parametros!$I$28)","v":{"v":334.5383225806452,"d":"335"}},{"$f":"IF(R102=\"\",\"\",R102*Parametros!$I$29)","v":{"v":546.9862676113706,"d":"547"}}]
[null,9,{"$f":"IF(Padroes!H14=\"\",\"\",Padroes!H14)","v":600},{"$f":"IF(Padroes!I14<>\"\",Padroes!I14,\"\")","v":750},1.5,{"v":7,"d":"7.00"},{"$f":"IF(Padroes!J14=\"\",\"\",Padroes!J14)","v":{"v":0.392,"d":"0.39"}},{"$f":"IF(E103=\"\",\"\",Padroes!S$8)","v":{"v":1,"d":"1.00"}},{"$f":"IF(E103=\"\",\"\",Padroes!S$9)","v":{"v":0.2,"d":"0.20"}},{"$f":"IF(E103=\"\",\"\",Padroes!S$10)","v":{"v":0.5,"d":"0.50"}},{"$f":"IF(Padroes!L14=\"\",\"\",Padroes!L14)","v":{"v":0.787,"d":"0.79"}},{"$f":"IF(D103=\"\",\"\",(D103+(3.1416*K103^2*M103/4*2400)))","v":{"v":1450.491474144,"d":"1450"}},{"$f":"IF(E103=\"\",\"\",Padroes!$AI$8)","v":{"v":0.6,"d":"0.60"}},{"$f":"IF(E103=\"\",\"\",Padroes!$AL$23)","v":{"v":1,"d":"1.00"}},{"v":311.29411764705884,"d":"311"},{"v":394.1390208728653,"d":"394"},{"v":418.17290322580646,"d":"418"},{"v":683.7328345142132,"d":"684"},null,{"$f":"IF(Padroes!N14=\"\",\"\",Padroes!N14)","v":"B"},null,null,{"$f":"IF(O103=\"\",\"\",O103*Parametros!$I$26)","v":{"v":249.03529411764708,"d":"249"}},{"$f":"IF(P103=\"\",\"\",P103*Parametros!$I$27)","v":{"v":315.31121669829224,"d":"315"}},{"$f":"IF(Q103=\"\",\"\",Q103*Parametros!$I$28)","v":{"v":334.5383225806452,"d":"335"}},{"$f":"IF(R103=\"\",\"\",R103*Parametros!$I$29)","v":{"v":546.9862676113706,"d":"547"}}]
[null,9,{"$f":"IF(Padroes!H15=\"\",\"\",Padroes!H15)","v":1000},{"$f":"IF(Padroes!I15<>\"\",Padroes!I15,\"\")","v":1026},1.5,{"v":7,"d":"7.00"},{"$f":"IF(Padroes!J15=\"\",\"\",Padroes!J15)","v":{"v":0.434,"d":"0.43"}},{"$f":"IF(E104=\"\",\"\",Padroes!S$8)","v":{"v":1,"d":"1.00"}},{"$f":"IF(E104=\"\",\"\",Padroes!S$9)","v":{"v":0.2,"d":"0.20"}},{"$f":"IF(E104=\"\",\"\",Padroes!S$10)","v":{"v":0.5,"d":"0.50"}},{"$f":"IF(Padroes!L15=\"\",\"\",Padroes!L15)","v":{"v":0.868,"d":"0.87"}},{"v":1878.1044618239998,"d":"1878"},{"$f":"IF(E104=\"\",\"\",Padroes!$AI$8)","v":{"v":0.6,"d":"0.60"}},{"$f":"IF(E104=\"\",\"\",Padroes!$AL$23)","v":{"v":1,"d":"1.00"}},{"v":344.6470588235294,"d":"345"},{"v":421.76912333965845,"d":"422"},{"v":444.14277039848196,"d":"444"},{"v":772.4391142362912,"d":"772"},null,{"$f":"IF(Padroes!N15=\"\",\"\",Padroes!N15)","v":"B-1,5"},null,null,{"$f":"IF(O104=\"\",\"\",O104*Parametros!$I$26)","v":{"v":275.7176470588235,"d":"276"}},{"$f":"IF(P104=\"\",\"\",P104*Parametros!$I$27)","v":{"v":337.41529867172676,"d":"337"}},{"$f":"IF(Q104=\"\",\"\",Q104*Parametros!$I$28)","v":{"v":355.3142163187856,"d":"355"}},{"$f":"IF(R104=\"\",\"\",R104*Parametros!$I$29)","v":{"v":617.951291389033,"d":"618"}}]
[null,9,{"$f":"IF(Padroes!H16=\"\",\"\",Padroes!H16)","v":""},{"$f":"IF(Padroes!I16<>\"\",Padroes!I16,\"\")","v":""},"","",{"$f":"IF(Padroes!J16=\"\",\"\",Padroes!J16)","v":""},{"$f":"IF(E105=\"\",\"\",Padroes!S$8)","v":""},{"$f":"IF(E105=\"\",\"\",Padroes!S$9)","v":""},{"$f":"IF(E105=\"\",\"\",Padroes!S$10)","v":""},{"$f":"IF(Padroes!L16=\"\",\"\",Padroes!L16)","v":""},"",{"$f":"IF(E105=\"\",\"\",Padroes!$AI$8)","v":""},{"$f":"IF(E105=\"\",\"\",Padroes!$AL$23)","v":""},{"$f":"IF(E105=\"\",\"\",($B$63*G105*E105^3)/(F105+E105))","v":""},"","","",null,{"$f":"IF(Padroes!N16=\"\",\"\",Padroes!N16)","v":""},null,null,{"$f":"IF(O105=\"\",\"\",O105*Parametros!$I$26)","v":""},{"$f":"IF(P105=\"\",\"\",P105*Parametros!$I$27)","v":""},{"$f":"IF(Q105=\"\",\"\",Q105*Parametros!$I$28)","v":""},{"$f":"IF(R105=\"\",\"\",R105*Parametros!$I$29)","v":""}]
[null,9,{"$f":"IF(Padroes!H17=\"\",\"\",Padroes!H17)","v":""},{"$f":"IF(Padroes!I17<>\"\",Padroes!I17,\"\")","v":""},"","",{"$f":"IF(Padroes!J17=\"\",\"\",Padroes!J17)","v":""},{"$f":"IF(E106=\"\",\"\",Padroes!S$8)","v":""},{"$f":"IF(E106=\"\",\"\",Padroes!S$9)","v":""},{"$f":"IF(E106=\"\",\"\",Padroes!S$10)","v":""},{"$f":"IF(Padroes!L17=\"\",\"\",Padroes!L17)","v":""},"",{"$f":"IF(E106=\"\",\"\",Padroes!$AI$8)","v":""},{"$f":"IF(E106=\"\",\"\",Padroes!$AL$23)","v":""},"","","","",null,{"$f":"IF(Padroes!N17=\"\",\"\",Padroes!N17)","v":""},null,null,{"$f":"IF(O106=\"\",\"\",O106*Parametros!$I$26)","v":""},{"$f":"IF(P106=\"\",\"\",P106*Parametros!$I$27)","v":""},{"$f":"IF(Q106=\"\",\"\",Q106*Parametros!$I$28)","v":""},{"$f":"IF(R106=\"\",\"\",R106*Parametros!$I$29)","v":""}]
[null,9,{"$f":"IF(Padroes!H18=\"\",\"\",Padroes!H18)","v":""},{"$f":"IF(Padroes!I18<>\"\",Padroes!I18,\"\")","v":""},"","",{"$f":"IF(Padroes!J18=\"\",\"\",Padroes!J18)","v":""},{"$f":"IF(E107=\"\",\"\",Padroes!S$8)","v":""},{"$f":"IF(E107=\"\",\"\",Padroes!S$9)","v":""},{"$f":"IF(E107=\"\",\"\",Padroes!S$10)","v":""},{"$f":"IF(Padroes!L18=\"\",\"\",Padroes!L18)","v":""},"",{"$f":"IF(E107=\"\",\"\",Padroes!$AI$8)","v":""},{"$f":"IF(E107=\"\",\"\",Padroes!$AL$23)","v":""},"","","","",null,{"$f":"IF(Padroes!N18=\"\",\"\",Padroes!N18)","v":""},null,null,{"$f":"IF(O107=\"\",\"\",O107*Parametros!$I$26)","v":""},{"$f":"IF(P107=\"\",\"\",P107*Parametros!$I$27)","v":""},{"$f":"IF(Q107=\"\",\"\",Q107*Parametros!$I$28)","v":""},{"$f":"IF(R107=\"\",\"\",R107*Parametros!$I$29)","v":""}]
[10,10,{"$f":"IF(Padroes!H19=\"\",\"\",Padroes!H19)","v":150},{"$f":"IF(Padroes!I19<>\"\",Padroes!I19,\"\")","v":550},1.6,{"$f":"IF(E108=\"\",\"\",(B108-E108-0.2))","v":{"v":8.200000000000001,"d":"8.2"}},{"$f":"IF(Padroes!J19=\"\",\"\",Padroes!J19)","v":0.28},{"$f":"IF(E108=\"\",\"\",Padroes!S$8)","v":{"v":1,"d":"1.00"}},{"$f":"IF(E108=\"\",\"\",Padroes!S$9)","v":{"v":0.2,"d":"0.20"}},{"$f":"IF(E108=\"\",\"\",Padroes!S$10)","v":{"v":0.5,"d":"0.50"}},{"$f":"IF(Padroes!L19=\"\",\"\",Padroes!L19)","v":{"v":0.663,"d":"0.66"}},{"v":1088.570488456,"d":"1089"},{"$f":"IF(E108=\"\",\"\",Padroes!$AI$9)","v":0.65},{"$f":"IF(E108=\"\",\"\",Padroes!$AL$23)","v":{"v":1,"d":"1.00"}},{"v":234.0571428571429,"d":"234"},{"v":326.2171428571429,"d":"326"},{"v":352.66612244897965,"d":"353"},{"v":586.1730153032079,"d":"586"},10,{"$f":"IF(Padroes!N19=\"\",\"\",Padroes!N19)","v":"D"},null,null,{"$f":"IF(O108=\"\",\"\",O108*Parametros!$I$26)","v":{"v":187.24571428571434,"d":"187"}},{"$f":"IF(P108=\"\",\"\",P108*Parametros!$I$27)","v":{"v":260.9737142857143,"d":"261"}},{"$f":"IF(Q108=\"\",\"\",Q108*Parametros!$I$28)","v":{"v":282.1328979591837,"d":"282"}},{"$f":"IF(R108=\"\",\"\",R108*Parametros!$I$29)","v":{"v":468.9384122425663,"d":"469"}}]
[null,10,{"$f":"IF(Padroes!H20=\"\",\"\",Padroes!H20)","v":200},{"$f":"IF(Padroes!I20<>\"\",Padroes!I20,\"\")","v":550},1.6,{"$f":"IF(E109=\"\",\"\",(B109-E109-0.2))","v":{"v":8.200000000000001,"d":"8.2"}},{"$f":"IF(Padroes!J20=\"\",\"\",Padroes!J20)","v":0.28},{"$f":"IF(E109=\"\",\"\",Padroes!S$8)","v":{"v":1,"d":"1.00"}},{"$f":"IF(E109=\"\",\"\",Padroes!S$9)","v":{"v":0.2,"d":"0.20"}},{"$f":"IF(E109=\"\",\"\",Padroes!S$10)","v":{"v":0.5,"d":"0.50"}},{"$f":"IF(Padroes!L20=\"\",\"\",Padroes!L20)","v":{"v":0.663,"d":"0.66"}},{"v":1088.570488456,"d":"1089"},{"$f":"IF(E109=\"\",\"\",Padroes!$AI$9)","v":0.65},{"$f":"IF(E109=\"\",\"\",Padroes!$AL$23)","v":{"v":1,"d":"1.00"}},{"v":234.0571428571429,"d":"234"},{"v":326.2171428571429,"d":"326"},{"v":352.66612244897965,"d":"353"},{"v":586.1730153032079,"d":"586"},null,{"$f":"IF(Padroes!N20=\"\",\"\",Padroes!N20)","v":"B"},null,null,{"$f":"IF(O109=\"\",\"\",O109*Parametros!$I$26)","v":{"v":187.24571428571434,"d":"187"}},{"$f":"IF(P109=\"\",\"\",P109*Parametros!$I$27)","v":{"v":260.9737142857143,"d":"261"}},{"$f":"IF(Q109=\"\",\"\",Q109*Parametros!$I$28)","v":{"v":282.1328979591837,"d":"282"}},{"$f":"IF(R109=\"\",\"\",R109*Parametros!$I$29)","v":{"v":468.9384122425663,"d":"469"}}]
[null,10,{"$f":"IF(Padroes!H21=\"\",\"\",Padroes!H21)","v":300},{"$f":"IF(Padroes!I21<>\"\",Padroes!I21,\"\")","v":900},1.6,{"v":8.200000000000001,"d":"8.2"},{"$f":"IF(Padroes!J21=\"\",\"\",Padroes!J21)","v":0.42},{"$f":"IF(E110=\"\",\"\",Padroes!S$8)","v":{"v":1,"d":"1.00"}},{"$f":"IF(E110=\"\",\"\",Padroes!S$9)","v":{"v":0.2,"d":"0.20"}},{"$f":"IF(E110=\"\",\"\",Padroes!S$10)","v":{"v":0.5,"d":"0.50"}},{"$f":"IF(Padroes!L21=\"\",\"\",Padroes!L21)","v":{"v":0.856,"d":"0.86"}},{"v":1797.7657328639998,"d":"1798"},{"$f":"IF(E110=\"\",\"\",Padroes!$AI$9)","v":0.65},{"$f":"IF(E110=\"\",\"\",Padroes!$AL$23)","v":{"v":1,"d":"1.00"}},{"v":351.08571428571435,"d":"351"},{"v":425.32571428571435,"d":"425"},{"v":446.63183673469393,"d":"447"},{"v":783.786894972382,"d":"784"},null,{"$f":"IF(Padroes!N21=\"\",\"\",Padroes!N21)","v":"B"},null,null,{"$f":"IF(O110=\"\",\"\",O110*Parametros!$I$26)","v":{"v":280.8685714285715,"d":"281"}},{"$f":"IF(P110=\"\",\"\",P110*Parametros!$I$27)","v":{"v":340.2605714285715,"d":"340"}},{"$f":"IF(Q110=\"\",\"\",Q110*Parametros!$I$28)","v":{"v":357.3054693877552,"d":"357"}},{"$f":"IF(R110=\"\",\"\",R110*Parametros!$I$29)","v":{"v":627.0295159779057,"d":"627"}}]
[null,10,{"$f":"IF(Padroes!H22=\"\",\"\",Padroes!H22)","v":400},{"$f":"IF(Padroes!I22<>\"\",Padroes!I22,\"\")","v":900},1.6,{"v":8.200000000000001,"d":"8.2"},{"$f":"IF(Padroes!J22=\"\",\"\",Padroes!J22)","v":0.42},{"$f":"IF(E111=\"\",\"\",Padroes!S$8)","v":{"v":1,"d":"1.00"}},{"$f":"IF(E111=\"\",\"\",Padroes!S$9)","v":{"v":0.2,"d":"0.20"}},{"$f":"IF(E111=\"\",\"\",Padroes!S$10)","v":{"v":0.5,"d":"0.50"}},{"$f":"IF(Padroes!L22=\"\",\"\",Padroes!L22)","v":{"v":0.856,"d":"0.86"}},{"v":1797.7657328639998,"d":"1798"},{"$f":"IF(E111=\"\",\"\",Padroes!$AI$9)","v":0.65},{"$f":"IF(E111=\"\",\"\",Padroes!$AL$23)","v":{"v":1,"d":"1.00"}},{"v":351.08571428571435,"d":"351"},{"v":425.32571428571435,"d":"425"},{"v":446.63183673469393,"d":"447"},{"v":783.786894972382,"d":"784"},null,{"$f":"IF(Padroes!N22=\"\",\"\",Padroes!N22)","v":"B"},null,null,{"$f":"IF(O111=\"\",\"\",O111*Parametros!$I$26)","v":{"v":280.8685714285715,"d":"281"}},{"$f":"IF(P111=\"\",\"\",P111*Parametros!$I$27)","v":{"v":340.2605714285715,"d":"340"}},{"$f":"IF(Q111=\"\",\"\",Q111*Parametros!$I$28)","v":{"v":357.3054693877552,"d":"357"}},{"$f":"IF(R111=\"\",\"\",R111*Parametros!$I$29)","v":{"v":627.0295159779057,"d":"627"}}]
[null,10,{"$f":"IF(Padroes!H23=\"\",\"\",Padroes!H23)","v":600},{"$f":"IF(Padroes!I23<>\"\",Padroes!I23,\"\")","v":900},1.6,{"v":8.200000000000001,"d":"8.2"},{"$f":"IF(Padroes!J23=\"\",\"\",Padroes!J23)","v":0.42},{"$f":"IF(E112=\"\",\"\",Padroes!S$8)","v":{"v":1,"d":"1.00"}},{"$f":"IF(E112=\"\",\"\",Padroes!S$9)","v":{"v":0.2,"d":"0.20"}},{"$f":"IF(E112=\"\",\"\",Padroes!S$10)","v":{"v":0.5,"d":"0.50"}},{"$f":"IF(Padroes!L23=\"\",\"\",Padroes!L23)","v":{"v":0.856,"d":"0.86"}},{"v":1797.7657328639998,"d":"1798"},{"$f":"IF(E112=\"\",\"\",Padroes!$AI$9)","v":0.65},{"$f":"IF(E112=\"\",\"\",Padroes!$AL$23)","v":{"v":1,"d":"1.00"}},{"v":351.08571428571435,"d":"351"},{"v":425.32571428571435,"d":"425"},{"v":446.63183673469393,"d":"447"},{"v":783.786894972382,"d":"784"},null,{"$f":"IF(Padroes!N23=\"\",\"\",Padroes!N23)","v":"B"},null,null,{"$f":"IF(O112=\"\",\"\",O112*Parametros!$I$26)","v":{"v":280.8685714285715,"d":"281"}},{"$f":"IF(P112=\"\",\"\",P112*Parametros!$I$27)","v":{"v":340.2605714285715,"d":"340"}},{"$f":"IF(Q112=\"\",\"\",Q112*Parametros!$I$28)","v":{"v":357.3054693877552,"d":"357"}},{"$f":"IF(R112=\"\",\"\",R112*Parametros!$I$29)","v":{"v":627.0295159779057,"d":"627"}}]
[null,10,{"$f":"IF(Padroes!H24=\"\",\"\",Padroes!H24)","v":1000},{"$f":"IF(Padroes!I24<>\"\",Padroes!I24,\"\")","v":1150},1.6,{"v":8.200000000000001,"d":"8.2"},{"$f":"IF(Padroes!J24=\"\",\"\",Padroes!J24)","v":{"v":0.462,"d":"0.46"}},{"$f":"IF(E113=\"\",\"\",Padroes!S$8)","v":{"v":1,"d":"1.00"}},{"$f":"IF(E113=\"\",\"\",Padroes!S$9)","v":{"v":0.2,"d":"0.20"}},{"$f":"IF(E113=\"\",\"\",Padroes!S$10)","v":{"v":0.5,"d":"0.50"}},{"$f":"IF(Padroes!L24=\"\",\"\",Padroes!L24)","v":{"v":0.856,"d":"0.86"}},{"v":2047.7657328639998,"d":"2048"},{"$f":"IF(E113=\"\",\"\",Padroes!$AI$9)","v":0.65},{"$f":"IF(E113=\"\",\"\",Padroes!$AL$23)","v":{"v":1,"d":"1.00"}},{"v":386.1942857142858,"d":"386"},{"v":455.0582857142858,"d":"455"},{"v":474.8215510204082,"d":"475"},{"v":791.6491784410323,"d":"792"},null,{"$f":"IF(Padroes!N24=\"\",\"\",Padroes!N24)","v":"B-1,5"},null,null,{"$f":"IF(O113=\"\",\"\",O113*Parametros!$I$26)","v":{"v":308.9554285714287,"d":"309"}},{"$f":"IF(P113=\"\",\"\",P113*Parametros!$I$27)","v":{"v":364.04662857142864,"d":"364"}},{"$f":"IF(Q113=\"\",\"\",Q113*Parametros!$I$28)","v":{"v":379.85724081632657,"d":"380"}},{"$f":"IF(R113=\"\",\"\",R113*Parametros!$I$29)","v":{"v":633.3193427528258,"d":"633"}}]
[null,10,{"$f":"IF(Padroes!H25=\"\",\"\",Padroes!H25)","v":""},{"$f":"IF(Padroes!I25<>\"\",Padroes!I25,\"\")","v":""},"","",{"$f":"IF(Padroes!J25=\"\",\"\",Padroes!J25)","v":""},{"$f":"IF(E114=\"\",\"\",Padroes!S$8)","v":""},{"$f":"IF(E114=\"\",\"\",Padroes!S$9)","v":""},{"$f":"IF(E114=\"\",\"\",Padroes!S$10)","v":""},{"$f":"IF(Padroes!L25=\"\",\"\",Padroes!L25)","v":""},"",{"$f":"IF(E114=\"\",\"\",Padroes!$AI$9)","v":""},{"$f":"IF(E114=\"\",\"\",Padroes!$AL$23)","v":""},"","","","",null,{"$f":"IF(Padroes!N25=\"\",\"\",Padroes!N25)","v":""},null,null,{"$f":"IF(O114=\"\",\"\",O114*Parametros!$I$26)","v":""},{"$f":"IF(P114=\"\",\"\",P114*Parametros!$I$27)","v":""},{"$f":"IF(Q114=\"\",\"\",Q114*Parametros!$I$28)","v":""},{"$f":"IF(R114=\"\",\"\",R114*Parametros!$I$29)","v":""}]
[null,10,{"$f":"IF(Padroes!H26=\"\",\"\",Padroes!H26)","v":""},{"$f":"IF(Padroes!I26<>\"\",Padroes!I26,\"\")","v":""},"","",{"$f":"IF(Padroes!J26=\"\",\"\",Padroes!J26)","v":""},{"$f":"IF(E115=\"\",\"\",Padroes!S$8)","v":""},{"$f":"IF(E115=\"\",\"\",Padroes!S$9)","v":""},{"$f":"IF(E115=\"\",\"\",Padroes!S$10)","v":""},{"$f":"IF(Padroes!L26=\"\",\"\",Padroes!L26)","v":""},"",{"$f":"IF(E115=\"\",\"\",Padroes!$AI$9)","v":""},{"$f":"IF(E115=\"\",\"\",Padroes!$AL$23)","v":""},"","","","",null,{"$f":"IF(Padroes!N26=\"\",\"\",Padroes!N26)","v":""},null,null,{"$f":"IF(O115=\"\",\"\",O115*Parametros!$I$26)","v":""},{"$f":"IF(P115=\"\",\"\",P115*Parametros!$I$27)","v":""},{"$f":"IF(Q115=\"\",\"\",Q115*Parametros!$I$28)","v":""},{"$f":"IF(R115=\"\",\"\",R115*Parametros!$I$29)","v":""}]
[null,10,{"$f":"IF(Padroes!H27=\"\",\"\",Padroes!H27)","v":""},{"$f":"IF(Padroes!I27<>\"\",Padroes!I27,\"\")","v":""},"","",{"$f":"IF(Padroes!J27=\"\",\"\",Padroes!J27)","v":""},{"$f":"IF(E116=\"\",\"\",Padroes!S$8)","v":""},{"$f":"IF(E116=\"\",\"\",Padroes!S$9)","v":""},{"$f":"IF(E116=\"\",\"\",Padroes!S$10)","v":""},{"$f":"IF(Padroes!L27=\"\",\"\",Padroes!L27)","v":""},"",{"$f":"IF(E116=\"\",\"\",Padroes!$AI$9)","v":""},{"$f":"IF(E116=\"\",\"\",Padroes!$AL$23)","v":""},"","","","",null,{"$f":"IF(Padroes!N27=\"\",\"\",Padroes!N27)","v":""},null,null,{"$f":"IF(O116=\"\",\"\",O116*Parametros!$I$26)","v":""},{"$f":"IF(P116=\"\",\"\",P116*Parametros!$I$27)","v":""},{"$f":"IF(Q116=\"\",\"\",Q116*Parametros!$I$28)","v":""},{"$f":"IF(R116=\"\",\"\",R116*Parametros!$I$29)","v":""}]
[11,11,{"$f":"IF(Padroes!H28=\"\",\"\",Padroes!H28)","v":200},{"$f":"IF(Padroes!I28<>\"\",Padroes!I28,\"\")","v":680},1.7000000000000002,{"v":9.100000000000001,"d":"9.1"},{"$f":"IF(Padroes!J28=\"\",\"\",Padroes!J28)","v":{"v":0.296,"d":"0.30"}},{"$f":"IF(E117=\"\",\"\",Padroes!S$8)","v":{"v":1,"d":"1.00"}},{"$f":"IF(E117=\"\",\"\",Padroes!S$9)","v":{"v":0.2,"d":"0.20"}},{"$f":"IF(E117=\"\",\"\",Padroes!S$10)","v":{"v":0.5,"d":"0.50"}},{"$f":"IF(Padroes!L28=\"\",\"\",Padroes!L28)","v":{"v":0.663,"d":"0.66"}},{"v":1259.998987568,"d":"1260"},{"$f":"IF(E117=\"\",\"\",Padroes!$AI$10)","v":{"v":0.7,"d":"0.70"}},{"$f":"IF(E117=\"\",\"\",Padroes!$AL$23)","v":{"v":1,"d":"1.00"}},{"v":269.3051851851852,"d":"269"},{"v":357.60588870277314,"d":"358"},{"v":382.63699981388424,"d":"383"},{"v":635.9696817941096,"d":"636"},11,{"$f":"IF(Padroes!N28=\"\",\"\",Padroes!N28)","v":"D"},null,null,{"$f":"IF(O117=\"\",\"\",O117*Parametros!$I$26)","v":{"v":215.4441481481482,"d":"215"}},{"$f":"IF(P117=\"\",\"\",P117*Parametros!$I$27)","v":{"v":286.08471096221854,"d":"286"}},{"$f":"IF(Q117=\"\",\"\",Q117*Parametros!$I$28)","v":{"v":306.1095998511074,"d":"306"}},{"$f":"IF(R117=\"\",\"\",R117*Parametros!$I$29)","v":{"v":508.7757454352877,"d":"509"}}]
[null,11,{"$f":"IF(Padroes!H29=\"\",\"\",Padroes!H29)","v":300},{"$f":"IF(Padroes!I29<>\"\",Padroes!I29,\"\")","v":1050},1.7000000000000002,{"v":9.100000000000001,"d":"9.1"},{"$f":"IF(Padroes!J29=\"\",\"\",Padroes!J29)","v":{"v":0.448,"d":"0.45"}},{"$f":"IF(E118=\"\",\"\",Padroes!S$8)","v":{"v":1,"d":"1.00"}},{"$f":"IF(E118=\"\",\"\",Padroes!S$9)","v":{"v":0.2,"d":"0.20"}},{"$f":"IF(E118=\"\",\"\",Padroes!S$10)","v":{"v":0.5,"d":"0.50"}},{"$f":"IF(Padroes!L29=\"\",\"\",Padroes!L29)","v":{"v":0.856,"d":"0.86"}},{"v":2016.824635392,"d":"2017"},{"$f":"IF(E118=\"\",\"\",Padroes!$AI$10)","v":{"v":0.7,"d":"0.70"}},{"$f":"IF(E118=\"\",\"\",Padroes!$AL$23)","v":{"v":1,"d":"1.00"}},{"v":407.59703703703707,"d":"408"},{"v":476.83281593150946,"d":"477"},{"v":496.4594825981761,"d":"496"},{"v":846.9945375873993,"d":"847"},null,{"$f":"IF(Padroes!N29=\"\",\"\",Padroes!N29)","v":"B"},null,null,{"$f":"IF(O118=\"\",\"\",O118*Parametros!$I$26)","v":{"v":326.07762962962966,"d":"326"}},{"$f":"IF(P118=\"\",\"\",P118*Parametros!$I$27)","v":{"v":381.4662527452076,"d":"381"}},{"$f":"IF(Q118=\"\",\"\",Q118*Parametros!$I$28)","v":{"v":397.1675860785409,"d":"397"}},{"$f":"IF(R118=\"\",\"\",R118*Parametros!$I$29)","v":{"v":677.5956300699195,"d":"678"}}]
[null,11,{"$f":"IF(Padroes!H30=\"\",\"\",Padroes!H30)","v":400},{"$f":"IF(Padroes!I30<>\"\",Padroes!I30,\"\")","v":1050},1.7000000000000002,{"$f":"IF(E119=\"\",\"\",(B119-E119-0.2))","v":{"v":9.100000000000001,"d":"9.1"}},{"$f":"IF(Padroes!J30=\"\",\"\",Padroes!J30)","v":{"v":0.448,"d":"0.45"}},{"$f":"IF(E119=\"\",\"\",Padroes!S$8)","v":{"v":1,"d":"1.00"}},{"$f":"IF(E119=\"\",\"\",Padroes!S$9)","v":{"v":0.2,"d":"0.20"}},{"$f":"IF(E119=\"\",\"\",Padroes!S$10)","v":{"v":0.5,"d":"0.50"}},{"$f":"IF(Padroes!L30=\"\",\"\",Padroes!L30)","v":{"v":0.856,"d":"0.86"}},{"v":2016.824635392,"d":"2017"},{"$f":"IF(E119=\"\",\"\",Padroes!$AI$10)","v":{"v":0.7,"d":"0.70"}},{"$f":"IF(E119=\"\",\"\",Padroes!$AL$23)","v":{"v":1,"d":"1.00"}},{"v":407.59703703703707,"d":"408"},{"v":476.83281593150946,"d":"477"},{"v":496.4594825981761,"d":"496"},{"v":846.9945375873993,"d":"847"},null,{"$f":"IF(Padroes!N30=\"\",\"\",Padroes!N30)","v":"B"},null,null,{"$f":"IF(O119=\"\",\"\",O119*Parametros!$I$26)","v":{"v":326.07762962962966,"d":"326"}},{"$f":"IF(P119=\"\",\"\",P119*Parametros!$I$27)","v":{"v":381.4662527452076,"d":"381"}},{"$f":"IF(Q119=\"\",\"\",Q119*Parametros!$I$28)","v":{"v":397.1675860785409,"d":"397"}},{"$f":"IF(R119=\"\",\"\",R119*Parametros!$I$29)","v":{"v":677.5956300699195,"d":"678"}}]
[null,11,{"$f":"IF(Padroes!H31=\"\",\"\",Padroes!H31)","v":600},{"$f":"IF(Padroes!I31<>\"\",Padroes!I31,\"\")","v":1050},1.7000000000000002,{"v":9.100000000000001,"d":"9.1"},{"$f":"IF(Padroes!J31=\"\",\"\",Padroes!J31)","v":{"v":0.448,"d":"0.45"}},{"$f":"IF(E120=\"\",\"\",Padroes!S$8)","v":{"v":1,"d":"1.00"}},{"$f":"IF(E120=\"\",\"\",Padroes!S$9)","v":{"v":0.2,"d":"0.20"}},{"$f":"IF(E120=\"\",\"\",Padroes!S$10)","v":{"v":0.5,"d":"0.50"}},{"$f":"IF(Padroes!L31=\"\",\"\",Padroes!L31)","v":{"v":0.856,"d":"0.86"}},{"v":2016.824635392,"d":"2017"},{"$f":"IF(E120=\"\",\"\",Padroes!$AI$10)","v":{"v":0.7,"d":"0.70"}},{"$f":"IF(E120=\"\",\"\",Padroes!$AL$23)","v":{"v":1,"d":"1.00"}},{"v":407.59703703703707,"d":"408"},{"v":476.83281593150946,"d":"477"},{"v":496.4594825981761,"d":"496"},{"v":846.9945375873993,"d":"847"},null,{"$f":"IF(Padroes!N31=\"\",\"\",Padroes!N31)","v":"B"},null,null,{"$f":"IF(O120=\"\",\"\",O120*Parametros!$I$26)","v":{"v":326.07762962962966,"d":"326"}},{"$f":"IF(P120=\"\",\"\",P120*Parametros!$I$27)","v":{"v":381.4662527452076,"d":"381"}},{"$f":"IF(Q120=\"\",\"\",Q120*Parametros!$I$28)","v":{"v":397.1675860785409,"d":"397"}},{"$f":"IF(R120=\"\",\"\",R120*Parametros!$I$29)","v":{"v":677.5956300699195,"d":"678"}}]
[null,11,{"$f":"IF(Padroes!H32=\"\",\"\",Padroes!H32)","v":1000},{"$f":"IF(Padroes!I32<>\"\",Padroes!I32,\"\")","v":1330},1.7000000000000002,{"v":9.100000000000001,"d":"9.1"},{"$f":"IF(Padroes!J32=\"\",\"\",Padroes!J32)","v":0.49},{"$f":"IF(E121=\"\",\"\",Padroes!S$8)","v":{"v":1,"d":"1.00"}},{"$f":"IF(E121=\"\",\"\",Padroes!S$9)","v":{"v":0.2,"d":"0.20"}},{"$f":"IF(E121=\"\",\"\",Padroes!S$10)","v":{"v":0.5,"d":"0.50"}},{"$f":"IF(Padroes!L32=\"\",\"\",Padroes!L32)","v":{"v":0.908,"d":"0.91"}},{"v":2417.857163008,"d":"2418"},{"$f":"IF(E121=\"\",\"\",Padroes!$AI$10)","v":{"v":0.7,"d":"0.70"}},{"$f":"IF(E121=\"\",\"\",Padroes!$AL$23)","v":{"v":1,"d":"1.00"}},{"v":445.8092592592593,"d":"446"},{"v":509.7770984552392,"d":"510"},{"v":527.9104317885725,"d":"528"},{"v":911.8542113044073,"d":"912"},null,{"$f":"IF(Padroes!N32=\"\",\"\",Padroes!N32)","v":"B-1,5"},null,null,{"$f":"IF(O121=\"\",\"\",O121*Parametros!$I$26)","v":{"v":356.64740740740746,"d":"357"}},{"$f":"IF(P121=\"\",\"\",P121*Parametros!$I$27)","v":{"v":407.82167876419135,"d":"408"}},{"$f":"IF(Q121=\"\",\"\",Q121*Parametros!$I$28)","v":{"v":422.328345430858,"d":"422"}},{"$f":"IF(R121=\"\",\"\",R121*Parametros!$I$29)","v":{"v":729.4833690435258,"d":"729"}}]
[null,11,{"$f":"IF(Padroes!H33=\"\",\"\",Padroes!H33)","v":""},{"$f":"IF(Padroes!I33<>\"\",Padroes!I33,\"\")","v":""},"","",{"$f":"IF(Padroes!J33=\"\",\"\",Padroes!J33)","v":""},{"$f":"IF(E122=\"\",\"\",Padroes!S$8)","v":""},{"$f":"IF(E122=\"\",\"\",Padroes!S$9)","v":""},{"$f":"IF(E122=\"\",\"\",Padroes!S$10)","v":""},{"$f":"IF(Padroes!L33=\"\",\"\",Padroes!L33)","v":""},"",{"$f":"IF(E122=\"\",\"\",Padroes!$AI$10)","v":""},{"$f":"IF(E122=\"\",\"\",Padroes!$AL$23)","v":""},"","","","",null,{"$f":"IF(Padroes!N33=\"\",\"\",Padroes!N33)","v":""},null,null,{"$f":"IF(O122=\"\",\"\",O122*Parametros!$I$26)","v":""},{"$f":"IF(P122=\"\",\"\",P122*Parametros!$I$27)","v":""},{"$f":"IF(Q122=\"\",\"\",Q122*Parametros!$I$28)","v":""},{"$f":"IF(R122=\"\",\"\",R122*Parametros!$I$29)","v":""}]
[null,11,{"$f":"IF(Padroes!H34=\"\",\"\",Padroes!H34)","v":""},{"$f":"IF(Padroes!I34<>\"\",Padroes!I34,\"\")","v":""},"","",{"$f":"IF(Padroes!J34=\"\",\"\",Padroes!J34)","v":""},{"$f":"IF(E123=\"\",\"\",Padroes!S$8)","v":""},{"$f":"IF(E123=\"\",\"\",Padroes!S$9)","v":""},{"$f":"IF(E123=\"\",\"\",Padroes!S$10)","v":""},{"$f":"IF(Padroes!L34=\"\",\"\",Padroes!L34)","v":""},"",{"$f":"IF(E123=\"\",\"\",Padroes!$AI$10)","v":""},{"$f":"IF(E123=\"\",\"\",Padroes!$AL$23)","v":""},"","","","",null,{"$f":"IF(Padroes!N34=\"\",\"\",Padroes!N34)","v":""},null,null,{"$f":"IF(O123=\"\",\"\",O123*Parametros!$I$26)","v":""},{"$f":"IF(P123=\"\",\"\",P123*Parametros!$I$27)","v":""},{"$f":"IF(Q123=\"\",\"\",Q123*Parametros!$I$28)","v":""},{"$f":"IF(R123=\"\",\"\",R123*Parametros!$I$29)","v":""}]
[null,11,{"$f":"IF(Padroes!H35=\"\",\"\",Padroes!H35)","v":""},{"$f":"IF(Padroes!I35<>\"\",Padroes!I35,\"\")","v":""},"","",{"$f":"IF(Padroes!J35=\"\",\"\",Padroes!J35)","v":""},{"$f":"IF(E124=\"\",\"\",Padroes!S$8)","v":""},{"$f":"IF(E124=\"\",\"\",Padroes!S$9)","v":""},{"$f":"IF(E124=\"\",\"\",Padroes!S$10)","v":""},{"$f":"IF(Padroes!L35=\"\",\"\",Padroes!L35)","v":""},"",{"$f":"IF(E124=\"\",\"\",Padroes!$AI$10)","v":""},{"$f":"IF(E124=\"\",\"\",Padroes!$AL$23)","v":""},"","","","",null,{"$f":"IF(Padroes!N35=\"\",\"\",Padroes!N35)","v":""},null,null,{"$f":"IF(O124=\"\",\"\",O124*Parametros!$I$26)","v":""},{"$f":"IF(P124=\"\",\"\",P124*Parametros!$I$27)","v":""},{"$f":"IF(Q124=\"\",\"\",Q124*Parametros!$I$28)","v":""},{"$f":"IF(R124=\"\",\"\",R124*Parametros!$I$29)","v":""}]
[null,11,{"$f":"IF(Padroes!H36=\"\",\"\",Padroes!H36)","v":""},{"$f":"IF(Padroes!I36<>\"\",Padroes!I36,\"\")","v":""},"","",{"$f":"IF(Padroes!J36=\"\",\"\",Padroes!J36)","v":""},{"$f":"IF(E125=\"\",\"\",Padroes!S$8)","v":""},{"$f":"IF(E125=\"\",\"\",Padroes!S$9)","v":""},{"$f":"IF(E125=\"\",\"\",Padroes!S$10)","v":""},{"$f":"IF(Padroes!L36=\"\",\"\",Padroes!L36)","v":""},"",{"$f":"IF(E125=\"\",\"\",Padroes!$AI$10)","v":""},{"$f":"IF(E125=\"\",\"\",Padroes!$AL$23)","v":""},"","","","",null,{"$f":"IF(Padroes!N36=\"\",\"\",Padroes!N36)","v":""},null,null,{"$f":"IF(O125=\"\",\"\",O125*Parametros!$I$26)","v":""},{"$f":"IF(P125=\"\",\"\",P125*Parametros!$I$27)","v":""},{"$f":"IF(Q125=\"\",\"\",Q125*Parametros!$I$28)","v":""},{"$f":"IF(R125=\"\",\"\",R125*Parametros!$I$29)","v":""}]
[12,12,{"$f":"IF(Padroes!H37=\"\",\"\",Padroes!H37)","v":200},{"$f":"IF(Padroes!I37<>\"\",Padroes!I37,\"\")","v":780},1.8000000000000003,{"$f":"IF(E126=\"\",\"\",(B126-E126-0.2))","v":{"v":10,"d":"10.0"}},{"$f":"IF(Padroes!J37=\"\",\"\",Padroes!J37)","v":0.31},{"$f":"IF(E126=\"\",\"\",Padroes!S$8)","v":{"v":1,"d":"1.00"}},{"$f":"IF(E126=\"\",\"\",Padroes!S$9)","v":{"v":0.2,"d":"0.20"}},{"$f":"IF(E126=\"\",\"\",Padroes!S$10)","v":{"v":0.5,"d":"0.50"}},{"$f":"IF(Padroes!L37=\"\",\"\",Padroes!L37)","v":{"v":0.663,"d":"0.66"}},{"v":1401.4274866800001,"d":"1401"},{"$f":"IF(E126=\"\",\"\",Padroes!$AI$11)","v":0.75},{"$f":"IF(E126=\"\",\"\",Padroes!$AL$23)","v":{"v":1,"d":"1.00"}},{"v":306.4271186440679,"d":"306"},{"v":391.50601772663674,"d":"392"},{"v":415.3636448452808,"d":"415"},{"v":688.0348120725383,"d":"688"},12,{"$f":"IF(Padroes!N37=\"\",\"\",Padroes!N37)","v":"D"},null,null,{"$f":"IF(O126=\"\",\"\",O126*Parametros!$I$26)","v":{"v":245.14169491525433,"d":"245"}},{"$f":"IF(P126=\"\",\"\",P126*Parametros!$I$27)","v":{"v":313.2048141813094,"d":"313"}},{"$f":"IF(Q126=\"\",\"\",Q126*Parametros!$I$28)","v":{"v":332.2909158762247,"d":"332"}},{"$f":"IF(R126=\"\",\"\",R126*Parametros!$I$29)","v":{"v":550.4278496580307,"d":"550"}}]
[null,12,{"$f":"IF(Padroes!H38=\"\",\"\",Padroes!H38)","v":300},{"$f":"IF(Padroes!I38<>\"\",Padroes!I38,\"\")","v":1210},1.8000000000000003,{"v":10,"d":"10.0"},{"$f":"IF(Padroes!J38=\"\",\"\",Padroes!J38)","v":{"v":0.476,"d":"0.48"}},{"$f":"IF(E127=\"\",\"\",Padroes!S$8)","v":{"v":1,"d":"1.00"}},{"$f":"IF(E127=\"\",\"\",Padroes!S$9)","v":{"v":0.2,"d":"0.20"}},{"$f":"IF(E127=\"\",\"\",Padroes!S$10)","v":{"v":0.5,"d":"0.50"}},{"$f":"IF(Padroes!L38=\"\",\"\",Padroes!L38)","v":0.89},{"v":2329.807612,"d":"2330"},{"$f":"IF(E127=\"\",\"\",Padroes!$AI$11)","v":0.75},{"$f":"IF(E127=\"\",\"\",Padroes!$AL$23)","v":{"v":1,"d":"1.00"}},{"v":470.5138983050849,"d":"471"},{"v":535.1245405069199,"d":"535"},{"v":553.2425066086148,"d":"553"},{"v":953.8209811935237,"d":"954"},null,{"$f":"IF(Padroes!N38=\"\",\"\",Padroes!N38)","v":"B"},null,null,{"$f":"IF(O127=\"\",\"\",O127*Parametros!$I$26)","v":{"v":376.411118644068,"d":"376"}},{"$f":"IF(P127=\"\",\"\",P127*Parametros!$I$27)","v":{"v":428.0996324055359,"d":"428"}},{"$f":"IF(Q127=\"\",\"\",Q127*Parametros!$I$28)","v":{"v":442.59400528689184,"d":"443"}},{"$f":"IF(R127=\"\",\"\",R127*Parametros!$I$29)","v":{"v":763.056784954819,"d":"763"}}]
[null,12,{"$f":"IF(Padroes!H39=\"\",\"\",Padroes!H39)","v":400},{"$f":"IF(Padroes!I39<>\"\",Padroes!I39,\"\")","v":1210},1.8000000000000003,{"v":10,"d":"10.0"},{"$f":"IF(Padroes!J39=\"\",\"\",Padroes!J39)","v":{"v":0.476,"d":"0.48"}},{"$f":"IF(E128=\"\",\"\",Padroes!S$8)","v":{"v":1,"d":"1.00"}},{"$f":"IF(E128=\"\",\"\",Padroes!S$9)","v":{"v":0.2,"d":"0.20"}},{"$f":"IF(E128=\"\",\"\",Padroes!S$10)","v":{"v":0.5,"d":"0.50"}},{"$f":"IF(Padroes!L39=\"\",\"\",Padroes!L39)","v":0.89},{"v":2329.807612,"d":"2330"},{"$f":"IF(E128=\"\",\"\",Padroes!$AI$11)","v":0.75},{"$f":"IF(E128=\"\",\"\",Padroes!$AL$23)","v":{"v":1,"d":"1.00"}},{"v":470.5138983050849,"d":"471"},{"v":535.1245405069199,"d":"535"},{"v":553.2425066086148,"d":"553"},{"v":953.8209811935237,"d":"954"},null,{"$f":"IF(Padroes!N39=\"\",\"\",Padroes!N39)","v":"B"},null,null,{"$f":"IF(O128=\"\",\"\",O128*Parametros!$I$26)","v":{"v":376.411118644068,"d":"376"}},{"$f":"IF(P128=\"\",\"\",P128*Parametros!$I$27)","v":{"v":428.0996324055359,"d":"428"}},{"$f":"IF(Q128=\"\",\"\",Q128*Parametros!$I$28)","v":{"v":442.59400528689184,"d":"443"}},{"$f":"IF(R128=\"\",\"\",R128*Parametros!$I$29)","v":{"v":763.056784954819,"d":"763"}}]
[null,12,{"$f":"IF(Padroes!H40=\"\",\"\",Padroes!H40)","v":600},{"$f":"IF(Padroes!I40<>\"\",Padroes!I40,\"\")","v":1210},1.8000000000000003,{"v":10,"d":"10.0"},{"$f":"IF(Padroes!J40=\"\",\"\",Padroes!J40)","v":{"v":0.476,"d":"0.48"}},{"$f":"IF(E129=\"\",\"\",Padroes!S$8)","v":{"v":1,"d":"1.00"}},{"$f":"IF(E129=\"\",\"\",Padroes!S$9)","v":{"v":0.2,"d":"0.20"}},{"$f":"IF(E129=\"\",\"\",Padroes!S$10)","v":{"v":0.5,"d":"0.50"}},{"$f":"IF(Padroes!L40=\"\",\"\",Padroes!L40)","v":0.89},{"v":2329.807612,"d":"2330"},{"$f":"IF(E129=\"\",\"\",Padroes!$AI$11)","v":0.75},{"$f":"IF(E129=\"\",\"\",Padroes!$AL$23)","v":{"v":1,"d":"1.00"}},{"v":470.5138983050849,"d":"471"},{"v":535.1245405069199,"d":"535"},{"v":553.2425066086148,"d":"553"},{"v":953.8209811935237,"d":"954"},null,{"$f":"IF(Padroes!N40=\"\",\"\",Padroes!N40)","v":"B"},null,null,{"$f":"IF(O129=\"\",\"\",O129*Parametros!$I$26)","v":{"v":376.411118644068,"d":"376"}},{"$f":"IF(P129=\"\",\"\",P129*Parametros!$I$27)","v":{"v":428.0996324055359,"d":"428"}},{"$f":"IF(Q129=\"\",\"\",Q129*Parametros!$I$28)","v":{"v":442.59400528689184,"d":"443"}},{"$f":"IF(R129=\"\",\"\",R129*Parametros!$I$29)","v":{"v":763.056784954819,"d":"763"}}]
[null,12,{"$f":"IF(Padroes!H41=\"\",\"\",Padroes!H41)","v":1000},{"$f":"IF(Padroes!I41<>\"\",Padroes!I41,\"\")","v":1520},1.8000000000000003,{"v":10,"d":"10.0"},{"$f":"IF(Padroes!J41=\"\",\"\",Padroes!J41)","v":{"v":0.518,"d":"0.52"}},{"$f":"IF(E130=\"\",\"\",Padroes!S$8)","v":{"v":1,"d":"1.00"}},{"$f":"IF(E130=\"\",\"\",Padroes!S$9)","v":{"v":0.2,"d":"0.20"}},{"$f":"IF(E130=\"\",\"\",Padroes!S$10)","v":{"v":0.5,"d":"0.50"}},{"$f":"IF(Padroes!L41=\"\",\"\",Padroes!L41)","v":{"v":0.942,"d":"0.94"}},{"v":2774.48423408,"d":"2774"},{"$f":"IF(E130=\"\",\"\",Padroes!$AI$11)","v":0.75},{"$f":"IF(E130=\"\",\"\",Padroes!$AL$23)","v":{"v":1,"d":"1.00"}},{"v":512.0298305084748,"d":"512"},{"v":571.4617571139794,"d":"571"},{"v":588.1275198258438,"d":"588"},{"v":1023.420124528368,"d":"1023"},null,{"$f":"IF(Padroes!N41=\"\",\"\",Padroes!N41)","v":"B-1,5"},null,null,{"$f":"IF(O130=\"\",\"\",O130*Parametros!$I$26)","v":{"v":409.62386440677983,"d":"410"}},{"$f":"IF(P130=\"\",\"\",P130*Parametros!$I$27)","v":{"v":457.16940569118356,"d":"457"}},{"$f":"IF(Q130=\"\",\"\",Q130*Parametros!$I$28)","v":{"v":470.5020158606751,"d":"471"}},{"$f":"IF(R130=\"\",\"\",R130*Parametros!$I$29)","v":{"v":818.7360996226944,"d":"819"}}]
[null,12,{"$f":"IF(Padroes!H42=\"\",\"\",Padroes!H42)","v":2000},{"$f":"IF(Padroes!I42<>\"\",Padroes!I42,\"\")","v":2000},1.8000000000000003,{"v":10,"d":"10.0"},{"$f":"IF(Padroes!J42=\"\",\"\",Padroes!J42)","v":{"v":0.602,"d":"0.60"}},{"$f":"IF(E131=\"\",\"\",Padroes!S$8)","v":{"v":1,"d":"1.00"}},{"$f":"IF(E131=\"\",\"\",Padroes!S$9)","v":{"v":0.2,"d":"0.20"}},{"$f":"IF(E131=\"\",\"\",Padroes!S$10)","v":{"v":0.5,"d":"0.50"}},{"$f":"IF(Padroes!L42=\"\",\"\",Padroes!L42)","v":{"v":1.045,"d":"1.05"}},{"v":3543.817583,"d":"3544"},{"$f":"IF(E131=\"\",\"\",Padroes!$AI$11)","v":0.75},{"$f":"IF(E131=\"\",\"\",Padroes!$AL$23)","v":{"v":1,"d":"1.00"}},{"v":595.0616949152544,"d":"595"},{"v":644.1361903280985,"d":"644"},{"v":657.8975462603019,"d":"658"},{"v":1162.7160124668715,"d":"1163"},null,{"$f":"IF(Padroes!N42=\"\",\"\",Padroes!N42)","v":"B-4,5"},null,null,{"$f":"IF(O131=\"\",\"\",O131*Parametros!$I$26)","v":{"v":476.0493559322035,"d":"476"}},{"$f":"IF(P131=\"\",\"\",P131*Parametros!$I$27)","v":{"v":515.3089522624788,"d":"515"}},{"$f":"IF(Q131=\"\",\"\",Q131*Parametros!$I$28)","v":{"v":526.3180370082415,"d":"526"}},{"$f":"IF(R131=\"\",\"\",R131*Parametros!$I$29)","v":{"v":930.1728099734972,"d":"930"}}]
[null,12,{"$f":"IF(Padroes!H43=\"\",\"\",Padroes!H43)","v":3000},{"$f":"IF(Padroes!I43<>\"\",Padroes!I43,\"\")","v":2500},1.8000000000000003,{"$f":"IF(E132=\"\",\"\",(B132-E132-0.2))","v":{"v":10,"d":"10.0"}},{"$f":"IF(Padroes!J43=\"\",\"\",Padroes!J43)","v":{"v":0.644,"d":"0.64"}},{"$f":"IF(E132=\"\",\"\",Padroes!S$8)","v":{"v":1,"d":"1.00"}},{"$f":"IF(E132=\"\",\"\",Padroes!S$9)","v":{"v":0.2,"d":"0.20"}},{"$f":"IF(E132=\"\",\"\",Padroes!S$10)","v":{"v":0.5,"d":"0.50"}},{"$f":"IF(Padroes!L43=\"\",\"\",Padroes!L43)","v":{"v":1.117906976744186,"d":"1.12"}},{"v":4266.74851575338,"d":"4267"},{"$f":"IF(E132=\"\",\"\",Padroes!$AI$11)","v":0.75},{"$f":"IF(E132=\"\",\"\",Padroes!$AL$23)","v":{"v":1,"d":"1.00"}},{"v":636.5776271186444,"d":"637"},{"v":680.4734069351582,"d":"680"},{"v":692.7825594775311,"d":"693"},{"v":1270.3316622277737,"d":"1270"},null,{"$f":"IF(Padroes!N43=\"\",\"\",Padroes!N43)","v":"B-6"},null,null,{"$f":"IF(O132=\"\",\"\",O132*Parametros!$I$26)","v":{"v":509.26210169491554,"d":"509"}},{"$f":"IF(P132=\"\",\"\",P132*Parametros!$I$27)","v":{"v":544.3787255481266,"d":"544"}},{"$f":"IF(Q132=\"\",\"\",Q132*Parametros!$I$28)","v":{"v":554.2260475820249,"d":"554"}},{"$f":"IF(R132=\"\",\"\",R132*Parametros!$I$29)","v":{"v":1016.2653297822189,"d":"1016"}}]
[null,12,{"$f":"IF(Padroes!H44=\"\",\"\",Padroes!H44)","v":""},{"$f":"IF(Padroes!I44<>\"\",Padroes!I44,\"\")","v":""},"","",{"$f":"IF(Padroes!J44=\"\",\"\",Padroes!J44)","v":""},{"$f":"IF(E133=\"\",\"\",Padroes!S$8)","v":""},{"$f":"IF(E133=\"\",\"\",Padroes!S$9)","v":""},{"$f":"IF(E133=\"\",\"\",Padroes!S$10)","v":""},{"$f":"IF(Padroes!L44=\"\",\"\",Padroes!L44)","v":""},"",{"$f":"IF(E133=\"\",\"\",Padroes!$AI$11)","v":""},{"$f":"IF(E133=\"\",\"\",Padroes!$AL$23)","v":""},"","","","",null,{"$f":"IF(Padroes!N44=\"\",\"\",Padroes!N44)","v":""},null,null,{"$f":"IF(O133=\"\",\"\",O133*Parametros!$I$26)","v":""},{"$f":"IF(P133=\"\",\"\",P133*Parametros!$I$27)","v":""},{"$f":"IF(Q133=\"\",\"\",Q133*Parametros!$I$28)","v":""},{"$f":"IF(R133=\"\",\"\",R133*Parametros!$I$29)","v":""}]
[null,12,{"$f":"IF(Padroes!H45=\"\",\"\",Padroes!H45)","v":""},{"$f":"IF(Padroes!I45<>\"\",Padroes!I45,\"\")","v":""},"","",{"$f":"IF(Padroes!J45=\"\",\"\",Padroes!J45)","v":""},{"$f":"IF(E134=\"\",\"\",Padroes!S$8)","v":""},{"$f":"IF(E134=\"\",\"\",Padroes!S$9)","v":""},{"$f":"IF(E134=\"\",\"\",Padroes!S$10)","v":""},{"$f":"IF(Padroes!L45=\"\",\"\",Padroes!L45)","v":""},"",{"$f":"IF(E134=\"\",\"\",Padroes!$AI$11)","v":""},{"$f":"IF(E134=\"\",\"\",Padroes!$AL$23)","v":""},"","","","",null,{"$f":"IF(Padroes!N45=\"\",\"\",Padroes!N45)","v":""},null,null,{"$f":"IF(O134=\"\",\"\",O134*Parametros!$I$26)","v":""},{"$f":"IF(P134=\"\",\"\",P134*Parametros!$I$27)","v":""},{"$f":"IF(Q134=\"\",\"\",Q134*Parametros!$I$28)","v":""},{"$f":"IF(R134=\"\",\"\",R134*Parametros!$I$29)","v":""}]
[13,13,{"$f":"IF(Padroes!H46=\"\",\"\",Padroes!H46)","v":300},{"$f":"IF(Padroes!I46<>\"\",Padroes!I46,\"\")","v":1400},1.9,10.9,{"$f":"IF(Padroes!J46=\"\",\"\",Padroes!J46)","v":{"v":0.504,"d":"0.50"}},{"$f":"IF(E135=\"\",\"\",Padroes!S$8)","v":{"v":1,"d":"1.00"}},{"$f":"IF(E135=\"\",\"\",Padroes!S$9)","v":{"v":0.2,"d":"0.20"}},{"$f":"IF(E135=\"\",\"\",Padroes!S$10)","v":{"v":0.5,"d":"0.50"}},{"$f":"IF(Padroes!L46=\"\",\"\",Padroes!L46)","v":{"v":0.925,"d":"0.93"}},{"v":2690.2551200000003,"d":"2690"},{"$f":"IF(E135=\"\",\"\",Padroes!$AI$12)","v":{"v":0.8,"d":"0.80"}},{"$f":"IF(E135=\"\",\"\",Padroes!$AL$23)","v":{"v":1,"d":"1.00"}},{"v":540.1462499999999,"d":"540"},{"v":600.4196677215189,"d":"600"},{"v":617.1596677215189,"d":"617"},{"v":1072.2457135900927,"d":"1072"},13,{"$f":"IF(Padroes!N46=\"\",\"\",Padroes!N46)","v":"B"},null,null,{"$f":"IF(O135=\"\",\"\",O135*Parametros!$I$26)","v":{"v":432.11699999999996,"d":"432"}},{"$f":"IF(P135=\"\",\"\",P135*Parametros!$I$27)","v":{"v":480.3357341772151,"d":"480"}},{"$f":"IF(Q135=\"\",\"\",Q135*Parametros!$I$28)","v":{"v":493.7277341772151,"d":"494"}},{"$f":"IF(R135=\"\",\"\",R135*Parametros!$I$29)","v":{"v":857.7965708720742,"d":"858"}}]
[null,13,{"$f":"IF(Padroes!H47=\"\",\"\",Padroes!H47)","v":400},{"$f":"IF(Padroes!I47<>\"\",Padroes!I47,\"\")","v":1400},1.9,10.9,{"$f":"IF(Padroes!J47=\"\",\"\",Padroes!J47)","v":{"v":0.504,"d":"0.50"}},{"$f":"IF(E136=\"\",\"\",Padroes!S$8)","v":{"v":1,"d":"1.00"}},{"$f":"IF(E136=\"\",\"\",Padroes!S$9)","v":{"v":0.2,"d":"0.20"}},{"$f":"IF(E136=\"\",\"\",Padroes!S$10)","v":{"v":0.5,"d":"0.50"}},{"$f":"IF(Padroes!L47=\"\",\"\",Padroes!L47)","v":{"v":0.925,"d":"0.93"}},{"v":2690.2551200000003,"d":"2690"},{"$f":"IF(E136=\"\",\"\",Padroes!$AI$12)","v":{"v":0.8,"d":"0.80"}},{"$f":"IF(E136=\"\",\"\",Padroes!$AL$23)","v":{"v":1,"d":"1.00"}},{"v":540.1462499999999,"d":"540"},{"v":600.4196677215189,"d":"600"},{"v":617.1596677215189,"d":"617"},{"v":1072.2457135900927,"d":"1072"},null,{"$f":"IF(Padroes!N47=\"\",\"\",Padroes!N47)","v":"B"},null,null,{"$f":"IF(O136=\"\",\"\",O136*Parametros!$I$26)","v":{"v":432.11699999999996,"d":"432"}},{"$f":"IF(P136=\"\",\"\",P136*Parametros!$I$27)","v":{"v":480.3357341772151,"d":"480"}},{"$f":"IF(Q136=\"\",\"\",Q136*Parametros!$I$28)","v":{"v":493.7277341772151,"d":"494"}},{"$f":"IF(R136=\"\",\"\",R136*Parametros!$I$29)","v":{"v":857.7965708720742,"d":"858"}}]
[null,13,{"$f":"IF(Padroes!H48=\"\",\"\",Padroes!H48)","v":600},{"$f":"IF(Padroes!I48<>\"\",Padroes!I48,\"\")","v":1400},1.9,10.9,{"$f":"IF(Padroes!J48=\"\",\"\",Padroes!J48)","v":{"v":0.504,"d":"0.50"}},{"$f":"IF(E137=\"\",\"\",Padroes!S$8)","v":{"v":1,"d":"1.00"}},{"$f":"IF(E137=\"\",\"\",Padroes!S$9)","v":{"v":0.2,"d":"0.20"}},{"$f":"IF(E137=\"\",\"\",Padroes!S$10)","v":{"v":0.5,"d":"0.50"}},{"$f":"IF(Padroes!L48=\"\",\"\",Padroes!L48)","v":{"v":0.925,"d":"0.93"}},{"v":2690.2551200000003,"d":"2690"},{"$f":"IF(E137=\"\",\"\",Padroes!$AI$12)","v":{"v":0.8,"d":"0.80"}},{"$f":"IF(E137=\"\",\"\",Padroes!$AL$23)","v":{"v":1,"d":"1.00"}},{"v":540.1462499999999,"d":"540"},{"v":600.4196677215189,"d":"600"},{"v":617.1596677215189,"d":"617"},{"v":1072.2457135900927,"d":"1072"},null,{"$f":"IF(Padroes!N48=\"\",\"\",Padroes!N48)","v":"B"},null,null,{"$f":"IF(O137=\"\",\"\",O137*Parametros!$I$26)","v":{"v":432.11699999999996,"d":"432"}},{"$f":"IF(P137=\"\",\"\",P137*Parametros!$I$27)","v":{"v":480.3357341772151,"d":"480"}},{"$f":"IF(Q137=\"\",\"\",Q137*Parametros!$I$28)","v":{"v":493.7277341772151,"d":"494"}},{"$f":"IF(R137=\"\",\"\",R137*Parametros!$I$29)","v":{"v":857.7965708720742,"d":"858"}}]
[null,13,{"$f":"IF(Padroes!H49=\"\",\"\",Padroes!H49)","v":""},{"$f":"IF(Padroes!I49<>\"\",Padroes!I49,\"\")","v":""},"","",{"$f":"IF(Padroes!J49=\"\",\"\",Padroes!J49)","v":""},{"$f":"IF(E138=\"\",\"\",Padroes!S$8)","v":""},{"$f":"IF(E138=\"\",\"\",Padroes!S$9)","v":""},{"$f":"IF(E138=\"\",\"\",Padroes!S$10)","v":""},{"$f":"IF(Padroes!L49=\"\",\"\",Padroes!L49)","v":""},"",{"$f":"IF(E138=\"\",\"\",Padroes!$AI$12)","v":""},{"$f":"IF(E138=\"\",\"\",Padroes!$AL$23)","v":""},"","","","",null,{"$f":"IF(Padroes!N49=\"\",\"\",Padroes!N49)","v":""},null,null,{"$f":"IF(O138=\"\",\"\",O138*Parametros!$I$26)","v":""},{"$f":"IF(P138=\"\",\"\",P138*Parametros!$I$27)","v":""},{"$f":"IF(Q138=\"\",\"\",Q138*Parametros!$I$28)","v":""},{"$f":"IF(R138=\"\",\"\",R138*Parametros!$I$29)","v":""}]
[null,13,{"$f":"IF(Padroes!H50=\"\",\"\",Padroes!H50)","v":""},{"$f":"IF(Padroes!I50<>\"\",Padroes!I50,\"\")","v":""},"","",{"$f":"IF(Padroes!J50=\"\",\"\",Padroes!J50)","v":""},{"$f":"IF(E139=\"\",\"\",Padroes!S$8)","v":""},{"$f":"IF(E139=\"\",\"\",Padroes!S$9)","v":""},{"$f":"IF(E139=\"\",\"\",Padroes!S$10)","v":""},{"$f":"IF(Padroes!L50=\"\",\"\",Padroes!L50)","v":""},"",{"$f":"IF(E139=\"\",\"\",Padroes!$AI$12)","v":""},{"$f":"IF(E139=\"\",\"\",Padroes!$AL$23)","v":""},"","","","",null,{"$f":"IF(Padroes!N50=\"\",\"\",Padroes!N50)","v":""},null,null,{"$f":"IF(O139=\"\",\"\",O139*Parametros!$I$26)","v":""},{"$f":"IF(P139=\"\",\"\",P139*Parametros!$I$27)","v":""},{"$f":"IF(Q139=\"\",\"\",Q139*Parametros!$I$28)","v":""},{"$f":"IF(R139=\"\",\"\",R139*Parametros!$I$29)","v":""}]
[null,13,{"$f":"IF(Padroes!H51=\"\",\"\",Padroes!H51)","v":""},{"$f":"IF(Padroes!I51<>\"\",Padroes!I51,\"\")","v":""},"","",{"$f":"IF(Padroes!J51=\"\",\"\",Padroes!J51)","v":""},{"$f":"IF(E140=\"\",\"\",Padroes!S$8)","v":""},{"$f":"IF(E140=\"\",\"\",Padroes!S$9)","v":""},{"$f":"IF(E140=\"\",\"\",Padroes!S$10)","v":""},{"$f":"IF(Padroes!L51=\"\",\"\",Padroes!L51)","v":""},"",{"$f":"IF(E140=\"\",\"\",Padroes!$AI$12)","v":""},{"$f":"IF(E140=\"\",\"\",Padroes!$AL$23)","v":""},"","","","",null,{"$f":"IF(Padroes!N51=\"\",\"\",Padroes!N51)","v":""},null,null,{"$f":"IF(O140=\"\",\"\",O140*Parametros!$I$26)","v":""},{"$f":"IF(P140=\"\",\"\",P140*Parametros!$I$27)","v":""},{"$f":"IF(Q140=\"\",\"\",Q140*Parametros!$I$28)","v":""},{"$f":"IF(R140=\"\",\"\",R140*Parametros!$I$29)","v":""}]
[null,13,{"$f":"IF(Padroes!H52=\"\",\"\",Padroes!H52)","v":""},{"$f":"IF(Padroes!I52<>\"\",Padroes!I52,\"\")","v":""},"","",{"$f":"IF(Padroes!J52=\"\",\"\",Padroes!J52)","v":""},{"$f":"IF(E141=\"\",\"\",Padroes!S$8)","v":""},{"$f":"IF(E141=\"\",\"\",Padroes!S$9)","v":""},{"$f":"IF(E141=\"\",\"\",Padroes!S$10)","v":""},{"$f":"IF(Padroes!L52=\"\",\"\",Padroes!L52)","v":""},"",{"$f":"IF(E141=\"\",\"\",Padroes!$AI$12)","v":""},{"$f":"IF(E141=\"\",\"\",Padroes!$AL$23)","v":""},"","","","",null,{"$f":"IF(Padroes!N52=\"\",\"\",Padroes!N52)","v":""},null,null,{"$f":"IF(O141=\"\",\"\",O141*Parametros!$I$26)","v":""},{"$f":"IF(P141=\"\",\"\",P141*Parametros!$I$27)","v":""},{"$f":"IF(Q141=\"\",\"\",Q141*Parametros!$I$28)","v":""},{"$f":"IF(R141=\"\",\"\",R141*Parametros!$I$29)","v":""}]
[null,13,{"$f":"IF(Padroes!H53=\"\",\"\",Padroes!H53)","v":""},{"$f":"IF(Padroes!I53<>\"\",Padroes!I53,\"\")","v":""},"","",{"$f":"IF(Padroes!J53=\"\",\"\",Padroes!J53)","v":""},{"$f":"IF(E142=\"\",\"\",Padroes!S$8)","v":""},{"$f":"IF(E142=\"\",\"\",Padroes!S$9)","v":""},{"$f":"IF(E142=\"\",\"\",Padroes!S$10)","v":""},{"$f":"IF(Padroes!L53=\"\",\"\",Padroes!L53)","v":""},{"$f":"IF(D142=\"\",\"\",(D142+(3.1416*K142^2*M142/4*2400)))","v":""},{"$f":"IF(E142=\"\",\"\",Padroes!$AI$12)","v":""},{"$f":"IF(E142=\"\",\"\",Padroes!$AL$23)","v":""},"","","","",null,{"$f":"IF(Padroes!N53=\"\",\"\",Padroes!N53)","v":""},null,null,{"$f":"IF(O142=\"\",\"\",O142*Parametros!$I$26)","v":""},{"$f":"IF(P142=\"\",\"\",P142*Parametros!$I$27)","v":""},{"$f":"IF(Q142=\"\",\"\",Q142*Parametros!$I$28)","v":""},{"$f":"IF(R142=\"\",\"\",R142*Parametros!$I$29)","v":""}]
[]
[]
[]
["Poste de concreto Duplo T",{"$nulls":3},"DADOS DO POSTE",null,"Face B","dados escora",null,null,"dados da base concretada",{"$nulls":3},"VALOR DA TRAÇÃO NO TOPO  (daN)",{"$nulls":7},"Valores para Critários de Projetos"]
["comprimento",null,"carga","peso","t","h*","b","m","n","c","d","P","q","K","SIMPLES ","ESCORA\nSIMPLES","ESCORA\nDUPLA","CONCRETADO",9,"Tipo Base",null,null,"SIMPLES ","ESCORA\nSIMPLES","ESCORA\nDUPLA","CONCRETADO"]
[9,9,{"$f":"IF(Padroes!H10=\"\",\"\",Padroes!H10)","v":150},{"$f":"IF(Padroes!I10=\"\",\"\",Padroes!I10)","v":470},{"$f":"IF(D148=\"\",\"\",(0.6+0.1*B148))","v":1.5},{"$f":"IF(E148=\"\",\"\",B148-E148-0.5)","v":{"v":7,"d":"7.00"}},{"$f":"IF(Padroes!K10=\"\",\"\",Padroes!K10)","v":0.19},{"$f":"IF(E148=\"\",\"\",Padroes!S$8)","v":{"v":1,"d":"1.00"}},{"$f":"IF(E148=\"\",\"\",Padroes!S$9)","v":{"v":0.2,"d":"0.20"}},{"$f":"IF(E148=\"\",\"\",Padroes!S$10)","v":{"v":0.5,"d":"0.50"}},{"$f":"IF(Padroes!M10=\"\",\"\",Padroes!M10)","v":{"v":0.32526297053307496,"d":"0.33"}},{"$f":"IF(D148=\"\",\"\",(D148+(3.1416*((K148+0.3)/2)^2-(3.1416*((Padroes!M10)/2)^2))*M148*2400))","v":{"v":792.506608016969,"d":"793"}},{"$f":"IF(E148=\"\",\"\",Padroes!$AI$8)","v":{"v":0.6,"d":"0.60"}},{"$f":"IF(E148=\"\",\"\",Padroes!$AL$23)","v":{"v":1,"d":"1.00"}},{"$f":"IF(E148=\"\",\"\",($B$63*G148*E148^3)/(F148+E148))","v":{"v":150.88235294117646,"d":"151"}},{"$f":"IF(E148=\"\",\"\",(3*$B$63*(2*J148*I148 - I148^2)*(H148-G148))*(E148-J148+I148/2)/(F148+E148/2) + O148)","v":{"v":261.251385199241,"d":"261"}},{"$f":"IF(E148=\"\",\"\",(3*$B$63 * (2*E148*I148-I148^2)*(H148-G148) ) * (I148/2) / (F148+E148) + P148)","v":{"v":293.27020872865273,"d":"293"}},{"$f":"IF(E148=\"\",\"\",(N148*$B$63*(K148+0.3)*E148^3)/(F148+E148)+((K148+0.3)*L148/(F148+E148))*(0.5-((2*L148*10^-4)/(3*(K148+0.3)^2))))","v":{"v":517.8025836647047,"d":"518"}},null,{"$f":"IF(Padroes!N10=\"\",\"\",Padroes!N10)","v":"D"},null,null,{"$f":"IF(O148=\"\",\"\",O148*Parametros!$I$26)","v":{"v":120.70588235294117,"d":"121"}},{"$f":"IF(P148=\"\",\"\",P148*Parametros!$I$27)","v":{"v":209.0011081593928,"d":"209"}},{"$f":"IF(Q148=\"\",\"\",Q148*Parametros!$I$28)","v":{"v":234.6161669829222,"d":"235"}},{"$f":"IF(R148=\"\",\"\",R148*Parametros!$I$29)","v":{"v":414.24206693176376,"d":"414"}}]
[null,9,{"$f":"IF(Padroes!H11=\"\",\"\",Padroes!H11)","v":200},{"$f":"IF(Padroes!I11=\"\",\"\",Padroes!I11)","v":470},{"$f":"IF(D149=\"\",\"\",(0.6+0.1*B149))","v":1.5},{"$f":"IF(E149=\"\",\"\",B149-E149-0.5)","v":{"v":7,"d":"7.00"}},{"$f":"IF(Padroes!K11=\"\",\"\",Padroes!K11)","v":0.19},{"$f":"IF(E149=\"\",\"\",Padroes!S$8)","v":{"v":1,"d":"1.00"}},{"$f":"IF(E149=\"\",\"\",Padroes!S$9)","v":{"v":0.2,"d":"0.20"}},{"$f":"IF(E149=\"\",\"\",Padroes!S$10)","v":{"v":0.5,"d":"0.50"}},{"$f":"IF(Padroes!M11=\"\",\"\",Padroes!M11)","v":{"v":0.32526297053307496,"d":"0.33"}},{"$f":"IF(D149=\"\",\"\",(D149+(3.1416*((K149+0.3)/2)^2-(3.1416*((Padroes!M11)/2)^2))*M149*2400))","v":{"v":792.506608016969,"d":"793"}},{"$f":"IF(E149=\"\",\"\",Padroes!$AI$8)","v":{"v":0.6,"d":"0.60"}},{"$f":"IF(E149=\"\",\"\",Padroes!$AL$23)","v":{"v":1,"d":"1.00"}},{"$f":"IF(E149=\"\",\"\",($B$63*G149*E149^3)/(F149+E149))","v":{"v":150.88235294117646,"d":"151"}},{"$f":"IF(E149=\"\",\"\",(3*$B$63*(2*J149*I149 - I149^2)*(H149-G149))*(E149-J149+I149/2)/(F149+E149/2) + O149)","v":{"v":261.251385199241,"d":"261"}},{"v":293.27020872865273,"d":"293"},{"v":517.8025836647047,"d":"518"},null,{"$f":"IF(Padroes!N11=\"\",\"\",Padroes!N11)","v":"D"},null,null,{"$f":"IF(O149=\"\",\"\",O149*Parametros!$I$26)","v":{"v":120.70588235294117,"d":"121"}},{"$f":"IF(P149=\"\",\"\",P149*Parametros!$I$27)","v":{"v":209.0011081593928,"d":"209"}},{"$f":"IF(Q149=\"\",\"\",Q149*Parametros!$I$28)","v":{"v":234.6161669829222,"d":"235"}},{"$f":"IF(R149=\"\",\"\",R149*Parametros!$I$29)","v":{"v":414.24206693176376,"d":"414"}}]
[null,9,{"$f":"IF(Padroes!H12=\"\",\"\",Padroes!H12)","v":300},{"$f":"IF(Padroes!I12=\"\",\"\",Padroes!I12)","v":750},1.5,{"v":7,"d":"7.00"},{"$f":"IF(Padroes!K12=\"\",\"\",Padroes!K12)","v":0.29},{"$f":"IF(E150=\"\",\"\",Padroes!S$8)","v":{"v":1,"d":"1.00"}},{"$f":"IF(E150=\"\",\"\",Padroes!S$9)","v":{"v":0.2,"d":"0.20"}},{"$f":"IF(E150=\"\",\"\",Padroes!S$10)","v":{"v":0.5,"d":"0.50"}},{"$f":"IF(Padroes!M12=\"\",\"\",Padroes!M12)","v":{"v":0.48761050029711217,"d":"0.49"}},{"$f":"IF(D150=\"\",\"\",(D150+(3.1416*((K150+0.3)/2)^2-(3.1416*((Padroes!M12)/2)^2))*M150*2400))","v":{"v":1182.6733039104158,"d":"1183"}},{"$f":"IF(E150=\"\",\"\",Padroes!$AI$8)","v":{"v":0.6,"d":"0.60"}},{"$f":"IF(E150=\"\",\"\",Padroes!$AL$23)","v":{"v":1,"d":"1.00"}},{"v":230.2941176470588,"d":"230"},{"v":327.0373434535104,"d":"327"},{"v":355.1032258064516,"d":"355"},{"v":666.3200721998418,"d":"666"},null,{"$f":"IF(Padroes!N12=\"\",\"\",Padroes!N12)","v":"B"},null,null,{"$f":"IF(O150=\"\",\"\",O150*Parametros!$I$26)","v":{"v":184.23529411764707,"d":"184"}},{"$f":"IF(P150=\"\",\"\",P150*Parametros!$I$27)","v":{"v":261.62987476280836,"d":"262"}},{"$f":"IF(Q150=\"\",\"\",Q150*Parametros!$I$28)","v":{"v":284.0825806451613,"d":"284"}},{"$f":"IF(R150=\"\",\"\",R150*Parametros!$I$29)","v":{"v":533.0560577598734,"d":"533"}}]
[null,9,{"$f":"IF(Padroes!H13=\"\",\"\",Padroes!H13)","v":400},{"$f":"IF(Padroes!I13=\"\",\"\",Padroes!I13)","v":750},1.5,{"v":7,"d":"7.00"},{"$f":"IF(Padroes!K13=\"\",\"\",Padroes!K13)","v":0.29},{"$f":"IF(E151=\"\",\"\",Padroes!S$8)","v":{"v":1,"d":"1.00"}},{"$f":"IF(E151=\"\",\"\",Padroes!S$9)","v":{"v":0.2,"d":"0.20"}},{"$f":"IF(E151=\"\",\"\",Padroes!S$10)","v":{"v":0.5,"d":"0.50"}},{"$f":"IF(Padroes!M13=\"\",\"\",Padroes!M13)","v":{"v":0.48761050029711217,"d":"0.49"}},{"$f":"IF(D151=\"\",\"\",(D151+(3.1416*((K151+0.3)/2)^2-(3.1416*((Padroes!M13)/2)^2))*M151*2400))","v":{"v":1182.6733039104158,"d":"1183"}},{"$f":"IF(E151=\"\",\"\",Padroes!$AI$8)","v":{"v":0.6,"d":"0.60"}},{"$f":"IF(E151=\"\",\"\",Padroes!$AL$23)","v":{"v":1,"d":"1.00"}},{"v":230.2941176470588,"d":"230"},{"v":327.0373434535104,"d":"327"},{"v":355.1032258064516,"d":"355"},{"v":666.3200721998418,"d":"666"},null,{"$f":"IF(Padroes!N13=\"\",\"\",Padroes!N13)","v":"B"},null,null,{"$f":"IF(O151=\"\",\"\",O151*Parametros!$I$26)","v":{"v":184.23529411764707,"d":"184"}},{"$f":"IF(P151=\"\",\"\",P151*Parametros!$I$27)","v":{"v":261.62987476280836,"d":"262"}},{"$f":"IF(Q151=\"\",\"\",Q151*Parametros!$I$28)","v":{"v":284.0825806451613,"d":"284"}},{"$f":"IF(R151=\"\",\"\",R151*Parametros!$I$29)","v":{"v":533.0560577598734,"d":"533"}}]
[null,9,{"$f":"IF(Padroes!H14=\"\",\"\",Padroes!H14)","v":600},{"$f":"IF(Padroes!I14=\"\",\"\",Padroes!I14)","v":750},1.5,{"v":7,"d":"7.00"},{"$f":"IF(Padroes!K14=\"\",\"\",Padroes!K14)","v":0.29},{"$f":"IF(E152=\"\",\"\",Padroes!S$8)","v":{"v":1,"d":"1.00"}},{"$f":"IF(E152=\"\",\"\",Padroes!S$9)","v":{"v":0.2,"d":"0.20"}},{"$f":"IF(E152=\"\",\"\",Padroes!S$10)","v":{"v":0.5,"d":"0.50"}},{"$f":"IF(Padroes!M14=\"\",\"\",Padroes!M14)","v":{"v":0.48761050029711217,"d":"0.49"}},{"$f":"IF(D152=\"\",\"\",(D152+(3.1416*((K152+0.3)/2)^2-(3.1416*((Padroes!M14)/2)^2))*M152*2400))","v":{"v":1182.6733039104158,"d":"1183"}},{"$f":"IF(E152=\"\",\"\",Padroes!$AI$8)","v":{"v":0.6,"d":"0.60"}},{"$f":"IF(E152=\"\",\"\",Padroes!$AL$23)","v":{"v":1,"d":"1.00"}},{"v":230.2941176470588,"d":"230"},{"v":327.0373434535104,"d":"327"},{"v":355.1032258064516,"d":"355"},{"v":666.3200721998418,"d":"666"},null,{"$f":"IF(Padroes!N14=\"\",\"\",Padroes!N14)","v":"B"},null,null,{"$f":"IF(O152=\"\",\"\",O152*Parametros!$I$26)","v":{"v":184.23529411764707,"d":"184"}},{"$f":"IF(P152=\"\",\"\",P152*Parametros!$I$27)","v":{"v":261.62987476280836,"d":"262"}},{"$f":"IF(Q152=\"\",\"\",Q152*Parametros!$I$28)","v":{"v":284.0825806451613,"d":"284"}},{"$f":"IF(R152=\"\",\"\",R152*Parametros!$I$29)","v":{"v":533.0560577598734,"d":"533"}}]
[null,9,{"$f":"IF(Padroes!H15=\"\",\"\",Padroes!H15)","v":1000},{"$f":"IF(Padroes!I15=\"\",\"\",Padroes!I15)","v":1026},1.5,{"v":7,"d":"7.00"},{"$f":"IF(Padroes!K15=\"\",\"\",Padroes!K15)","v":0.32},{"$f":"IF(E153=\"\",\"\",Padroes!S$8)","v":{"v":1,"d":"1.00"}},{"$f":"IF(E153=\"\",\"\",Padroes!S$9)","v":{"v":0.2,"d":"0.20"}},{"$f":"IF(E153=\"\",\"\",Padroes!S$10)","v":{"v":0.5,"d":"0.50"}},{"$f":"IF(Padroes!M15=\"\",\"\",Padroes!M15)","v":{"v":0.5392179522234029,"d":"0.54"}},{"$f":"IF(D153=\"\",\"\",(D153+(3.1416*((K153+0.3)/2)^2-(3.1416*((Padroes!M15)/2)^2))*M153*2400))","v":{"v":1493.693377640289,"d":"1494"}},{"$f":"IF(E153=\"\",\"\",Padroes!$AI$8)","v":{"v":0.6,"d":"0.60"}},{"$f":"IF(E153=\"\",\"\",Padroes!$AL$23)","v":{"v":1,"d":"1.00"}},{"v":254.11764705882354,"d":"254"},{"v":346.77313092979125,"d":"347"},{"v":373.65313092979125,"d":"374"},{"v":719.323565605088,"d":"719"},null,{"$f":"IF(Padroes!N15=\"\",\"\",Padroes!N15)","v":"B-1,5"},null,null,{"$f":"IF(O153=\"\",\"\",O153*Parametros!$I$26)","v":{"v":203.29411764705884,"d":"203"}},{"$f":"IF(P153=\"\",\"\",P153*Parametros!$I$27)","v":{"v":277.418504743833,"d":"277"}},{"$f":"IF(Q153=\"\",\"\",Q153*Parametros!$I$28)","v":{"v":298.92250474383303,"d":"299"}},{"$f":"IF(R153=\"\",\"\",R153*Parametros!$I$29)","v":{"v":575.4588524840705,"d":"575"}}]
[null,9,{"$f":"IF(Padroes!H16=\"\",\"\",Padroes!H16)","v":""},{"$f":"IF(Padroes!I16=\"\",\"\",Padroes!I16)","v":""},"","",{"$f":"IF(Padroes!K16=\"\",\"\",Padroes!K16)","v":""},{"$f":"IF(E154=\"\",\"\",Padroes!S$8)","v":""},{"$f":"IF(E154=\"\",\"\",Padroes!S$9)","v":""},{"$f":"IF(E154=\"\",\"\",Padroes!S$10)","v":""},{"$f":"IF(Padroes!M16=\"\",\"\",Padroes!M16)","v":""},{"$f":"IF(D154=\"\",\"\",(D154+(3.1416*((K154+0.3)/2)^2-(3.1416*((Padroes!M16)/2)^2))*M154*2400))","v":""},{"$f":"IF(E154=\"\",\"\",Padroes!$AI$8)","v":""},{"$f":"IF(E154=\"\",\"\",Padroes!$AL$23)","v":""},"","","","",null,{"$f":"IF(Padroes!N16=\"\",\"\",Padroes!N16)","v":""},null,null,{"$f":"IF(O154=\"\",\"\",O154*Parametros!$I$26)","v":""},{"$f":"IF(P154=\"\",\"\",P154*Parametros!$I$27)","v":""},{"$f":"IF(Q154=\"\",\"\",Q154*Parametros!$I$28)","v":""},{"$f":"IF(R154=\"\",\"\",R154*Parametros!$I$29)","v":""}]
[null,9,{"$f":"IF(Padroes!H17=\"\",\"\",Padroes!H17)","v":""},{"$f":"IF(Padroes!I17=\"\",\"\",Padroes!I17)","v":""},"","",{"$f":"IF(Padroes!K17=\"\",\"\",Padroes!K17)","v":""},{"$f":"IF(E155=\"\",\"\",Padroes!S$8)","v":""},{"$f":"IF(E155=\"\",\"\",Padroes!S$9)","v":""},{"$f":"IF(E155=\"\",\"\",Padroes!S$10)","v":""},{"$f":"IF(Padroes!M17=\"\",\"\",Padroes!M17)","v":""},{"$f":"IF(D155=\"\",\"\",(D155+(3.1416*((K155+0.3)/2)^2-(3.1416*((Padroes!M17)/2)^2))*M155*2400))","v":""},{"$f":"IF(E155=\"\",\"\",Padroes!$AI$8)","v":""},{"$f":"IF(E155=\"\",\"\",Padroes!$AL$23)","v":""},"","",{"$f":"IF(E155=\"\",\"\",(3*$B$63 * (2*E155*I155-I155^2)*(H155-G155) ) * (I155/2) / (F155+E155) + P155)","v":""},{"$f":"IF(E155=\"\",\"\",(N155*$B$63*(K155+0.3)*E155^3)/(F155+E155)+((K155+0.3)*L155/(F155+E155))*(0.5-((2*L155*10^-4)/(3*(K155+0.3)^2))))","v":""},null,{"$f":"IF(Padroes!N17=\"\",\"\",Padroes!N17)","v":""},null,null,{"$f":"IF(O155=\"\",\"\",O155*Parametros!$I$26)","v":""},{"$f":"IF(P155=\"\",\"\",P155*Parametros!$I$27)","v":""},{"$f":"IF(Q155=\"\",\"\",Q155*Parametros!$I$28)","v":""},{"$f":"IF(R155=\"\",\"\",R155*Parametros!$I$29)","v":""}]
[null,9,{"$f":"IF(Padroes!H18=\"\",\"\",Padroes!H18)","v":""},{"$f":"IF(Padroes!I18=\"\",\"\",Padroes!I18)","v":""},"","",{"$f":"IF(Padroes!K18=\"\",\"\",Padroes!K18)","v":""},{"$f":"IF(E156=\"\",\"\",Padroes!S$8)","v":""},{"$f":"IF(E156=\"\",\"\",Padroes!S$9)","v":""},{"$f":"IF(E156=\"\",\"\",Padroes!S$10)","v":""},{"$f":"IF(Padroes!M18=\"\",\"\",Padroes!M18)","v":""},{"$f":"IF(D156=\"\",\"\",(D156+(3.1416*((K156+0.3)/2)^2-(3.1416*((Padroes!M18)/2)^2))*M156*2400))","v":""},{"$f":"IF(E156=\"\",\"\",Padroes!$AI$8)","v":""},{"$f":"IF(E156=\"\",\"\",Padroes!$AL$23)","v":""},"","","","",null,{"$f":"IF(Padroes!N18=\"\",\"\",Padroes!N18)","v":""},null,null,{"$f":"IF(O156=\"\",\"\",O156*Parametros!$I$26)","v":""},{"$f":"IF(P156=\"\",\"\",P156*Parametros!$I$27)","v":""},{"$f":"IF(Q156=\"\",\"\",Q156*Parametros!$I$28)","v":""},{"$f":"IF(R156=\"\",\"\",R156*Parametros!$I$29)","v":""}]
[9,9,{"$f":"IF(Engastamento_Profundo!F$43=9,Engastamento_Profundo!F$44, 0)","v":0},{"$f":"IF(Engastamento_Profundo!F$45=\"\",VLOOKUP(C157,Padroes!$H$10:$M$18,2,FALSE),Engastamento_Profundo!$F$45 )","v":{"$error":"#N/A"}},{"$f":"IF(Engastamento_Profundo!$F$47=\"\",1.5,Engastamento_Profundo!$F47)","v":{"v":-335544.32,"d":"-335544.3"}},{"$f":"IF(Engastamento_Profundo!F$56=\"\",7,Engastamento_Profundo!F$56)","v":{"v":7,"d":"7.00"}},{"$f":"IF(Engastamento_Profundo!F$46=\"\",VLOOKUP(C157,Padroes!H10:M18,4,FALSE),Engastamento_Profundo!F$46)","v":{"$error":"#N/A"}},{"$f":"IF(Engastamento_Profundo!F$49=\"\",Padroes!$S$8,Engastamento_Profundo!F$49)","v":{"v":1,"d":"1.00"}},{"$f":"IF(Engastamento_Profundo!F$50=\"\",Padroes!$S$9,Engastamento_Profundo!F50)","v":{"v":0.2,"d":"0.20"}},{"$f":"IF(Engastamento_Profundo!F$51=\"\",Padroes!$S$10,Engastamento_Profundo!F$51)","v":{"v":0.5,"d":"0.50"}},{"$f":"IF(Engastamento_Profundo!F$53=\"\",VLOOKUP(C157,C148:K156,9,FALSE),Engastamento_Profundo!F$53)","v":{"$error":"#N/A"}},{"$f":"D157+(3.1416*K157^2*M157/4*2400)","v":{"$error":"#N/A"}},{"$f":"Padroes!$AL$8","v":{"v":0.6,"d":"0.60"}},{"v":1,"d":"1.00"},{"$f":"IF(E157=\"\",\"\",($B$63*G157*E157^3)/(F157+E157))","v":{"$error":"#N/A"}},{"$f":"IF(E157=\"\",\"\",(3*$B$63*(2*J157*I157 - I157^2)*(H157-G157))*(E157-J157+I157/2)/(F157+E157/2) + O157)","v":{"$error":"#N/A"}},{"$f":" IF(E157=\"\",\"\",(3*$B$63 * (2*E157*I157-I157^2)*(H157-G157) ) * (I157/2) / (F157+E157) + P157)","v":{"$error":"#N/A"}},{"$f":"IF(E157=\"\",\"\",(N157*$B$63*K157*E157^3)/(F157+E157) + (K157*L157/(F157+E157)) * (0.5 - (2*L157/(3*$C$63*K157^2))))","v":{"$error":"#N/A"}},{"$nulls":4},{"$f":"IF(O157=\"\",\"\",O157*Parametros!$I$26)","v":{"$error":"#N/A"}},{"$f":"IF(P157=\"\",\"\",P157*Parametros!$I$27)","v":{"$error":"#N/A"}},{"$f":"IF(Q157=\"\",\"\",Q157*Parametros!$I$28)","v":{"$error":"#N/A"}},{"$f":"IF(R157=\"\",\"\",R157*Parametros!$I$29)","v":{"$error":"#N/A"}}]
[10,10,{"$f":"IF(Padroes!H19=\"\",\"\",Padroes!H19)","v":150},{"$f":"IF(Padroes!I19=\"\",\"\",Padroes!I19)","v":550},1.6,{"$f":"IF(E158=\"\",\"\",B158-E158-0.2)","v":{"v":8.200000000000001,"d":"8.2"}},{"$f":"IF(Padroes!K19=\"\",\"\",Padroes!K19)","v":{"v":0.2,"d":"0.20"}},{"$f":"IF(E158=\"\",\"\",Padroes!S$8)","v":{"v":1,"d":"1.00"}},{"$f":"IF(E158=\"\",\"\",Padroes!S$9)","v":{"v":0.2,"d":"0.20"}},{"$f":"IF(E158=\"\",\"\",Padroes!S$10)","v":{"v":0.5,"d":"0.50"}},{"$f":"IF(Padroes!M19=\"\",\"\",Padroes!M19)","v":{"v":0.3440930106817051,"d":"0.34"}},{"$f":"IF(D158=\"\",\"\",(D158+(3.1416*((K158+0.3)/2)^2-(3.1416*((Padroes!M19)/2)^2))*M158*2400))","v":{"v":913.2247689516889,"d":"913"}},{"$f":"IF(E158=\"\",\"\",Padroes!$AI$9)","v":0.65},{"$f":"IF(E158=\"\",\"\",Padroes!$AL$23)","v":{"v":1,"d":"1.00"}},{"v":167.18367346938777,"d":"167"},{"v":269.58367346938775,"d":"270"},{"v":298.9714285714286,"d":"299"},{"v":559.6112221010283,"d":"560"},10,{"$f":"IF(Padroes!N19=\"\",\"\",Padroes!N19)","v":"D"},null,null,{"$f":"IF(O158=\"\",\"\",O158*Parametros!$I$26)","v":{"v":133.74693877551022,"d":"134"}},{"$f":"IF(P158=\"\",\"\",P158*Parametros!$I$27)","v":{"v":215.6669387755102,"d":"216"}},{"$f":"IF(Q158=\"\",\"\",Q158*Parametros!$I$28)","v":{"v":239.17714285714288,"d":"239"}},{"$f":"IF(R158=\"\",\"\",R158*Parametros!$I$29)","v":{"v":447.68897768082263,"d":"448"}}]
[null,10,{"$f":"IF(Padroes!H20=\"\",\"\",Padroes!H20)","v":200},{"$f":"IF(Padroes!I20=\"\",\"\",Padroes!I20)","v":550},1.6,{"v":8.200000000000001,"d":"8.2"},{"$f":"IF(Padroes!K20=\"\",\"\",Padroes!K20)","v":{"v":0.2,"d":"0.20"}},{"$f":"IF(E159=\"\",\"\",Padroes!S$8)","v":{"v":1,"d":"1.00"}},{"$f":"IF(E159=\"\",\"\",Padroes!S$9)","v":{"v":0.2,"d":"0.20"}},{"$f":"IF(E159=\"\",\"\",Padroes!S$10)","v":{"v":0.5,"d":"0.50"}},{"$f":"IF(Padroes!M20=\"\",\"\",Padroes!M20)","v":{"v":0.3440930106817051,"d":"0.34"}},{"$f":"IF(D159=\"\",\"\",(D159+(3.1416*((K159+0.3)/2)^2-(3.1416*((Padroes!M20)/2)^2))*M159*2400))","v":{"v":913.2247689516889,"d":"913"}},{"$f":"IF(E159=\"\",\"\",Padroes!$AI$9)","v":0.65},{"$f":"IF(E159=\"\",\"\",Padroes!$AL$23)","v":{"v":1,"d":"1.00"}},{"v":167.18367346938777,"d":"167"},{"v":269.58367346938775,"d":"270"},{"v":298.9714285714286,"d":"299"},{"v":559.6112221010283,"d":"560"},null,{"$f":"IF(Padroes!N20=\"\",\"\",Padroes!N20)","v":"B"},null,null,{"$f":"IF(O159=\"\",\"\",O159*Parametros!$I$26)","v":{"v":133.74693877551022,"d":"134"}},{"$f":"IF(P159=\"\",\"\",P159*Parametros!$I$27)","v":{"v":215.6669387755102,"d":"216"}},{"$f":"IF(Q159=\"\",\"\",Q159*Parametros!$I$28)","v":{"v":239.17714285714288,"d":"239"}},{"$f":"IF(R159=\"\",\"\",R159*Parametros!$I$29)","v":{"v":447.68897768082263,"d":"448"}}]
[null,10,{"$f":"IF(Padroes!H21=\"\",\"\",Padroes!H21)","v":300},{"$f":"IF(Padroes!I21=\"\",\"\",Padroes!I21)","v":900},1.6,{"v":8.200000000000001,"d":"8.2"},{"$f":"IF(Padroes!K21=\"\",\"\",Padroes!K21)","v":0.31},{"$f":"IF(E160=\"\",\"\",Padroes!S$8)","v":{"v":1,"d":"1.00"}},{"$f":"IF(E160=\"\",\"\",Padroes!S$9)","v":{"v":0.2,"d":"0.20"}},{"$f":"IF(E160=\"\",\"\",Padroes!S$10)","v":{"v":0.5,"d":"0.50"}},{"$f":"IF(Padroes!M21=\"\",\"\",Padroes!M21)","v":{"v":0.5220153254455274,"d":"0.52"}},{"$f":"IF(D160=\"\",\"\",(D160+(3.1416*((K160+0.3)/2)^2-(3.1416*((Padroes!M21)/2)^2))*M160*2400))","v":{"v":1394.0215830622024,"d":"1394"}},{"$f":"IF(E160=\"\",\"\",Padroes!$AI$9)","v":0.65},{"$f":"IF(E160=\"\",\"\",Padroes!$AL$23)","v":{"v":1,"d":"1.00"}},{"v":259.13469387755106,"d":"259"},{"v":347.45469387755105,"d":"347"},{"v":372.80163265306123,"d":"373"},{"v":729.5202944793418,"d":"730"},null,{"$f":"IF(Padroes!N21=\"\",\"\",Padroes!N21)","v":"B"},null,null,{"$f":"IF(O160=\"\",\"\",O160*Parametros!$I$26)","v":{"v":207.30775510204086,"d":"207"}},{"$f":"IF(P160=\"\",\"\",P160*Parametros!$I$27)","v":{"v":277.96375510204086,"d":"278"}},{"$f":"IF(Q160=\"\",\"\",Q160*Parametros!$I$28)","v":{"v":298.241306122449,"d":"298"}},{"$f":"IF(R160=\"\",\"\",R160*Parametros!$I$29)","v":{"v":583.6162355834734,"d":"584"}}]
[null,10,{"$f":"IF(Padroes!H22=\"\",\"\",Padroes!H22)","v":400},{"$f":"IF(Padroes!I22=\"\",\"\",Padroes!I22)","v":900},1.6,{"v":8.200000000000001,"d":"8.2"},{"$f":"IF(Padroes!K22=\"\",\"\",Padroes!K22)","v":0.31},{"$f":"IF(E161=\"\",\"\",Padroes!S$8)","v":{"v":1,"d":"1.00"}},{"$f":"IF(E161=\"\",\"\",Padroes!S$9)","v":{"v":0.2,"d":"0.20"}},{"$f":"IF(E161=\"\",\"\",Padroes!S$10)","v":{"v":0.5,"d":"0.50"}},{"$f":"IF(Padroes!M22=\"\",\"\",Padroes!M22)","v":{"v":0.5220153254455274,"d":"0.52"}},{"$f":"IF(D161=\"\",\"\",(D161+(3.1416*((K161+0.3)/2)^2-(3.1416*((Padroes!M22)/2)^2))*M161*2400))","v":{"v":1394.0215830622024,"d":"1394"}},{"$f":"IF(E161=\"\",\"\",Padroes!$AI$9)","v":0.65},{"$f":"IF(E161=\"\",\"\",Padroes!$AL$23)","v":{"v":1,"d":"1.00"}},{"v":259.13469387755106,"d":"259"},{"v":347.45469387755105,"d":"347"},{"v":372.80163265306123,"d":"373"},{"v":729.5202944793418,"d":"730"},null,{"$f":"IF(Padroes!N22=\"\",\"\",Padroes!N22)","v":"B"},null,null,{"$f":"IF(O161=\"\",\"\",O161*Parametros!$I$26)","v":{"v":207.30775510204086,"d":"207"}},{"$f":"IF(P161=\"\",\"\",P161*Parametros!$I$27)","v":{"v":277.96375510204086,"d":"278"}},{"$f":"IF(Q161=\"\",\"\",Q161*Parametros!$I$28)","v":{"v":298.241306122449,"d":"298"}},{"$f":"IF(R161=\"\",\"\",R161*Parametros!$I$29)","v":{"v":583.6162355834734,"d":"584"}}]
[null,10,{"$f":"IF(Padroes!H23=\"\",\"\",Padroes!H23)","v":600},{"$f":"IF(Padroes!I23=\"\",\"\",Padroes!I23)","v":900},1.6,{"v":8.200000000000001,"d":"8.2"},{"$f":"IF(Padroes!K23=\"\",\"\",Padroes!K23)","v":0.31},{"$f":"IF(E162=\"\",\"\",Padroes!S$8)","v":{"v":1,"d":"1.00"}},{"$f":"IF(E162=\"\",\"\",Padroes!S$9)","v":{"v":0.2,"d":"0.20"}},{"$f":"IF(E162=\"\",\"\",Padroes!S$10)","v":{"v":0.5,"d":"0.50"}},{"$f":"IF(Padroes!M23=\"\",\"\",Padroes!M23)","v":{"v":0.5220153254455274,"d":"0.52"}},{"$f":"IF(D162=\"\",\"\",(D162+(3.1416*((K162+0.3)/2)^2-(3.1416*((Padroes!M23)/2)^2))*M162*2400))","v":{"v":1394.0215830622024,"d":"1394"}},{"$f":"IF(E162=\"\",\"\",Padroes!$AI$9)","v":0.65},{"$f":"IF(E162=\"\",\"\",Padroes!$AL$23)","v":{"v":1,"d":"1.00"}},{"$f":"IF(E162=\"\",\"\",($B$63*G162*E162^3)/(F162+E162))","v":{"v":259.13469387755106,"d":"259"}},{"v":347.45469387755105,"d":"347"},{"v":372.80163265306123,"d":"373"},{"v":729.5202944793418,"d":"730"},null,{"$f":"IF(Padroes!N23=\"\",\"\",Padroes!N23)","v":"B"},null,null,{"$f":"IF(O162=\"\",\"\",O162*Parametros!$I$26)","v":{"v":207.30775510204086,"d":"207"}},{"$f":"IF(P162=\"\",\"\",P162*Parametros!$I$27)","v":{"v":277.96375510204086,"d":"278"}},{"$f":"IF(Q162=\"\",\"\",Q162*Parametros!$I$28)","v":{"v":298.241306122449,"d":"298"}},{"$f":"IF(R162=\"\",\"\",R162*Parametros!$I$29)","v":{"v":583.6162355834734,"d":"584"}}]
[null,10,{"$f":"IF(Padroes!H24=\"\",\"\",Padroes!H24)","v":1000},{"$f":"IF(Padroes!I24=\"\",\"\",Padroes!I24)","v":1150},1.6,{"v":8.200000000000001,"d":"8.2"},{"$f":"IF(Padroes!K24=\"\",\"\",Padroes!K24)","v":0.34},{"$f":"IF(E163=\"\",\"\",Padroes!S$8)","v":{"v":1,"d":"1.00"}},{"$f":"IF(E163=\"\",\"\",Padroes!S$9)","v":{"v":0.2,"d":"0.20"}},{"$f":"IF(E163=\"\",\"\",Padroes!S$10)","v":{"v":0.5,"d":"0.50"}},{"$f":"IF(Padroes!M24=\"\",\"\",Padroes!M24)","v":{"v":0.5736235699480976,"d":"0.57"}},{"$f":"IF(D163=\"\",\"\",(D163+(3.1416*((K163+0.3)/2)^2-(3.1416*((Padroes!M24)/2)^2))*M163*2400))","v":{"v":1681.9605789196526,"d":"1682"}},{"$f":"IF(E163=\"\",\"\",Padroes!$AI$9)","v":0.65},{"$f":"IF(E163=\"\",\"\",Padroes!$AL$23)","v":{"v":1,"d":"1.00"}},{"v":284.21224489795924,"d":"284"},{"v":368.6922448979592,"d":"369"},{"v":392.9371428571429,"d":"393"},{"v":783.2186419418617,"d":"783"},null,{"$f":"IF(Padroes!N24=\"\",\"\",Padroes!N24)","v":"B-1,5"},null,null,{"$f":"IF(O163=\"\",\"\",O163*Parametros!$I$26)","v":{"v":227.3697959183674,"d":"227"}},{"$f":"IF(P163=\"\",\"\",P163*Parametros!$I$27)","v":{"v":294.95379591836735,"d":"295"}},{"$f":"IF(Q163=\"\",\"\",Q163*Parametros!$I$28)","v":{"v":314.3497142857143,"d":"314"}},{"$f":"IF(R163=\"\",\"\",R163*Parametros!$I$29)","v":{"v":626.5749135534894,"d":"627"}}]
[null,10,{"$f":"IF(Padroes!H25=\"\",\"\",Padroes!H25)","v":""},{"$f":"IF(Padroes!I25=\"\",\"\",Padroes!I25)","v":""},"","",{"$f":"IF(Padroes!K25=\"\",\"\",Padroes!K25)","v":""},{"$f":"IF(E164=\"\",\"\",Padroes!S$8)","v":""},{"$f":"IF(E164=\"\",\"\",Padroes!S$9)","v":""},{"$f":"IF(E164=\"\",\"\",Padroes!S$10)","v":""},{"$f":"IF(Padroes!M25=\"\",\"\",Padroes!M25)","v":""},{"$f":"IF(D164=\"\",\"\",(D164+(3.1416*((K164+0.3)/2)^2-(3.1416*((Padroes!M25)/2)^2))*M164*2400))","v":""},{"$f":"IF(E164=\"\",\"\",Padroes!$AI$9)","v":""},{"$f":"IF(E164=\"\",\"\",Padroes!$AL$23)","v":""},"","","","",null,{"$f":"IF(Padroes!N25=\"\",\"\",Padroes!N25)","v":""},null,null,{"$f":"IF(O164=\"\",\"\",O164*Parametros!$I$26)","v":""},{"$f":"IF(P164=\"\",\"\",P164*Parametros!$I$27)","v":""},{"$f":"IF(Q164=\"\",\"\",Q164*Parametros!$I$28)","v":""},{"$f":"IF(R164=\"\",\"\",R164*Parametros!$I$29)","v":""}]
[null,10,{"$f":"IF(Padroes!H26=\"\",\"\",Padroes!H26)","v":""},{"$f":"IF(Padroes!I26=\"\",\"\",Padroes!I26)","v":""},"","",{"$f":"IF(Padroes!K26=\"\",\"\",Padroes!K26)","v":""},{"$f":"IF(E165=\"\",\"\",Padroes!S$8)","v":""},{"$f":"IF(E165=\"\",\"\",Padroes!S$9)","v":""},{"$f":"IF(E165=\"\",\"\",Padroes!S$10)","v":""},{"$f":"IF(Padroes!M26=\"\",\"\",Padroes!M26)","v":""},{"$f":"IF(D165=\"\",\"\",(D165+(3.1416*((K165+0.3)/2)^2-(3.1416*((Padroes!M26)/2)^2))*M165*2400))","v":""},{"$f":"IF(E165=\"\",\"\",Padroes!$AI$9)","v":""},{"$f":"IF(E165=\"\",\"\",Padroes!$AL$23)","v":""},"","","","",null,{"$f":"IF(Padroes!N26=\"\",\"\",Padroes!N26)","v":""},null,null,{"$f":"IF(O165=\"\",\"\",O165*Parametros!$I$26)","v":""},{"$f":"IF(P165=\"\",\"\",P165*Parametros!$I$27)","v":""},{"$f":"IF(Q165=\"\",\"\",Q165*Parametros!$I$28)","v":""},{"$f":"IF(R165=\"\",\"\",R165*Parametros!$I$29)","v":""}]
[null,10,{"$f":"IF(Padroes!H27=\"\",\"\",Padroes!H27)","v":""},{"$f":"IF(Padroes!I27=\"\",\"\",Padroes!I27)","v":""},"","",{"$f":"IF(Padroes!K27=\"\",\"\",Padroes!K27)","v":""},{"$f":"IF(E166=\"\",\"\",Padroes!S$8)","v":""},{"$f":"IF(E166=\"\",\"\",Padroes!S$9)","v":""},{"$f":"IF(E166=\"\",\"\",Padroes!S$10)","v":""},{"$f":"IF(Padroes!M27=\"\",\"\",Padroes!M27)","v":""},{"$f":"IF(D166=\"\",\"\",(D166+(3.1416*((K166+0.3)/2)^2-(3.1416*((Padroes!M27)/2)^2))*M166*2400))","v":""},{"$f":"IF(E166=\"\",\"\",Padroes!$AI$9)","v":""},{"$f":"IF(E166=\"\",\"\",Padroes!$AL$23)","v":""},"","","","",null,{"$f":"IF(Padroes!N27=\"\",\"\",Padroes!N27)","v":""},null,null,{"$f":"IF(O166=\"\",\"\",O166*Parametros!$I$26)","v":""},{"$f":"IF(P166=\"\",\"\",P166*Parametros!$I$27)","v":""},{"$f":"IF(Q166=\"\",\"\",Q166*Parametros!$I$28)","v":""},{"$f":"IF(R166=\"\",\"\",R166*Parametros!$I$29)","v":""}]
[10,10,{"$f":"IF(Engastamento_Profundo!F$43=10,Engastamento_Profundo!F$44, 0)","v":0},{"$f":"IF(Engastamento_Profundo!F$45=\"\",VLOOKUP(C167,Padroes!H19:M27,2,FALSE),Engastamento_Profundo!$F$45 )","v":{"$error":"#N/A"}},{"$f":"IF(Engastamento_Profundo!$F$47=\"\",1.6,Engastamento_Profundo!$F47)","v":{"v":-335544.32,"d":"-335544.3"}},{"$f":"IF(Engastamento_Profundo!F$56=\"\",8.2,Engastamento_Profundo!F$56)","v":{"v":8.2,"d":"8.20"}},{"$f":"IF(Engastamento_Profundo!F$46=\"\",VLOOKUP(C167,Padroes!H19:M27,4,FALSE),Engastamento_Profundo!F$46)","v":{"$error":"#N/A"}},{"$f":"IF(Engastamento_Profundo!F$49=\"\",Padroes!$S$8,Engastamento_Profundo!F$49)","v":{"v":1,"d":"1.00"}},{"$f":"IF(Engastamento_Profundo!F$50=\"\",Padroes!$S$9,Engastamento_Profundo!F60)","v":{"v":0.2,"d":"0.20"}},{"$f":"IF(Engastamento_Profundo!F$51=\"\",Padroes!$S$10,Engastamento_Profundo!F$51)","v":{"v":0.5,"d":"0.50"}},{"$f":"IF(Engastamento_Profundo!F$53=\"\",VLOOKUP(C167,C158:K166,9,FALSE),Engastamento_Profundo!F$53)","v":{"$error":"#N/A"}},{"$f":"D167+(3.1416*K167^2*M167/4*2400)","v":{"$error":"#N/A"}},{"$f":"Padroes!$AL$8","v":{"v":0.6,"d":"0.60"}},{"v":1,"d":"1.00"},{"$f":"IF(E167=\"\",\"\",($B$63*G167*E167^3)/(F167+E167))","v":{"$error":"#N/A"}},{"$f":"IF(E167=\"\",\"\",(3*$B$63*(2*J167*I167 - I167^2)*(H167-G167))*(E167-J167+I167/2)/(F167+E167/2) + O167)","v":{"$error":"#N/A"}},{"$f":" IF(E167=\"\",\"\",(3*$B$63 * (2*E167*I167-I167^2)*(H167-G167) ) * (I167/2) / (F167+E167) + P167)","v":{"$error":"#N/A"}},{"$f":"IF(E167=\"\",\"\",(N167*$B$63*K167*E167^3)/(F167+E167) + (K167*L167/(F167+E167)) * (0.5 - (2*L167/(3*$C$63*K167^2))))","v":{"$error":"#N/A"}},{"$nulls":4},{"$f":"IF(O167=\"\",\"\",O167*Parametros!$I$26)","v":{"$error":"#N/A"}},{"$f":"IF(P167=\"\",\"\",P167*Parametros!$I$27)","v":{"$error":"#N/A"}},{"$f":"IF(Q167=\"\",\"\",Q167*Parametros!$I$28)","v":{"$error":"#N/A"}},{"$f":"IF(R167=\"\",\"\",R167*Parametros!$I$29)","v":{"$error":"#N/A"}}]
[11,11,{"$f":"IF(Padroes!H28=\"\",\"\",Padroes!H28)","v":200},{"$f":"IF(Padroes!I28=\"\",\"\",Padroes!I28)","v":680},1.7000000000000002,{"$f":"IF(E168=\"\",\"\",B168-E168-0.2)","v":{"v":9.100000000000001,"d":"9.1"}},{"$f":"IF(Padroes!K28=\"\",\"\",Padroes!K28)","v":0.21},{"$f":"IF(E168=\"\",\"\",Padroes!S$8)","v":{"v":1,"d":"1.00"}},{"$f":"IF(E168=\"\",\"\",Padroes!S$9)","v":{"v":0.2,"d":"0.20"}},{"$f":"IF(E168=\"\",\"\",Padroes!S$10)","v":{"v":0.5,"d":"0.50"}},{"$f":"IF(Padroes!M28=\"\",\"\",Padroes!M28)","v":{"v":0.363,"d":"0.36"}},{"$f":"IF(D168=\"\",\"\",(D168+(3.1416*((K168+0.3)/2)^2-(3.1416*((Padroes!M28)/2)^2))*M168*2400))","v":{"v":1086.1334816,"d":"1086"}},{"$f":"IF(E168=\"\",\"\",Padroes!$AI$10)","v":{"v":0.7,"d":"0.70"}},{"$f":"IF(E168=\"\",\"\",Padroes!$AL$23)","v":{"v":1,"d":"1.00"}},{"v":191.06111111111113,"d":"191"},{"v":290.1485482970408,"d":"290"},{"v":318.2374371859297,"d":"318"},{"v":625.5620592233972,"d":"626"},11,{"$f":"IF(Padroes!N28=\"\",\"\",Padroes!N28)","v":"D"},null,null,{"$f":"IF(O168=\"\",\"\",O168*Parametros!$I$26)","v":{"v":152.84888888888892,"d":"153"}},{"$f":"IF(P168=\"\",\"\",P168*Parametros!$I$27)","v":{"v":232.11883863763265,"d":"232"}},{"$f":"IF(Q168=\"\",\"\",Q168*Parametros!$I$28)","v":{"v":254.58994974874378,"d":"255"}},{"$f":"IF(R168=\"\",\"\",R168*Parametros!$I$29)","v":{"v":500.4496473787178,"d":"500"}}]
[null,11,{"$f":"IF(Padroes!H29=\"\",\"\",Padroes!H29)","v":300},{"$f":"IF(Padroes!I29=\"\",\"\",Padroes!I29)","v":1050},1.7000000000000002,{"$f":"IF(E169=\"\",\"\",B169-E169-0.2)","v":{"v":9.100000000000001,"d":"9.1"}},{"$f":"IF(Padroes!K29=\"\",\"\",Padroes!K29)","v":0.33},{"$f":"IF(E169=\"\",\"\",Padroes!S$8)","v":{"v":1,"d":"1.00"}},{"$f":"IF(E169=\"\",\"\",Padroes!S$9)","v":{"v":0.2,"d":"0.20"}},{"$f":"IF(E169=\"\",\"\",Padroes!S$10)","v":{"v":0.5,"d":"0.50"}},{"$f":"IF(Padroes!M29=\"\",\"\",Padroes!M29)","v":{"v":0.556,"d":"0.56"}},{"$f":"IF(D169=\"\",\"\",(D169+(3.1416*((K169+0.3)/2)^2-(3.1416*((Padroes!M29)/2)^2))*M169*2400))","v":{"v":1608.9283392000002,"d":"1609"}},{"$f":"IF(E169=\"\",\"\",Padroes!$AI$10)","v":{"v":0.7,"d":"0.70"}},{"$f":"IF(E169=\"\",\"\",Padroes!$AL$23)","v":{"v":1,"d":"1.00"}},{"v":300.23888888888894,"d":"300"},{"v":384.27506979341155,"d":"384"},{"$f":"IF(E169=\"\",\"\",(3*$B$63 * (2*E169*I169-I169^2)*(H169-G169) ) * (I169/2) / (F169+E169) + P169)","v":{"v":408.0972920156338,"d":"408"}},{"$f":"IF(E169=\"\",\"\",(N169*$B$63*(K169+0.3)*E169^3)/(F169+E169)+((K169+0.3)*L169/(F169+E169))*(0.5-((2*L169*10^-4)/(3*(K169+0.3)^2))))","v":{"v":823.8952817148346,"d":"824"}},null,{"$f":"IF(Padroes!N29=\"\",\"\",Padroes!N29)","v":"B"},null,null,{"$f":"IF(O169=\"\",\"\",O169*Parametros!$I$26)","v":{"v":240.19111111111116,"d":"240"}},{"$f":"IF(P169=\"\",\"\",P169*Parametros!$I$27)","v":{"v":307.4200558347293,"d":"307"}},{"$f":"IF(Q169=\"\",\"\",Q169*Parametros!$I$28)","v":{"v":326.4778336125071,"d":"326"}},{"$f":"IF(R169=\"\",\"\",R169*Parametros!$I$29)","v":{"v":659.1162253718677,"d":"659"}}]
[null,11,{"$f":"IF(Padroes!H30=\"\",\"\",Padroes!H30)","v":400},{"$f":"IF(Padroes!I30=\"\",\"\",Padroes!I30)","v":1050},1.7000000000000002,{"v":9.100000000000001,"d":"9.1"},{"$f":"IF(Padroes!K30=\"\",\"\",Padroes!K30)","v":0.33},{"$f":"IF(E170=\"\",\"\",Padroes!S$8)","v":{"v":1,"d":"1.00"}},{"$f":"IF(E170=\"\",\"\",Padroes!S$9)","v":{"v":0.2,"d":"0.20"}},{"$f":"IF(E170=\"\",\"\",Padroes!S$10)","v":{"v":0.5,"d":"0.50"}},{"$f":"IF(Padroes!M30=\"\",\"\",Padroes!M30)","v":{"v":0.556,"d":"0.56"}},{"$f":"IF(D170=\"\",\"\",(D170+(3.1416*((K170+0.3)/2)^2-(3.1416*((Padroes!M30)/2)^2))*M170*2400))","v":{"v":1608.9283392000002,"d":"1609"}},{"$f":"IF(E170=\"\",\"\",Padroes!$AI$10)","v":{"v":0.7,"d":"0.70"}},{"$f":"IF(E170=\"\",\"\",Padroes!$AL$23)","v":{"v":1,"d":"1.00"}},{"v":300.23888888888894,"d":"300"},{"v":384.27506979341155,"d":"384"},{"$f":"IF(E170=\"\",\"\",(3*$B$63 * (2*E170*I170-I170^2)*(H170-G170) ) * (I170/2) / (F170+E170) + P170)","v":{"v":408.0972920156338,"d":"408"}},{"$f":"IF(E170=\"\",\"\",(N170*$B$63*(K170+0.3)*E170^3)/(F170+E170)+((K170+0.3)*L170/(F170+E170))*(0.5-((2*L170*10^-4)/(3*(K170+0.3)^2))))","v":{"v":823.8952817148346,"d":"824"}},null,{"$f":"IF(Padroes!N30=\"\",\"\",Padroes!N30)","v":"B"},null,null,{"$f":"IF(O170=\"\",\"\",O170*Parametros!$I$26)","v":{"v":240.19111111111116,"d":"240"}},{"$f":"IF(P170=\"\",\"\",P170*Parametros!$I$27)","v":{"v":307.4200558347293,"d":"307"}},{"$f":"IF(Q170=\"\",\"\",Q170*Parametros!$I$28)","v":{"v":326.4778336125071,"d":"326"}},{"$f":"IF(R170=\"\",\"\",R170*Parametros!$I$29)","v":{"v":659.1162253718677,"d":"659"}}]
[null,11,{"$f":"IF(Padroes!H31=\"\",\"\",Padroes!H31)","v":600},{"$f":"IF(Padroes!I31=\"\",\"\",Padroes!I31)","v":1050},1.7000000000000002,{"v":9.100000000000001,"d":"9.1"},{"$f":"IF(Padroes!K31=\"\",\"\",Padroes!K31)","v":0.33},{"$f":"IF(E171=\"\",\"\",Padroes!S$8)","v":{"v":1,"d":"1.00"}},{"$f":"IF(E171=\"\",\"\",Padroes!S$9)","v":{"v":0.2,"d":"0.20"}},{"$f":"IF(E171=\"\",\"\",Padroes!S$10)","v":{"v":0.5,"d":"0.50"}},{"$f":"IF(Padroes!M31=\"\",\"\",Padroes!M31)","v":{"v":0.556,"d":"0.56"}},{"$f":"IF(D171=\"\",\"\",(D171+(3.1416*((K171+0.3)/2)^2-(3.1416*((Padroes!M31)/2)^2))*M171*2400))","v":{"v":1608.9283392000002,"d":"1609"}},{"$f":"IF(E171=\"\",\"\",Padroes!$AI$10)","v":{"v":0.7,"d":"0.70"}},{"$f":"IF(E171=\"\",\"\",Padroes!$AL$23)","v":{"v":1,"d":"1.00"}},{"v":300.23888888888894,"d":"300"},{"v":384.27506979341155,"d":"384"},{"$f":"IF(E171=\"\",\"\",(3*$B$63 * (2*E171*I171-I171^2)*(H171-G171) ) * (I171/2) / (F171+E171) + P171)","v":{"v":408.0972920156338,"d":"408"}},{"$f":"IF(E171=\"\",\"\",(N171*$B$63*(K171+0.3)*E171^3)/(F171+E171)+((K171+0.3)*L171/(F171+E171))*(0.5-((2*L171*10^-4)/(3*(K171+0.3)^2))))","v":{"v":823.8952817148346,"d":"824"}},null,{"$f":"IF(Padroes!N31=\"\",\"\",Padroes!N31)","v":"B"},null,null,{"$f":"IF(O171=\"\",\"\",O171*Parametros!$I$26)","v":{"v":240.19111111111116,"d":"240"}},{"$f":"IF(P171=\"\",\"\",P171*Parametros!$I$27)","v":{"v":307.4200558347293,"d":"307"}},{"$f":"IF(Q171=\"\",\"\",Q171*Parametros!$I$28)","v":{"v":326.4778336125071,"d":"326"}},{"$f":"IF(R171=\"\",\"\",R171*Parametros!$I$29)","v":{"v":659.1162253718677,"d":"659"}}]
[null,11,{"$f":"IF(Padroes!H32=\"\",\"\",Padroes!H32)","v":1000},{"$f":"IF(Padroes!I32=\"\",\"\",Padroes!I32)","v":1330},1.7000000000000002,{"v":9.100000000000001,"d":"9.1"},{"$f":"IF(Padroes!K32=\"\",\"\",Padroes!K32)","v":0.36},{"$f":"IF(E172=\"\",\"\",Padroes!S$8)","v":{"v":1,"d":"1.00"}},{"$f":"IF(E172=\"\",\"\",Padroes!S$9)","v":{"v":0.2,"d":"0.20"}},{"$f":"IF(E172=\"\",\"\",Padroes!S$10)","v":{"v":0.5,"d":"0.50"}},{"$f":"IF(Padroes!M32=\"\",\"\",Padroes!M32)","v":{"v":0.608,"d":"0.61"}},{"$f":"IF(D172=\"\",\"\",(D172+(3.1416*((K172+0.3)/2)^2-(3.1416*((Padroes!M32)/2)^2))*M172*2400))","v":{"v":1930.0958655999998,"d":"1930"}},{"$f":"IF(E172=\"\",\"\",Padroes!$AI$10)","v":{"v":0.7,"d":"0.70"}},{"$f":"IF(E172=\"\",\"\",Padroes!$AL$23)","v":{"v":1,"d":"1.00"}},{"v":327.5333333333334,"d":"328"},{"v":407.8067001675043,"d":"408"},{"$f":"IF(E172=\"\",\"\",(3*$B$63 * (2*E172*I172-I172^2)*(H172-G172) ) * (I172/2) / (F172+E172) + P172)","v":{"v":430.5622557230599,"d":"431"}},{"$f":"IF(E172=\"\",\"\",(N172*$B$63*(K172+0.3)*E172^3)/(F172+E172)+((K172+0.3)*L172/(F172+E172))*(0.5-((2*L172*10^-4)/(3*(K172+0.3)^2))))","v":{"v":881.9219291660826,"d":"882"}},null,{"$f":"IF(Padroes!N32=\"\",\"\",Padroes!N32)","v":"B-1,5"},null,null,{"$f":"IF(O172=\"\",\"\",O172*Parametros!$I$26)","v":{"v":262.02666666666676,"d":"262"}},{"$f":"IF(P172=\"\",\"\",P172*Parametros!$I$27)","v":{"v":326.2453601340035,"d":"326"}},{"$f":"IF(Q172=\"\",\"\",Q172*Parametros!$I$28)","v":{"v":344.4498045784479,"d":"344"}},{"$f":"IF(R172=\"\",\"\",R172*Parametros!$I$29)","v":{"v":705.5375433328661,"d":"706"}}]
[null,11,{"$f":"IF(Padroes!H33=\"\",\"\",Padroes!H33)","v":""},{"$f":"IF(Padroes!I33=\"\",\"\",Padroes!I33)","v":""},"","",{"$f":"IF(Padroes!K33=\"\",\"\",Padroes!K33)","v":""},{"$f":"IF(E173=\"\",\"\",Padroes!S$8)","v":""},{"$f":"IF(E173=\"\",\"\",Padroes!S$9)","v":""},{"$f":"IF(E173=\"\",\"\",Padroes!S$10)","v":""},{"$f":"IF(Padroes!M33=\"\",\"\",Padroes!M33)","v":""},{"$f":"IF(D173=\"\",\"\",(D173+(3.1416*((K173+0.3)/2)^2-(3.1416*((Padroes!M33)/2)^2))*M173*2400))","v":""},{"$f":"IF(E173=\"\",\"\",Padroes!$AI$10)","v":""},{"$f":"IF(E173=\"\",\"\",Padroes!$AL$23)","v":""},"","",{"$f":"IF(E173=\"\",\"\",(3*$B$63 * (2*E173*I173-I173^2)*(H173-G173) ) * (I173/2) / (F173+E173) + P173)","v":""},{"$f":"IF(E173=\"\",\"\",(N173*$B$63*(K173+0.3)*E173^3)/(F173+E173)+((K173+0.3)*L173/(F173+E173))*(0.5-((2*L173*10^-4)/(3*(K173+0.3)^2))))","v":""},null,{"$f":"IF(Padroes!N33=\"\",\"\",Padroes!N33)","v":""},null,null,{"$f":"IF(O173=\"\",\"\",O173*Parametros!$I$26)","v":""},{"$f":"IF(P173=\"\",\"\",P173*Parametros!$I$27)","v":""},{"$f":"IF(Q173=\"\",\"\",Q173*Parametros!$I$28)","v":""},{"$f":"IF(R173=\"\",\"\",R173*Parametros!$I$29)","v":""}]
[null,11,{"$f":"IF(Padroes!H34=\"\",\"\",Padroes!H34)","v":""},{"$f":"IF(Padroes!I34=\"\",\"\",Padroes!I34)","v":""},"","",{"$f":"IF(Padroes!K34=\"\",\"\",Padroes!K34)","v":""},{"$f":"IF(E174=\"\",\"\",Padroes!S$8)","v":""},{"$f":"IF(E174=\"\",\"\",Padroes!S$9)","v":""},{"$f":"IF(E174=\"\",\"\",Padroes!S$10)","v":""},{"$f":"IF(Padroes!M34=\"\",\"\",Padroes!M34)","v":""},{"$f":"IF(D174=\"\",\"\",(D174+(3.1416*((K174+0.3)/2)^2-(3.1416*((Padroes!M34)/2)^2))*M174*2400))","v":""},{"$f":"IF(E174=\"\",\"\",Padroes!$AI$10)","v":""},{"$f":"IF(E174=\"\",\"\",Padroes!$AL$23)","v":""},{"$f":"IF(E174=\"\",\"\",($B$63*G174*E174^3)/(F174+E174))","v":""},"",{"$f":"IF(E174=\"\",\"\",(3*$B$63 * (2*E174*I174-I174^2)*(H174-G174) ) * (I174/2) / (F174+E174) + P174)","v":""},{"$f":"IF(E174=\"\",\"\",(N174*$B$63*(K174+0.3)*E174^3)/(F174+E174)+((K174+0.3)*L174/(F174+E174))*(0.5-((2*L174*10^-4)/(3*(K174+0.3)^2))))","v":""},null,{"$f":"IF(Padroes!N34=\"\",\"\",Padroes!N34)","v":""},null,null,{"$f":"IF(O174=\"\",\"\",O174*Parametros!$I$26)","v":""},{"$f":"IF(P174=\"\",\"\",P174*Parametros!$I$27)","v":""},{"$f":"IF(Q174=\"\",\"\",Q174*Parametros!$I$28)","v":""},{"$f":"IF(R174=\"\",\"\",R174*Parametros!$I$29)","v":""}]
[null,11,{"$f":"IF(Padroes!H35=\"\",\"\",Padroes!H35)","v":""},{"$f":"IF(Padroes!I35=\"\",\"\",Padroes!I35)","v":""},"","",{"$f":"IF(Padroes!K35=\"\",\"\",Padroes!K35)","v":""},{"$f":"IF(E175=\"\",\"\",Padroes!S$8)","v":""},{"$f":"IF(E175=\"\",\"\",Padroes!S$9)","v":""},{"$f":"IF(E175=\"\",\"\",Padroes!S$10)","v":""},{"$f":"IF(Padroes!M35=\"\",\"\",Padroes!M35)","v":""},{"$f":"IF(D175=\"\",\"\",(D175+(3.1416*((K175+0.3)/2)^2-(3.1416*((Padroes!M35)/2)^2))*M175*2400))","v":""},{"$f":"IF(E175=\"\",\"\",Padroes!$AI$10)","v":""},{"$f":"IF(E175=\"\",\"\",Padroes!$AL$23)","v":""},"","","","",null,{"$f":"IF(Padroes!N35=\"\",\"\",Padroes!N35)","v":""},null,null,{"$f":"IF(O175=\"\",\"\",O175*Parametros!$I$26)","v":""},{"$f":"IF(P175=\"\",\"\",P175*Parametros!$I$27)","v":""},{"$f":"IF(Q175=\"\",\"\",Q175*Parametros!$I$28)","v":""},{"$f":"IF(R175=\"\",\"\",R175*Parametros!$I$29)","v":""}]
[null,11,{"$f":"IF(Padroes!H36=\"\",\"\",Padroes!H36)","v":""},{"$f":"IF(Padroes!I36=\"\",\"\",Padroes!I36)","v":""},"","",{"$f":"IF(Padroes!K36=\"\",\"\",Padroes!K36)","v":""},{"$f":"IF(E176=\"\",\"\",Padroes!S$8)","v":""},{"$f":"IF(E176=\"\",\"\",Padroes!S$9)","v":""},{"$f":"IF(E176=\"\",\"\",Padroes!S$10)","v":""},{"$f":"IF(Padroes!M36=\"\",\"\",Padroes!M36)","v":""},{"$f":"IF(D176=\"\",\"\",(D176+(3.1416*((K176+0.3)/2)^2-(3.1416*((Padroes!M36)/2)^2))*M176*2400))","v":""},{"$f":"IF(E176=\"\",\"\",Padroes!$AI$10)","v":""},{"$f":"IF(E176=\"\",\"\",Padroes!$AL$23)","v":""},"","","","",null,{"$f":"IF(Padroes!N36=\"\",\"\",Padroes!N36)","v":""},null,null,{"$f":"IF(O176=\"\",\"\",O176*Parametros!$I$26)","v":""},{"$f":"IF(P176=\"\",\"\",P176*Parametros!$I$27)","v":""},{"$f":"IF(Q176=\"\",\"\",Q176*Parametros!$I$28)","v":""},{"$f":"IF(R176=\"\",\"\",R176*Parametros!$I$29)","v":""}]
[11,11,{"$f":"IF(Engastamento_Profundo!F$43=11,Engastamento_Profundo!F$44, 0)","v":0},{"$f":"IF(Engastamento_Profundo!F$45=\"\",VLOOKUP(C177,Padroes!H28:M36,2,FALSE),Engastamento_Profundo!$F$45 )","v":{"$error":"#N/A"}},{"$f":"IF(Engastamento_Profundo!$F$47=\"\",1.7,Engastamento_Profundo!$F47)","v":{"v":-335544.32,"d":"-335544.3"}},{"$f":"IF(Engastamento_Profundo!F$56=\"\",9.1,Engastamento_Profundo!F$56)","v":{"v":9.1,"d":"9.10"}},{"$f":"IF(Engastamento_Profundo!F$46=\"\",VLOOKUP(C177,Padroes!H28:M36,4,FALSE),Engastamento_Profundo!F$46)","v":{"$error":"#N/A"}},{"$f":"IF(Engastamento_Profundo!F$49=\"\",Padroes!$S$8,Engastamento_Profundo!F$49)","v":{"v":1,"d":"1.00"}},{"$f":"IF(Engastamento_Profundo!F$50=\"\",Padroes!$S$9,Engastamento_Profundo!F70)","v":{"v":0.2,"d":"0.20"}},{"$f":"IF(Engastamento_Profundo!F$51=\"\",Padroes!$S$10,Engastamento_Profundo!F$51)","v":{"v":0.5,"d":"0.50"}},{"$f":"IF(Engastamento_Profundo!F$53=\"\",VLOOKUP(C177,C168:K176,9,FALSE),Engastamento_Profundo!F$53)","v":{"$error":"#N/A"}},{"$f":"D177+(3.1416*K177^2*M177/4*2400)","v":{"$error":"#N/A"}},{"$f":"Padroes!$AL$9","v":0.65},{"v":1,"d":"1.00"},{"$f":"IF(E177=\"\",\"\",($B$63*G177*E177^3)/(F177+E177))","v":{"$error":"#N/A"}},{"$f":"IF(E177=\"\",\"\",(3*$B$63*(2*J177*I177 - I177^2)*(H177-G177))*(E177-J177+I177/2)/(F177+E177/2) + O177)","v":{"$error":"#N/A"}},{"$f":" IF(E177=\"\",\"\",(3*$B$63 * (2*E177*I177-I177^2)*(H177-G177) ) * (I177/2) / (F177+E177) + P177)","v":{"$error":"#N/A"}},{"$f":"IF(E177=\"\",\"\",(N177*$B$63*K177*E177^3)/(F177+E177) + (K177*L177/(F177+E177)) * (0.5 - (2*L177/(3*$C$63*K177^2))))","v":{"$error":"#N/A"}},{"$nulls":4},{"$f":"IF(O177=\"\",\"\",O177*Parametros!$I$26)","v":{"$error":"#N/A"}},{"$f":"IF(P177=\"\",\"\",P177*Parametros!$I$27)","v":{"$error":"#N/A"}},{"$f":"IF(Q177=\"\",\"\",Q177*Parametros!$I$28)","v":{"$error":"#N/A"}},{"$f":"IF(R177=\"\",\"\",R177*Parametros!$I$29)","v":{"$error":"#N/A"}}]
[12,12,{"$f":"IF(Padroes!H37=\"\",\"\",Padroes!H37)","v":200},{"$f":"IF(Padroes!I37=\"\",\"\",Padroes!I37)","v":780},1.8000000000000003,{"v":10,"d":"10.0"},{"$f":"IF(Padroes!K37=\"\",\"\",Padroes!K37)","v":0.23},{"$f":"IF(E178=\"\",\"\",Padroes!S$8)","v":{"v":1,"d":"1.00"}},{"$f":"IF(E178=\"\",\"\",Padroes!S$9)","v":{"v":0.2,"d":"0.20"}},{"$f":"IF(E178=\"\",\"\",Padroes!S$10)","v":{"v":0.5,"d":"0.50"}},{"$f":"IF(Padroes!M37=\"\",\"\",Padroes!M37)","v":{"v":0.386,"d":"0.39"}},{"$f":"IF(D178=\"\",\"\",(D178+(3.1416*((K178+0.3)/2)^2-(3.1416*((Padroes!M37)/2)^2))*M178*2400))","v":{"v":1234.6523519999998,"d":"1235"}},{"$f":"IF(E178=\"\",\"\",Padroes!$AI$11)","v":0.75},{"$f":"IF(E178=\"\",\"\",Padroes!$AL$23)","v":{"v":1,"d":"1.00"}},{"v":227.34915254237296,"d":"227"},{"v":322.29227180842804,"d":"322"},{"v":348.9160006219874,"d":"349"},{"v":701.4278974692752,"d":"701"},12,{"$f":"IF(Padroes!N37=\"\",\"\",Padroes!N37)","v":"D"},null,null,{"$f":"IF(O178=\"\",\"\",O178*Parametros!$I$26)","v":{"v":181.87932203389838,"d":"182"}},{"$f":"IF(P178=\"\",\"\",P178*Parametros!$I$27)","v":{"v":257.83381744674244,"d":"258"}},{"$f":"IF(Q178=\"\",\"\",Q178*Parametros!$I$28)","v":{"v":279.1328004975899,"d":"279"}},{"$f":"IF(R178=\"\",\"\",R178*Parametros!$I$29)","v":{"v":561.1423179754202,"d":"561"}}]
[null,12,{"$f":"IF(Padroes!H38=\"\",\"\",Padroes!H38)","v":300},{"$f":"IF(Padroes!I38=\"\",\"\",Padroes!I38)","v":1210},1.8000000000000003,{"v":10,"d":"10.0"},{"$f":"IF(Padroes!K38=\"\",\"\",Padroes!K38)","v":0.35},{"$f":"IF(E179=\"\",\"\",Padroes!S$8)","v":{"v":1,"d":"1.00"}},{"$f":"IF(E179=\"\",\"\",Padroes!S$9)","v":{"v":0.2,"d":"0.20"}},{"$f":"IF(E179=\"\",\"\",Padroes!S$10)","v":{"v":0.5,"d":"0.50"}},{"$f":"IF(Padroes!M38=\"\",\"\",Padroes!M38)","v":{"v":0.591,"d":"0.59"}},{"$f":"IF(D179=\"\",\"\",(D179+(3.1416*((K179+0.3)/2)^2-(3.1416*((Padroes!M38)/2)^2))*M179*2400))","v":{"v":1838.5399120000002,"d":"1839"}},{"$f":"IF(E179=\"\",\"\",Padroes!$AI$11)","v":0.75},{"$f":"IF(E179=\"\",\"\",Padroes!$AL$23)","v":{"v":1,"d":"1.00"}},{"v":345.9661016949154,"d":"346"},{"v":426.1128906857411,"d":"426"},{"v":448.5874669569275,"d":"449"},{"v":928.7099179559033,"d":"929"},null,{"$f":"IF(Padroes!N38=\"\",\"\",Padroes!N38)","v":"B"},null,null,{"$f":"IF(O179=\"\",\"\",O179*Parametros!$I$26)","v":{"v":276.7728813559323,"d":"277"}},{"$f":"IF(P179=\"\",\"\",P179*Parametros!$I$27)","v":{"v":340.8903125485929,"d":"341"}},{"$f":"IF(Q179=\"\",\"\",Q179*Parametros!$I$28)","v":{"v":358.86997356554207,"d":"359"}},{"$f":"IF(R179=\"\",\"\",R179*Parametros!$I$29)","v":{"v":742.9679343647226,"d":"743"}}]
[null,12,{"$f":"IF(Padroes!H39=\"\",\"\",Padroes!H39)","v":400},{"$f":"IF(Padroes!I39=\"\",\"\",Padroes!I39)","v":1210},1.8000000000000003,{"v":10,"d":"10.0"},{"$f":"IF(Padroes!K39=\"\",\"\",Padroes!K39)","v":0.35},{"$f":"IF(E180=\"\",\"\",Padroes!S$8)","v":{"v":1,"d":"1.00"}},{"$f":"IF(E180=\"\",\"\",Padroes!S$9)","v":{"v":0.2,"d":"0.20"}},{"$f":"IF(E180=\"\",\"\",Padroes!S$10)","v":{"v":0.5,"d":"0.50"}},{"$f":"IF(Padroes!M39=\"\",\"\",Padroes!M39)","v":{"v":0.591,"d":"0.59"}},{"$f":"IF(D180=\"\",\"\",(D180+(3.1416*((K180+0.3)/2)^2-(3.1416*((Padroes!M39)/2)^2))*M180*2400))","v":{"v":1838.5399120000002,"d":"1839"}},{"$f":"IF(E180=\"\",\"\",Padroes!$AI$11)","v":0.75},{"$f":"IF(E180=\"\",\"\",Padroes!$AL$23)","v":{"v":1,"d":"1.00"}},{"v":345.9661016949154,"d":"346"},{"v":426.1128906857411,"d":"426"},{"v":448.5874669569275,"d":"449"},{"v":928.7099179559033,"d":"929"},null,{"$f":"IF(Padroes!N39=\"\",\"\",Padroes!N39)","v":"B"},null,null,{"$f":"IF(O180=\"\",\"\",O180*Parametros!$I$26)","v":{"v":276.7728813559323,"d":"277"}},{"$f":"IF(P180=\"\",\"\",P180*Parametros!$I$27)","v":{"v":340.8903125485929,"d":"341"}},{"$f":"IF(Q180=\"\",\"\",Q180*Parametros!$I$28)","v":{"v":358.86997356554207,"d":"359"}},{"$f":"IF(R180=\"\",\"\",R180*Parametros!$I$29)","v":{"v":742.9679343647226,"d":"743"}}]
[null,12,{"$f":"IF(Padroes!H40=\"\",\"\",Padroes!H40)","v":600},{"$f":"IF(Padroes!I40=\"\",\"\",Padroes!I40)","v":1210},1.8000000000000003,{"v":10,"d":"10.0"},{"$f":"IF(Padroes!K40=\"\",\"\",Padroes!K40)","v":0.35},{"$f":"IF(E181=\"\",\"\",Padroes!S$8)","v":{"v":1,"d":"1.00"}},{"$f":"IF(E181=\"\",\"\",Padroes!S$9)","v":{"v":0.2,"d":"0.20"}},{"$f":"IF(E181=\"\",\"\",Padroes!S$10)","v":{"v":0.5,"d":"0.50"}},{"$f":"IF(Padroes!M40=\"\",\"\",Padroes!M40)","v":{"v":0.591,"d":"0.59"}},{"$f":"IF(D181=\"\",\"\",(D181+(3.1416*((K181+0.3)/2)^2-(3.1416*((Padroes!M40)/2)^2))*M181*2400))","v":{"v":1838.5399120000002,"d":"1839"}},{"$f":"IF(E181=\"\",\"\",Padroes!$AI$11)","v":0.75},{"$f":"IF(E181=\"\",\"\",Padroes!$AL$23)","v":{"v":1,"d":"1.00"}},{"v":345.9661016949154,"d":"346"},{"v":426.1128906857411,"d":"426"},{"v":448.5874669569275,"d":"449"},{"v":928.7099179559033,"d":"929"},null,{"$f":"IF(Padroes!N40=\"\",\"\",Padroes!N40)","v":"B"},null,null,{"$f":"IF(O181=\"\",\"\",O181*Parametros!$I$26)","v":{"v":276.7728813559323,"d":"277"}},{"$f":"IF(P181=\"\",\"\",P181*Parametros!$I$27)","v":{"v":340.8903125485929,"d":"341"}},{"$f":"IF(Q181=\"\",\"\",Q181*Parametros!$I$28)","v":{"v":358.86997356554207,"d":"359"}},{"$f":"IF(R181=\"\",\"\",R181*Parametros!$I$29)","v":{"v":742.9679343647226,"d":"743"}}]
[null,12,{"$f":"IF(Padroes!H41=\"\",\"\",Padroes!H41)","v":1000},{"$f":"IF(Padroes!I41=\"\",\"\",Padroes!I41)","v":1520},1.8000000000000003,{"v":10,"d":"10.0"},{"$f":"IF(Padroes!K41=\"\",\"\",Padroes!K41)","v":0.38},{"$f":"IF(E182=\"\",\"\",Padroes!S$8)","v":{"v":1,"d":"1.00"}},{"$f":"IF(E182=\"\",\"\",Padroes!S$9)","v":{"v":0.2,"d":"0.20"}},{"$f":"IF(E182=\"\",\"\",Padroes!S$10)","v":{"v":0.5,"d":"0.50"}},{"$f":"IF(Padroes!M41=\"\",\"\",Padroes!M41)","v":{"v":0.642,"d":"0.64"}},{"$f":"IF(D182=\"\",\"\",(D182+(3.1416*((K182+0.3)/2)^2-(3.1416*((Padroes!M41)/2)^2))*M182*2400))","v":{"v":2191.799744,"d":"2192"}},{"$f":"IF(E182=\"\",\"\",Padroes!$AI$11)","v":0.75},{"$f":"IF(E182=\"\",\"\",Padroes!$AL$23)","v":{"v":1,"d":"1.00"}},{"v":375.62033898305094,"d":"376"},{"v":452.0680454050693,"d":"452"},{"v":473.50533354066255,"d":"474"},{"v":989.8170183193753,"d":"990"},null,{"$f":"IF(Padroes!N41=\"\",\"\",Padroes!N41)","v":"B-1,5"},null,null,{"$f":"IF(O182=\"\",\"\",O182*Parametros!$I$26)","v":{"v":300.49627118644077,"d":"300"}},{"$f":"IF(P182=\"\",\"\",P182*Parametros!$I$27)","v":{"v":361.6544363240555,"d":"362"}},{"$f":"IF(Q182=\"\",\"\",Q182*Parametros!$I$28)","v":{"v":378.80426683253006,"d":"379"}},{"$f":"IF(R182=\"\",\"\",R182*Parametros!$I$29)","v":{"v":791.8536146555002,"d":"792"}}]
[null,12,{"$f":"IF(Padroes!H42=\"\",\"\",Padroes!H42)","v":2000},{"$f":"IF(Padroes!I42=\"\",\"\",Padroes!I42)","v":2000},1.8000000000000003,{"v":10,"d":"10.0"},{"$f":"IF(Padroes!K42=\"\",\"\",Padroes!K42)","v":0.44},{"$f":"IF(E183=\"\",\"\",Padroes!S$8)","v":{"v":1,"d":"1.00"}},{"$f":"IF(E183=\"\",\"\",Padroes!S$9)","v":{"v":0.2,"d":"0.20"}},{"$f":"IF(E183=\"\",\"\",Padroes!S$10)","v":{"v":0.5,"d":"0.50"}},{"$f":"IF(Padroes!M42=\"\",\"\",Padroes!M42)","v":{"v":0.746,"d":"0.75"}},{"$f":"IF(D183=\"\",\"\",(D183+(3.1416*((K183+0.3)/2)^2-(3.1416*((Padroes!M42)/2)^2))*M183*2400))","v":{"v":2760.015872,"d":"2760"}},{"$f":"IF(E183=\"\",\"\",Padroes!$AI$11)","v":0.75},{"$f":"IF(E183=\"\",\"\",Padroes!$AL$23)","v":{"v":1,"d":"1.00"}},{"v":434.92881355932224,"d":"435"},{"v":503.9783548437259,"d":"504"},{"v":523.3410667081328,"d":"523"},{"v":1115.1288156651478,"d":"1115"},null,{"$f":"IF(Padroes!N42=\"\",\"\",Padroes!N42)","v":"B-4,5"},null,null,{"$f":"IF(O183=\"\",\"\",O183*Parametros!$I$26)","v":{"v":347.9430508474578,"d":"348"}},{"$f":"IF(P183=\"\",\"\",P183*Parametros!$I$27)","v":{"v":403.18268387498074,"d":"403"}},{"$f":"IF(Q183=\"\",\"\",Q183*Parametros!$I$28)","v":{"v":418.6728533665062,"d":"419"}},{"$f":"IF(R183=\"\",\"\",R183*Parametros!$I$29)","v":{"v":892.1030525321183,"d":"892"}}]
[null,12,{"$f":"IF(Padroes!H43=\"\",\"\",Padroes!H43)","v":3000},{"$f":"IF(Padroes!I43=\"\",\"\",Padroes!I43)","v":2500},1.8000000000000003,{"v":10,"d":"10.0"},{"$f":"IF(Padroes!K43=\"\",\"\",Padroes!K43)","v":0.47},{"$f":"IF(E184=\"\",\"\",Padroes!S$8)","v":{"v":1,"d":"1.00"}},{"$f":"IF(E184=\"\",\"\",Padroes!S$9)","v":{"v":0.2,"d":"0.20"}},{"$f":"IF(E184=\"\",\"\",Padroes!S$10)","v":{"v":0.5,"d":"0.50"}},{"$f":"IF(Padroes!M43=\"\",\"\",Padroes!M43)","v":{"v":0.7968636363636363,"d":"0.80"}},{"$f":"IF(D184=\"\",\"\",(D184+(3.1416*((K184+0.3)/2)^2-(3.1416*((Padroes!M43)/2)^2))*M184*2400))","v":{"v":3303.160036,"d":"3303"}},{"$f":"IF(E184=\"\",\"\",Padroes!$AI$11)","v":0.75},{"$f":"IF(E184=\"\",\"\",Padroes!$AL$23)","v":{"v":1,"d":"1.00"}},{"v":464.5830508474578,"d":"465"},{"v":529.9335095630541,"d":"530"},{"v":548.2589332918677,"d":"548"},{"v":1181.5440749280024,"d":"1182"},null,{"$f":"IF(Padroes!N43=\"\",\"\",Padroes!N43)","v":"B-6"},null,null,{"$f":"IF(O184=\"\",\"\",O184*Parametros!$I$26)","v":{"v":371.66644067796625,"d":"372"}},{"$f":"IF(P184=\"\",\"\",P184*Parametros!$I$27)","v":{"v":423.94680765044336,"d":"424"}},{"$f":"IF(Q184=\"\",\"\",Q184*Parametros!$I$28)","v":{"v":438.6071466334942,"d":"439"}},{"$f":"IF(R184=\"\",\"\",R184*Parametros!$I$29)","v":{"v":945.235259942402,"d":"945"}}]
[null,12,{"$f":"IF(Padroes!H44=\"\",\"\",Padroes!H44)","v":""},{"$f":"IF(Padroes!I44=\"\",\"\",Padroes!I44)","v":""},"","",{"$f":"IF(Padroes!K44=\"\",\"\",Padroes!K44)","v":""},{"$f":"IF(E185=\"\",\"\",Padroes!S$8)","v":""},{"$f":"IF(E185=\"\",\"\",Padroes!S$9)","v":""},{"$f":"IF(E185=\"\",\"\",Padroes!S$10)","v":""},{"$f":"IF(Padroes!M44=\"\",\"\",Padroes!M44)","v":""},{"$f":"IF(D185=\"\",\"\",(D185+(3.1416*((K185+0.3)/2)^2-(3.1416*((Padroes!M44)/2)^2))*M185*2400))","v":""},{"$f":"IF(E185=\"\",\"\",Padroes!$AI$11)","v":""},{"$f":"IF(E185=\"\",\"\",Padroes!$AL$23)","v":""},"","","","",null,{"$f":"IF(Padroes!N44=\"\",\"\",Padroes!N44)","v":""},null,null,{"$f":"IF(O185=\"\",\"\",O185*Parametros!$I$26)","v":""},{"$f":"IF(P185=\"\",\"\",P185*Parametros!$I$27)","v":""},{"$f":"IF(Q185=\"\",\"\",Q185*Parametros!$I$28)","v":""},{"$f":"IF(R185=\"\",\"\",R185*Parametros!$I$29)","v":""}]
[null,12,{"$f":"IF(Padroes!H45=\"\",\"\",Padroes!H45)","v":""},{"$f":"IF(Padroes!I45=\"\",\"\",Padroes!I45)","v":""},"","",{"$f":"IF(Padroes!K45=\"\",\"\",Padroes!K45)","v":""},{"$f":"IF(E186=\"\",\"\",Padroes!S$8)","v":""},{"$f":"IF(E186=\"\",\"\",Padroes!S$9)","v":""},{"$f":"IF(E186=\"\",\"\",Padroes!S$10)","v":""},{"$f":"IF(Padroes!M45=\"\",\"\",Padroes!M45)","v":""},{"$f":"IF(D186=\"\",\"\",(D186+(3.1416*((K186+0.3)/2)^2-(3.1416*((Padroes!M45)/2)^2))*M186*2400))","v":""},{"$f":"IF(E186=\"\",\"\",Padroes!$AI$11)","v":""},{"$f":"IF(E186=\"\",\"\",Padroes!$AL$23)","v":""},{"$f":"IF(E186=\"\",\"\",($B$63*G186*E186^3)/(F186+E186))","v":""},"","","",null,{"$f":"IF(Padroes!N45=\"\",\"\",Padroes!N45)","v":""},null,null,{"$f":"IF(O186=\"\",\"\",O186*Parametros!$I$26)","v":""},{"$f":"IF(P186=\"\",\"\",P186*Parametros!$I$27)","v":""},{"$f":"IF(Q186=\"\",\"\",Q186*Parametros!$I$28)","v":""},{"$f":"IF(R186=\"\",\"\",R186*Parametros!$I$29)","v":""}]
[12,12,{"$f":"IF(Engastamento_Profundo!F$43=12,Engastamento_Profundo!F$44, 0)","v":0},{"$f":"IF(Engastamento_Profundo!F$45=\"\",VLOOKUP(C187,Padroes!H37:M45,2,FALSE),Engastamento_Profundo!$F$45 )","v":{"$error":"#N/A"}},{"$f":"IF(Engastamento_Profundo!$F$47=\"\",1.8,Engastamento_Profundo!$F47)","v":{"v":-335544.32,"d":"-335544.3"}},{"$f":"IF(Engastamento_Profundo!F$56=\"\",10,Engastamento_Profundo!F$56)","v":{"v":10,"d":"10.00"}},{"$f":"IF(Engastamento_Profundo!F$46=\"\",VLOOKUP(C187,Padroes!H37:M45,4,FALSE),Engastamento_Profundo!F$46)","v":{"$error":"#N/A"}},{"$f":"IF(Engastamento_Profundo!F$49=\"\",Padroes!$S$8,Engastamento_Profundo!F$49)","v":{"v":1,"d":"1.00"}},{"$f":"IF(Engastamento_Profundo!F$50=\"\",Padroes!$S$9,Engastamento_Profundo!F80)","v":{"v":0.2,"d":"0.20"}},{"$f":"IF(Engastamento_Profundo!F$51=\"\",Padroes!$S$10,Engastamento_Profundo!F$51)","v":{"v":0.5,"d":"0.50"}},{"$f":"IF(Engastamento_Profundo!F$53=\"\",VLOOKUP(C187,C178:K186,9,FALSE),Engastamento_Profundo!F$53)","v":{"$error":"#N/A"}},{"$f":"D187+(3.1416*K187^2*M187/4*2400)","v":{"$error":"#N/A"}},{"$f":"Padroes!$AL$11","v":0.75},{"v":1,"d":"1.00"},{"$f":"IF(E187=\"\",\"\",($B$63*G187*E187^3)/(F187+E187))","v":{"$error":"#N/A"}},{"$f":"IF(E187=\"\",\"\",(3*$B$63*(2*J187*I187 - I187^2)*(H187-G187))*(E187-J187+I187/2)/(F187+E187/2) + O187)","v":{"$error":"#N/A"}},{"$f":" IF(E187=\"\",\"\",(3*$B$63 * (2*E187*I187-I187^2)*(H187-G187) ) * (I187/2) / (F187+E187) + P187)","v":{"$error":"#N/A"}},{"$f":"IF(E187=\"\",\"\",(N187*$B$63*K187*E187^3)/(F187+E187) + (K187*L187/(F187+E187)) * (0.5 - (2*L187/(3*$C$63*K187^2))))","v":{"$error":"#N/A"}},{"$nulls":4},{"$f":"IF(O187=\"\",\"\",O187*Parametros!$I$26)","v":{"$error":"#N/A"}},{"$f":"IF(P187=\"\",\"\",P187*Parametros!$I$27)","v":{"$error":"#N/A"}},{"$f":"IF(Q187=\"\",\"\",Q187*Parametros!$I$28)","v":{"$error":"#N/A"}},{"$f":"IF(R187=\"\",\"\",R187*Parametros!$I$29)","v":{"$error":"#N/A"}}]
[13,13,{"$f":"IF(Padroes!H46=\"\",\"\",Padroes!H46)","v":300},{"$f":"IF(Padroes!I46=\"\",\"\",Padroes!I46)","v":1400},1.9,10.9,{"$f":"IF(Padroes!K46=\"\",\"\",Padroes!K46)","v":0.37},{"$f":"IF(E188=\"\",\"\",Padroes!S$8)","v":{"v":1,"d":"1.00"}},{"$f":"IF(E188=\"\",\"\",Padroes!S$9)","v":{"v":0.2,"d":"0.20"}},{"$f":"IF(E188=\"\",\"\",Padroes!S$10)","v":{"v":0.5,"d":"0.50"}},{"$f":"IF(Padroes!M46=\"\",\"\",Padroes!M46)","v":{"v":0.625,"d":"0.63"}},{"$f":"IF(D188=\"\",\"\",(D188+(3.1416*((K188+0.3)/2)^2-(3.1416*((Padroes!M46)/2)^2))*M188*2400))","v":{"v":2101.20512,"d":"2101"}},{"$f":"IF(E188=\"\",\"\",Padroes!$AI$12)","v":{"v":0.8,"d":"0.80"}},{"$f":"IF(E188=\"\",\"\",Padroes!$AL$23)","v":{"v":1,"d":"1.00"}},{"v":396.5359374999999,"d":"397"},{"v":473.09289952531634,"d":"473"},{"v":494.35539952531633,"d":"494"},{"v":1042.4027056570144,"d":"1042"},13,{"$f":"IF(Padroes!N46=\"\",\"\",Padroes!N46)","v":"B"},null,null,{"$f":"IF(O188=\"\",\"\",O188*Parametros!$I$26)","v":{"v":317.22874999999993,"d":"317"}},{"$f":"IF(P188=\"\",\"\",P188*Parametros!$I$27)","v":{"v":378.4743196202531,"d":"378"}},{"$f":"IF(Q188=\"\",\"\",Q188*Parametros!$I$28)","v":{"v":395.4843196202531,"d":"395"}},{"$f":"IF(R188=\"\",\"\",R188*Parametros!$I$29)","v":{"v":833.9221645256116,"d":"834"}}]
[null,13,{"$f":"IF(Padroes!H47=\"\",\"\",Padroes!H47)","v":400},{"$f":"IF(Padroes!I47=\"\",\"\",Padroes!I47)","v":1400},1.9,10.9,{"$f":"IF(Padroes!K47=\"\",\"\",Padroes!K47)","v":0.37},{"$f":"IF(E189=\"\",\"\",Padroes!S$8)","v":{"v":1,"d":"1.00"}},{"$f":"IF(E189=\"\",\"\",Padroes!S$9)","v":{"v":0.2,"d":"0.20"}},{"$f":"IF(E189=\"\",\"\",Padroes!S$10)","v":{"v":0.5,"d":"0.50"}},{"$f":"IF(Padroes!M47=\"\",\"\",Padroes!M47)","v":{"v":0.625,"d":"0.63"}},{"$f":"IF(D189=\"\",\"\",(D189+(3.1416*((K189+0.3)/2)^2-(3.1416*((Padroes!M47)/2)^2))*M189*2400))","v":{"v":2101.20512,"d":"2101"}},{"$f":"IF(E189=\"\",\"\",Padroes!$AI$12)","v":{"v":0.8,"d":"0.80"}},{"$f":"IF(E189=\"\",\"\",Padroes!$AL$23)","v":{"v":1,"d":"1.00"}},{"v":396.5359374999999,"d":"397"},{"v":473.09289952531634,"d":"473"},{"v":494.35539952531633,"d":"494"},{"v":1042.4027056570144,"d":"1042"},null,{"$f":"IF(Padroes!N47=\"\",\"\",Padroes!N47)","v":"B"},null,null,{"$f":"IF(O189=\"\",\"\",O189*Parametros!$I$26)","v":{"v":317.22874999999993,"d":"317"}},{"$f":"IF(P189=\"\",\"\",P189*Parametros!$I$27)","v":{"v":378.4743196202531,"d":"378"}},{"$f":"IF(Q189=\"\",\"\",Q189*Parametros!$I$28)","v":{"v":395.4843196202531,"d":"395"}},{"$f":"IF(R189=\"\",\"\",R189*Parametros!$I$29)","v":{"v":833.9221645256116,"d":"834"}}]
[null,13,{"$f":"IF(Padroes!H48=\"\",\"\",Padroes!H48)","v":600},{"$f":"IF(Padroes!I48=\"\",\"\",Padroes!I48)","v":1400},1.9,10.9,{"$f":"IF(Padroes!K48=\"\",\"\",Padroes!K48)","v":0.37},{"$f":"IF(E190=\"\",\"\",Padroes!S$8)","v":{"v":1,"d":"1.00"}},{"$f":"IF(E190=\"\",\"\",Padroes!S$9)","v":{"v":0.2,"d":"0.20"}},{"$f":"IF(E190=\"\",\"\",Padroes!S$10)","v":{"v":0.5,"d":"0.50"}},{"$f":"IF(Padroes!M48=\"\",\"\",Padroes!M48)","v":{"v":0.625,"d":"0.63"}},{"$f":"IF(D190=\"\",\"\",(D190+(3.1416*((K190+0.3)/2)^2-(3.1416*((Padroes!M48)/2)^2))*M190*2400))","v":{"v":2101.20512,"d":"2101"}},{"$f":"IF(E190=\"\",\"\",Padroes!$AI$12)","v":{"v":0.8,"d":"0.80"}},{"$f":"IF(E190=\"\",\"\",Padroes!$AL$23)","v":{"v":1,"d":"1.00"}},{"v":396.5359374999999,"d":"397"},{"v":473.09289952531634,"d":"473"},{"v":494.35539952531633,"d":"494"},{"v":1042.4027056570144,"d":"1042"},null,{"$f":"IF(Padroes!N48=\"\",\"\",Padroes!N48)","v":"B"},null,null,{"$f":"IF(O190=\"\",\"\",O190*Parametros!$I$26)","v":{"v":317.22874999999993,"d":"317"}},{"$f":"IF(P190=\"\",\"\",P190*Parametros!$I$27)","v":{"v":378.4743196202531,"d":"378"}},{"$f":"IF(Q190=\"\",\"\",Q190*Parametros!$I$28)","v":{"v":395.4843196202531,"d":"395"}},{"$f":"IF(R190=\"\",\"\",R190*Parametros!$I$29)","v":{"v":833.9221645256116,"d":"834"}}]
[null,13,{"$f":"IF(Padroes!H49=\"\",\"\",Padroes!H49)","v":""},{"$f":"IF(Padroes!I49=\"\",\"\",Padroes!I49)","v":""},"","",{"$f":"IF(Padroes!K49=\"\",\"\",Padroes!K49)","v":""},{"$f":"IF(E191=\"\",\"\",Padroes!S$8)","v":""},{"$f":"IF(E191=\"\",\"\",Padroes!S$9)","v":""},{"$f":"IF(E191=\"\",\"\",Padroes!S$10)","v":""},{"$f":"IF(Padroes!M49=\"\",\"\",Padroes!M49)","v":""},{"$f":"IF(D191=\"\",\"\",(D191+(3.1416*((K191+0.3)/2)^2-(3.1416*((Padroes!M49)/2)^2))*M191*2400))","v":""},{"$f":"IF(E191=\"\",\"\",Padroes!$AI$12)","v":""},{"$f":"IF(E191=\"\",\"\",Padroes!$AL$23)","v":""},"","","","",null,{"$f":"IF(Padroes!N50=\"\",\"\",Padroes!N49)","v":""},null,null,{"$f":"IF(O191=\"\",\"\",O191*Parametros!$I$26)","v":""},{"$f":"IF(P191=\"\",\"\",P191*Parametros!$I$27)","v":""},{"$f":"IF(Q191=\"\",\"\",Q191*Parametros!$I$28)","v":""},{"$f":"IF(R191=\"\",\"\",R191*Parametros!$I$29)","v":""}]
[null,13,{"$f":"IF(Padroes!H50=\"\",\"\",Padroes!H50)","v":""},{"$f":"IF(Padroes!I50=\"\",\"\",Padroes!I50)","v":""},"","",{"$f":"IF(Padroes!K50=\"\",\"\",Padroes!K50)","v":""},{"$f":"IF(E192=\"\",\"\",Padroes!S$8)","v":""},{"$f":"IF(E192=\"\",\"\",Padroes!S$9)","v":""},{"$f":"IF(E192=\"\",\"\",Padroes!S$10)","v":""},{"$f":"IF(Padroes!M50=\"\",\"\",Padroes!M50)","v":""},{"$f":"IF(D192=\"\",\"\",(D192+(3.1416*((K192+0.3)/2)^2-(3.1416*((Padroes!M50)/2)^2))*M192*2400))","v":""},{"$f":"IF(E192=\"\",\"\",Padroes!$AI$12)","v":""},{"$f":"IF(E192=\"\",\"\",Padroes!$AL$23)","v":""},"","","","",null,{"$f":"IF(Padroes!N51=\"\",\"\",Padroes!N50)","v":""},null,null,{"$f":"IF(O192=\"\",\"\",O192*Parametros!$I$26)","v":""},{"$f":"IF(P192=\"\",\"\",P192*Parametros!$I$27)","v":""},{"$f":"IF(Q192=\"\",\"\",Q192*Parametros!$I$28)","v":""},{"$f":"IF(R192=\"\",\"\",R192*Parametros!$I$29)","v":""}]
[null,13,{"$f":"IF(Padroes!H51=\"\",\"\",Padroes!H51)","v":""},{"$f":"IF(Padroes!I51=\"\",\"\",Padroes!I51)","v":""},"","",{"$f":"IF(Padroes!K51=\"\",\"\",Padroes!K51)","v":""},{"$f":"IF(E193=\"\",\"\",Padroes!S$8)","v":""},{"$f":"IF(E193=\"\",\"\",Padroes!S$9)","v":""},{"$f":"IF(E193=\"\",\"\",Padroes!S$10)","v":""},{"$f":"IF(Padroes!M51=\"\",\"\",Padroes!M51)","v":""},{"$f":"IF(D193=\"\",\"\",(D193+(3.1416*((K193+0.3)/2)^2-(3.1416*((Padroes!M51)/2)^2))*M193*2400))","v":""},{"$f":"IF(E193=\"\",\"\",Padroes!$AI$12)","v":""},{"$f":"IF(E193=\"\",\"\",Padroes!$AL$23)","v":""},"","","","",null,{"$f":"IF(Padroes!N52=\"\",\"\",Padroes!N51)","v":""},null,null,{"$f":"IF(O193=\"\",\"\",O193*Parametros!$I$26)","v":""},{"$f":"IF(P193=\"\",\"\",P193*Parametros!$I$27)","v":""},{"$f":"IF(Q193=\"\",\"\",Q193*Parametros!$I$28)","v":""},{"$f":"IF(R193=\"\",\"\",R193*Parametros!$I$29)","v":""}]
[null,13,{"$f":"IF(Padroes!H52=\"\",\"\",Padroes!H52)","v":""},{"$f":"IF(Padroes!I52=\"\",\"\",Padroes!I52)","v":""},"","",{"$f":"IF(Padroes!K52=\"\",\"\",Padroes!K52)","v":""},{"$f":"IF(E194=\"\",\"\",Padroes!S$8)","v":""},{"$f":"IF(E194=\"\",\"\",Padroes!S$9)","v":""},{"$f":"IF(E194=\"\",\"\",Padroes!S$10)","v":""},{"$f":"IF(Padroes!M52=\"\",\"\",Padroes!M52)","v":""},{"$f":"IF(D194=\"\",\"\",(D194+(3.1416*((K194+0.3)/2)^2-(3.1416*((Padroes!M52)/2)^2))*M194*2400))","v":""},{"$f":"IF(E194=\"\",\"\",Padroes!$AI$12)","v":""},{"$f":"IF(E194=\"\",\"\",Padroes!$AL$23)","v":""},"","","","",null,{"$f":"IF(Padroes!N53=\"\",\"\",Padroes!N52)","v":""},null,null,{"$f":"IF(O194=\"\",\"\",O194*Parametros!$I$26)","v":""},{"$f":"IF(P194=\"\",\"\",P194*Parametros!$I$27)","v":""},{"$f":"IF(Q194=\"\",\"\",Q194*Parametros!$I$28)","v":""},{"$f":"IF(R194=\"\",\"\",R194*Parametros!$I$29)","v":""}]
[null,13,{"$f":"IF(Padroes!H53=\"\",\"\",Padroes!H53)","v":""},{"$f":"IF(Padroes!I53=\"\",\"\",Padroes!I53)","v":""},"","",{"$f":"IF(Padroes!K53=\"\",\"\",Padroes!K53)","v":""},{"$f":"IF(E195=\"\",\"\",Padroes!S$8)","v":""},{"$f":"IF(E195=\"\",\"\",Padroes!S$9)","v":""},{"$f":"IF(E195=\"\",\"\",Padroes!S$10)","v":""},{"$f":"IF(Padroes!M53=\"\",\"\",Padroes!M53)","v":""},{"$f":"IF(D195=\"\",\"\",(D195+(3.1416*((K195+0.3)/2)^2-(3.1416*((Padroes!M53)/2)^2))*M195*2400))","v":""},{"$f":"IF(E195=\"\",\"\",Padroes!$AI$12)","v":""},{"$f":"IF(E195=\"\",\"\",Padroes!$AL$23)","v":""},"","","","",null,{"$f":"IF(Padroes!N54=\"\",\"\",Padroes!N53)","v":""},null,null,{"$f":"IF(O195=\"\",\"\",O195*Parametros!$I$26)","v":""},{"$f":"IF(P195=\"\",\"\",P195*Parametros!$I$27)","v":""},{"$f":"IF(Q195=\"\",\"\",Q195*Parametros!$I$28)","v":""},{"$f":"IF(R195=\"\",\"\",R195*Parametros!$I$29)","v":""}]
[13,13,{"$f":"IF(Engastamento_Profundo!F$43=13,Engastamento_Profundo!F$44, 0)","v":1000},{"$f":"IF(Engastamento_Profundo!F$45=\"\",VLOOKUP(C196,Padroes!H46:M53,2,FALSE),Engastamento_Profundo!$F$45 )","v":{"$error":"#N/A"}},{"$f":"IF(Engastamento_Profundo!$F$47=\"\",1.9,Engastamento_Profundo!$F47)","v":{"v":-335544.32,"d":"-335544.3"}},{"$f":"IF(Engastamento_Profundo!F$56=\"\",10.9,Engastamento_Profundo!F$56)","v":{"v":10.9,"d":"10.90"}},{"$f":"IF(Engastamento_Profundo!F$46=\"\",VLOOKUP(C196,Padroes!H46:M53,4,FALSE),Engastamento_Profundo!F$46)","v":{"$error":"#N/A"}},{"$f":"IF(Engastamento_Profundo!F$49=\"\",Padroes!$S$8,Engastamento_Profundo!F$49)","v":{"v":1,"d":"1.00"}},{"$f":"IF(Engastamento_Profundo!F$50=\"\",Padroes!$S$9,Engastamento_Profundo!F89)","v":{"v":0.2,"d":"0.20"}},{"$f":"IF(Engastamento_Profundo!F$51=\"\",Padroes!$S$10,Engastamento_Profundo!F$51)","v":{"v":0.5,"d":"0.50"}},{"$f":"IF(Engastamento_Profundo!F$53=\"\",VLOOKUP(C196,C187:K195,9,FALSE),Engastamento_Profundo!F$53)","v":{"$error":"#N/A"}},{"$f":"D196+(3.1416*K196^2*M196/4*2400)","v":{"$error":"#N/A"}},{"$f":"Padroes!$AL$12","v":{"v":0.8,"d":"0.80"}},{"v":1,"d":"1.00"},{"$f":"IF(E196=\"\",\"\",($B$63*G196*E196^3)/(F196+E196))","v":{"$error":"#N/A"}},{"$f":"IF(E196=\"\",\"\",(3*$B$63*(2*J196*I196 - I196^2)*(H196-G196))*(E196-J196+I196/2)/(F196+E196/2) + O196)","v":{"$error":"#N/A"}},{"$f":" IF(E196=\"\",\"\",(3*$B$63 * (2*E196*I196-I196^2)*(H196-G196) ) * (I196/2) / (F196+E196) + P196)","v":{"$error":"#N/A"}},{"$f":"IF(E196=\"\",\"\",(N196*$B$63*K196*E196^3)/(F196+E196) + (K196*L196/(F196+E196)) * (0.5 - (2*L196/(3*$C$63*K196^2))))","v":{"$error":"#N/A"}},{"$nulls":4},{"$f":"IF(O196=\"\",\"\",O196*Parametros!$I$26)","v":{"$error":"#N/A"}},{"$f":"IF(P196=\"\",\"\",P196*Parametros!$I$27)","v":{"$error":"#N/A"}},{"$f":"IF(Q196=\"\",\"\",Q196*Parametros!$I$28)","v":{"$error":"#N/A"}},{"$f":"IF(R196=\"\",\"\",R196*Parametros!$I$29)","v":{"$error":"#N/A"}}]
[1,2,3,4,5,6,7,8,9,10,11,12,13,14,15,16,17,18,19,null,21,22,23,24,25,26,27,28,29,30,31,32,33,34,35,36,37,38,39,40]

{"sheet":"Engastamento_Profundo","index":6,"n_rows":63,"n_cols":13,"rows_kept":63,"merged":[[1,5,1,8],[2,1,2,4],[3,1,3,3],[5,1,5,4],[6,1,6,4],[7,1,7,4],[8,1,8,4],[9,1,9,3],[10,1,10,4],[11,1,11,4],[12,1,12,4],[13,1,13,3],[14,2,14,4],[15,2,15,4],[16,1,16,4],[18,2,18,5],[20,2,20,4],[21,2,21,4],[22,2,22,4],[23,2,23,4],[40,1,40,4],[40,5,40,8],[41,1,41,4],[42,1,42,3],[44,1,44,4],[45,1,45,4],[46,1,46,4],[47,1,47,4],[48,1,48,3],[49,1,49,4],[50,1,50,4],[51,1,51,4],[52,1,52,3],[53,2,53,4],[54,2,54,4],[55,1,55,4],[57,2,57,5],[59,2,59,4],[60,2,60,4],[61,2,61,4],[62,2,62,4]]}
[{"$nulls":11},9,200]
[{"$nulls":5},"Cálculo de Tração Máxima",{"$nulls":5},10,300]
[null,"Poste de Concreto Tronco Cônico",{"$nulls":9},11,400]
[{"$nulls":4},"comprimento - L ",13,"m",{"$nulls":4},12,600]
[{"$nulls":4},"carga nominal ",1000,"daN",{"$f":"CONCATENATE(F4,F5)","v":"131000"},{"$nulls":3},13,1000]
[null,"peso ",{"$nulls":4},"kg",{"$nulls":5},1500]
[null,"F da base   ",{"$nulls":4},"m",{"$nulls":5},2000]
[null,"engastamento - e ",{"$nulls":3},{"v":2.617400365452199,"d":"2.62"},"m",{"$nulls":5},2500]
[{"$nulls":12},3000]
[null,"Escora :",null,null,"comprimento - c ",null,"m"]
[null,"altura (diâmetro) - a ",{"$nulls":4},"m"]
[null,"profundidade - b ",{"$nulls":4},"m"]
[]
[null,"Base Concretada :",null,null,"diâmetro da vala - f ",null,"m",{"$nulls":4},{"$f":"CONCATENATE(L5,M9)","v":"133000"}]
[]
[]
[null,"Distância do Esforço F ao solo :                          d"]
[]
[null,null,"Trações Máximas -  daN"]
[]
[null,null,"ENGASTAMENTO  .....................................................",null,null,{"$f":"IF(F$4=9,Engastamento!O$14,IF(F$4=10,Engastamento!O$23,IF(F$4=11,Engastamento!O$32,IF(F$4=12,Engastamento!O$41,IF(F$4=13,Engastamento!O50)))))","v":{"v":1300.0000670024945,"d":"1300.00"}},"<-----",1300]
[null,null,"ESCORA SIMPLES .....................................................",null,null,{"$f":"IF(F$4=9,Engastamento!P$14,IF(F$4=10,Engastamento!P$23,IF(F$4=11,Engastamento!P$32,IF(F$4=12,Engastamento!P$41,IF(F$4=13,Engastamento!P51)))))","v":{"v":0,"d":"0.00"}}]
[]
[null,null,"BASE CONCRETADA ..................................................",null,null,{"$f":"IF(F$4=9,Engastamento!R$14,IF(F$4=10,Engastamento!R$23,IF(F$4=11,Engastamento!R$32,IF(F$4=12,Engastamento!R$41,IF(F$4=13,Engastamento!R53)))))","v":{"v":0,"d":"0.00"}}]
{"$rows_empty":16}
[{"$nulls":5},"Cálculo de Tração Máxima"]
[null,"Poste de Concreto Duplo T"]
[{"$nulls":4},"comprimento - l",13,"m"]
[{"$nulls":4},"carga nominal",1000,"daN"]
[null,"peso",{"$nulls":4},"kg"]
[null,"F da base",{"$nulls":4},"m"]
[null,"engastamento - e",{"$nulls":3},-335544.32,"m"]
[]
[null,"Escora :",null,null,"comprimento - c",null,"m"]
[null,"altura (diâmetro) - a",{"$nulls":4},"m"]
[null,"profundidade - b",{"$nulls":4},"m"]
[]
[null,"Base Concretada :",null,null,"diâmetro da vala - f",null,"m"]
[]
[]
[null,"Distância do Esforço F ao solo :                                            d",{"$nulls":4},"m"]
[]
[null,null,"Trações Máximas -  daN"]
[]
[null,null,"ENGASTAMENTO  .....................................................",null,null,{"$f":"IF(F$43=9,Engastamento!O$157,IF(F$43=10,Engastamento!O$167,IF(F$43=11,Engastamento!O$177,IF(F$43=12,Engastamento!O$187,IF(F$43=13,Engastamento!O196)))))","v":{"$error":"#N/A"}},"<-----",1300]
[null,null,"ESCORA SIMPLES .....................................................",null,null,{"$f":"IF(F$43=9,Engastamento!P$157,IF(F$43=10,Engastamento!P$167,IF(F$43=11,Engastamento!P$177,IF(F$43=12,Engastamento!P$187,IF(F$43=13,Engastamento!P197)))))","v":{"v":16,"d":"16.00"}}]
[]
[null,null,"BASE CONCRETADA ..................................................",null,null,{"$f":"IF(F$43=9,Engastamento!R$157,IF(F$43=10,Engastamento!R$167,IF(F$43=11,Engastamento!R$177,IF(F$43=12,Engastamento!R$187,IF(F$43=13,Engastamento!R199)))))","v":{"v":0,"d":"0.00"}}]

{"sheet":"Padroes","index":7,"n_rows":50,"n_cols":50,"rows_kept":50,"merged":[[6,0,40,0],[6,1,6,4],[6,6,6,12],[6,17,6,18],[6,30,6,31],[6,33,6,34],[6,36,6,37],[7,9,7,10],[7,11,7,12],[7,21,7,25],[7,39,7,43],[8,1,8,4],[9,1,16,1],[9,6,17,6],[10,17,10,18],[12,17,13,18],[17,1,24,1],[18,6,26,6],[22,18,23,18],[25,1,32,1],[27,6,35,6],[33,1,40,1],[36,6,44,6],[41,1,48,1],[45,6,52,6]]}
[1,2,3,4,5,6,7,8,9,10,11,12,13,14,15,16,17,18,19,20,21,22,23,24,25,26,27,28,29,30,31,32,33,34,35,36,37,38,39,40,41,42,43,44,45,46,47]
[]
[]
[]
[]
[]
[null,"CARACTERÍSTICA DOS POSTES",{"$nulls":4},"CARACTERÍSTICA DOS POSTES",{"$nulls":10},"ESCORA DE SUBSOLO",{"$nulls":12},"Compres. do terreno",null,null,"BASE CONCRETADA DT",null,null,"BASE CONCRETADA CC"]
[null,"Comprimento","Carga Nominal","Peso","base","tipo","Comprimento","Carga Nominal","Peso","base (dimensão)",null,"diagonal (para o cálculo da Base concretada",{"$nulls":5},"comprimento -        c",{"v":1,"d":"1.00"},null,null,"MADEIRA",{"$nulls":8},"Banhado",1000,null,"altura  do         9 m",{"v":0.6,"d":"0.60"},null,"altura  do                    9 m",{"v":0.6,"d":"0.60"},null,"TRANSFORMADORES",{"$nulls":5},"Cruzetas",{"$nulls":3},"Resist. A flexão no Centro (daN"]
[null,"CONCRETO TRONCO CÕNICO",{"$nulls":4},"CONCRETO DUPLO T",null,null,"Face A","Face B","(face A)","(face B)","tipo",{"$nulls":3},"diâmetro (altura)-   a",{"v":0.2,"d":"0.20"},null,null,"Comprimento","Carga","peso","base","Topo",{"$nulls":4},"Arenoso",2000,null,"concreto-g    10 m ",0.65,null,"concreto-g     10 m ",0.65,null,"Potencia","X (m)","Y (m)","Peso TR","Dist. TR",null,"Tipo","Met. do próprio peso","Trabalho","máx. excep.","Rpup. Mín."]
[null,9,150,670,{"v":0.32,"d":"0.320"},"C-14",9,150,470,0.264,{"v":0.19,"d":"0.190"},0.625,{"v":0.32526297053307496,"d":"0.325"},"D",null,{"$f":"SQRT(K10^2+J10^2)","v":{"v":0.32526297053307496,"d":"0.325"}},{"$f":"J10/K10","v":1.3894736842105264},"profundidade -        b",{"v":0.5,"d":"0.50"},null,null,9,295,210,0.22,0.15,{"$nulls":4},"Rochoso",3000,null,"11 m",{"v":0.7,"d":"0.70"},null,"11 m",{"v":0.7,"d":"0.70"},null,"1-1-05 15kV",0.8,1.2,130,0.6,null,"Madeira",9.5,200,280,600]
[null,null,200,670,{"v":0.32,"d":"0.320"},"C-14",null,200,470,0.264,{"v":0.19,"d":"0.190"},0.625,{"v":0.32526297053307496,"d":"0.325"},"D",null,{"$f":"SQRT(K11^2+J11^2)","v":{"v":0.32526297053307496,"d":"0.325"}},{"$nulls":5},10,255,230,0.23,0.15,{"$nulls":4},"Solo A",1600,null,"12 m",0.75,null,"12 m",0.75,null,"1-1-10 15kV",0.8,1.2,150,0.6,null,"Concreto Tipo T",25,400,560,800]
[null,null,300,820,{"v":0.35,"d":"0.350"},"C-17",null,300,750,0.392,{"v":0.29,"d":"0.290"},0.787,{"v":0.48761050029711217,"d":"0.488"},"B",null,{"v":0.48761050029711217,"d":"0.488"},{"$nulls":5},11,300,300,0.24,0.15,{"$nulls":4},"Solo B",1400,null,"13 m",{"v":0.8,"d":"0.80"},null,"13 m",{"v":0.8,"d":"0.80"},null,"1-1-15 15kV",0.8,1.2,200,0.6,null,"Concreto retangular",28,400,560,800]
[null,null,400,820,{"v":0.35,"d":"0.350"},"C-17",null,400,750,0.392,{"v":0.29,"d":"0.290"},0.787,{"v":0.48761050029711217,"d":"0.488"},"B",null,{"v":0.48761050029711217,"d":"0.488"},null,"CORDOALHA DO ESTAI",{"$nulls":3},12,265,325,0.24,0.15,{"$nulls":7},"diâmetro da     200",0.66,null,"diâmetro da     200",{"v":0.6,"d":"0.60"},null,"1-1-25 15kV",0.8,1.2,260,0.6,null,"Aço Tubular",26.7,400,560,800]
[null,null,600,1000,{"v":0.37,"d":"0.370"},"C-19",null,600,750,0.392,{"v":0.29,"d":"0.290"},0.787,{"v":0.48761050029711217,"d":"0.488"},"B",null,{"v":0.48761050029711217,"d":"0.488"},{"$nulls":5},13,230,370,0.25,0.15,{"$nulls":7},"vala - f             300",{"v":0.9,"d":"0.90"},null,300,{"v":0.7,"d":"0.70"},null,"1-2-05 15kV",0.8,1.2,130,0.6]
[null,null,1000,1160,{"v":0.41,"d":"0.410"},"C-23",null,1000,1026,0.434,{"v":0.32,"d":"0.320"},0.868,{"v":0.5392179522234029,"d":"0.539"},"B-1,5",{"$f":"L15/J15","v":2},{"v":0.5392179522234029,"d":"0.539"},{"$nulls":17},400,{"v":0.9,"d":"0.90"},null,"vala - f            400",{"v":0.7,"d":"0.70"},null,"1-2-10 15kV",0.8,1.2,150,0.6]
[{"$nulls":15},0,null,"f (mm2)","Carga Ruptura",{"$nulls":14},600,{"v":0.9,"d":"0.90"},null,600,{"v":0.9,"d":"0.90"},null,"1-2-15 15kV",0.8,1.2,200,0.6]
[{"$nulls":15},0,null,6.35,2150,{"$nulls":14},1000,{"v":1.1,"d":"1.10"},null,1000,{"v":1.3,"d":"1.30"},null,"1-3-15 15kV",1.3,1.3,280,0.6]
[null,10,150,750,{"v":0.34,"d":"0.340"},"C-14",{"$nulls":9},0,null,7.94,3620,{"$nulls":11},"Ângulo Montagem",45,null,1500,1.95,null,1500,{"v":1.6,"d":"1.60"},null,"1-3-30 15kV",1.3,1.3,402,0.6]
[null,null,300,910,{"v":0.37,"d":"0.370"},"C-17",10,150,550,{"v":0.28,"d":"0.280"},{"v":0.2,"d":"0.200"},0.663,{"v":0.3440930106817051,"d":"0.344"},"D",null,{"v":0.3440930106817051,"d":"0.344"},{"$f":"L19/M19","v":{"v":1.9268046121788045,"d":"1.93"}},9.53,4900,{"$nulls":11},"TERRENO",null,null,2000,1.95,null,2000,1.6,null,"1-3-45 15kV",1.3,1.3,500,0.6]
[null,null,400,910,{"v":0.37,"d":"0.370"},"C-17",null,200,550,{"v":0.28,"d":"0.280"},{"v":0.2,"d":"0.200"},0.663,{"v":0.3440930106817051,"d":"0.344"},"B",null,{"v":0.3440930106817051,"d":"0.344"},{"$f":"L20/M20","v":{"v":1.9268046121788045,"d":"1.93"}},"Coef. segurança",{"v":1.5,"d":"1.50"},{"$nulls":11},"Coeficiente",2000,null,2500,1.95,null,2500,1.8,null,"1-3-75 15kV",1.3,1.3,550,0.6]
[null,null,600,1090,{"v":0.39,"d":"0.390"},"C-19",null,300,900,{"v":0.42,"d":"0.420"},{"v":0.31,"d":"0.310"},0.856,{"v":0.5220153254455274,"d":"0.522"},"B",null,{"v":0.5220153254455274,"d":"0.522"},{"v":1.6397986002986114,"d":"1.64"},{"$nulls":16},3000,1.95,null,3000,1.8,null,"1-3-112,5 15kV",1.3,1.3,670,0.6]
[null,null,1000,1350,{"v":0.43,"d":"0.430"},"C-23",null,400,900,{"v":0.42,"d":"0.420"},{"v":0.31,"d":"0.310"},0.856,{"v":0.5220153254455274,"d":"0.522"},"B",null,{"v":0.5220153254455274,"d":"0.522"},{"v":1.6397986002986114,"d":"1.64"},{"$nulls":22},"1-3-150 15kV",1.3,1.3,890,0.6]
[null,null,1500,1900,{"v":0.49,"d":"0.490"},"C-29",null,600,900,{"v":0.42,"d":"0.420"},{"v":0.31,"d":"0.310"},0.856,{"v":0.5220153254455274,"d":"0.522"},"B",null,{"v":0.5220153254455274,"d":"0.522"},{"$f":"L23/M23","v":{"v":1.6397986002986114,"d":"1.64"}},{"$nulls":19},"Constante",{"v":1,"d":"1.00"},null,"1-3-225 15kV",1.3,1.3,920,0.65]
[{"$nulls":7},1000,1150,0.462,{"v":0.34,"d":"0.340"},0.856,{"v":0.5736235699480976,"d":"0.574"},"B-1,5",{"$f":"L24/J24","v":1.8528138528138527},{"v":0.5736235699480976,"d":"0.574"},{"v":1.4922678300639778,"d":"1.49"},{"$nulls":22},"1-3-300 15kV",1.3,1.3,1000,0.65]
[{"$nulls":15},0,{"$f":"L25/M25","v":{"$error":"#DIV/0!"}},{"$nulls":22},"1-1-05 25kV",0.8,1.2,130,0.6]
[null,11,200,870,{"v":0.36,"d":"0.360"},"C-14",{"$nulls":9},0,{"$error":"#DIV/0!"},{"$nulls":22},"1-1-10 25kV",0.8,1.2,150,0.6]
[null,null,300,1030,{"v":0.39,"d":"0.390"},"C-17",{"$nulls":9},0,{"$error":"#DIV/0!"},{"$nulls":22},"1-1-15 25kV",0.8,1.2,200,0.6]
[null,null,400,1030,{"v":0.39,"d":"0.390"},"C-17",11,200,680,0.296,{"v":0.21,"d":"0.210"},0.663,0.363,"D",null,{"v":0.36292698990292793,"d":"0.363"},{"v":1.8264462809917357,"d":"1.83"},{"$nulls":22},"1-1-25 25kV",0.8,1.2,260,0.6]
[null,null,600,1260,{"v":0.41,"d":"0.410"},"C-19",null,300,1050,0.448,{"v":0.33,"d":"0.330"},0.856,0.556,"B",null,{"v":0.5564207041439059,"d":"0.556"},{"$f":"L29/M29","v":{"v":1.5395683453237408,"d":"1.54"}},{"$nulls":22},"1-2-05 25kV",0.8,1.2,130,0.6]
[null,null,1000,1600,{"v":0.45,"d":"0.450"},"C-23",null,400,1050,0.448,{"v":0.33,"d":"0.330"},0.856,0.556,"B",null,{"v":0.5564207041439059,"d":"0.556"},{"v":1.5395683453237408,"d":"1.54"},{"$nulls":22},"1-2-10 25kV",0.8,1.2,150,0.6]
[null,null,1500,2100,{"v":0.51,"d":"0.510"},"C-29",null,600,1050,0.448,{"v":0.33,"d":"0.330"},0.856,0.556,"B",null,{"v":0.5564207041439059,"d":"0.556"},{"v":1.5395683453237408,"d":"1.54"},{"$nulls":22},"1-2-15 25kV",0.8,1.2,200,0.6]
[{"$nulls":7},1000,1330,{"v":0.49,"d":"0.490"},{"v":0.36,"d":"0.360"},0.908,0.608,"B-1,5",null,{"v":0.6080296045424104,"d":"0.608"},{"v":1.493421052631579,"d":"1.49"},{"$nulls":22},"1-3-15 25kV",1.3,1.3,280,0.6]
[{"$nulls":15},0,{"$error":"#DIV/0!"},{"$nulls":22},"1-3-30 25kV",1.3,1.3,402,0.6]
[null,12,300,1130,{"v":0.41,"d":"0.410"},"C-17",{"$nulls":9},0,{"$error":"#DIV/0!"},{"$nulls":22},"1-3-45 25kV",1.3,1.3,500,0.6]
[null,null,400,1130,{"v":0.41,"d":"0.410"},"C-17",{"$nulls":9},0,{"$error":"#DIV/0!"},{"$nulls":22},"1-3-75 25kV",1.3,1.3,550,0.6]
[null,null,600,1440,{"v":0.43,"d":"0.430"},"C-19",{"$nulls":9},0,{"$error":"#DIV/0!"},{"$nulls":22},"1-3-112,5 25kV",1.3,1.3,670,0.6]
[null,null,1000,1770,{"v":0.47,"d":"0.470"},"C-23",12,200,780,{"v":0.31,"d":"0.310"},{"v":0.23,"d":"0.230"},0.663,0.386,"D",null,{"v":0.38600518131237566,"d":"0.386"},{"v":1.717616580310881,"d":"1.72"},{"$nulls":22},"1-3-150 25kV",1.3,1.3,890,0.6]
[null,null,1500,2450,{"v":0.53,"d":"0.530"},"C-29",null,300,1210,0.476,{"v":0.35,"d":"0.350"},{"v":0.89,"d":"0.890"},0.591,"B",null,{"v":0.5908265396882574,"d":"0.591"},{"v":1.505922165820643,"d":"1.51"},{"$nulls":22},"1-3-225 25kV",1.3,1.3,920,0.65]
[null,null,2000,3000,{"v":0.57,"d":"0.570"},"C-33",null,400,1210,0.476,{"v":0.35,"d":"0.350"},{"v":0.89,"d":"0.890"},0.591,"B",null,{"v":0.5908265396882574,"d":"0.591"},{"v":1.505922165820643,"d":"1.51"},{"$nulls":22},"1-3-300 25kV",1.3,1.3,1000,0.65]
[null,null,3000,4150,{"v":0.67,"d":"0.670"},"C-43",null,600,1210,0.476,{"v":0.35,"d":"0.350"},{"v":0.89,"d":"0.890"},0.591,"B",null,{"v":0.5908265396882574,"d":"0.591"},{"v":1.505922165820643,"d":"1.51"}]
[{"$nulls":7},1000,1520,0.518,{"v":0.38,"d":"0.380"},0.942,0.642,"B-1,5",{"$f":"L41/J41","v":1.8185328185328185},{"v":0.6424359890292572,"d":"0.642"},{"v":1.467289719626168,"d":"1.47"}]
[null,13,300,1280,{"v":0.43,"d":"0.430"},"C-17",null,2000,2000,0.602,{"v":0.44,"d":"0.440"},1.045,0.746,"B-4,5",{"$f":"L42/J42","v":1.7358803986710962},{"v":0.7456567574963697,"d":"0.746"},{"v":1.4008042895442359,"d":"1.40"}]
[null,null,400,1280,{"v":0.43,"d":"0.430"},"C-17",null,3000,2500,0.644,{"v":0.47,"d":"0.470"},{"v":1.117906976744186,"d":"1.118"},{"v":0.7968636363636363,"d":"0.797"},"B-6",null,{"v":0.797267834544954,"d":"0.797"},{"v":1.4028836625618673,"d":"1.40"}]
[null,null,600,1680,{"v":0.45,"d":"0.450"},"C-19",{"$nulls":9},0]
[null,null,1000,1920,{"v":0.49,"d":"0.490"},"C-23",{"$nulls":9},0]
[null,null,1500,2700,{"v":0.55,"d":"0.550"},"C-29",13,300,1400,0.504,{"v":0.37,"d":"0.370"},0.925,0.625,"B",null,{"v":0.62523275665947,"d":"0.625"}]
[null,null,2000,3500,{"v":0.59,"d":"0.590"},"C-33",null,400,1400,0.504,{"v":0.37,"d":"0.370"},0.925,0.625,"B",null,{"v":0.62523275665947,"d":"0.625"}]
[{"$nulls":7},600,1400,0.504,{"v":0.37,"d":"0.370"},0.925,0.625,"B",null,{"v":0.62523275665947,"d":"0.625"}]
[{"$nulls":15},0]
[{"$nulls":15},0]

{"sheet":"Tipo_Estai","index":8,"n_rows":151,"n_cols":33,"rows_kept":151,"hidden":true,"merged":[[4,11,4,14],[5,10,5,15],[5,22,6,23],[5,25,6,26],[12,22,12,24],[15,0,15,9],[16,0,16,4],[16,5,16,9]]}
[{"$nulls":14},15,{"$nulls":4},20,{"$nulls":4},25]
[]
[]
[]
[{"$nulls":11},"TIPO DE ESTAI A USAR"]
[{"$nulls":10},"Poste",{"$nulls":7},"Esforço = ",{"v":108.73,"d":"109"},"kgf",null,"Valores de segurança para os estais",null,null,"Valores para o cálculo dos estais",null,null,"Altura","daN","Seção","Tipo","Estai"]
[{"$nulls":10},"TIPO DE ESTAI A USAR",9,10,11,12,13,null,null,"Esforço (MD):","Topo",{"$f":"VLOOKUP(T7,Parametros!$H$18:$I$197,2,FALSE)","v":{"v":1,"d":"100%"}},{"$nulls":7},{"$f":"$AA$10","v":11},"-","-","-",{"$f":"L8","v":"ea1"}]
[{"$nulls":11},{"$f":"IF($T$6<U15,T15,IF(AND($T$6>U15,$T$6<U16),T16,IF(AND($T$6>U16,$T$6<U17),T17,IF(AND($T$6>U17,$T$6<U18),T18,IF(AND($T$6>U18,$T$6<U19),T19,\"\")))))","v":"ea1"},{"$f":"L8","v":"ea1"},{"$f":"L8","v":"ea1"},{"$f":"L8","v":"ea1"},{"$f":"L8","v":"ea1"},null,null,"Esforço (DT):","Topo",{"$f":"VLOOKUP(T8,Parametros!$E$18:$F$19,2,FALSE)","v":{"v":0.8,"d":"80%"}},null,"SIMPLES",{"$f":"VLOOKUP(W8,Parametros!$H$26:$I$29,2,FALSE)","v":{"v":0.8,"d":"80%"}},null,"Tamanho do braço do estai EV",2,null,11,"-","-","-",{"$f":"L9","v":"ev1"}]
[{"$nulls":11},{"$f":"IF($T$6<W15,$W$14,IF(AND($T$6>W15,$T$6<X15),$X$14,IF(AND($T$6>X15,$T$6<Y15),$Y$14,\"\")))","v":"ev1"},{"$f":"IF($T$6<W16,$W$14,IF(AND($T$6>W16,$T$6<X16),$X$14,IF(AND($T$6>X16,$T$6<Y16),$Y$14,\"\")))","v":"ev1"},{"$f":"IF($T$6<W17,$W$14,IF(AND($T$6>W17,$T$6<X17),$X$14,IF(AND($T$6>X17,$T$6<Y17),$Y$14,\"\")))","v":"ev1"},{"$f":"IF($T$6<W18,$W$14,IF(AND($T$6>W18,$T$6<X18),$X$14,IF(AND($T$6>X18,$T$6<Y18),$Y$14,\"\")))","v":"ev1"},{"$f":"IF($T$6<W19,$W$14,IF(AND($T$6>W19,$T$6<X19),$X$14,IF(AND($T$6>X19,$T$6<Y19),$Y$14,\"\")))","v":"ev1"},null,null,"Esforço (CC):","Topo",{"$f":"VLOOKUP(T9,Parametros!$E$26:$F$27,2,FALSE)","v":{"v":0.8,"d":"80%"}},null,"ESS",{"$f":"VLOOKUP(W9,Parametros!$H$26:$I$29,2,FALSE)","v":{"v":0.8,"d":"80%"}},null,"Terreno utilizado",2000,null,11,"-","-","-",{"$f":"L10","v":"epp1"}]
[{"$nulls":11},{"$f":"IF($T$6<$U$20,$T$20,IF(AND($T$6>$U$20,$T$6<$U$21),$T$21,IF(AND($T$6>$U$21,$T$6<$U$22),$T$22,\"\")))","v":"epp1"},{"$f":"IF($T$6<$U$20,$T$20,IF(AND($T$6>$U$20,$T$6<$U$21),$T$21,IF(AND($T$6>$U$21,$T$6<$U$22),$T$22,\"\")))","v":"epp1"},{"$f":"IF($T$6<$U$20,$T$20,IF(AND($T$6>$U$20,$T$6<$U$21),$T$21,IF(AND($T$6>$U$21,$T$6<$U$22),$T$22,\"\")))","v":"epp1"},{"$f":"IF($T$6<$U$20,$T$20,IF(AND($T$6>$U$20,$T$6<$U$21),$T$21,IF(AND($T$6>$U$21,$T$6<$U$22),$T$22,\"\")))","v":"epp1"},{"$f":"IF($T$6<$U$20,$T$20,IF(AND($T$6>$U$20,$T$6<$U$21),$T$21,IF(AND($T$6>$U$21,$T$6<$U$22),$T$22,\"\")))","v":"epp1"},null,null,"Face 'A\"",null,{"$f":"Parametros!L18","v":{"v":0.5,"d":"50%"}},null,"ESD",{"$f":"VLOOKUP(W10,Parametros!$H$26:$I$29,2,FALSE)","v":{"v":0.8,"d":"80%"}},null,"Poste",11,null,11,"-","-","-",{"$f":"L11","v":"ecpy1"}]
[{"$nulls":11},{"$f":"IF($T$6<$U$23,$T$23,IF(AND($T$6>$U$23,$T$6<$U$24),$T$24,IF(AND($T$6>$U$24,$T$6<$U$25),$T$25,\"\")))","v":"ecpy1"},{"$f":"IF($T$6<$U$23,$T$23,IF(AND($T$6>$U$23,$T$6<$U$24),$T$24,IF(AND($T$6>$U$24,$T$6<$U$25),$T$25,\"\")))","v":"ecpy1"},{"$f":"IF($T$6<$U$23,$T$23,IF(AND($T$6>$U$23,$T$6<$U$24),$T$24,IF(AND($T$6>$U$24,$T$6<$U$25),$T$25,\"\")))","v":"ecpy1"},{"$f":"IF($T$6<$U$23,$T$23,IF(AND($T$6>$U$23,$T$6<$U$24),$T$24,IF(AND($T$6>$U$24,$T$6<$U$25),$T$25,\"\")))","v":"ecpy1"},{"$f":"IF($T$6<$U$23,$T$23,IF(AND($T$6>$U$23,$T$6<$U$24),$T$24,IF(AND($T$6>$U$24,$T$6<$U$25),$T$25,\"\")))","v":"ecpy1"},{"$nulls":6},"BC",{"$f":"VLOOKUP(W11,Parametros!$H$26:$I$29,2,FALSE)","v":{"v":0.8,"d":"80%"}},{"$nulls":4},11,"-","-","-",{"$f":"L12","v":"ecpv1"}]
[{"$nulls":11},{"$f":"IF($T$6<$U$26,$T$26,IF(AND($T$6>$U$26,$T$6<$U$27),$T$27,IF(AND($T$6>$U$27,$T$6<$U$28),$T$28,\"\")))","v":"ecpv1"},{"$f":"IF($T$6<$U$26,$T$26,IF(AND($T$6>$U$26,$T$6<$U$27),$T$27,IF(AND($T$6>$U$27,$T$6<$U$28),$T$28,\"\")))","v":"ecpv1"},{"$f":"IF($T$6<$U$26,$T$26,IF(AND($T$6>$U$26,$T$6<$U$27),$T$27,IF(AND($T$6>$U$27,$T$6<$U$28),$T$28,\"\")))","v":"ecpv1"},{"$f":"IF($T$6<$U$26,$T$26,IF(AND($T$6>$U$26,$T$6<$U$27),$T$27,IF(AND($T$6>$U$27,$T$6<$U$28),$T$28,\"\")))","v":"ecpv1"},{"$f":"IF($T$6<$U$26,$T$26,IF(AND($T$6>$U$26,$T$6<$U$27),$T$27,IF(AND($T$6>$U$27,$T$6<$U$28),$T$28,\"\")))","v":"ecpv1"},{"$nulls":12},11,{"$f":"IF($AA$10=9,C19,IF($AA$10=10,C27,IF($AA$10=11,C35,IF($AA$10=12,C43,IF($AA$10=13,C51)))))","v":11200},{"$f":"IF($AA$10=9,D19,IF($AA$10=10,D27,IF($AA$10=11,D35,IF($AA$10=12,D43,IF($AA$10=13,D51)))))","v":"CC"},{"$f":"IF($AA$10=9,K19,IF($AA$10=10,K27,IF($AA$10=11,K35,IF($AA$10=12,K43,IF($AA$10=13,K51)))))","v":"C-14"},{"$f":"IF($AA$10=9,J19,IF($AA$10=10,J27,IF($AA$10=11,J35,IF($AA$10=12,J43,IF($AA$10=13,J51)))))","v":"Simples"}]
[{"$nulls":11},{"$f":"IF(J19=\"\",\"\",CONCATENATE(E19,\" \",J19))","v":"9 150 CC 'C-14' Simples"},{"$f":"IF(J27=\"\",\"\",CONCATENATE(E27,\" \",J27))","v":"10 150 CC 'C-14' Simples"},{"$f":"IF(J35=\"\",\"\",CONCATENATE(E35,\" \",J35))","v":"11 11200 CC 'C-14' Simples"},{"$f":"IF(J43=\"\",\"\",CONCATENATE(E43,\" \",J43))","v":"12 12200 CC 'C-17' Simples"},{"$f":"IF(J51=\"\",\"\",CONCATENATE(E51,\" \",J51))","v":"13 13200 CC 'C-17' Simples"},{"$nulls":5},"Poste","Tipo de estai",{"$nulls":5},{"$f":"$AA$10","v":11},{"$f":"IF($AA$10=9,C20,IF($AA$10=10,C28,IF($AA$10=11,C36,IF($AA$10=12,C44,IF($AA$10=13,C52)))))","v":300},{"$f":"IF($AA$10=9,D20,IF($AA$10=10,D28,IF($AA$10=11,D36,IF($AA$10=12,D44,IF($AA$10=13,D52)))))","v":"CC"},{"$f":"IF($AA$10=9,K20,IF($AA$10=10,K28,IF($AA$10=11,K36,IF($AA$10=12,K44,IF($AA$10=13,K52)))))","v":"C-17"},{"$f":"IF($AA$10=9,J20,IF($AA$10=10,J28,IF($AA$10=11,J36,IF($AA$10=12,J44,IF($AA$10=13,J52)))))","v":"Simples"}]
[{"$nulls":11},{"$f":"IF(J20=\"\",\"\",CONCATENATE(E20,\" \",J20))","v":"9 200 CC 'C-14' Simples"},{"$f":"IF(J28=\"\",\"\",CONCATENATE(E28,\" \",J28))","v":"10 300 CC 'C-17' Simples"},{"$f":"IF(J36=\"\",\"\",CONCATENATE(E36,\" \",J36))","v":"11 300 CC 'C-17' Simples"},{"$f":"IF(J44=\"\",\"\",CONCATENATE(E44,\" \",J44))","v":"12 400 CC 'C-17' Simples"},{"$f":"IF(J52=\"\",\"\",CONCATENATE(E52,\" \",J52))","v":"13 400 CC 'C-17' Simples"},null,null,"Cabo","Estai","Esforço ",null,"ev1","ev2","ev3",{"$nulls":3},11,{"$f":"IF($AA$10=9,C21,IF($AA$10=10,C29,IF($AA$10=11,C37,IF($AA$10=12,C45,IF($AA$10=13,C53)))))","v":400},"CC","C-17","Simples"]
[{"$nulls":11},"9 300 CC 'C-17' Simples","10 400 CC 'C-17' Simples","11 400 CC 'C-17' Simples","12 600 CC 'C-19' Simples","13 600 CC 'C-19' Simples",null,null,{"$f":"Tabela_Esforco!V10","v":6.35},"ea1",{"$f":"Tabela_Esforco!Z10","v":{"v":1013.5215811319121,"d":"1,014"}},9,{"$f":"Engastamento!AQ67","v":{"v":481.8806526806526,"d":"482"}},{"$f":"Engastamento!AR67","v":{"v":811.3525407925408,"d":"811"}},{"$f":"Engastamento!AS67","v":{"v":1098.239627039627,"d":"1098"}},{"$nulls":3},11,{"$f":"IF($AA$10=9,C22,IF($AA$10=10,C30,IF($AA$10=11,C38,IF($AA$10=12,C46,IF($AA$10=13,C54)))))","v":600},"CC","C-19","Simples"]
["CÁLCULO    DO     ENGASTAMENTO",{"$nulls":10},"9 400 CC 'C-17' Simples","10 600 CC 'C-19' Simples","11 600 CC 'C-19' Simples","12 1000 CC 'C-23' Simples","13 1000 CC 'C-23' Simples",null,null,{"$f":"Tabela_Esforco!V11","v":7.94},{"$f":"Tabela_Esforco!X11","v":"ea2"},{"$f":"Tabela_Esforco!Z11","v":{"v":1706.4874993941962,"d":"1,706"}},10,{"$f":"Engastamento!AQ70","v":{"v":433.5024895725297,"d":"434"}},{"$f":"Engastamento!AR70","v":{"v":729.8972150011897,"d":"730"}},{"$f":"Engastamento!AS70","v":{"v":987.9824180955329,"d":"988"}},{"$nulls":3},11,{"$f":"IF($AA$10=9,C23,IF($AA$10=10,C31,IF($AA$10=11,C39,IF($AA$10=12,C47,IF($AA$10=13,C55)))))","v":1000},"CC","C-23","Simples"]
["Dados do poste",{"$nulls":4},"VALOR DA TRAÇÃO NO TOPO  (daN)",{"$nulls":5},"9 600 CC 'C-19' Simples","10 1000 CC 'C-23' Simples","11 1000 CC 'C-23' Simples","12 1500 CC 'C-29' Simples","13 1500 CC 'C-29' Simples",null,null,{"$f":"Tabela_Esforco!V12","v":9.53},{"$f":"Tabela_Esforco!X12","v":"ea3"},{"$f":"Tabela_Esforco!Z12","v":{"v":2309.8863942076136,"d":"2,310"}},11,{"$f":"Engastamento!AQ74","v":{"v":395.7512348418428,"d":"396"}},{"$f":"Engastamento!AR74","v":{"v":666.3346372685912,"d":"666"}},{"$f":"Engastamento!AS74","v":{"v":901.9446747558278,"d":"902"}},{"$nulls":3},11,null,"CC","C-29","Simples"]
["Face do poste","Altura","dan","Tipo","concatenar",{"$f":"Engastamento!O5","v":"SIMPLES "},{"$f":"Engastamento!P5","v":"ESCORA\nSIMPLES"},{"$f":"Engastamento!Q5","v":"ESCORA\nDUPLA"},{"$f":"Engastamento!R5","v":"CONCRETADO"},"Estai sugerido",null,"9 1000 CC 'C-23' Simples","10 1500 CC 'C-29' Simples","11 1500 CC 'C-29' Simples","12 2000 CC 'C-33' Simples","13 2000 CC 'C-33' Simples",null,null,7.94,{"$f":"Tabela_Esforco!AA11","v":"ea2+ea2"},{"$f":"Tabela_Esforco!AB11","v":{"v":2913.156725069278,"d":"2,913"}},12,{"$f":"Engastamento!AQ78","v":{"v":363.99211676668887,"d":"364"}},{"$f":"Engastamento!AR78","v":{"v":612.8611454397274,"d":"613"}},{"$f":"Engastamento!AS78","v":{"v":829.5634289101282,"d":"830"}},{"$nulls":3},11,null,"CC","",""]
[null,{"$f":"IF(Engastamento!B6=\"\",\"\",Engastamento!B6)","v":9},{"$f":"IF(Engastamento!C6=\"\",\"\",Engastamento!C6)","v":150},"CC",{"$f":"IF(C19=\"\",\"\",CONCATENATE(B19,\" \",C19,\" \",D19,\" \",A19,\"'\",K19,\"'\"))","v":"9 150 CC 'C-14'"},{"$f":"Engastamento!O6","v":{"v":254.11764705882354,"d":"254"}},{"$f":"Engastamento!P6","v":{"v":346.77313092979125,"d":"347"}},{"$f":"Engastamento!Q6","v":{"v":373.65313092979125,"d":"374"}},{"$f":"Engastamento!R6","v":{"v":508.42100197464134,"d":"508"}},{"$f":"IF(C19=\"\",\"\",IF((C19*$U$9)<$T$6,\"\",IF(AND((C19*$U$9)>$T$6,$T$6<(F19*$X$8)),\"Simples\",IF(AND(($T$6>(F19*$X$8)),$T$6<(G19*$X$9)),\"ESS\",IF(AND(($T$6>(G19*$X$9)),$T$6<(H19*$X$10)),\"ESD\",IF(AND(($T$6>(H19*$X$10)),$T$6<(I19*$X$11)),\"BC\",\"\"))))))","v":"Simples"},{"$f":"Engastamento!T6","v":"C-14"},"","","","12 3000 CC 'C-43' Simples","",null,null,9.53,{"$f":"Tabela_Esforco!AA12","v":"ea3+ea3"},{"$f":"Tabela_Esforco!AB12","v":{"v":3943.223191392116,"d":"3,943"}},13,{"$f":"Engastamento!AQ82","v":{"v":336.9174640229381,"d":"337"}},{"$f":"Engastamento!AR82","v":{"v":567.2749859362957,"d":"567"}},{"$f":"Engastamento!AS82","v":{"v":767.8584063778588,"d":"768"}},{"$nulls":3},11,null,"CC","",""]
[null,{"$f":"IF(Engastamento!B7=\"\",\"\",Engastamento!B7)","v":9},{"$f":"IF(Engastamento!C7=\"\",\"\",Engastamento!C7)","v":200},"CC",{"$f":"IF(C20=\"\",\"\",CONCATENATE(B20,\" \",C20,\" \",D20,\" \",A20,\"'\",K20,\"'\"))","v":"9 200 CC 'C-14'"},{"$f":"Engastamento!O7","v":{"v":254.11764705882354,"d":"254"}},{"$f":"Engastamento!P7","v":{"v":346.77313092979125,"d":"347"}},{"$f":"Engastamento!Q7","v":{"v":373.65313092979125,"d":"374"}},{"$f":"Engastamento!R7","v":{"v":599.5732222597669,"d":"600"}},"Simples",{"$f":"Engastamento!T7","v":"C-14"},"","","","","",null,null,6.35,"epp1",{"$f":"VLOOKUP(T20,Tabela_Esforco!$X$20:$Z$22,3,FALSE)","v":{"v":1411.557677734599,"d":"1412"}}]
[null,{"$f":"IF(Engastamento!B8=\"\",\"\",Engastamento!B8)","v":9},{"$f":"IF(Engastamento!C8=\"\",\"\",Engastamento!C8)","v":300},"CC","9 300 CC 'C-17'",{"$f":"Engastamento!O8","v":{"v":277.94117647058823,"d":"278"}},{"$f":"Engastamento!P8","v":{"v":366.5089184060721,"d":"367"}},{"$f":"Engastamento!Q8","v":{"v":392.2030360531309,"d":"392"}},{"$f":"Engastamento!R8","v":{"v":796.1102046099483,"d":"796"}},"Simples",{"$f":"Engastamento!T8","v":"C-17"},{"$f":"IF(J64=\"\",\"\",CONCATENATE(E64,\" \",\" \",J64))","v":""},{"$f":"IF(J73=\"\",\"\",CONCATENATE(E73,\" \",J73))","v":""},{"$f":"IF(J82=\"\",\"\",CONCATENATE(E82,\" \",J82))","v":""},{"$f":"IF(J91=\"\",\"\",CONCATENATE(E91,\" \",J91))","v":""},{"$f":"IF(J100=\"\",\"\",CONCATENATE(E100,\" \",J100))","v":"13 300 DT Face 'A' 'B' Simples"},null,null,7.94,"epp2",{"$f":"VLOOKUP(T21,Tabela_Esforco!$X$20:$Z$22,3,FALSE)","v":{"v":2376.669206232209,"d":"2377"}}]
[null,{"$f":"IF(Engastamento!B9=\"\",\"\",Engastamento!B9)","v":9},{"$f":"IF(Engastamento!C9=\"\",\"\",Engastamento!C9)","v":400},"CC","9 400 CC 'C-17'",{"$f":"Engastamento!O9","v":{"v":277.94117647058823,"d":"278"}},{"$f":"Engastamento!P9","v":{"v":366.5089184060721,"d":"367"}},{"$f":"Engastamento!Q9","v":{"v":392.2030360531309,"d":"392"}},{"$f":"Engastamento!R9","v":{"v":1223.217171925458,"d":"1223"}},"Simples",{"$f":"Engastamento!T9","v":"C-17"},{"$f":"IF(J65=\"\",\"\",CONCATENATE(E65,\" \",\" \",J65))","v":""},{"$f":"IF(J74=\"\",\"\",CONCATENATE(E74,\" \",J74))","v":""},{"$f":"IF(J83=\"\",\"\",CONCATENATE(E83,\" \",J83))","v":"11 300 DT Face 'A' 'B' Simples"},{"$f":"IF(J92=\"\",\"\",CONCATENATE(E92,\" \",J92))","v":"12 300 DT Face 'A' 'B' Simples"},{"$f":"IF(J101=\"\",\"\",CONCATENATE(E101,\" \",J101))","v":"13 400 DT Face 'A' 'B' Simples"},null,null,9.53,"epp3",{"$f":"VLOOKUP(T22,Tabela_Esforco!$X$20:$Z$22,3,FALSE)","v":{"v":3217.038428325365,"d":"3217"}}]
[null,{"$f":"IF(Engastamento!B10=\"\",\"\",Engastamento!B10)","v":9},{"$f":"IF(Engastamento!C10=\"\",\"\",Engastamento!C10)","v":600},"CC","9 600 CC 'C-19'",{"$f":"Engastamento!O10","v":{"v":293.8235294117647,"d":"294"}},{"$f":"Engastamento!P10","v":{"v":379.66611005692596,"d":"380"}},{"$f":"Engastamento!Q10","v":{"v":404.56963946869064,"d":"405"}},{"$f":"Engastamento!R10","v":{"v":1607.4529019773763,"d":"1607"}},"Simples",{"$f":"Engastamento!T10","v":"C-19"},"9 300 DT Face 'A' 'B'  Simples","10 300 DT Face 'A' 'B' Simples","11 400 DT Face 'A' 'B' Simples","12 400 DT Face 'A' 'B' Simples","13 600 DT Face 'A' 'B' Simples",null,null,6.35,"ecpy1",{"$f":"VLOOKUP(T23,Tabela_Esforco!$X$28:$Z$33,3,FALSE)","v":{"v":1411.557677734599,"d":"1412"}}]
[null,{"$f":"IF(Engastamento!B11=\"\",\"\",Engastamento!B11)","v":9},{"$f":"IF(Engastamento!C11=\"\",\"\",Engastamento!C11)","v":1000},"CC","9 1000 CC 'C-23'",{"$f":"Engastamento!O11","v":{"v":325.5882352941176,"d":"326"}},{"$f":"Engastamento!P11","v":{"v":405.9804933586338,"d":"406"}},{"$f":"Engastamento!Q11","v":{"v":429.30284629981026,"d":"429"}},{"$f":"Engastamento!R11","v":{"v":1620.0174205279645,"d":"1620"}},"Simples",{"$f":"Engastamento!T11","v":"C-23"},"9 400 DT Face 'A' 'B'  Simples","10 400 DT Face 'A' 'B' Simples","11 600 DT Face 'A' 'B' Simples","12 600 DT Face 'A' 'B' Simples","",null,null,7.94,"ecpy2",{"$f":"VLOOKUP(T24,Tabela_Esforco!$X$28:$Z$33,3,FALSE)","v":{"v":2376.669206232209,"d":"2377"}}]
[null,{"$f":"IF(Engastamento!B12=\"\",\"\",Engastamento!B12)","v":""},{"$f":"IF(Engastamento!C12=\"\",\"\",Engastamento!C12)","v":""},"CC","",{"$f":"Engastamento!O12","v":""},{"$f":"Engastamento!P12","v":""},{"$f":"Engastamento!Q12","v":""},{"$f":"Engastamento!R12","v":""},"",{"$f":"Engastamento!T12","v":""},"9 600 DT Face 'A' 'B'  Simples","10 600 DT Face 'A' 'B' Simples","11 1000 DT Face 'A' 'B-1,5' Simples","12 1000 DT Face 'A' 'B-1,5' Simples","",null,null,9.53,"ecpy3",{"$f":"VLOOKUP(T25,Tabela_Esforco!$X$28:$Z$33,3,FALSE)","v":{"v":3217.038428325365,"d":"3217"}}]
[null,{"$f":"IF(Engastamento!B13=\"\",\"\",Engastamento!B13)","v":""},{"$f":"IF(Engastamento!C13=\"\",\"\",Engastamento!C13)","v":""},"CC","",{"$f":"Engastamento!O13","v":""},{"$f":"Engastamento!P13","v":""},{"$f":"Engastamento!Q13","v":""},{"$f":"Engastamento!R13","v":""},"",{"$f":"Engastamento!T13","v":""},"9 1000 DT Face 'A' 'B-1,5'  Simples","10 1000 DT Face 'A' 'B-1,5' Simples","","12 2000 DT Face 'A' 'B-4,5' Simples","",null,null,6.35,"ecpv1",{"$f":"VLOOKUP(T26,Tabela_Esforco!$X$28:$Z$33,3,FALSE)","v":2860}]
[null,{"$f":"Engastamento!B15","v":10},{"$f":"Engastamento!C15","v":150},"CC","10 150 CC 'C-14'",{"$f":"Engastamento!O15","v":{"v":284.21224489795924,"d":"284"}},{"$f":"Engastamento!P15","v":{"v":368.6922448979592,"d":"369"}},{"$f":"Engastamento!Q15","v":{"v":392.9371428571429,"d":"393"}},{"$f":"Engastamento!R15","v":{"v":531.5787810839782,"d":"532"}},"Simples",{"$f":"Engastamento!T14","v":"C-14"},"","","","12 3000 DT Face 'A' 'B-6' Simples","",null,null,7.94,"ecpv2",{"$f":"VLOOKUP(T27,Tabela_Esforco!$X$28:$Z$33,3,FALSE)","v":4820}]
[null,{"$f":"Engastamento!B16","v":10},{"$f":"Engastamento!C16","v":300},"CC","10 300 CC 'C-17'",{"$f":"Engastamento!O16","v":{"v":309.2897959183674,"d":"309"}},{"$f":"Engastamento!P16","v":{"v":389.9297959183674,"d":"390"}},{"$f":"Engastamento!Q16","v":{"v":413.07265306122457,"d":"413"}},{"$f":"Engastamento!R16","v":{"v":630.2166907303119,"d":"630"}},"Simples",{"$f":"Engastamento!T15","v":"C-17"},"","","","","",null,null,9.53,"ecpv3",{"$f":"VLOOKUP(T28,Tabela_Esforco!$X$28:$Z$33,3,FALSE)","v":6320}]
[null,{"$f":"Engastamento!B17","v":10},{"$f":"Engastamento!C17","v":400},"CC","10 400 CC 'C-17'",{"$f":"Engastamento!O17","v":{"v":309.2897959183674,"d":"309"}},{"$f":"Engastamento!P17","v":{"v":389.9297959183674,"d":"390"}},{"$f":"Engastamento!Q17","v":{"v":413.07265306122457,"d":"413"}},{"$f":"Engastamento!R17","v":{"v":828.7405354832943,"d":"829"}},"Simples",{"$f":"Engastamento!T16","v":"C-17"},"","","","",{"$f":"IF(J144=\"\",\"\",CONCATENATE(E144,\" \",J144))","v":"13 300 DT Face 'B' 'B' Simples"}]
[null,{"$f":"Engastamento!B18","v":10},{"$f":"Engastamento!C18","v":600},"CC","10 600 CC 'C-19'",{"$f":"Engastamento!O18","v":{"v":326.00816326530617,"d":"326"}},{"$f":"Engastamento!P18","v":{"v":404.08816326530615,"d":"404"}},{"$f":"Engastamento!Q18","v":{"v":426.4963265306123,"d":"426"}},{"$f":"Engastamento!R18","v":{"v":1275.4177804305857,"d":"1275"}},"Simples",{"$f":"Engastamento!T17","v":"C-19"},{"$f":"IF(J108=\"\",\"\",CONCATENATE(E108,\" \",J108))","v":"9 150 DT Face 'B' 'D' Simples"},{"$f":"IF(J117=\"\",\"\",CONCATENATE(E117,\" \",J117))","v":"10 150 DT Face 'B' 'D' Simples"},{"$f":"IF(J126=\"\",\"\",CONCATENATE(E126,\" \",J126))","v":"11 200 DT Face 'B' 'D' Simples"},{"$f":"IF(J135=\"\",\"\",CONCATENATE(E135,\" \",J135))","v":"12 200 DT Face 'B' 'D' Simples"},{"$f":"IF(J145=\"\",\"\",CONCATENATE(E145,\" \",J145))","v":"13 400 DT Face 'B' 'B' Simples"}]
[null,{"$f":"Engastamento!B19","v":10},{"$f":"Engastamento!C19","v":1000},"CC","10 1000 CC 'C-23'",{"$f":"Engastamento!O19","v":{"v":359.4448979591837,"d":"359"}},{"$f":"Engastamento!P19","v":{"v":432.4048979591837,"d":"432"}},{"$f":"Engastamento!Q19","v":{"v":453.3436734693878,"d":"453"}},{"$f":"Engastamento!R19","v":{"v":1669.486707291644,"d":"1669"}},"Simples",{"$f":"Engastamento!T18","v":"C-23"},{"$f":"IF(J109=\"\",\"\",CONCATENATE(E109,\" \",J109))","v":"9 200 DT Face 'B' 'D' Simples"},{"$f":"IF(J118=\"\",\"\",CONCATENATE(E118,\" \",J118))","v":"10 200 DT Face 'B' 'B' Simples"},{"$f":"IF(J127=\"\",\"\",CONCATENATE(E127,\" \",J127))","v":"11 300 DT Face 'B' 'B' Simples"},{"$f":"IF(J136=\"\",\"\",CONCATENATE(E136,\" \",J136))","v":"12 300 DT Face 'B' 'B' Simples"},"13 600 DT Face 'B' 'B' Simples"]
[null,{"$f":"Engastamento!B20","v":10},{"$f":"Engastamento!C20","v":1500},"CC","10 1500 CC 'C-29'",{"$f":"Engastamento!O20","v":{"v":409.6000000000001,"d":"410"}},{"$f":"Engastamento!P20","v":{"v":474.8800000000001,"d":"475"}},{"$f":"Engastamento!Q20","v":{"v":493.61469387755113,"d":"494"}},{"$f":"Engastamento!R20","v":{"v":1705.4769610603514,"d":"1705"}},"Simples",{"$f":"Engastamento!T19","v":"C-29"},"9 300 DT Face 'B' 'B' Simples","10 300 DT Face 'B' 'B' Simples","11 400 DT Face 'B' 'B' Simples","12 400 DT Face 'B' 'B' Simples",""]
[null,{"$f":"Engastamento!B21","v":0},{"$f":"Engastamento!C21","v":""},"CC","",{"$f":"Engastamento!O21","v":""},{"$f":"Engastamento!P21","v":""},{"$f":"Engastamento!Q21","v":""},{"$f":"Engastamento!R21","v":""},"",{"$f":"Engastamento!T20","v":""},"9 400 DT Face 'B' 'B' Simples","10 400 DT Face 'B' 'B' Simples","11 600 DT Face 'B' 'B' Simples","12 600 DT Face 'B' 'B' Simples",""]
[null,{"$f":"Engastamento!B22","v":0},{"$f":"Engastamento!C22","v":""},"CC","",{"$f":"Engastamento!O22","v":""},{"$f":"Engastamento!P22","v":""},{"$f":"Engastamento!Q22","v":""},{"$f":"Engastamento!R22","v":""},"",{"$f":"Engastamento!T21","v":""},"9 600 DT Face 'B' 'B' Simples","10 600 DT Face 'B' 'B' Simples","11 1000 DT Face 'B' 'B-1,5' Simples","12 1000 DT Face 'B' 'B-1,5' Simples",""]
[null,{"$f":"Engastamento!B24","v":11},11200,"CC","11 11200 CC 'C-14'",{"$f":"Engastamento!O24","v":{"v":327.5333333333334,"d":"328"}},{"$f":"Engastamento!P24","v":{"v":407.8067001675043,"d":"408"}},{"$f":"Engastamento!Q24","v":{"v":430.5622557230599,"d":"431"}},{"$f":"Engastamento!R24","v":{"v":575.805618416056,"d":"576"}},"Simples",{"$f":"Engastamento!T22","v":"C-14"},"9 1000 DT Face 'B' 'B-1,5' Simples","10 1000 DT Face 'B' 'B-1,5' Simples","","12 2000 DT Face 'B' 'B-4,5' Simples",""]
[null,{"$f":"Engastamento!B25","v":11},{"$f":"Engastamento!C25","v":300},"CC","11 300 CC 'C-17'",{"$f":"Engastamento!O25","v":{"v":354.82777777777784,"d":"355"}},{"$f":"Engastamento!P25","v":{"v":431.338330541597,"d":"431"}},{"$f":"Engastamento!Q25","v":{"v":453.02721943048584,"d":"453"}},{"$f":"Engastamento!R25","v":{"v":681.2881211515202,"d":"681"}},"Simples",{"$f":"Engastamento!T23","v":"C-17"},"","","","12 3000 DT Face 'B' 'B-6' Simples",""]
[null,{"$f":"Engastamento!B26","v":11},{"$f":"Engastamento!C26","v":400},"CC","11 400 CC 'C-17'",{"$f":"Engastamento!O26","v":{"v":354.82777777777784,"d":"355"}},{"$f":"Engastamento!P26","v":{"v":431.338330541597,"d":"431"}},{"$f":"Engastamento!Q26","v":{"v":453.02721943048584,"d":"453"}},{"$f":"Engastamento!R26","v":{"v":894.1975565399227,"d":"894"}},"Simples",{"$f":"Engastamento!T24","v":"C-17"},"","","","",{"$f":"IF(J62=\"\",\"\",CONCATENATE(E62,\" \",J62))","v":"12 MD Simples"}]
[null,{"$f":"Engastamento!B27","v":11},{"$f":"Engastamento!C27","v":600},"CC","11 600 CC 'C-19'",{"$f":"Engastamento!O27","v":{"v":373.0240740740741,"d":"373"}},{"$f":"Engastamento!P27","v":{"v":447.0260841243254,"d":"447"}},{"$f":"Engastamento!Q27","v":{"v":468.00386190210315,"d":"468"}},{"$f":"Engastamento!R27","v":{"v":1369.6671300951132,"d":"1370"}},"Simples",{"$f":"Engastamento!T25","v":"C-19"},"","","",""]
[null,{"$f":"Engastamento!B28","v":11},{"$f":"Engastamento!C28","v":1000},"CC","11 1000 CC 'C-23'",{"$f":"Engastamento!O28","v":{"v":409.4166666666667,"d":"409"}},{"$f":"Engastamento!P28","v":{"v":478.40159128978223,"d":"478"}},{"$f":"Engastamento!Q28","v":{"v":497.9571468453378,"d":"498"}},{"$f":"Engastamento!R28","v":{"v":1786.1940516405452,"d":"1786"}},"Simples",{"$f":"Engastamento!T26","v":"C-23"},{"$f":"IF(J59=\"\",\"\",CONCATENATE(E59,\" \",J59))","v":"9 MD Simples"},{"$f":"IF(J60=\"\",\"\",CONCATENATE(E60,\" \",J60))","v":"10 MD Simples"},{"$f":"IF(J61=\"\",\"\",CONCATENATE(E61,\" \",J61))","v":"11 MD Simples"},{"$f":"IF(J62=\"\",\"\",CONCATENATE(E62,\" \",J62))","v":"12 MD Simples"}]
[null,{"$f":"Engastamento!B29","v":11},{"$f":"Engastamento!C29","v":1500},"CC","11 1500 CC 'C-29'",{"$f":"Engastamento!O29","v":{"v":464.00555555555565,"d":"464"}},{"$f":"Engastamento!P29","v":{"v":525.4648520379677,"d":"525"}},{"$f":"Engastamento!Q29","v":{"v":542.8870742601899,"d":"543"}},{"$f":"Engastamento!R29","v":{"v":1815.1634215170884,"d":"1815"}},"Simples",{"$f":"Engastamento!T27","v":"C-29"}]
[null,{"$f":"Engastamento!B30","v":0},{"$f":"Engastamento!C30","v":""},"CC","",{"$f":"Engastamento!O30","v":""},{"$f":"Engastamento!P30","v":""},{"$f":"Engastamento!Q30","v":""},{"$f":"Engastamento!R30","v":""},"",{"$f":"Engastamento!T28","v":""}]
[null,{"$f":"Engastamento!B31","v":0},{"$f":"Engastamento!C31","v":""},"CC","",{"$f":"Engastamento!O31","v":""},{"$f":"Engastamento!P31","v":""},{"$f":"Engastamento!Q31","v":""},{"$f":"Engastamento!R31","v":""},"",{"$f":"Engastamento!T29","v":""}]
[null,{"$f":"Engastamento!B33","v":12},12200,"CC","12 12200 CC 'C-17'",{"$f":"Engastamento!O33","v":{"v":405.2745762711866,"d":"405"}},{"$f":"Engastamento!P33","v":{"v":478.02320012439765,"d":"478"}},{"$f":"Engastamento!Q33","v":{"v":498.4232001243977,"d":"498"}},{"$f":"Engastamento!R33","v":{"v":624.6354723115007,"d":"625"}},"Simples",{"$f":"Engastamento!T30","v":"C-17"}]
[null,{"$f":"Engastamento!B34","v":12},{"$f":"Engastamento!C34","v":400},"CC","12 400 CC 'C-17'",{"$f":"Engastamento!O34","v":{"v":405.2745762711866,"d":"405"}},{"$f":"Engastamento!P34","v":{"v":478.02320012439765,"d":"478"}},{"$f":"Engastamento!Q34","v":{"v":498.4232001243977,"d":"498"}},{"$f":"Engastamento!R34","v":{"v":735.2702092634713,"d":"735"}},"Simples",{"$f":"Engastamento!T31","v":"C-17"}]
[null,{"$f":"Engastamento!B35","v":12},{"$f":"Engastamento!C35","v":600},"CC","12 600 CC 'C-19'",{"$f":"Engastamento!O35","v":{"v":425.0440677966103,"d":"425"}},{"$f":"Engastamento!P35","v":{"v":495.3266366039498,"d":"495"}},{"$f":"Engastamento!Q35","v":{"v":515.035111180221,"d":"515"}},{"$f":"Engastamento!R35","v":{"v":971.4315040004667,"d":"971"}},"Simples",{"$f":"Engastamento!T32","v":"C-19"}]
[null,{"$f":"Engastamento!B36","v":12},{"$f":"Engastamento!C36","v":1000},"CC","12 1000 CC 'C-23'",{"$f":"Engastamento!O36","v":{"v":464.5830508474578,"d":"465"}},{"$f":"Engastamento!P36","v":{"v":529.9335095630541,"d":"530"}},{"$f":"Engastamento!Q36","v":{"v":548.2589332918677,"d":"548"}},{"$f":"Engastamento!R36","v":{"v":1484.052841178107,"d":"1484"}},"Simples",{"$f":"Engastamento!T33","v":"C-23"}]
[null,{"$f":"Engastamento!B37","v":12},{"$f":"Engastamento!C37","v":1500},"CC","12 1500 CC 'C-29'",{"$f":"Engastamento!O37","v":{"v":523.891525423729,"d":"524"}},{"$f":"Engastamento!P37","v":{"v":581.8438190017107,"d":"582"}},{"$f":"Engastamento!Q37","v":{"v":598.0946664593379,"d":"598"}},{"$f":"Engastamento!R37","v":{"v":1940.9995157955118,"d":"1941"}},"Simples",{"$f":"Engastamento!T34","v":"C-29"}]
[null,{"$f":"Engastamento!B38","v":12},{"$f":"Engastamento!C38","v":2000},"CC","12 2000 CC 'C-33'",{"$f":"Engastamento!O38","v":{"v":563.4305084745765,"d":"563"}},{"$f":"Engastamento!P38","v":{"v":616.4506919608151,"d":"616"}},{"$f":"Engastamento!Q38","v":{"v":631.3184885709846,"d":"631"}},{"$f":"Engastamento!R38","v":{"v":1968.4309628011615,"d":"1968"}},"Simples",{"$f":"Engastamento!T35","v":"C-33"}]
[null,{"$f":"Engastamento!B39","v":12},{"$f":"Engastamento!C39","v":3000},"CC","12 3000 CC 'C-43'",{"$f":"Engastamento!O39","v":{"v":662.2779661016951,"d":"662"}},{"$f":"Engastamento!P39","v":{"v":702.9678743585758,"d":"703"}},{"$f":"Engastamento!Q39","v":{"v":714.3780438501012,"d":"714"}},{"$f":"Engastamento!R39","v":{"v":2349.4415587030417,"d":"2349"}},"Simples",{"$f":"Engastamento!T36","v":"C-43"}]
[null,{"$f":"Engastamento!B40","v":""},{"$f":"Engastamento!C40","v":""},"CC","",{"$f":"Engastamento!O40","v":""},{"$f":"Engastamento!P40","v":""},{"$f":"Engastamento!Q40","v":""},{"$f":"Engastamento!R40","v":""},"",{"$f":"Engastamento!T37","v":""}]
[null,{"$f":"Engastamento!B42","v":13},13200,"CC","13 13200 CC 'C-17'",{"$f":"Engastamento!O42","v":{"v":460.8390624999999,"d":"461"}},{"$f":"Engastamento!P42","v":{"v":530.10488528481,"d":"530"}},{"$f":"Engastamento!Q42","v":{"v":549.34238528481,"d":"549"}},{"$f":"Engastamento!R42","v":{"v":674.2170581410502,"d":"674"}},"Simples",{"$f":"Engastamento!T38","v":"C-17"}]
[null,{"$f":"Engastamento!B43","v":13},{"$f":"Engastamento!C43","v":400},"CC","13 400 CC 'C-17'",{"$f":"Engastamento!O43","v":{"v":460.8390624999999,"d":"461"}},{"$f":"Engastamento!P43","v":{"v":530.10488528481,"d":"530"}},{"$f":"Engastamento!Q43","v":{"v":549.34238528481,"d":"549"}},{"$f":"Engastamento!R43","v":{"v":793.276663055611,"d":"793"}},"Simples",{"$f":"Engastamento!T39","v":"C-17"}]
[null,{"$f":"Engastamento!B44","v":13},{"$f":"Engastamento!C44","v":600},"CC","13 600 CC 'C-19'",{"$f":"Engastamento!O44","v":{"v":482.27343749999994,"d":"482"}},{"$f":"Engastamento!P44","v":{"v":549.1088805379746,"d":"549"}},{"$f":"Engastamento!Q44","v":{"v":567.6713805379746,"d":"568"}},{"$f":"Engastamento!R44","v":{"v":1047.0640001427114,"d":"1047"}},"Simples",{"$f":"Engastamento!T40","v":"C-19"}]
[null,{"$f":"Engastamento!B45","v":13},{"$f":"Engastamento!C45","v":1000},"CC","13 1000 CC 'C-23'",{"$f":"Engastamento!O45","v":{"v":525.1421874999999,"d":"525"}},{"$f":"Engastamento!P45","v":{"v":587.1168710443037,"d":"587"}},{"$f":"Engastamento!Q45","v":{"v":604.3293710443037,"d":"604"}},{"$f":"Engastamento!R45","v":{"v":1588.1499617977538,"d":"1588"}},"Simples",{"$f":"Engastamento!T41","v":"C-23"}]
[null,{"$f":"Engastamento!B46","v":13},{"$f":"Engastamento!C46","v":1500},"CC","13 1500 CC 'C-29'",{"$f":"Engastamento!O46","v":{"v":589.4453124999999,"d":"589"}},{"$f":"Engastamento!P46","v":{"v":644.1288568037974,"d":"644"}},{"$f":"Engastamento!Q46","v":{"v":659.3163568037974,"d":"659"}},{"$f":"Engastamento!R46","v":{"v":2068.734745926995,"d":"2069"}},"Simples",{"$f":"Engastamento!T42","v":"C-29"}]
[null,{"$f":"Engastamento!B47","v":13},{"$f":"Engastamento!C47","v":2000},"CC","13 2000 CC 'C-33'",{"$f":"Engastamento!O47","v":{"v":632.3140624999999,"d":"632"}},{"$f":"Engastamento!P47","v":{"v":682.1368473101264,"d":"682"}},{"$f":"Engastamento!Q47","v":{"v":695.9743473101264,"d":"696"}},{"$f":"Engastamento!R47","v":{"v":2104.2339165936614,"d":"2104"}},"Simples",{"$f":"Engastamento!T43","v":"C-33"}]
[null,{"$f":"Engastamento!B48","v":0},{"$f":"Engastamento!C48","v":""},"CC","",{"$f":"Engastamento!O48","v":""},{"$f":"Engastamento!P48","v":""},{"$f":"Engastamento!Q48","v":""},{"$f":"Engastamento!R48","v":""},"",{"$f":"Engastamento!T44","v":""}]
[null,{"$f":"Engastamento!B49","v":0},{"$f":"Engastamento!C49","v":""},"CC","",{"$f":"Engastamento!O49","v":""},{"$f":"Engastamento!P49","v":""},{"$f":"Engastamento!Q49","v":""},{"$f":"Engastamento!R49","v":""},"",{"$f":"Engastamento!T45","v":""}]
[null,{"$f":"Engastamento!B55","v":9},{"$f":"Engastamento!C55","v":295},"MD",{"$f":"CONCATENATE(B59,\" \",D59)","v":"9 MD"},{"$f":"Engastamento!O55","v":{"v":174.7058823529412,"d":"175"}},{"$f":"Engastamento!P55","v":{"v":280.98717267552183,"d":"281"}},{"$f":"Engastamento!Q55","v":{"v":302.44235294117647,"d":"302"}},{"$f":"Engastamento!R55","v":0},{"$f":"IF((C59*$U$7)<$T$6,\"\",IF(AND((C59*$U$7)>$T$6,$T$6<(F59*$X$8)),\"Simples\",IF(AND(($T$6>(F59*$X$8)),$T$6<(G59*$X$9)),\"ESS\",IF(AND(($T$6>(G59*$X$9)),$T$6<(H59*$X$10)),\"ESD\",IF(AND(($T$6>(H59*$X$10)),$T$6<(I59*$X$11)),\"BC\",\"\")))))","v":"Simples"}]
[null,{"$f":"Engastamento!B56","v":10},{"$f":"Engastamento!C56","v":255},"MD",{"$f":"CONCATENATE(B60,\" \",D60)","v":"10 MD"},{"$f":"Engastamento!O56","v":{"v":192.26122448979595,"d":"192"}},{"$f":"Engastamento!P56","v":{"v":290.82122448979595,"d":"291"}},{"$f":"Engastamento!Q56","v":{"v":311.06122448979596,"d":"311"}},{"$f":"Engastamento!R56","v":0},{"$f":"IF((C60*$U$7)<$T$6,\"\",IF(AND((C60*$U$7)>$T$6,$T$6<(F60*$X$8)),\"Simples\",IF(AND(($T$6>(F60*$X$8)),$T$6<(G60*$X$9)),\"ESS\",IF(AND(($T$6>(G60*$X$9)),$T$6<(H60*$X$10)),\"ESD\",IF(AND(($T$6>(H60*$X$10)),$T$6<(I60*$X$11)),\"BC\",\"\")))))","v":"Simples"}]
[null,{"$f":"Engastamento!B57","v":11},{"$f":"Engastamento!C57","v":300},"MD",{"$f":"CONCATENATE(B61,\" \",D61)","v":"11 MD"},{"$f":"Engastamento!O57","v":{"v":218.3555555555556,"d":"218"}},{"$f":"Engastamento!P57","v":{"v":313.6801786711335,"d":"314"}},{"$f":"Engastamento!Q57","v":{"v":333.20000000000005,"d":"333"}},{"$f":"Engastamento!R57","v":0},{"$f":"IF((C61*$U$7)<$T$6,\"\",IF(AND((C61*$U$7)>$T$6,$T$6<(F61*$X$8)),\"Simples\",IF(AND(($T$6>(F61*$X$8)),$T$6<(G61*$X$9)),\"ESS\",IF(AND(($T$6>(G61*$X$9)),$T$6<(H61*$X$10)),\"ESD\",IF(AND(($T$6>(H61*$X$10)),$T$6<(I61*$X$11)),\"BC\",\"\")))))","v":"Simples"}]
[null,{"$f":"Engastamento!B58","v":12},{"$f":"Engastamento!C58","v":265},"MD",{"$f":"CONCATENATE(B62,\" \",D62)","v":"12 MD"},{"$f":"Engastamento!O58","v":{"v":237.2338983050848,"d":"237"}},{"$f":"Engastamento!P58","v":{"v":330.9439900482041,"d":"331"}},{"$f":"Engastamento!Q58","v":{"v":350.0745762711865,"d":"350"}},{"$f":"Engastamento!R58","v":0},{"$f":"IF((C62*$U$7)<$T$6,\"\",IF(AND((C62*$U$7)>$T$6,$T$6<(F62*$X$8)),\"Simples\",IF(AND(($T$6>(F62*$X$8)),$T$6<(G62*$X$9)),\"ESS\",IF(AND(($T$6>(G62*$X$9)),$T$6<(H62*$X$10)),\"ESD\",IF(AND(($T$6>(H62*$X$10)),$T$6<(I62*$X$11)),\"BC\",\"\")))))","v":"Simples"}]
[null,{"$f":"Engastamento!B59","v":13},{"$f":"Engastamento!C59","v":230},"MD",{"$f":"CONCATENATE(B63,\" \",D63)","v":"13 MD"},{"$f":"Engastamento!O59","v":{"v":267.92968749999994,"d":"268"}},{"$f":"Engastamento!P59","v":{"v":359.0689280063291,"d":"359"}},{"$f":"Engastamento!Q59","v":{"v":377.61718749999994,"d":"378"}},{"$f":"Engastamento!R59","v":0},{"$f":"IF((C63*$U$7)<$T$6,\"\",IF(AND((C63*$U$7)>$T$6,$T$6<(F63*$X$8)),\"Simples\",IF(AND(($T$6>(F63*$X$8)),$T$6<(G63*$X$9)),\"ESS\",IF(AND(($T$6>(G63*$X$9)),$T$6<(H63*$X$10)),\"ESD\",IF(AND(($T$6>(H63*$X$10)),$T$6<(I63*$X$11)),\"BC\",\"\")))))","v":"Simples"}]
["Face 'A'",{"$f":"Engastamento!B99","v":9},{"$f":"Engastamento!C99","v":150},"DT",{"$f":"CONCATENATE(B64,\" \",C64,\" \",D64,\" \",A64,\" '\",K64,\"'\")","v":"9 150 DT Face 'A' 'D'"},{"$f":"Engastamento!O99","v":{"v":209.64705882352942,"d":"210"}},{"$f":"Engastamento!P99","v":{"v":309.9329943074004,"d":"310"}},{"$f":"Engastamento!Q99","v":{"v":339.02664136622394,"d":"339"}},{"$f":"Engastamento!R99","v":{"v":525.6720453439216,"d":"526"}},{"$f":"IF(C64=\"\",\"\",IF((C64*$U$8*$U$10)<$T$6,\"\",IF(AND((C64*$U$8)>$T$6,$T$6<(F64*$X$8)),\"Simples\",IF(AND(($T$6>(F64*$X$8)),$T$6<(G64*$X$9)),\"ESS\",IF(AND(($T$6>(G64*$X$9)),$T$6<(H64*$X$10)),\"ESD\",IF(AND(($T$6>(H64*$X$10)),$T$6<(I64*$X$11)),\"BC\",\"\"))))))","v":""},{"$f":"Engastamento!T99","v":"D"}]
["Face 'A'",{"$f":"Engastamento!B100","v":9},{"$f":"Engastamento!C100","v":200},"DT",{"$f":"CONCATENATE(B65,\" \",C65,\" \",D65,\" \",A65,\" '\",K65,\"'\")","v":"9 200 DT Face 'A' 'D'"},{"$f":"Engastamento!O100","v":{"v":209.64705882352942,"d":"210"}},{"$f":"Engastamento!P100","v":{"v":309.9329943074004,"d":"310"}},{"$f":"Engastamento!Q100","v":{"v":339.02664136622394,"d":"339"}},{"$f":"Engastamento!R100","v":{"v":525.6720453439216,"d":"526"}},{"$f":"IF(C65=\"\",\"\",IF((C65*$U$8*$U$10)<$T$6,\"\",IF(AND((C65*$U$8)>$T$6,$T$6<(F65*$X$8)),\"Simples\",IF(AND(($T$6>(F65*$X$8)),$T$6<(G65*$X$9)),\"ESS\",IF(AND(($T$6>(G65*$X$9)),$T$6<(H65*$X$10)),\"ESD\",IF(AND(($T$6>(H65*$X$10)),$T$6<(I65*$X$11)),\"BC\",\"\"))))))","v":""},{"$f":"Engastamento!T100","v":"D"}]
["Face 'A'",{"$f":"Engastamento!B101","v":9},{"$f":"Engastamento!C101","v":300},"DT","9 300 DT Face 'A' 'B'",{"$f":"Engastamento!O101","v":{"v":311.29411764705884,"d":"311"}},{"$f":"Engastamento!P101","v":{"v":394.1390208728653,"d":"394"}},{"$f":"Engastamento!Q101","v":{"v":418.17290322580646,"d":"418"}},{"$f":"Engastamento!R101","v":{"v":683.7328345142132,"d":"684"}},"Simples",{"$f":"Engastamento!T101","v":"B"}]
["Face 'A'",{"$f":"Engastamento!B102","v":9},{"$f":"Engastamento!C102","v":400},"DT","9 400 DT Face 'A' 'B'",{"$f":"Engastamento!O102","v":{"v":311.29411764705884,"d":"311"}},{"$f":"Engastamento!P102","v":{"v":394.1390208728653,"d":"394"}},{"$f":"Engastamento!Q102","v":{"v":418.17290322580646,"d":"418"}},{"$f":"Engastamento!R102","v":{"v":683.7328345142132,"d":"684"}},"Simples",{"$f":"Engastamento!T102","v":"B"}]
["Face 'A'",{"$f":"Engastamento!B103","v":9},{"$f":"Engastamento!C103","v":600},"DT","9 600 DT Face 'A' 'B'",{"$f":"Engastamento!O103","v":{"v":311.29411764705884,"d":"311"}},{"$f":"Engastamento!P103","v":{"v":394.1390208728653,"d":"394"}},{"$f":"Engastamento!Q103","v":{"v":418.17290322580646,"d":"418"}},{"$f":"Engastamento!R103","v":{"v":683.7328345142132,"d":"684"}},"Simples",{"$f":"Engastamento!T103","v":"B"}]
["Face 'A'",{"$f":"Engastamento!B104","v":9},{"$f":"Engastamento!C104","v":1000},"DT","9 1000 DT Face 'A' 'B-1,5'",{"$f":"Engastamento!O104","v":{"v":344.6470588235294,"d":"345"}},{"$f":"Engastamento!P104","v":{"v":421.76912333965845,"d":"422"}},{"$f":"Engastamento!Q104","v":{"v":444.14277039848196,"d":"444"}},{"$f":"Engastamento!R104","v":{"v":772.4391142362912,"d":"772"}},"Simples",{"$f":"Engastamento!T104","v":"B-1,5"}]
["Face 'A'",{"$f":"Engastamento!B105","v":9},{"$f":"Engastamento!C105","v":""},"DT","9  DT Face 'A' ''",{"$f":"Engastamento!O105","v":""},{"$f":"Engastamento!P105","v":""},{"$f":"Engastamento!Q105","v":""},{"$f":"Engastamento!R105","v":""},"",{"$f":"Engastamento!T105","v":""}]
["Face 'A'",{"$f":"Engastamento!B106","v":9},{"$f":"Engastamento!C106","v":""},"DT","9  DT Face 'A' ''",{"$f":"Engastamento!O106","v":""},{"$f":"Engastamento!P106","v":""},{"$f":"Engastamento!Q106","v":""},{"$f":"Engastamento!R106","v":""},"",{"$f":"Engastamento!T106","v":""}]
["Face 'A'",{"$f":"Engastamento!B107","v":9},{"$f":"Engastamento!C107","v":""},"DT","9  DT Face 'A' ''",{"$f":"Engastamento!O107","v":""},{"$f":"Engastamento!P107","v":""},{"$f":"Engastamento!Q107","v":""},{"$f":"Engastamento!R107","v":""},"",{"$f":"Engastamento!T107","v":""}]
["Face 'A'",{"$f":"Engastamento!B108","v":10},{"$f":"Engastamento!C108","v":150},"DT","10 150 DT Face 'A' 'D'",{"$f":"Engastamento!O108","v":{"v":234.0571428571429,"d":"234"}},{"$f":"Engastamento!P108","v":{"v":326.2171428571429,"d":"326"}},{"$f":"Engastamento!Q108","v":{"v":352.66612244897965,"d":"353"}},{"$f":"Engastamento!R108","v":{"v":586.1730153032079,"d":"586"}},"",{"$f":"Engastamento!T108","v":"D"}]
["Face 'A'",{"$f":"Engastamento!B109","v":10},{"$f":"Engastamento!C109","v":200},"DT","10 200 DT Face 'A' 'B'",{"$f":"Engastamento!O109","v":{"v":234.0571428571429,"d":"234"}},{"$f":"Engastamento!P109","v":{"v":326.2171428571429,"d":"326"}},{"$f":"Engastamento!Q109","v":{"v":352.66612244897965,"d":"353"}},{"$f":"Engastamento!R109","v":{"v":586.1730153032079,"d":"586"}},"",{"$f":"Engastamento!T109","v":"B"}]
["Face 'A'",{"$f":"Engastamento!B110","v":10},{"$f":"Engastamento!C110","v":300},"DT","10 300 DT Face 'A' 'B'",{"$f":"Engastamento!O110","v":{"v":351.08571428571435,"d":"351"}},{"$f":"Engastamento!P110","v":{"v":425.32571428571435,"d":"425"}},{"$f":"Engastamento!Q110","v":{"v":446.63183673469393,"d":"447"}},{"$f":"Engastamento!R110","v":{"v":783.786894972382,"d":"784"}},"Simples",{"$f":"Engastamento!T110","v":"B"}]
["Face 'A'",{"$f":"Engastamento!B111","v":10},{"$f":"Engastamento!C111","v":400},"DT","10 400 DT Face 'A' 'B'",{"$f":"Engastamento!O111","v":{"v":351.08571428571435,"d":"351"}},{"$f":"Engastamento!P111","v":{"v":425.32571428571435,"d":"425"}},{"$f":"Engastamento!Q111","v":{"v":446.63183673469393,"d":"447"}},{"$f":"Engastamento!R111","v":{"v":783.786894972382,"d":"784"}},"Simples",{"$f":"Engastamento!T111","v":"B"}]
["Face 'A'",{"$f":"Engastamento!B112","v":10},{"$f":"Engastamento!C112","v":600},"DT","10 600 DT Face 'A' 'B'",{"$f":"Engastamento!O112","v":{"v":351.08571428571435,"d":"351"}},{"$f":"Engastamento!P112","v":{"v":425.32571428571435,"d":"425"}},{"$f":"Engastamento!Q112","v":{"v":446.63183673469393,"d":"447"}},{"$f":"Engastamento!R112","v":{"v":783.786894972382,"d":"784"}},"Simples",{"$f":"Engastamento!T112","v":"B"}]
["Face 'A'",{"$f":"Engastamento!B113","v":10},{"$f":"Engastamento!C113","v":1000},"DT","10 1000 DT Face 'A' 'B-1,5'",{"$f":"Engastamento!O113","v":{"v":386.1942857142858,"d":"386"}},{"$f":"Engastamento!P113","v":{"v":455.0582857142858,"d":"455"}},{"$f":"Engastamento!Q113","v":{"v":474.8215510204082,"d":"475"}},{"$f":"Engastamento!R113","v":{"v":791.6491784410323,"d":"792"}},"Simples",{"$f":"Engastamento!T113","v":"B-1,5"}]
["Face 'A'",{"$f":"Engastamento!B114","v":10},{"$f":"Engastamento!C114","v":""},"DT","10  DT Face 'A' ''",{"$f":"Engastamento!O114","v":""},{"$f":"Engastamento!P114","v":""},{"$f":"Engastamento!Q114","v":""},{"$f":"Engastamento!R114","v":""},"",{"$f":"Engastamento!T114","v":""}]
["Face 'A'",{"$f":"Engastamento!B115","v":10},{"$f":"Engastamento!C115","v":""},"DT","10  DT Face 'A' ''",{"$f":"Engastamento!O115","v":""},{"$f":"Engastamento!P115","v":""},{"$f":"Engastamento!Q115","v":""},{"$f":"Engastamento!R115","v":""},"",{"$f":"Engastamento!T115","v":""}]
["Face 'A'",{"$f":"Engastamento!B116","v":10},{"$f":"Engastamento!C116","v":""},"DT","10  DT Face 'A' ''",{"$f":"Engastamento!O116","v":""},{"$f":"Engastamento!P116","v":""},{"$f":"Engastamento!Q116","v":""},{"$f":"Engastamento!R116","v":""},"",{"$f":"Engastamento!T116","v":""}]
["Face 'A'",{"$f":"Engastamento!B117","v":11},{"$f":"Engastamento!C117","v":200},"DT","11 200 DT Face 'A' 'D'",{"$f":"Engastamento!O117","v":{"v":269.3051851851852,"d":"269"}},{"$f":"Engastamento!P117","v":{"v":357.60588870277314,"d":"358"}},{"$f":"Engastamento!Q117","v":{"v":382.63699981388424,"d":"383"}},{"$f":"Engastamento!R117","v":{"v":635.9696817941096,"d":"636"}},"",{"$f":"Engastamento!T117","v":"D"}]
["Face 'A'",{"$f":"Engastamento!B118","v":11},{"$f":"Engastamento!C118","v":300},"DT","11 300 DT Face 'A' 'B'",{"$f":"Engastamento!O118","v":{"v":407.59703703703707,"d":"408"}},{"$f":"Engastamento!P118","v":{"v":476.83281593150946,"d":"477"}},{"$f":"Engastamento!Q118","v":{"v":496.4594825981761,"d":"496"}},{"$f":"Engastamento!R118","v":{"v":846.9945375873993,"d":"847"}},"Simples",{"$f":"Engastamento!T118","v":"B"}]
["Face 'A'",{"$f":"Engastamento!B119","v":11},{"$f":"Engastamento!C119","v":400},"DT","11 400 DT Face 'A' 'B'",{"$f":"Engastamento!O119","v":{"v":407.59703703703707,"d":"408"}},{"$f":"Engastamento!P119","v":{"v":476.83281593150946,"d":"477"}},{"$f":"Engastamento!Q119","v":{"v":496.4594825981761,"d":"496"}},{"$f":"Engastamento!R119","v":{"v":846.9945375873993,"d":"847"}},"Simples",{"$f":"Engastamento!T119","v":"B"}]
["Face 'A'",{"$f":"Engastamento!B120","v":11},{"$f":"Engastamento!C120","v":600},"DT","11 600 DT Face 'A' 'B'",{"$f":"Engastamento!O120","v":{"v":407.59703703703707,"d":"408"}},{"$f":"Engastamento!P120","v":{"v":476.83281593150946,"d":"477"}},{"$f":"Engastamento!Q120","v":{"v":496.4594825981761,"d":"496"}},{"$f":"Engastamento!R120","v":{"v":846.9945375873993,"d":"847"}},"Simples",{"$f":"Engastamento!T120","v":"B"}]
["Face 'A'",{"$f":"Engastamento!B121","v":11},{"$f":"Engastamento!C121","v":1000},"DT",{"$f":"CONCATENATE(B86,\" \",C86,\" \",D86,\" \",A86,\" '\",K86,\"'\")","v":"11 1000 DT Face 'A' 'B-1,5'"},{"$f":"Engastamento!O121","v":{"v":445.8092592592593,"d":"446"}},{"$f":"Engastamento!P121","v":{"v":509.7770984552392,"d":"510"}},{"$f":"Engastamento!Q121","v":{"v":527.9104317885725,"d":"528"}},{"$f":"Engastamento!R121","v":{"v":911.8542113044073,"d":"912"}},"Simples",{"$f":"Engastamento!T121","v":"B-1,5"}]
["Face 'A'",{"$f":"Engastamento!B122","v":11},{"$f":"Engastamento!C122","v":""},"DT","11  DT Face 'A' ''",{"$f":"Engastamento!O122","v":""},{"$f":"Engastamento!P122","v":""},{"$f":"Engastamento!Q122","v":""},{"$f":"Engastamento!R122","v":""},"",{"$f":"Engastamento!T122","v":""}]
["Face 'A'",{"$f":"Engastamento!B123","v":11},{"$f":"Engastamento!C123","v":""},"DT","11  DT Face 'A' ''",{"$f":"Engastamento!O123","v":""},{"$f":"Engastamento!P123","v":""},{"$f":"Engastamento!Q123","v":""},{"$f":"Engastamento!R123","v":""},"",{"$f":"Engastamento!T123","v":""}]
["Face 'A'",{"$f":"Engastamento!B124","v":11},{"$f":"Engastamento!C124","v":""},"DT","11  DT Face 'A' ''",{"$f":"Engastamento!O124","v":""},{"$f":"Engastamento!P124","v":""},{"$f":"Engastamento!Q124","v":""},{"$f":"Engastamento!R124","v":""},"",{"$f":"Engastamento!T124","v":""}]
["Face 'A'",{"$f":"Engastamento!B125","v":11},{"$f":"Engastamento!C125","v":""},"DT","11  DT Face 'A' ''",{"$f":"Engastamento!O125","v":""},{"$f":"Engastamento!P125","v":""},{"$f":"Engastamento!Q125","v":""},{"$f":"Engastamento!R125","v":""},"",{"$f":"Engastamento!T125","v":""}]
["Face 'A'",{"$f":"Engastamento!B126","v":12},{"$f":"Engastamento!C126","v":200},"DT","12 200 DT Face 'A' 'D'",{"$f":"Engastamento!O126","v":{"v":306.4271186440679,"d":"306"}},{"$f":"Engastamento!P126","v":{"v":391.50601772663674,"d":"392"}},{"$f":"Engastamento!Q126","v":{"v":415.3636448452808,"d":"415"}},{"$f":"Engastamento!R126","v":{"v":688.0348120725383,"d":"688"}},"",{"$f":"Engastamento!T126","v":"D"}]
["Face 'A'",{"$f":"Engastamento!B127","v":12},{"$f":"Engastamento!C127","v":300},"DT","12 300 DT Face 'A' 'B'",{"$f":"Engastamento!O127","v":{"v":470.5138983050849,"d":"471"}},{"$f":"Engastamento!P127","v":{"v":535.1245405069199,"d":"535"}},{"$f":"Engastamento!Q127","v":{"v":553.2425066086148,"d":"553"}},{"$f":"Engastamento!R127","v":{"v":953.8209811935237,"d":"954"}},"Simples",{"$f":"Engastamento!T127","v":"B"}]
["Face 'A'",{"$f":"Engastamento!B128","v":12},{"$f":"Engastamento!C128","v":400},"DT","12 400 DT Face 'A' 'B'",{"$f":"Engastamento!O128","v":{"v":470.5138983050849,"d":"471"}},{"$f":"Engastamento!P128","v":{"v":535.1245405069199,"d":"535"}},{"$f":"Engastamento!Q128","v":{"v":553.2425066086148,"d":"553"}},{"$f":"Engastamento!R128","v":{"v":953.8209811935237,"d":"954"}},"Simples",{"$f":"Engastamento!T128","v":"B"}]
["Face 'A'",{"$f":"Engastamento!B129","v":12},{"$f":"Engastamento!C129","v":600},"DT","12 600 DT Face 'A' 'B'",{"$f":"Engastamento!O129","v":{"v":470.5138983050849,"d":"471"}},{"$f":"Engastamento!P129","v":{"v":535.1245405069199,"d":"535"}},{"$f":"Engastamento!Q129","v":{"v":553.2425066086148,"d":"553"}},{"$f":"Engastamento!R129","v":{"v":953.8209811935237,"d":"954"}},"Simples",{"$f":"Engastamento!T129","v":"B"}]
["Face 'A'",{"$f":"Engastamento!B130","v":12},{"$f":"Engastamento!C130","v":1000},"DT","12 1000 DT Face 'A' 'B-1,5'",{"$f":"Engastamento!O130","v":{"v":512.0298305084748,"d":"512"}},{"$f":"Engastamento!P130","v":{"v":571.4617571139794,"d":"571"}},{"$f":"Engastamento!Q130","v":{"v":588.1275198258438,"d":"588"}},{"$f":"Engastamento!R130","v":{"v":1023.420124528368,"d":"1023"}},"Simples",{"$f":"Engastamento!T130","v":"B-1,5"}]
["Face 'A'",{"$f":"Engastamento!B131","v":12},{"$f":"Engastamento!C131","v":2000},"DT","12 2000 DT Face 'A' 'B-4,5'",{"$f":"Engastamento!O131","v":{"v":595.0616949152544,"d":"595"}},{"$f":"Engastamento!P131","v":{"v":644.1361903280985,"d":"644"}},{"$f":"Engastamento!Q131","v":{"v":657.8975462603019,"d":"658"}},{"$f":"Engastamento!R131","v":{"v":1162.7160124668715,"d":"1163"}},"Simples",{"$f":"Engastamento!T131","v":"B-4,5"}]
["Face 'A'",{"$f":"Engastamento!B132","v":12},{"$f":"Engastamento!C132","v":3000},"DT","12 3000 DT Face 'A' 'B-6'",{"$f":"Engastamento!O132","v":{"v":636.5776271186444,"d":"637"}},{"$f":"Engastamento!P132","v":{"v":680.4734069351582,"d":"680"}},{"$f":"Engastamento!Q132","v":{"v":692.7825594775311,"d":"693"}},{"$f":"Engastamento!R132","v":{"v":1270.3316622277737,"d":"1270"}},"Simples",{"$f":"Engastamento!T132","v":"B-6"}]
["Face 'A'",{"$f":"Engastamento!B133","v":12},{"$f":"Engastamento!C133","v":""},"DT","12  DT Face 'A' ''",{"$f":"Engastamento!O133","v":""},{"$f":"Engastamento!P133","v":""},{"$f":"Engastamento!Q133","v":""},{"$f":"Engastamento!R133","v":""},"",{"$f":"Engastamento!T133","v":""}]
["Face 'A'",{"$f":"Engastamento!B134","v":12},{"$f":"Engastamento!C134","v":""},"DT",{"$f":"CONCATENATE(B99,\" \",C99,\" \",D99,\" \",A99,\" '\",K99,\"'\")","v":"12  DT Face 'A' ''"},{"$f":"Engastamento!O134","v":""},{"$f":"Engastamento!P134","v":""},{"$f":"Engastamento!Q134","v":""},{"$f":"Engastamento!R134","v":""},"",{"$f":"Engastamento!T134","v":""}]
["Face 'A'",{"$f":"Engastamento!B135","v":13},{"$f":"Engastamento!C135","v":300},"DT","13 300 DT Face 'A' 'B'",{"$f":"Engastamento!O135","v":{"v":540.1462499999999,"d":"540"}},{"$f":"Engastamento!P135","v":{"v":600.4196677215189,"d":"600"}},{"$f":"Engastamento!Q135","v":{"v":617.1596677215189,"d":"617"}},{"$f":"Engastamento!R135","v":{"v":1072.2457135900927,"d":"1072"}},"Simples",{"$f":"Engastamento!T135","v":"B"}]
["Face 'A'",{"$f":"Engastamento!B136","v":13},{"$f":"Engastamento!C136","v":400},"DT","13 400 DT Face 'A' 'B'",{"$f":"Engastamento!O136","v":{"v":540.1462499999999,"d":"540"}},{"$f":"Engastamento!P136","v":{"v":600.4196677215189,"d":"600"}},{"$f":"Engastamento!Q136","v":{"v":617.1596677215189,"d":"617"}},{"$f":"Engastamento!R136","v":{"v":1072.2457135900927,"d":"1072"}},"Simples",{"$f":"Engastamento!T136","v":"B"}]
["Face 'A'",{"$f":"Engastamento!B137","v":13},{"$f":"Engastamento!C137","v":600},"DT","13 600 DT Face 'A' 'B'",{"$f":"Engastamento!O137","v":{"v":540.1462499999999,"d":"540"}},{"$f":"Engastamento!P137","v":{"v":600.4196677215189,"d":"600"}},{"$f":"Engastamento!Q137","v":{"v":617.1596677215189,"d":"617"}},{"$f":"Engastamento!R137","v":{"v":1072.2457135900927,"d":"1072"}},"Simples",{"$f":"Engastamento!T137","v":"B"}]
["Face 'A'",{"$f":"Engastamento!B138","v":13},{"$f":"Engastamento!C138","v":""},"DT","13  DT Face 'A' ''",{"$f":"Engastamento!O138","v":""},{"$f":"Engastamento!P138","v":""},{"$f":"Engastamento!Q138","v":""},{"$f":"Engastamento!R138","v":""},"",{"$f":"Engastamento!T138","v":""}]
["Face 'A'",{"$f":"Engastamento!B139","v":13},{"$f":"Engastamento!C139","v":""},"DT","13  DT Face 'A' ''",{"$f":"Engastamento!O139","v":""},{"$f":"Engastamento!P139","v":""},{"$f":"Engastamento!Q139","v":""},{"$f":"Engastamento!R139","v":""},"",{"$f":"Engastamento!T139","v":""}]
["Face 'A'",{"$f":"Engastamento!B140","v":13},{"$f":"Engastamento!C140","v":""},"DT","13  DT Face 'A' ''",{"$f":"Engastamento!O140","v":""},{"$f":"Engastamento!P140","v":""},{"$f":"Engastamento!Q140","v":""},{"$f":"Engastamento!R140","v":""},"",{"$f":"Engastamento!T140","v":""}]
["Face 'A'",{"$f":"Engastamento!B141","v":13},{"$f":"Engastamento!C141","v":""},"DT","13  DT Face 'A' ''",{"$f":"Engastamento!O141","v":""},{"$f":"Engastamento!P141","v":""},{"$f":"Engastamento!Q141","v":""},{"$f":"Engastamento!R141","v":""},"",{"$f":"Engastamento!T141","v":""}]
["Face 'A'",{"$f":"Engastamento!B142","v":13},{"$f":"Engastamento!C142","v":""},"DT","13  DT Face 'A' ''",{"$f":"Engastamento!O142","v":""},{"$f":"Engastamento!P142","v":""},{"$f":"Engastamento!Q142","v":""},{"$f":"Engastamento!R142","v":""},"",{"$f":"Engastamento!T142","v":""}]
["Face 'B'",{"$f":"Engastamento!B148","v":9},{"$f":"Engastamento!C148","v":150},"DT","9 150 DT Face 'B' 'D'",{"$f":"Engastamento!O148","v":{"v":150.88235294117646,"d":"151"}},{"$f":"Engastamento!P148","v":{"v":261.251385199241,"d":"261"}},{"$f":"Engastamento!Q148","v":{"v":293.27020872865273,"d":"293"}},{"$f":"Engastamento!R148","v":{"v":517.8025836647047,"d":"518"}},{"$f":"IF(C108=\"\",\"\",IF((C108*$U$8)<$T$6,\"\",IF(AND((C108*$U$8)>$T$6,$T$6<(F108*$X$8)),\"Simples\",IF(AND(($T$6>(F108*$X$8)),$T$6<(G108*$X$9)),\"ESS\",IF(AND(($T$6>(G108*$X$9)),$T$6<(H108*$X$10)),\"ESD\",IF(AND(($T$6>(H108*$X$10)),$T$6<(I108*$X$11)),\"BC\",\"\"))))))","v":"Simples"},{"$f":"Engastamento!T148","v":"D"}]
["Face 'B'",{"$f":"Engastamento!B149","v":9},{"$f":"Engastamento!C149","v":200},"DT","9 200 DT Face 'B' 'D'",{"$f":"Engastamento!O149","v":{"v":150.88235294117646,"d":"151"}},{"$f":"Engastamento!P149","v":{"v":261.251385199241,"d":"261"}},{"$f":"Engastamento!Q149","v":{"v":293.27020872865273,"d":"293"}},{"$f":"Engastamento!R149","v":{"v":517.8025836647047,"d":"518"}},{"$f":"IF(C109=\"\",\"\",IF((C109*$U$8)<$T$6,\"\",IF(AND((C109*$U$8)>$T$6,$T$6<(F109*$X$8)),\"Simples\",IF(AND(($T$6>(F109*$X$8)),$T$6<(G109*$X$9)),\"ESS\",IF(AND(($T$6>(G109*$X$9)),$T$6<(H109*$X$10)),\"ESD\",IF(AND(($T$6>(H109*$X$10)),$T$6<(I109*$X$11)),\"BC\",\"\"))))))","v":"Simples"},{"$f":"Engastamento!T149","v":"D"}]
["Face 'B'",{"$f":"Engastamento!B150","v":9},{"$f":"Engastamento!C150","v":300},"DT","9 300 DT Face 'B' 'B'",{"$f":"Engastamento!O150","v":{"v":230.2941176470588,"d":"230"}},{"$f":"Engastamento!P150","v":{"v":327.0373434535104,"d":"327"}},{"$f":"Engastamento!Q150","v":{"v":355.1032258064516,"d":"355"}},{"$f":"Engastamento!R150","v":{"v":666.3200721998418,"d":"666"}},"Simples",{"$f":"Engastamento!T150","v":"B"}]
["Face 'B'",{"$f":"Engastamento!B151","v":9},{"$f":"Engastamento!C151","v":400},"DT","9 400 DT Face 'B' 'B'",{"$f":"Engastamento!O151","v":{"v":230.2941176470588,"d":"230"}},{"$f":"Engastamento!P151","v":{"v":327.0373434535104,"d":"327"}},{"$f":"Engastamento!Q151","v":{"v":355.1032258064516,"d":"355"}},{"$f":"Engastamento!R151","v":{"v":666.3200721998418,"d":"666"}},"Simples",{"$f":"Engastamento!T151","v":"B"}]
["Face 'B'",{"$f":"Engastamento!B152","v":9},{"$f":"Engastamento!C152","v":600},"DT","9 600 DT Face 'B' 'B'",{"$f":"Engastamento!O152","v":{"v":230.2941176470588,"d":"230"}},{"$f":"Engastamento!P152","v":{"v":327.0373434535104,"d":"327"}},{"$f":"Engastamento!Q152","v":{"v":355.1032258064516,"d":"355"}},{"$f":"Engastamento!R152","v":{"v":666.3200721998418,"d":"666"}},"Simples",{"$f":"Engastamento!T152","v":"B"}]
["Face 'B'",{"$f":"Engastamento!B153","v":9},{"$f":"Engastamento!C153","v":1000},"DT","9 1000 DT Face 'B' 'B-1,5'",{"$f":"Engastamento!O153","v":{"v":254.11764705882354,"d":"254"}},{"$f":"Engastamento!P153","v":{"v":346.77313092979125,"d":"347"}},{"$f":"Engastamento!Q153","v":{"v":373.65313092979125,"d":"374"}},{"$f":"Engastamento!R153","v":{"v":719.323565605088,"d":"719"}},"Simples",{"$f":"Engastamento!T153","v":"B-1,5"}]
["Face 'B'",{"$f":"Engastamento!B154","v":9},{"$f":"Engastamento!C154","v":""},"DT","9  DT Face 'B' ''",{"$f":"Engastamento!O154","v":""},{"$f":"Engastamento!P154","v":""},{"$f":"Engastamento!Q154","v":""},{"$f":"Engastamento!R154","v":""},"",{"$f":"Engastamento!T154","v":""}]
["Face 'B'",{"$f":"Engastamento!B155","v":9},{"$f":"Engastamento!C155","v":""},"DT","9  DT Face 'B' ''",{"$f":"Engastamento!O155","v":""},{"$f":"Engastamento!P155","v":""},{"$f":"Engastamento!Q155","v":""},{"$f":"Engastamento!R155","v":""},"",{"$f":"Engastamento!T155","v":""}]
["Face 'B'",{"$f":"Engastamento!B156","v":9},{"$f":"Engastamento!C156","v":""},"DT","9  DT Face 'B' ''",{"$f":"Engastamento!O156","v":""},{"$f":"Engastamento!P156","v":""},{"$f":"Engastamento!Q156","v":""},{"$f":"Engastamento!R156","v":""},"",{"$f":"Engastamento!T156","v":""}]
["Face 'B'",{"$f":"Engastamento!B158","v":10},{"$f":"Engastamento!C158","v":150},"DT","10 150 DT Face 'B' 'D'",{"$f":"Engastamento!O158","v":{"v":167.18367346938777,"d":"167"}},{"$f":"Engastamento!P158","v":{"v":269.58367346938775,"d":"270"}},{"$f":"Engastamento!Q158","v":{"v":298.9714285714286,"d":"299"}},{"$f":"Engastamento!R158","v":{"v":559.6112221010283,"d":"560"}},"Simples",{"$f":"Engastamento!T158","v":"D"}]
["Face 'B'",{"$f":"Engastamento!B159","v":10},{"$f":"Engastamento!C159","v":200},"DT","10 200 DT Face 'B' 'B'",{"$f":"Engastamento!O159","v":{"v":167.18367346938777,"d":"167"}},{"$f":"Engastamento!P159","v":{"v":269.58367346938775,"d":"270"}},{"$f":"Engastamento!Q159","v":{"v":298.9714285714286,"d":"299"}},{"$f":"Engastamento!R159","v":{"v":559.6112221010283,"d":"560"}},"Simples",{"$f":"Engastamento!T159","v":"B"}]
["Face 'B'",{"$f":"Engastamento!B160","v":10},{"$f":"Engastamento!C160","v":300},"DT","10 300 DT Face 'B' 'B'",{"$f":"Engastamento!O160","v":{"v":259.13469387755106,"d":"259"}},{"$f":"Engastamento!P160","v":{"v":347.45469387755105,"d":"347"}},{"$f":"Engastamento!Q160","v":{"v":372.80163265306123,"d":"373"}},{"$f":"Engastamento!R160","v":{"v":729.5202944793418,"d":"730"}},"Simples",{"$f":"Engastamento!T160","v":"B"}]
["Face 'B'",{"$f":"Engastamento!B161","v":10},{"$f":"Engastamento!C161","v":400},"DT","10 400 DT Face 'B' 'B'",{"$f":"Engastamento!O161","v":{"v":259.13469387755106,"d":"259"}},{"$f":"Engastamento!P161","v":{"v":347.45469387755105,"d":"347"}},{"$f":"Engastamento!Q161","v":{"v":372.80163265306123,"d":"373"}},{"$f":"Engastamento!R161","v":{"v":729.5202944793418,"d":"730"}},"Simples",{"$f":"Engastamento!T161","v":"B"}]
["Face 'B'",{"$f":"Engastamento!B162","v":10},{"$f":"Engastamento!C162","v":600},"DT","10 600 DT Face 'B' 'B'",{"$f":"Engastamento!O162","v":{"v":259.13469387755106,"d":"259"}},{"$f":"Engastamento!P162","v":{"v":347.45469387755105,"d":"347"}},{"$f":"Engastamento!Q162","v":{"v":372.80163265306123,"d":"373"}},{"$f":"Engastamento!R162","v":{"v":729.5202944793418,"d":"730"}},"Simples",{"$f":"Engastamento!T162","v":"B"}]
["Face 'B'",{"$f":"Engastamento!B163","v":10},{"$f":"Engastamento!C163","v":1000},"DT","10 1000 DT Face 'B' 'B-1,5'",{"$f":"Engastamento!O163","v":{"v":284.21224489795924,"d":"284"}},{"$f":"Engastamento!P163","v":{"v":368.6922448979592,"d":"369"}},{"$f":"Engastamento!Q163","v":{"v":392.9371428571429,"d":"393"}},{"$f":"Engastamento!R163","v":{"v":783.2186419418617,"d":"783"}},"Simples",{"$f":"Engastamento!T163","v":"B-1,5"}]
["Face 'B'",{"$f":"Engastamento!B164","v":10},{"$f":"Engastamento!C164","v":""},"DT","10  DT Face 'B' ''",{"$f":"Engastamento!O164","v":""},{"$f":"Engastamento!P164","v":""},{"$f":"Engastamento!Q164","v":""},{"$f":"Engastamento!R164","v":""},"",{"$f":"Engastamento!T164","v":""}]
["Face 'B'",{"$f":"Engastamento!B165","v":10},{"$f":"Engastamento!C165","v":""},"DT","10  DT Face 'B' ''",{"$f":"Engastamento!O165","v":""},{"$f":"Engastamento!P165","v":""},{"$f":"Engastamento!Q165","v":""},{"$f":"Engastamento!R165","v":""},"",{"$f":"Engastamento!T165","v":""}]
["Face 'B'",{"$f":"Engastamento!B166","v":10},{"$f":"Engastamento!C166","v":""},"DT","10  DT Face 'B' ''",{"$f":"Engastamento!O166","v":""},{"$f":"Engastamento!P166","v":""},{"$f":"Engastamento!Q166","v":""},{"$f":"Engastamento!R166","v":""},"",{"$f":"Engastamento!T166","v":""}]
["Face 'B'",{"$f":"Engastamento!B168","v":11},{"$f":"Engastamento!C168","v":200},"DT","11 200 DT Face 'B' 'D'",{"$f":"Engastamento!O168","v":{"v":191.06111111111113,"d":"191"}},{"$f":"Engastamento!P168","v":{"v":290.1485482970408,"d":"290"}},{"$f":"Engastamento!Q168","v":{"v":318.2374371859297,"d":"318"}},{"$f":"Engastamento!R168","v":{"v":625.5620592233972,"d":"626"}},"Simples",{"$f":"Engastamento!T168","v":"D"}]
["Face 'B'",{"$f":"Engastamento!B169","v":11},{"$f":"Engastamento!C169","v":300},"DT","11 300 DT Face 'B' 'B'",{"$f":"Engastamento!O169","v":{"v":300.23888888888894,"d":"300"}},{"$f":"Engastamento!P169","v":{"v":384.27506979341155,"d":"384"}},{"$f":"Engastamento!Q169","v":{"v":408.0972920156338,"d":"408"}},{"$f":"Engastamento!R169","v":{"v":823.8952817148346,"d":"824"}},"Simples",{"$f":"Engastamento!T169","v":"B"}]
["Face 'B'",{"$f":"Engastamento!B170","v":11},{"$f":"Engastamento!C170","v":400},"DT","11 400 DT Face 'B' 'B'",{"$f":"Engastamento!O170","v":{"v":300.23888888888894,"d":"300"}},{"$f":"Engastamento!P170","v":{"v":384.27506979341155,"d":"384"}},{"$f":"Engastamento!Q170","v":{"v":408.0972920156338,"d":"408"}},{"$f":"Engastamento!R170","v":{"v":823.8952817148346,"d":"824"}},{"$f":"IF(C128=\"\",\"\",IF((C128*$U$8)<$T$6,\"\",IF(AND((C128*$U$8)>$T$6,$T$6<(F128*$X$8)),\"Simples\",IF(AND(($T$6>(F128*$X$8)),$T$6<(G128*$X$9)),\"ESS\",IF(AND(($T$6>(G128*$X$9)),$T$6<(H128*$X$10)),\"ESD\",IF(AND(($T$6>(H128*$X$10)),$T$6<(I128*$X$11)),\"BC\",\"\"))))))","v":"Simples"},{"$f":"Engastamento!T170","v":"B"}]
["Face 'B'",{"$f":"Engastamento!B171","v":11},{"$f":"Engastamento!C171","v":600},"DT",{"$f":"CONCATENATE(B129,\" \",C129,\" \",D129,\" \",A129,\" '\",K129,\"'\")","v":"11 600 DT Face 'B' 'B'"},{"$f":"Engastamento!O171","v":{"v":300.23888888888894,"d":"300"}},{"$f":"Engastamento!P171","v":{"v":384.27506979341155,"d":"384"}},{"$f":"Engastamento!Q171","v":{"v":408.0972920156338,"d":"408"}},{"$f":"Engastamento!R171","v":{"v":823.8952817148346,"d":"824"}},"Simples",{"$f":"Engastamento!T171","v":"B"}]
["Face 'B'",{"$f":"Engastamento!B172","v":11},{"$f":"Engastamento!C172","v":1000},"DT","11 1000 DT Face 'B' 'B-1,5'",{"$f":"Engastamento!O172","v":{"v":327.5333333333334,"d":"328"}},{"$f":"Engastamento!P172","v":{"v":407.8067001675043,"d":"408"}},{"$f":"Engastamento!Q172","v":{"v":430.5622557230599,"d":"431"}},{"$f":"Engastamento!R172","v":{"v":881.9219291660826,"d":"882"}},"Simples",{"$f":"Engastamento!T172","v":"B-1,5"}]
["Face 'B'",{"$f":"Engastamento!B173","v":11},{"$f":"Engastamento!C173","v":""},"DT","11  DT Face 'B' ''",{"$f":"Engastamento!O173","v":""},{"$f":"Engastamento!P173","v":""},{"$f":"Engastamento!Q173","v":""},{"$f":"Engastamento!R173","v":""},"",{"$f":"Engastamento!T173","v":""}]
["Face 'B'",{"$f":"Engastamento!B174","v":11},{"$f":"Engastamento!C174","v":""},"DT","11  DT Face 'B' ''",{"$f":"Engastamento!O174","v":""},{"$f":"Engastamento!P174","v":""},{"$f":"Engastamento!Q174","v":""},{"$f":"Engastamento!R174","v":""},"",{"$f":"Engastamento!T174","v":""}]
["Face 'B'",{"$f":"Engastamento!B175","v":11},{"$f":"Engastamento!C175","v":""},"DT","11  DT Face 'B' ''",{"$f":"Engastamento!O175","v":""},{"$f":"Engastamento!P175","v":""},{"$f":"Engastamento!Q175","v":""},{"$f":"Engastamento!R175","v":""},"",{"$f":"Engastamento!T175","v":""}]
["Face 'B'",{"$f":"Engastamento!B176","v":11},{"$f":"Engastamento!C176","v":""},"DT","11  DT Face 'B' ''",{"$f":"Engastamento!O176","v":""},{"$f":"Engastamento!P176","v":""},{"$f":"Engastamento!Q176","v":""},{"$f":"Engastamento!R176","v":""},"",{"$f":"Engastamento!T176","v":""}]
["Face 'B'",{"$f":"Engastamento!B178","v":12},{"$f":"Engastamento!C178","v":200},"DT","12 200 DT Face 'B' 'D'",{"$f":"Engastamento!O178","v":{"v":227.34915254237296,"d":"227"}},{"$f":"Engastamento!P178","v":{"v":322.29227180842804,"d":"322"}},{"$f":"Engastamento!Q178","v":{"v":348.9160006219874,"d":"349"}},{"$f":"Engastamento!R178","v":{"v":701.4278974692752,"d":"701"}},"Simples",{"$f":"Engastamento!T178","v":"D"}]
["Face 'B'",{"$f":"Engastamento!B179","v":12},{"$f":"Engastamento!C179","v":300},"DT","12 300 DT Face 'B' 'B'",{"$f":"Engastamento!O179","v":{"v":345.9661016949154,"d":"346"}},{"$f":"Engastamento!P179","v":{"v":426.1128906857411,"d":"426"}},{"$f":"Engastamento!Q179","v":{"v":448.5874669569275,"d":"449"}},{"$f":"Engastamento!R179","v":{"v":928.7099179559033,"d":"929"}},"Simples",{"$f":"Engastamento!T179","v":"B"}]
["Face 'B'",{"$f":"Engastamento!B180","v":12},{"$f":"Engastamento!C180","v":400},"DT","12 400 DT Face 'B' 'B'",{"$f":"Engastamento!O180","v":{"v":345.9661016949154,"d":"346"}},{"$f":"Engastamento!P180","v":{"v":426.1128906857411,"d":"426"}},{"$f":"Engastamento!Q180","v":{"v":448.5874669569275,"d":"449"}},{"$f":"Engastamento!R180","v":{"v":928.7099179559033,"d":"929"}},"Simples",{"$f":"Engastamento!T180","v":"B"}]
["Face 'B'",{"$f":"Engastamento!B181","v":12},{"$f":"Engastamento!C181","v":600},"DT","12 600 DT Face 'B' 'B'",{"$f":"Engastamento!O181","v":{"v":345.9661016949154,"d":"346"}},{"$f":"Engastamento!P181","v":{"v":426.1128906857411,"d":"426"}},{"$f":"Engastamento!Q181","v":{"v":448.5874669569275,"d":"449"}},{"$f":"Engastamento!R181","v":{"v":928.7099179559033,"d":"929"}},"Simples",{"$f":"Engastamento!T181","v":"B"}]
["Face 'B'",{"$f":"Engastamento!B182","v":12},{"$f":"Engastamento!C182","v":1000},"DT","12 1000 DT Face 'B' 'B-1,5'",{"$f":"Engastamento!O182","v":{"v":375.62033898305094,"d":"376"}},{"$f":"Engastamento!P182","v":{"v":452.0680454050693,"d":"452"}},{"$f":"Engastamento!Q182","v":{"v":473.50533354066255,"d":"474"}},{"$f":"Engastamento!R182","v":{"v":989.8170183193753,"d":"990"}},"Simples",{"$f":"Engastamento!T182","v":"B-1,5"}]
["Face 'B'",{"$f":"Engastamento!B183","v":12},{"$f":"Engastamento!C183","v":2000},"DT","12 2000 DT Face 'B' 'B-4,5'",{"$f":"Engastamento!O183","v":{"v":434.92881355932224,"d":"435"}},{"$f":"Engastamento!P183","v":{"v":503.9783548437259,"d":"504"}},{"$f":"Engastamento!Q183","v":{"v":523.3410667081328,"d":"523"}},{"$f":"Engastamento!R183","v":{"v":1115.1288156651478,"d":"1115"}},"Simples",{"$f":"Engastamento!T183","v":"B-4,5"}]
["Face 'B'",{"$f":"Engastamento!B184","v":12},{"$f":"Engastamento!C184","v":3000},"DT","12 3000 DT Face 'B' 'B-6'",{"$f":"Engastamento!O184","v":{"v":464.5830508474578,"d":"465"}},{"$f":"Engastamento!P184","v":{"v":529.9335095630541,"d":"530"}},{"$f":"Engastamento!Q184","v":{"v":548.2589332918677,"d":"548"}},{"$f":"Engastamento!R184","v":{"v":1181.5440749280024,"d":"1182"}},"Simples",{"$f":"Engastamento!T184","v":"B-6"}]
["Face 'B'",{"$f":"Engastamento!B185","v":12},{"$f":"Engastamento!C185","v":""},"DT","12  DT Face 'B' ''",{"$f":"Engastamento!O185","v":""},{"$f":"Engastamento!P185","v":""},{"$f":"Engastamento!Q185","v":""},{"$f":"Engastamento!R185","v":""},"",{"$f":"Engastamento!T185","v":""}]
["Face 'B'",{"$f":"Engastamento!B186","v":12},{"$f":"Engastamento!C186","v":""},"DT","12  DT Face 'B' ''",{"$f":"Engastamento!O186","v":""},{"$f":"Engastamento!P186","v":""},{"$f":"Engastamento!Q186","v":""},{"$f":"Engastamento!R186","v":""},"",{"$f":"Engastamento!T186","v":""}]
["Face 'B'",{"$f":"Engastamento!B188","v":13},{"$f":"Engastamento!C188","v":300},"DT","13 300 DT Face 'B' 'B'",{"$f":"Engastamento!O188","v":{"v":396.5359374999999,"d":"397"}},{"$f":"Engastamento!P188","v":{"v":473.09289952531634,"d":"473"}},{"$f":"Engastamento!Q188","v":{"v":494.35539952531633,"d":"494"}},{"$f":"Engastamento!R188","v":{"v":1042.4027056570144,"d":"1042"}},"Simples",{"$f":"Engastamento!T188","v":"B"}]
["Face 'B'",{"$f":"Engastamento!B189","v":13},{"$f":"Engastamento!C189","v":400},"DT","13 400 DT Face 'B' 'B'",{"$f":"Engastamento!O189","v":{"v":396.5359374999999,"d":"397"}},{"$f":"Engastamento!P189","v":{"v":473.09289952531634,"d":"473"}},{"$f":"Engastamento!Q189","v":{"v":494.35539952531633,"d":"494"}},{"$f":"Engastamento!R189","v":{"v":1042.4027056570144,"d":"1042"}},"Simples",{"$f":"Engastamento!T189","v":"B"}]
["Face 'B'",{"$f":"Engastamento!B190","v":13},{"$f":"Engastamento!C190","v":600},"DT","13 600 DT Face 'B' 'B'",{"$f":"Engastamento!O190","v":{"v":396.5359374999999,"d":"397"}},{"$f":"Engastamento!P190","v":{"v":473.09289952531634,"d":"473"}},{"$f":"Engastamento!Q190","v":{"v":494.35539952531633,"d":"494"}},{"$f":"Engastamento!R190","v":{"v":1042.4027056570144,"d":"1042"}},"Simples",{"$f":"Engastamento!T190","v":"B"}]
["Face 'B'",{"$f":"Engastamento!B191","v":13},{"$f":"Engastamento!C191","v":""},"DT","13  DT Face 'B' ''",{"$f":"Engastamento!O191","v":""},{"$f":"Engastamento!P191","v":""},{"$f":"Engastamento!Q191","v":""},{"$f":"Engastamento!R191","v":""},"",{"$f":"Engastamento!T191","v":""}]
["Face 'B'",{"$f":"Engastamento!B192","v":13},{"$f":"Engastamento!C192","v":""},"DT","13  DT Face 'B' ''",{"$f":"Engastamento!O192","v":""},{"$f":"Engastamento!P192","v":""},{"$f":"Engastamento!Q192","v":""},{"$f":"Engastamento!R192","v":""},"",{"$f":"Engastamento!T192","v":""}]
["Face 'B'",{"$f":"Engastamento!B193","v":13},{"$f":"Engastamento!C193","v":""},"DT","13  DT Face 'B' ''",{"$f":"Engastamento!O193","v":""},{"$f":"Engastamento!P193","v":""},{"$f":"Engastamento!Q193","v":""},{"$f":"Engastamento!R193","v":""},"",{"$f":"Engastamento!T193","v":""}]
["Face 'B'",{"$f":"Engastamento!B194","v":13},{"$f":"Engastamento!C194","v":""},"DT","13  DT Face 'B' ''",{"$f":"Engastamento!O194","v":""},{"$f":"Engastamento!P194","v":""},{"$f":"Engastamento!Q194","v":""},{"$f":"Engastamento!R194","v":""},"",{"$f":"Engastamento!T194","v":""}]
["Face 'B'",{"$f":"Engastamento!B195","v":13},{"$f":"Engastamento!C195","v":""},"DT","13  DT Face 'B' ''",{"$f":"Engastamento!O195","v":""},{"$f":"Engastamento!P195","v":""},{"$f":"Engastamento!Q195","v":""},{"$f":"Engastamento!R195","v":""},"",{"$f":"Engastamento!T195","v":""}]

{"sheet":"Parametros","index":9,"n_rows":62,"n_cols":12,"rows_kept":62,"merged":[[1,0,1,7],[4,0,4,1],[15,7,15,8],[16,0,16,1],[16,4,16,5],[16,7,16,8],[16,10,16,11],[17,10,18,10],[17,11,18,11],[23,7,23,8],[24,0,24,1],[24,4,24,5],[24,7,24,8]]}
[]
["ATENÇÃO NUNCA EXCLUIR NEM INCLUIR LINHAS NEM COLUNAS NESTA PLANILHA"]
[]
[]
["PARÂMETROS PARA MÉTODO DE NEWTON RAPSON"]
[]
["E0 (erro admissível)",1e-11]
["Máx de iterações",10000]
["X0 (valor inicial)",0.5]
["PI",{"$f":"PI()","v":{"v":3.141592653589793,"d":"3.141592653589790"}}]
["Iterações do Último Cálculo"]
[]
[]
[]
[]
[]
["COEFICIENTES PARA CÁLCULO DO VENTO NAS ESTRUTURAS",{"$nulls":3},"Valores admissíveis para esforços nos postes de concreto (DT)",null,null,"Valores admissíveis para esforços nos postes demadeira (MD)",null,null,"Utilização da face \"A\" (concava) do poste"]
["coeficiente de transformação",0.0045,null,null,"Topo",{"v":0.8,"d":"80%"},null,"Topo",{"v":1,"d":"100%"},null,"Máximo da nominal",{"v":0.5,"d":"50%"}]
["Efetividade de vento sobre os cabos",0.8,null,null,"Distribuido",{"v":1,"d":"100%"},null,"Distribuido",{"v":1,"d":"100%"}]
[]
[]
[]
[]
[]
["Dados para o Cálculo de flechas inicio e fim dos cálculos",{"$nulls":3},"Valores admissíveis para esforços nos postes de concreto (CC)",null,null,"Valores admissíveis para esforços nos estais auxiliares"]
["temperatura inicial",-5,null,null,"Topo",{"v":0.8,"d":"80%"},null,"SIMPLES",{"v":0.8,"d":"80%"}]
["temperatura final",50,null,null,"Distribuido",{"v":1,"d":"100%"},null,"ESS",{"v":0.8,"d":"80%"}]
["variar temp. de X º",5,{"$nulls":5},"ESD",{"v":0.8,"d":"80%"}]
["vão inicial (no caso de tabelas)",30,{"$nulls":5},"BC",{"v":0.8,"d":"80%"}]
["vão final (no caso de tabelas)",270]
["variar de (no caso de tabelas)",5]
["Tração de projeto a temperatura de",5]
[]
[]
["Empresa:","FECOERGS"]
["Versão","4.1"]
["Ultima Atualização em:","Março - 2015"]
[]
[]
[null,15,"N1 - M1 - B1",null,"Maior vão Permitido (Urbana)",80]
[null,48,"N1 - M1",null,"Maior ângulo Permitido",180]
[null,50,"M2 - B2"]
[null,10,"M2"]
[null,36,"M4 - B4",null,"CAA","Cabo de Alumínio com Alma de Aço - CAA"]
[null,6,"M4",null,"CA","Cabo de Alumínio - CA"]
[null,41,"\"N3 + N3'",null,"CAZ","Cabo de Aço Zincado - CAZ"]
[{"$nulls":4},"CAL","Cabo de Liga de Alumínio - CAL"]
[{"$nulls":4},"AÇO","Cabo de Aço"]
["recalcular valores","Sim","sim",null,"XLPE","Cabo Protegido - XLPE"]
["recalcular valores",null,"sim",null,"CA-XLPE","Cabo Multiplexado"]
["recalcular valores",null,"Yes",null,"CC","Cabo de cobre - CC"]
["recalcular valores",null,"Yes"]
["recalcular valores",null,"Yes"]
["recalcular valores",null,"Yes"]
["recalcular valores",null,"Yes"]
["recalcular valores",null,"Yes"]
["recalcular valores",null,"Yes"]
["recalcular valores",null,"Yes"]
["recalcular valores",null,"Yes"]
["recalcular valores",null,"Yes"]
["recalcular valores",null,"Yes"]
["recalcular valores",null,"Yes"]

{"sheet":"Tabela_Esforco","index":10,"n_rows":126,"n_cols":29,"rows_kept":126,"merged":[[6,12,6,19],[6,21,6,27],[7,0,8,0],[7,1,7,6],[7,16,7,17],[7,18,7,19],[7,21,8,21],[8,22,8,23],[8,25,8,27],[9,26,9,27],[12,21,12,27],[16,21,16,24],[17,21,18,21],[18,22,18,23],[18,25,18,27],[22,21,22,24],[24,21,24,24],[26,25,26,27],[33,21,33,24]]}
[]
["Vão básico para redes nuas CA",40]
["Vão básico para redes nuas CAA",40,60,80,100,120]
["Vão básico para redes Protegidas",35,50]
[]
[]
[{"$nulls":12},"Telefonia",{"$nulls":8},"estai de âncora"]
["Condutor","Distância do Vão",{"$nulls":10},"pares","peso","peso-tabela","flecha-40º","posição no poste",null,"tração",null,null,"mm2","a   :",{"$f":"Padroes!$S$20","v":{"v":1.5,"d":"1.50"}},"ângulo :",45]
[null,35,40,50,60,70,80,100,120,{"$nulls":3},0,0,{"v":0,"d":"0.0"},0,"calçada","travessia","VIVO/OI","GVT",null,null,"Carga\nNominal",null,"Carga de\nTrabalho","Carga Admiss´vel\nno Topo"]
["4 CAA",null,207,null,207,null,209,312,330,{"$nulls":3},10,0.087,0.2,{"v":0.2,"d":"0.20"},{"v":4.7,"d":"4.70"},{"v":5.2,"d":"5.20"},385,393,null,{"$f":"Padroes!R17","v":6.35},{"$f":"Padroes!S17","v":2150},"ea1",{"$f":"W10/$X$8","v":{"v":1433.3333333333333,"d":"1433"}},{"$f":"SIN(Z$8*3.1416/ 180)*Y10","v":{"v":1013.5215811319121,"d":"1014"}}]
["2 CAA",null,317,null,317,null,316,315,470,{"$nulls":3},20,0.125,0.2,{"v":0.2,"d":"0.20"},{"v":4.7,"d":"4.70"},{"v":5.2,"d":"5.20"},385,393,null,{"$f":"Padroes!R18","v":7.94},{"$f":"Padroes!S18","v":3620},"ea2",{"$f":"W11/$X$8","v":{"v":2413.3333333333335,"d":"2413"}},{"$f":"SIN(Z$8*3.1416/ 180)*Y11","v":{"v":1706.4874993941962,"d":"1706"}},"ea2+ea2",{"$f":"(SIN(Z$8*3.1416/ 180)*Y11) + SIN((Z$8-15)*3.1416/ 180)*Y11","v":{"v":2913.156725069278,"d":"2913"}}," <--------'=2*Z11*COS(30*3,1416/180)"]
["1/0 CAA",null,492,null,488,null,484,479,474,{"$nulls":3},30,0.163,0.2,{"v":0.2,"d":"0.20"},{"v":4.7,"d":"4.70"},{"v":5.2,"d":"5.20"},385,405,null,{"$f":"Padroes!R19","v":9.53},{"$f":"Padroes!S19","v":4900},"ea3",{"$f":"W12/$X$8","v":{"v":3266.6666666666665,"d":"3267"}},{"$f":"SIN(Z$8*3.1416/ 180)*Y12","v":{"v":2309.8863942076136,"d":"2310"}},"ea3+ea3",{"$f":"(SIN(Z$8*3.1416/ 180)*Y12) + SIN((Z$8-15)*3.1416/ 180)*Y12","v":{"v":3943.223191392116,"d":"3943"}},"=2*Z12*COS(30*3,1416/180)"]
["2/0 CAA",null,588,null,588,null,580,575,569,{"$nulls":3},50,0.235,0.4,{"v":0.3,"d":"0.30"},{"v":4.8,"d":"4.80"},{"v":5.3,"d":"5.30"},379,405,null,"a   : coeficiente de segurança"]
["3/0 CAA",null,750,null,741,null,730,718,706,{"$nulls":3},75,0.333,0.4,{"v":0.3,"d":"0.30"},{"v":4.8,"d":"4.80"},{"v":5.3,"d":"5.30"},379,421]
["4/0 CAA",null,945,null,933,null,918,902,885,{"$nulls":3},100,0.422,0.6,0.35,4.85,5.35,397,440]
["336,4 CAA (LINNET)",null,1570,null,{"v":1552.26,"d":"1552"},null,1530,1504,1477,{"$nulls":3},150,0.605,0.6,0.35,4.85,5.35,397,440]
["336,4 CAA (MERLIN)",null,"1058,05",null,"1029,20",null,"995,05","959,76","927,12",{"$nulls":3},200,0.789,0.8,{"v":0.4,"d":"0.40"},{"v":4.9,"d":"4.90"},{"v":5.4,"d":"5.40"},417,501,null,"estai de poste a poste (EPP)"]
["336,4 CAA (ORIOLE)",null,"1838,11",null,"1824,10",null,"1942,39","1784,41","1761,07",{"$nulls":3},300,1.121,1.2,{"v":0.5,"d":"0.50"},{"v":5,"d":"5.00"},{"v":5.5,"d":"5.50"},460,545,null,"mm2","a   :",{"$f":"Padroes!$S$20","v":{"v":1.5,"d":"1.50"}},"ângulo :",10]
["CAZ 3,09",null,"443,22",null,"286,49",null,"286,81","287,35","287,89",{"$nulls":3},400,1.462,1.4,0.55,5.05,5.55,482,787,null,null,"Carga\nNominal",null,"Carga de\nTrabalho","Carga admissível no topo"]
["CAZ 4,17",null,"443,22",null,"443,55",null,"444,22","444,89","445,72",{"$nulls":3},600,2.133,{"v":2,"d":"2.0"},{"v":0.7,"d":"0.70"},{"v":5.2,"d":"5.20"},{"v":5.7,"d":"5.70"},546,850,null,{"$f":"Padroes!R17","v":6.35},{"$f":"Padroes!S17","v":2150},"epp1",{"$f":"W20/X$18","v":{"v":1433.3333333333333,"d":"1433"}},{"$f":"COS(Z$18*3.1416/ 180)*Y20","v":{"v":1411.557677734599,"d":"1412"}}]
["4 CA",null,"116,22","145,86","145,86","146,06","141,26","148,12","152,92",{"$nulls":3},24,119,{"$nulls":4},120,120,null,{"$f":"Padroes!R18","v":7.94},{"$f":"Padroes!S18","v":3620},"epp2",{"$f":"W21/X$18","v":{"v":2413.3333333333335,"d":"2413"}},{"$f":"COS(Z$18*3.1416/ 180)*Y21","v":{"v":2376.669206232209,"d":"2377"}}]
["2 CA",null,"178,08","177,66","223,43","227,32","226,96","227,02","152,92",{"$nulls":3},"18-36FO (80m)",95,{"$nulls":4},15,15,null,{"$f":"Padroes!R19","v":9.53},{"$f":"Padroes!S19","v":4900},"epp3",{"$f":"W22/X$18","v":{"v":3266.6666666666665,"d":"3267"}},{"v":3217.038428325365,"d":"3217"}]
["1/0 CA",null,"265,89","263,07","259,98","330,02","329,23","330,11","341,65",{"$nulls":3},"18-36FO (120m)",111,{"$nulls":4},25,25,null,"a   : coeficiente de segurança"]
["2/0 CA",null,"340,45",null,"333,04",null,"427,35","433,28","426,33",{"$nulls":3},"18-36FO (200m)",113,{"$nulls":4},35,35]
["3/0 CA",null,"407,23","400,24","392,58","384,52","376,59","508,84","501,18",{"$nulls":3},"2-12FO(80m)",80,{"$nulls":4},9.6,9.6,null,"estai de cruzeta a poste (ECP)em Y e V"]
["4/0 CA",null,"512,53","502,86","492,18","481,16","470,13","627,18","647,02",{"$nulls":3},"2-12FO(120m)",110,{"$nulls":4},19.8,19.8,null,"mm2","a   :",{"$f":"Padroes!$S$20","v":{"v":1.5,"d":"1.50"}},"ângulo :",10]
["336,4 CA",null,"801,36","785,57","767,88","749,64","731,13","696,56","1018,03",{"$nulls":3},"2-12FO(200m)",112,{"$nulls":4},33.6,33.6,null,null,"Carga\nNominal",null,"Carga de\nTrabalho","Carga admissível no topo"]
[{"$nulls":12},"2-12FO(DROP80)",43,{"$nulls":4},5.16,5.16,null,{"$f":"Padroes!R17","v":6.35},{"$f":"Padroes!S17","v":2150},"ecpy1",{"$f":"W28/X$26","v":{"v":1433.3333333333333,"d":"1433"}},{"v":1411.557677734599,"d":"1412"}]
[{"$nulls":12},"4-12FO(DROP80)",43,{"$nulls":4},6,6,null,{"$f":"Padroes!R18","v":7.94},{"$f":"Padroes!S18","v":3620},"ecpy2",{"v":2413.3333333333335,"d":"2413"},{"v":2376.669206232209,"d":"2377"}]
[{"$nulls":21},{"$f":"Padroes!R19","v":9.53},{"$f":"Padroes!S19","v":4900},"ecpy3",{"v":3266.6666666666665,"d":"3267"},{"v":3217.038428325365,"d":"3217"}]
[{"$nulls":21},{"$f":"Padroes!R17","v":6.35},{"$f":"Padroes!S17","v":2150},"ecpv1",{"v":1433.3333333333333,"d":"1433"},2860]
[{"$nulls":21},{"$f":"Padroes!R18","v":7.94},{"$f":"Padroes!S18","v":3620},"ecpv2",{"v":2413.3333333333335,"d":"2413"},4820]
[{"$nulls":21},{"$f":"Padroes!R19","v":9.53},{"$f":"Padroes!S19","v":4900},"ecpv3",{"v":3266.6666666666665,"d":"3267"},6320]
[{"$nulls":21},"a   : coeficiente de segurança"]
{"$rows_empty":19}
[{"$nulls":8},"'"]
{"$rows_empty":15}
["1#35(35CAL)CA-XLPE","117,07",101,"142,36",150.79]
["1#50(50CAL)CA-XLPE","158,59",137,"192,37",203.52]
["2#35(35CAL)CA-XLPE","131,00",145.42,"174,62",180.37]
["2#50(50CAL)CA-XLPE","178,92",198.44,"237,80",244]
["3#35(35CAL)CA-XLPE","153,97",165.83,"170,84",162.4]
["3#50(50CAL)CA-XLPE","210,58",226.32,"231,90",219.43]
["3#70(70CAL)CA-XLPE",315.16,333.16,301.27,286.96]
["3#95(70CAL)CA-XLPE","306,91",293.9,"280,45",273.94]
["3#120(70CAL)CA-XLPE",{"v":293.9,"d":"293.90"},285.01,275.46,270.47]
{"$rows_empty":21}
["3#35mm² (9,53) 15kV",{"$f":"241+(14.71*3)","v":{"v":285.13,"d":"285"}},null,{"$f":"241+(14.62*3)","v":{"v":284.86,"d":"285"}}]
["3#50mm² (9,53) 15kV",{"$f":"241+(15.45*3)","v":{"v":287.35,"d":"287"}},null,{"$f":"241+(19.76*3)","v":{"v":300.28,"d":"300"}}]
["3#95mm² (9,53) 15kV",{"$f":"241+(29.33*3)","v":{"v":328.99,"d":"329"}},null,{"$f":"241+(29.21*3)","v":{"v":328.63,"d":"329"}}]
["3#120mm² (9,53) 15kV",{"$f":"241+(37.23*3)","v":{"v":352.69,"d":"353"}},null,{"$f":"241+(36.91*3)","v":{"v":351.73,"d":"352"}}]
["3#150mm² (9,53) 15kV",{"$f":"241+(46.52*3)","v":{"v":380.56,"d":"381"}},null,{"$f":"241+(46.12*3)","v":{"v":379.36,"d":"379"}}]
["3#185mm² (9,53) 15kV",{"$f":"241+(57.62*3)","v":{"v":413.86,"d":"414"}},null,{"$f":"241+(57.13*3)","v":{"v":412.39,"d":"412"}}]
["3#35mm² (9,53) 25kV",{"$f":"241+(14.2*3)","v":{"v":283.6,"d":"284"}},null,{"$f":"241+(14.15*3)","v":{"v":283.45,"d":"283"}}]
["3#50mm² (9,53) 25kV",{"$f":"241+(19.36*3)","v":{"v":299.08,"d":"299"}},null,{"$f":"241+(19.76*3)","v":{"v":300.28,"d":"300"}}]
["3#70mm² (9,53) 25kV",{"$f":"241+(21.62*3)","v":{"v":305.86,"d":"306"}},null,{"$f":"241+(25.71*3)","v":{"v":318.13,"d":"318"}}]
["3#95mm² (9,53) 25kV",{"$f":"241+(29.33*3)","v":{"v":328.99,"d":"329"}},null,{"$f":"241+(29.21*3)","v":{"v":328.63,"d":"329"}}]
["3#120mm² (9,53) 25kV",{"$f":"241+(37.33*3)","v":{"v":352.99,"d":"353"}},null,{"$f":"241+(39.91*3)","v":{"v":360.73,"d":"361"}}]
["3#150mm² (9,53) 25kV",{"$f":"241+(46.12*3)","v":{"v":379.36,"d":"379"}},null,{"$f":"241+(45.92*3)","v":{"v":378.76,"d":"379"}}]
["3#185mm² (9,53) 25kV",{"$f":"241+(57.62*3)","v":{"v":413.86,"d":"414"}},null,{"$f":"241+(57.13*3)","v":{"v":412.39,"d":"412"}}]
["1#35 - 15 kV","14,71",null,14.62]
["1#50 - 15 kV",15.45,null,19.76]
["1#70 - 15 kV","21,62",null,"25,71"]
["1#95 - 15 kV","29,33",null,"29,21"]
["1#120 - 15 kV","37,23",null,"36,91"]
["1#150 - 15 kV",46.52,null,46.12]
["1#185 - 15 kV","57,62",null,"57,13"]
["1#35 - 25 kV","14,20",null,14.15]
["1#50 - 25 kV",19.36,null,"19,76"]
["1#70 - 25 kV","21,53",null,"25,43"]
["1#95 - 25 kV",29.33,null,"29,21"]
["1#120 - 25 kV","37,23",null,"36,91"]
["1#150 - 25 kV",46.12,null,45.92]
["1#185 - 25 kV","57,62",null,"57,13"]

{"sheet":"Multiplex","index":11,"n_rows":39,"n_cols":29,"rows_kept":39,"hidden":true,"merged":[[0,2,1,24],[2,1,2,3],[2,4,2,17],[3,1,4,2],[3,3,4,3],[3,4,3,9],[3,17,3,18],[3,19,3,20],[4,4,4,9],[4,17,4,18],[4,19,4,20],[5,4,5,9],[5,17,5,18],[5,19,5,20],[6,4,6,9],[6,17,6,18],[6,19,6,20],[7,4,7,9],[7,17,7,18],[7,19,7,20],[8,4,8,9],[8,17,8,18],[8,19,8,20],[9,4,9,8],[9,17,9,18],[9,19,9,20],[10,4,10,9],[10,17,10,18],[10,19,10,20],[12,1,12,3],[12,7,12,8],[12,15,12,16],[14,1,16,2],[14,3,16,4],[14,7,14,17],[14,18,37,18],[14,19,15,24],[16,7,16,17],[16,19,18,19],[16,20,18,20],[16,21,18,21],[16,24,18,24],[17,2,17,4],[18,7,18,17],[38,3,38,4],[38,8,38,14],[38,16,38,17]]}
[]
[]
[null,"DADOS DO POSTE",null,null,"DADOS DO CABO"]
[null,"Relação\nassimétrica :",null,2,"CABO - SEÇÃO",{"$nulls":5},25,35,50,70,95,120,150,185,null,"mm2"]
[{"$nulls":4},"DIÂMETRO DO CABO",{"$nulls":5},31.09,{"v":34,"d":"34.0"},36.85,40.5,45.05,49.5,{"v":51,"d":"51.00"},null,null,"mm"]
[{"$nulls":4},"SEÇÃO DO NEUTRO",{"$nulls":5},49.48,49.48,49.48,49.48,49.48,65.44,65.44,null,null,"mm2"]
[{"$nulls":4},"MÓDULO DE ELASTICIDADE",{"$nulls":5},6000,6000,6000,600,6000,600,6325,null,null,"kg/mm2"]
[{"$nulls":4},"COEF.DILATAÇÃO LINEAR",{"$nulls":5},{"v":2.3E-5,"d":"2.3E-05"},{"v":2.3E-5,"d":"2.3E-05"},{"v":2.3E-5,"d":"2.3E-05"},{"v":2.3E-5,"d":"2.3E-05"},{"v":2.3E-5,"d":"2.3E-05"},{"v":2.3E-5,"d":"2.3E-05"},{"v":2.3E-5,"d":"2.3E-05"},null,null,"ºC -1"]
[{"$nulls":4},"CARGA DE RUPTURA (SUPORTE)",{"$nulls":5},1425,1425,1425,1425,1995,1995,1995,null,null,"kg"]
[{"$nulls":4},"TRAÇÃO MÁX. ADM.                         coef.seg.=",{"$nulls":4},{"$f":"E13","v":{"v":0.2,"d":"20%"}},{"$f":"K9*$J10","v":285},285,285,285,399,399,399,null,null,"kg"]
[{"$nulls":4},"PESO SEM CARGA",{"$nulls":5},0.585,0.65,{"v":0.81,"d":"0.810"},0.985,{"v":1.32,"d":"1.320"},1.66,1.702,null,null,"kg/m"]
[]
[null,"Tração máx admissível",null,null,{"v":0.2,"d":"20%"},null,null,"condutor:",null,70,"mm2",{"$nulls":4},"cantão nº :",null,1]
[]
[{"$nulls":3},{"$f":"J13","v":70},{"$nulls":3},"TRAÇÕES E  FLECHAS DE MONTAGEM",{"$nulls":11},"ESFORÇO NO POSTE - daN"]
[{"$nulls":7},"0 °C","5 °C","10 °C","15 °C","20 °C","25 °C","30 °C","35 °C","40 °C","45 °C","50 °C"]
[{"$nulls":7},"trações - daN",{"$nulls":11},"poste\n nº","nº poste\nderivação","tração\nhorizontal",null,null,"tração\nvertical"]
[null,null,"vão",null,null,"proj.horizontal",null,{"$f":"Calc_flexa_Multiplex!J43","v":{"v":180.5876259403912,"d":"181"}},{"$f":"Calc_flexa_Multiplex!K43","v":{"v":178.90854630535767,"d":"179"}},{"$f":"Calc_flexa_Multiplex!L43","v":{"v":177.2533130691826,"d":"177"}},{"$f":"Calc_flexa_Multiplex!M43","v":{"v":175.62178558035907,"d":"176"}},{"$f":"Calc_flexa_Multiplex!I67","v":{"v":174.01381112148448,"d":"174"}},{"$f":"Calc_flexa_Multiplex!J67","v":{"v":172.42922540226954,"d":"172"}},{"$f":"Calc_flexa_Multiplex!K67","v":{"v":170.86785307230386,"d":"171"}},{"$f":"Calc_flexa_Multiplex!L67","v":{"v":169.32950825031472,"d":"169"}},{"$f":"Calc_flexa_Multiplex!M67","v":{"v":167.81399506703465,"d":"168"}},{"$f":"Calc_flexa_Multiplex!N67","v":{"v":166.3211082185677,"d":"166"}},{"$f":"Calc_flexa_Multiplex!O67","v":{"v":164.85063352731865,"d":"165"}}]
[null,"nº","compr.","desnível","deflexão","m",null,"flechas - m"]
[null,1,{"v":50,"d":"50.0"},0,null,{"$f":"SQRT(ABS((C20^2-D20^2)))","v":{"v":50,"d":"50.0"}},null,{"$f":"Calc_flexa_Multiplex!J45","v":{"v":1.707146089875741,"d":"1.71"}},{"$f":"Calc_flexa_Multiplex!K45","v":{"v":1.7232181499083805,"d":"1.72"}},{"$f":"Calc_flexa_Multiplex!L45","v":{"v":1.7393614094676313,"d":"1.74"}},{"$f":"Calc_flexa_Multiplex!M45","v":{"v":1.7555727076408993,"d":"1.76"}},{"$f":"Calc_flexa_Multiplex!I69","v":{"v":1.771848883292472,"d":"1.77"}},{"$f":"Calc_flexa_Multiplex!J69","v":{"v":1.788186780546474,"d":"1.79"}},{"$f":"Calc_flexa_Multiplex!K69","v":{"v":1.8045832540889692,"d":"1.80"}},{"$f":"Calc_flexa_Multiplex!L69","v":{"v":1.8210351742723312,"d":"1.82"}},{"$f":"Calc_flexa_Multiplex!M69","v":{"v":1.8375394320036031,"d":"1.84"}},{"$f":"Calc_flexa_Multiplex!N69","v":{"v":1.8540929434036197,"d":"1.85"}},{"$f":"Calc_flexa_Multiplex!O69","v":{"v":1.8706926542249391,"d":"1.87"}},{"$nulls":3},{"$f":"IF(U20>0, \"ver poste\",Calc_flexa_Multiplex!AZ102)","v":{"v":329.9519321990524,"d":"330"}},{"$f":"IF(U20>0, U20,X20)","v":{"v":380.5769321990524,"d":"381"}},{"$f":"IF(U20>0, 0, Calc_flexa_Multiplex!AY102)","v":{"v":380.5769321990524,"d":"381"}},{"$f":"IF(U20>0,0,Calc_flexa_Multiplex!BC102)","v":{"v":24.625,"d":"25"}}]
[null,2,null,0,null,{"$f":"SQRT(ABS((C21^2-D21^2)))","v":{"v":0,"d":"0.0"}},null,{"$f":"Calc_flexa_Multiplex!J46","v":{"v":0,"d":"0.00"}},{"$f":"Calc_flexa_Multiplex!K46","v":{"v":0,"d":"0.00"}},{"$f":"Calc_flexa_Multiplex!L46","v":{"v":0,"d":"0.00"}},{"$f":"Calc_flexa_Multiplex!M46","v":{"v":0,"d":"0.00"}},{"$f":"Calc_flexa_Multiplex!I70","v":{"v":0,"d":"0.00"}},{"$f":"Calc_flexa_Multiplex!J70","v":{"v":0,"d":"0.00"}},{"$f":"Calc_flexa_Multiplex!K70","v":{"v":0,"d":"0.00"}},{"$f":"Calc_flexa_Multiplex!L70","v":{"v":0,"d":"0.00"}},{"$f":"Calc_flexa_Multiplex!M70","v":{"v":0,"d":"0.00"}},{"$f":"Calc_flexa_Multiplex!N70","v":{"v":0,"d":"0.00"}},{"$f":"Calc_flexa_Multiplex!O70","v":{"v":0,"d":"0.00"}},null,{"$f":"IF(C21=0,0,T20+1)","v":0},null,{"$f":"IF($U21>0, \"ver poste\", Calc_flexa_Multiplex!$AX6)","v":0},{"$f":"IF($U21>0,U21, Calc_flexa_Multiplex!$AX6)","v":0},{"$f":"IF(U21>0,0,W21*$D$4)","v":0},{"$f":"IF(U21>0,0,Calc_flexa_Multiplex!BC6)","v":0},{"$nulls":3},"Dados CPFL"]
[null,{"$f":"IF(C22>0,B21+1,0)","v":0},null,0,null,{"v":0,"d":"0.0"},null,{"$f":"Calc_flexa_Multiplex!J47","v":{"v":0,"d":"0.00"}},{"$f":"Calc_flexa_Multiplex!K47","v":{"v":0,"d":"0.00"}},{"$f":"Calc_flexa_Multiplex!L47","v":{"v":0,"d":"0.00"}},{"$f":"Calc_flexa_Multiplex!M47","v":{"v":0,"d":"0.00"}},{"$f":"Calc_flexa_Multiplex!I71","v":{"v":0,"d":"0.00"}},{"$f":"Calc_flexa_Multiplex!J71","v":{"v":0,"d":"0.00"}},{"$f":"Calc_flexa_Multiplex!K71","v":{"v":0,"d":"0.00"}},{"$f":"Calc_flexa_Multiplex!L71","v":{"v":0,"d":"0.00"}},{"$f":"Calc_flexa_Multiplex!M71","v":{"v":0,"d":"0.00"}},{"$f":"Calc_flexa_Multiplex!N71","v":{"v":0,"d":"0.00"}},{"$f":"Calc_flexa_Multiplex!O71","v":{"v":0,"d":"0.00"}},null,0,null,{"$f":"IF($U22>0, \"ver poste\", Calc_flexa_Multiplex!$AX7)","v":0},{"$f":"IF($U22>0,U22, Calc_flexa_Multiplex!$AX7)","v":0},0,{"$f":"IF(U22>0,0,Calc_flexa_Multiplex!BC7)","v":0}]
[null,0,null,0,null,{"v":0,"d":"0.0"},null,{"$f":"Calc_flexa_Multiplex!J48","v":{"v":0,"d":"0.00"}},{"$f":"Calc_flexa_Multiplex!K48","v":{"v":0,"d":"0.00"}},{"$f":"Calc_flexa_Multiplex!L48","v":{"v":0,"d":"0.00"}},{"$f":"Calc_flexa_Multiplex!M48","v":{"v":0,"d":"0.00"}},{"$f":"Calc_flexa_Multiplex!I72","v":{"v":0,"d":"0.00"}},{"$f":"Calc_flexa_Multiplex!J72","v":{"v":0,"d":"0.00"}},{"$f":"Calc_flexa_Multiplex!K72","v":{"v":0,"d":"0.00"}},{"$f":"Calc_flexa_Multiplex!L72","v":{"v":0,"d":"0.00"}},{"$f":"Calc_flexa_Multiplex!M72","v":{"v":0,"d":"0.00"}},{"$f":"Calc_flexa_Multiplex!N72","v":{"v":0,"d":"0.00"}},{"$f":"Calc_flexa_Multiplex!O72","v":{"v":0,"d":"0.00"}},null,0,null,{"$f":"IF($U23>0, \"ver poste\", Calc_flexa_Multiplex!$AX8)","v":0},{"$f":"IF($U23>0,U23, Calc_flexa_Multiplex!$AX8)","v":0},0,{"$f":"IF(U23>0,0,Calc_flexa_Multiplex!BC8)","v":0}]
[null,0,null,0,null,{"v":0,"d":"0.0"},null,{"$f":"Calc_flexa_Multiplex!J49","v":{"v":0,"d":"0.00"}},{"$f":"Calc_flexa_Multiplex!K49","v":{"v":0,"d":"0.00"}},{"$f":"Calc_flexa_Multiplex!L49","v":{"v":0,"d":"0.00"}},{"$f":"Calc_flexa_Multiplex!M49","v":{"v":0,"d":"0.00"}},{"$f":"Calc_flexa_Multiplex!I73","v":{"v":0,"d":"0.00"}},{"$f":"Calc_flexa_Multiplex!J73","v":{"v":0,"d":"0.00"}},{"$f":"Calc_flexa_Multiplex!K73","v":{"v":0,"d":"0.00"}},{"$f":"Calc_flexa_Multiplex!L73","v":{"v":0,"d":"0.00"}},{"$f":"Calc_flexa_Multiplex!M73","v":{"v":0,"d":"0.00"}},{"$f":"Calc_flexa_Multiplex!N73","v":{"v":0,"d":"0.00"}},{"$f":"Calc_flexa_Multiplex!O73","v":{"v":0,"d":"0.00"}},null,0,null,{"$f":"IF($U24>0, \"ver poste\", Calc_flexa_Multiplex!$AX9)","v":0},{"$f":"IF($U24>0,U24, Calc_flexa_Multiplex!$AX9)","v":0},0,{"$f":"IF(U24>0,0,Calc_flexa_Multiplex!BC9)","v":0}]
[null,0,{"$nulls":3},{"v":0,"d":"0.0"},null,{"$f":"Calc_flexa_Multiplex!J50","v":{"v":0,"d":"0.00"}},{"$f":"Calc_flexa_Multiplex!K50","v":{"v":0,"d":"0.00"}},{"$f":"Calc_flexa_Multiplex!L50","v":{"v":0,"d":"0.00"}},{"$f":"Calc_flexa_Multiplex!M50","v":{"v":0,"d":"0.00"}},{"$f":"Calc_flexa_Multiplex!I74","v":{"v":0,"d":"0.00"}},{"$f":"Calc_flexa_Multiplex!J74","v":{"v":0,"d":"0.00"}},{"$f":"Calc_flexa_Multiplex!K74","v":{"v":0,"d":"0.00"}},{"$f":"Calc_flexa_Multiplex!L74","v":{"v":0,"d":"0.00"}},{"$f":"Calc_flexa_Multiplex!M74","v":{"v":0,"d":"0.00"}},{"$f":"Calc_flexa_Multiplex!N74","v":{"v":0,"d":"0.00"}},{"$f":"Calc_flexa_Multiplex!O74","v":{"v":0,"d":"0.00"}},null,0,null,{"$f":"IF($U25>0, \"ver poste\", Calc_flexa_Multiplex!$AX10)","v":0},{"$f":"IF($U25>0,U25, Calc_flexa_Multiplex!$AX10)","v":0},0,{"$f":"IF(U25>0,0,Calc_flexa_Multiplex!BC10)","v":0}]
[null,0,{"$nulls":3},{"v":0,"d":"0.0"},null,{"$f":"Calc_flexa_Multiplex!J51","v":{"v":0,"d":"0.00"}},{"$f":"Calc_flexa_Multiplex!K51","v":{"v":0,"d":"0.00"}},{"$f":"Calc_flexa_Multiplex!L51","v":{"v":0,"d":"0.00"}},{"$f":"Calc_flexa_Multiplex!M51","v":{"v":0,"d":"0.00"}},{"$f":"Calc_flexa_Multiplex!I75","v":{"v":0,"d":"0.00"}},{"$f":"Calc_flexa_Multiplex!J75","v":{"v":0,"d":"0.00"}},{"$f":"Calc_flexa_Multiplex!K75","v":{"v":0,"d":"0.00"}},{"$f":"Calc_flexa_Multiplex!L75","v":{"v":0,"d":"0.00"}},{"$f":"Calc_flexa_Multiplex!M75","v":{"v":0,"d":"0.00"}},{"$f":"Calc_flexa_Multiplex!N75","v":{"v":0,"d":"0.00"}},{"$f":"Calc_flexa_Multiplex!O75","v":{"v":0,"d":"0.00"}},null,0,null,{"$f":"IF($U26>0, \"ver poste\", Calc_flexa_Multiplex!$AX11)","v":0},{"$f":"IF($U26>0,U26, Calc_flexa_Multiplex!$AX11)","v":0},0,{"$f":"IF(U26>0,0,Calc_flexa_Multiplex!BC11)","v":0}]
[null,0,{"$nulls":3},{"v":0,"d":"0.0"},null,{"$f":"Calc_flexa_Multiplex!J52","v":{"v":0,"d":"0.00"}},{"$f":"Calc_flexa_Multiplex!K52","v":{"v":0,"d":"0.00"}},{"$f":"Calc_flexa_Multiplex!L52","v":{"v":0,"d":"0.00"}},{"$f":"Calc_flexa_Multiplex!M52","v":{"v":0,"d":"0.00"}},{"$f":"Calc_flexa_Multiplex!I76","v":{"v":0,"d":"0.00"}},{"$f":"Calc_flexa_Multiplex!J76","v":{"v":0,"d":"0.00"}},{"$f":"Calc_flexa_Multiplex!K76","v":{"v":0,"d":"0.00"}},{"$f":"Calc_flexa_Multiplex!L76","v":{"v":0,"d":"0.00"}},{"$f":"Calc_flexa_Multiplex!M76","v":{"v":0,"d":"0.00"}},{"$f":"Calc_flexa_Multiplex!N76","v":{"v":0,"d":"0.00"}},{"$f":"Calc_flexa_Multiplex!O76","v":{"v":0,"d":"0.00"}},null,0,null,{"$f":"IF($U27>0, \"ver poste\", Calc_flexa_Multiplex!$AX12)","v":0},{"$f":"IF($U27>0,U27, Calc_flexa_Multiplex!$AX12)","v":0},0,{"$f":"IF(U27>0,0,Calc_flexa_Multiplex!BC12)","v":0}]
[null,0,{"$nulls":3},{"v":0,"d":"0.0"},null,{"$f":"Calc_flexa_Multiplex!J53","v":{"v":0,"d":"0.00"}},{"$f":"Calc_flexa_Multiplex!K53","v":{"v":0,"d":"0.00"}},{"$f":"Calc_flexa_Multiplex!L53","v":{"v":0,"d":"0.00"}},{"$f":"Calc_flexa_Multiplex!M53","v":{"v":0,"d":"0.00"}},{"$f":"Calc_flexa_Multiplex!I77","v":{"v":0,"d":"0.00"}},{"$f":"Calc_flexa_Multiplex!J77","v":{"v":0,"d":"0.00"}},{"$f":"Calc_flexa_Multiplex!K77","v":{"v":0,"d":"0.00"}},{"$f":"Calc_flexa_Multiplex!L77","v":{"v":0,"d":"0.00"}},{"$f":"Calc_flexa_Multiplex!M77","v":{"v":0,"d":"0.00"}},{"$f":"Calc_flexa_Multiplex!N77","v":{"v":0,"d":"0.00"}},{"$f":"Calc_flexa_Multiplex!O77","v":{"v":0,"d":"0.00"}},null,0,null,{"$f":"IF($U28>0, \"ver poste\", Calc_flexa_Multiplex!$AX13)","v":0},{"$f":"IF($U28>0,U28, Calc_flexa_Multiplex!$AX13)","v":0},0,{"$f":"IF(U28>0,0,Calc_flexa_Multiplex!BC13)","v":0}]
[null,0,{"$nulls":3},{"v":0,"d":"0.0"},null,{"$f":"Calc_flexa_Multiplex!J54","v":{"v":0,"d":"0.00"}},{"$f":"Calc_flexa_Multiplex!K54","v":{"v":0,"d":"0.00"}},{"$f":"Calc_flexa_Multiplex!L54","v":{"v":0,"d":"0.00"}},{"$f":"Calc_flexa_Multiplex!M54","v":{"v":0,"d":"0.00"}},{"$f":"Calc_flexa_Multiplex!I78","v":{"v":0,"d":"0.00"}},{"$f":"Calc_flexa_Multiplex!J78","v":{"v":0,"d":"0.00"}},{"$f":"Calc_flexa_Multiplex!K78","v":{"v":0,"d":"0.00"}},{"$f":"Calc_flexa_Multiplex!L78","v":{"v":0,"d":"0.00"}},{"$f":"Calc_flexa_Multiplex!M78","v":{"v":0,"d":"0.00"}},{"$f":"Calc_flexa_Multiplex!N78","v":{"v":0,"d":"0.00"}},{"$f":"Calc_flexa_Multiplex!O78","v":{"v":0,"d":"0.00"}},null,0,null,{"$f":"IF($U29>0, \"ver poste\", Calc_flexa_Multiplex!$AX14)","v":0},{"$f":"IF($U29>0,U29, Calc_flexa_Multiplex!$AX14)","v":0},0,{"$f":"IF(U29>0,0,Calc_flexa_Multiplex!BC14)","v":0}]
[null,0,{"$nulls":3},{"v":0,"d":"0.0"},null,{"$f":"Calc_flexa_Multiplex!J55","v":{"v":0,"d":"0.00"}},{"$f":"Calc_flexa_Multiplex!K55","v":{"v":0,"d":"0.00"}},{"$f":"Calc_flexa_Multiplex!L55","v":{"v":0,"d":"0.00"}},{"$f":"Calc_flexa_Multiplex!M55","v":{"v":0,"d":"0.00"}},{"$f":"Calc_flexa_Multiplex!I79","v":{"v":0,"d":"0.00"}},{"$f":"Calc_flexa_Multiplex!J79","v":{"v":0,"d":"0.00"}},{"$f":"Calc_flexa_Multiplex!K79","v":{"v":0,"d":"0.00"}},{"$f":"Calc_flexa_Multiplex!L79","v":{"v":0,"d":"0.00"}},{"$f":"Calc_flexa_Multiplex!M79","v":{"v":0,"d":"0.00"}},{"$f":"Calc_flexa_Multiplex!N79","v":{"v":0,"d":"0.00"}},{"$f":"Calc_flexa_Multiplex!O79","v":{"v":0,"d":"0.00"}},null,0,null,{"$f":"IF($U30>0, \"ver poste\", Calc_flexa_Multiplex!$AX15)","v":0},{"$f":"IF($U30>0,U30, Calc_flexa_Multiplex!$AX15)","v":0},0,{"$f":"IF(U30>0,0,Calc_flexa_Multiplex!BC15)","v":0}]
[null,0,{"$nulls":3},{"v":0,"d":"0.0"},null,{"$f":"Calc_flexa_Multiplex!J56","v":{"v":0,"d":"0.00"}},{"$f":"Calc_flexa_Multiplex!K56","v":{"v":0,"d":"0.00"}},{"$f":"Calc_flexa_Multiplex!L56","v":{"v":0,"d":"0.00"}},{"$f":"Calc_flexa_Multiplex!M56","v":{"v":0,"d":"0.00"}},{"$f":"Calc_flexa_Multiplex!I80","v":{"v":0,"d":"0.00"}},{"$f":"Calc_flexa_Multiplex!J80","v":{"v":0,"d":"0.00"}},{"$f":"Calc_flexa_Multiplex!K80","v":{"v":0,"d":"0.00"}},{"$f":"Calc_flexa_Multiplex!L80","v":{"v":0,"d":"0.00"}},{"$f":"Calc_flexa_Multiplex!M80","v":{"v":0,"d":"0.00"}},{"$f":"Calc_flexa_Multiplex!N80","v":{"v":0,"d":"0.00"}},{"$f":"Calc_flexa_Multiplex!O80","v":{"v":0,"d":"0.00"}},null,0,null,{"$f":"IF($U31>0, \"ver poste\", Calc_flexa_Multiplex!$AX16)","v":0},{"$f":"IF($U31>0,U31, Calc_flexa_Multiplex!$AX16)","v":0},0,{"$f":"IF(U31>0,0,Calc_flexa_Multiplex!BC16)","v":0}]
[null,0,{"$nulls":3},{"v":0,"d":"0.0"},null,{"$f":"Calc_flexa_Multiplex!J57","v":{"v":0,"d":"0.00"}},{"$f":"Calc_flexa_Multiplex!K57","v":{"v":0,"d":"0.00"}},{"$f":"Calc_flexa_Multiplex!L57","v":{"v":0,"d":"0.00"}},{"$f":"Calc_flexa_Multiplex!M57","v":{"v":0,"d":"0.00"}},{"$f":"Calc_flexa_Multiplex!I81","v":{"v":0,"d":"0.00"}},{"$f":"Calc_flexa_Multiplex!J81","v":{"v":0,"d":"0.00"}},{"$f":"Calc_flexa_Multiplex!K81","v":{"v":0,"d":"0.00"}},{"$f":"Calc_flexa_Multiplex!L81","v":{"v":0,"d":"0.00"}},{"$f":"Calc_flexa_Multiplex!M81","v":{"v":0,"d":"0.00"}},{"$f":"Calc_flexa_Multiplex!N81","v":{"v":0,"d":"0.00"}},{"$f":"Calc_flexa_Multiplex!O81","v":{"v":0,"d":"0.00"}},null,0,null,{"$f":"IF($U32>0, \"ver poste\", Calc_flexa_Multiplex!$AX17)","v":0},{"$f":"IF($U32>0,U32, Calc_flexa_Multiplex!$AX17)","v":0},0,{"$f":"IF(U32>0,0,Calc_flexa_Multiplex!BC17)","v":0}]
[null,0,{"$nulls":3},{"v":0,"d":"0.0"},null,{"$f":"Calc_flexa_Multiplex!J58","v":{"v":0,"d":"0.00"}},{"$f":"Calc_flexa_Multiplex!K58","v":{"v":0,"d":"0.00"}},{"$f":"Calc_flexa_Multiplex!L58","v":{"v":0,"d":"0.00"}},{"$f":"Calc_flexa_Multiplex!M58","v":{"v":0,"d":"0.00"}},{"$f":"Calc_flexa_Multiplex!I82","v":{"v":0,"d":"0.00"}},{"$f":"Calc_flexa_Multiplex!J82","v":{"v":0,"d":"0.00"}},{"$f":"Calc_flexa_Multiplex!K82","v":{"v":0,"d":"0.00"}},{"$f":"Calc_flexa_Multiplex!L82","v":{"v":0,"d":"0.00"}},{"$f":"Calc_flexa_Multiplex!M82","v":{"v":0,"d":"0.00"}},{"$f":"Calc_flexa_Multiplex!N82","v":{"v":0,"d":"0.00"}},{"$f":"Calc_flexa_Multiplex!O82","v":{"v":0,"d":"0.00"}},null,0,null,{"$f":"IF($U33>0, \"ver poste\", Calc_flexa_Multiplex!$AX18)","v":0},{"$f":"IF($U33>0,U33, Calc_flexa_Multiplex!$AX18)","v":0},0,{"$f":"IF(U33>0,0,Calc_flexa_Multiplex!BC18)","v":0}]
[null,0,{"$nulls":3},{"v":0,"d":"0.0"},null,{"$f":"Calc_flexa_Multiplex!J59","v":{"v":0,"d":"0.00"}},{"$f":"Calc_flexa_Multiplex!K59","v":{"v":0,"d":"0.00"}},{"$f":"Calc_flexa_Multiplex!L59","v":{"v":0,"d":"0.00"}},{"$f":"Calc_flexa_Multiplex!M59","v":{"v":0,"d":"0.00"}},{"$f":"Calc_flexa_Multiplex!I83","v":{"v":0,"d":"0.00"}},{"$f":"Calc_flexa_Multiplex!J83","v":{"v":0,"d":"0.00"}},{"$f":"Calc_flexa_Multiplex!K83","v":{"v":0,"d":"0.00"}},{"$f":"Calc_flexa_Multiplex!L83","v":{"v":0,"d":"0.00"}},{"$f":"Calc_flexa_Multiplex!M83","v":{"v":0,"d":"0.00"}},{"$f":"Calc_flexa_Multiplex!N83","v":{"v":0,"d":"0.00"}},{"$f":"Calc_flexa_Multiplex!O83","v":{"v":0,"d":"0.00"}},null,0,null,{"$f":"IF($U34>0, \"ver poste\", Calc_flexa_Multiplex!$AX19)","v":0},{"$f":"IF($U34>0,U34, Calc_flexa_Multiplex!$AX19)","v":0},0,{"$f":"IF(U34>0,0,Calc_flexa_Multiplex!BC19)","v":0}]
[null,0,{"$nulls":3},{"v":0,"d":"0.0"},null,{"$f":"Calc_flexa_Multiplex!J60","v":{"v":0,"d":"0.00"}},{"$f":"Calc_flexa_Multiplex!K60","v":{"v":0,"d":"0.00"}},{"$f":"Calc_flexa_Multiplex!L60","v":{"v":0,"d":"0.00"}},{"$f":"Calc_flexa_Multiplex!M60","v":{"v":0,"d":"0.00"}},{"$f":"Calc_flexa_Multiplex!I84","v":{"v":0,"d":"0.00"}},{"$f":"Calc_flexa_Multiplex!J84","v":{"v":0,"d":"0.00"}},{"$f":"Calc_flexa_Multiplex!K84","v":{"v":0,"d":"0.00"}},{"$f":"Calc_flexa_Multiplex!L84","v":{"v":0,"d":"0.00"}},{"$f":"Calc_flexa_Multiplex!M84","v":{"v":0,"d":"0.00"}},{"$f":"Calc_flexa_Multiplex!N84","v":{"v":0,"d":"0.00"}},{"$f":"Calc_flexa_Multiplex!O84","v":{"v":0,"d":"0.00"}},null,0,null,{"$f":"IF($U35>0, \"ver poste\", Calc_flexa_Multiplex!$AX20)","v":0},{"$f":"IF($U35>0,U35, Calc_flexa_Multiplex!$AX20)","v":0},0,{"$f":"IF(U35>0,0,Calc_flexa_Multiplex!BC20)","v":0}]
[null,0,{"$nulls":3},{"v":0,"d":"0.0"},null,{"$f":"Calc_flexa_Multiplex!J61","v":{"v":0,"d":"0.00"}},{"$f":"Calc_flexa_Multiplex!K61","v":{"v":0,"d":"0.00"}},{"$f":"Calc_flexa_Multiplex!L61","v":{"v":0,"d":"0.00"}},{"$f":"Calc_flexa_Multiplex!M61","v":{"v":0,"d":"0.00"}},{"$f":"Calc_flexa_Multiplex!I85","v":{"v":0,"d":"0.00"}},{"$f":"Calc_flexa_Multiplex!J85","v":{"v":0,"d":"0.00"}},{"$f":"Calc_flexa_Multiplex!K85","v":{"v":0,"d":"0.00"}},{"$f":"Calc_flexa_Multiplex!L85","v":{"v":0,"d":"0.00"}},{"$f":"Calc_flexa_Multiplex!M85","v":{"v":0,"d":"0.00"}},{"$f":"Calc_flexa_Multiplex!N85","v":{"v":0,"d":"0.00"}},{"$f":"Calc_flexa_Multiplex!O85","v":{"v":0,"d":"0.00"}},null,0,null,{"$f":"IF($U36>0, \"ver poste\", Calc_flexa_Multiplex!$AX21)","v":0},{"$f":"IF($U36>0,U36, Calc_flexa_Multiplex!$AX21)","v":0},0,{"$f":"IF(U36>0,0,Calc_flexa_Multiplex!BC21)","v":0}]
[null,0,{"$nulls":3},{"v":0,"d":"0.0"},null,{"$f":"Calc_flexa_Multiplex!J62","v":{"v":0,"d":"0.00"}},{"$f":"Calc_flexa_Multiplex!K62","v":{"v":0,"d":"0.00"}},{"$f":"Calc_flexa_Multiplex!L62","v":{"v":0,"d":"0.00"}},{"$f":"Calc_flexa_Multiplex!M62","v":{"v":0,"d":"0.00"}},{"$f":"Calc_flexa_Multiplex!I86","v":{"v":0,"d":"0.00"}},{"$f":"Calc_flexa_Multiplex!J86","v":{"v":0,"d":"0.00"}},{"$f":"Calc_flexa_Multiplex!K86","v":{"v":0,"d":"0.00"}},{"$f":"Calc_flexa_Multiplex!L86","v":{"v":0,"d":"0.00"}},{"$f":"Calc_flexa_Multiplex!M86","v":{"v":0,"d":"0.00"}},{"$f":"Calc_flexa_Multiplex!N86","v":{"v":0,"d":"0.00"}},{"$f":"Calc_flexa_Multiplex!O86","v":{"v":0,"d":"0.00"}},null,0,null,{"$f":"IF($U37>0, \"ver poste\", Calc_flexa_Multiplex!$AX22)","v":0},{"$f":"IF($U37>0,U37, Calc_flexa_Multiplex!$AX22)","v":0},0,{"$f":"IF(U37>0,0,Calc_flexa_Multiplex!BC22)","v":0}]
[null,0,{"$nulls":3},{"v":0,"d":"0.0"},null,{"$f":"Calc_flexa_Multiplex!J63","v":{"v":0,"d":"0.00"}},{"$f":"Calc_flexa_Multiplex!K63","v":{"v":0,"d":"0.00"}},{"$f":"Calc_flexa_Multiplex!L63","v":{"v":0,"d":"0.00"}},{"$f":"Calc_flexa_Multiplex!M63","v":{"v":0,"d":"0.00"}},{"$f":"Calc_flexa_Multiplex!I87","v":{"v":0,"d":"0.00"}},{"$f":"Calc_flexa_Multiplex!J87","v":{"v":0,"d":"0.00"}},{"$f":"Calc_flexa_Multiplex!K87","v":{"v":0,"d":"0.00"}},{"$f":"Calc_flexa_Multiplex!L87","v":{"v":0,"d":"0.00"}},{"$f":"Calc_flexa_Multiplex!M87","v":{"v":0,"d":"0.00"}},{"$f":"Calc_flexa_Multiplex!N87","v":{"v":0,"d":"0.00"}},{"$f":"Calc_flexa_Multiplex!O87","v":{"v":0,"d":"0.00"}},null,0,null,{"$f":"IF($U38>0, \"ver poste\", Calc_flexa_Multiplex!$AX23)","v":0},{"$f":"IF($U38>0,U38, Calc_flexa_Multiplex!$AX23)","v":0},0,{"$f":"IF(U38>0,0,Calc_flexa_Multiplex!BC23)","v":0}]
[null,null,"data :","2008-04-10",{"$nulls":3},"Resp:","Mauro Ramiro Rodrigues",{"$nulls":6},"Crea:",36082,null,null,1,null,{"$f":"IF( U39>0, Calc_flexa_Multiplex!BG37, IF(Calc_flexa_Multiplex!AU82=\"-\",Calc_flexa_Multiplex!AZ102, Calc_flexa_Multiplex!AY82))","v":{"v":329.9519321990524,"d":"330"}},{"$f":"IF(U39>0,V39,IF(Calc_flexa_Multiplex!AU82=\"-\",\"-\",Calc_flexa_Multiplex!AX82))","v":"-"},{"$f":"IF(U39>0,V39,IF(Calc_flexa_Multiplex!AU87=\"-\",Calc_flexa_Multiplex!AY102,Calc_flexa_Multiplex!AX87))","v":{"v":380.5769321990524,"d":"381"}},{"$f":"IF(U39>0,Calc_flexa_Multiplex!BG39,IF(Calc_flexa_Multiplex!AU71=\"-\", Calc_flexa_Multiplex!BC103,Calc_flexa_Multiplex!BB82))","v":{"$error":"#DIV/0!"}}]

{"sheet":"Tabela","index":12,"n_rows":26,"n_cols":17,"rows_kept":26,"merged":[[0,6,0,16],[3,6,3,8],[3,9,3,13],[3,15,3,16],[4,7,4,8],[4,9,4,13],[4,14,4,16],[5,0,5,7],[5,8,5,10],[5,11,5,14],[5,15,5,16]]}
[{"$nulls":6},"TABELA DE TRAÇÕES E FLECHAS DE MONTAGEM"]
[]
[]
[{"$nulls":6},"Elaborado por:",null,null,"Eleandro Luis Marques da Silva",{"$nulls":5},"2013-10-02"]
[{"$nulls":7},"Função:",null,"Eletrotécnico",{"$nulls":4},{"v":127488,"d":"127,488"}]
["Cabo: ",{"$nulls":7},"336,4 CA",null,null,"Tração de Projeto (daN):"]
["Vão (metros)",40,40,50,50,60,60,70,70,80,80,90,90,100,100,110]
["TP",795,null,775,null,753,null,730,null,706,null,683,null,661,null,641]
["Temp.","Tm","F","Tm","F","Tm","F","Tm","F","Tm","F","Tm","F","Tm","F","Tm","F"]
[-5,1014,"0,09",989,"0,15",960,"0,22",927,"0,31",891,"0,42",854,"0,56",817,"0,72",781,"0,91"]
[0,904,"0,10",881,"0,17",-61,"-3,47",826,"0,35",796,"0,47",765,"0,62",735,"0,80",707,"1,01"]
[5,795,"0,12",775,"0,19",753,"0,28",730,"0,39",706,"0,53",683,"0,70",661,"0,89",641,"1,11"]
[10,688,"0,14",674,"0,22",657,"0,32",641,"0,45",625,"0,60",609,"0,78",595,"0,99",583,"1,22"]
[15,586,"0,16",578,"0,25",569,"0,37",560,"0,51",552,"0,68",545,"0,87",539,"1,09",533,"1,33"]
[20,490,"0,19",490,"0,30",490,"0,43",490,"0,59",490,"0,77",490,"0,97",490,"1,20",490,"1,45"]
[25,404,"0,23",414,"0,35",423,"0,50",431,"0,67",438,"0,86",444,"1,07",449,"1,31",453,"1,57"]
[30,333,"0,28",351,"0,42",368,"0,58",382,"0,75",394,"0,95",405,"1,18",414,"1,42",422,"1,69"]
[35,277,"0,34",302,"0,49",324,"0,65",342,"0,84",359,"1,05",372,"1,28",385,"1,53",395,"1,80"]
[40,236,"0,40",264,"0,56",289,"0,73",311,"0,93",329,"1,14",345,"1,38",359,"1,64",372,"1,91"]
[45,205,"0,46",236,"0,62",262,"0,81",285,"1,01",305,"1,23",322,"1,48",338,"1,74",352,"2,02"]
[50,183,"0,51",213,"0,69",240,"0,88",263,"1,10",284,"1,32",303,"1,57",319,"1,84",334,"2,13"]
[55,165,"0,57",195,"0,75",222,"0,95",246,"1,17",267,"1,41",286,"1,66",303,"1,94",319,"2,23"]
[60,152,"0,62",181,"0,81",207,"1,02",231,"1,25",252,"1,49",272,"1,75",289,"2,03",305,"2,33"]
[65,141,"0,67",169,"0,87",195,"1,09",218,"1,32",239,"1,57",259,"1,84",277,"2,12",293,"2,43"]
[70,132,"0,71",159,"0,92",184,"1,15",207,"1,39",228,"1,65",248,"1,92",265,"2,22",282,"2,52"]
[75,124,"0,76",150,"0,98",175,"1,21",197,"1,46",218,"1,73",237,"2,01",255,"2,31",272,"2,62"]

{"sheet":"Momento Fletor","index":13,"n_rows":0,"n_cols":0,"rows_kept":0,"hidden":true}

{"sheet":"Historico","index":14,"n_rows":11,"n_cols":4,"rows_kept":11,"hidden":true}
[]
["Alterações propostas para revisões de padrões futuros"]
[]
[null,"de","para ","Data"]
["Foi alterado nas estruturas tipo \"P\" os limites para determinação de tipo \"P1\", para \"P2\" (cabos 4AWG e 2AWG)","15º","10º","2010-07-01"]
["Em 2012 foi implementado o cálculo para redes compactas (flexas e estais)"]
["Reativado a opção de vão básico em redes multiplexadas"]
["Adicionado metodo de vetores pelo colega Moraes da coprel",null,null,"2012-03-07"]
["Método de cálculo de estais de acordo com tração máxima de 5ºC"]
["Alterado coeficientes percentuais de esforços para os estais (simples, ESS, ESD, BC)",null,null,"2014-12-11"]
["Alterada as tabelas de postes de acordo com ABNT NBR 8451-2 postes",null,null,"2014-12-12"]

{"sheet":"Relat_Estai","index":15,"n_rows":9,"n_cols":12,"rows_kept":9,"merged":[[1,1,1,11],[2,1,2,11],[3,0,3,1],[3,2,3,4],[3,8,3,11],[4,0,4,1],[4,2,4,3],[5,1,5,2]]}
[]
[null,"Fecoergs"]
[null,"CÁLCULO DE ESFORÇOS E ESTAIS"]
["Elaborado por:",{"$nulls":4},"CREA",null,"Função:"]
["Data:"]
["Projeto:"]
[]
[]
["Estai","Poste nº","Esforço (Kgf)","Altura poste","Ângulo","Vão básico","Estai","Poste nº","Esforço (Kgf)","Altura poste","Ângulo","Vão básico"]

{"sheet":"Calc_flexa_Multiplex","index":16,"n_rows":400,"n_cols":70,"rows_kept":400,"hidden":true,"merged":[[0,0,0,14],[0,15,0,29],[0,30,0,44],[1,0,1,1],[1,8,1,10],[1,15,1,16],[1,23,1,26],[1,30,1,31],[1,38,1,40],[1,58,1,69],[2,8,2,10],[2,23,2,25],[2,38,2,40],[2,47,2,54],[2,58,2,60],[3,8,3,10],[3,23,3,25],[3,38,3,40],[3,47,3,48],[3,49,4,50],[3,51,22,51],[3,52,3,54],[3,58,3,60],[4,8,4,10],[4,23,4,25],[4,38,4,40],[4,58,4,60],[5,8,5,10],[5,16,5,21],[5,23,5,25],[5,38,5,40],[5,49,5,50],[5,58,5,60],[6,1,6,3],[6,5,6,6],[6,8,6,10],[6,16,6,18],[6,20,6,21],[6,23,6,25],[6,31,6,33],[6,35,6,36],[6,38,6,40],[6,49,6,50],[6,58,6,60],[7,1,7,3],[7,5,7,6],[7,8,7,10],[7,16,7,18],[7,20,7,21],[7,23,7,25],[7,31,7,33],[7,35,7,36],[7,38,7,40],[7,49,7,50],[7,58,7,60],[8,1,8,3],[8,5,8,6],[8,8,8,10],[8,16,8,18],[8,20,8,21],[8,23,8,25],[8,31,8,33],[8,35,8,36],[8,38,8,40],[8,49,8,50],[8,58,8,60],[9,1,9,3],[9,5,9,6],[9,8,9,10],[9,16,9,18],[9,20,9,21],[9,23,9,25],[9,31,9,33],[9,35,9,36],[9,38,9,40],[9,49,9,50],[9,58,9,60],[10,49,10,50],[10,58,10,60],[11,49,11,50],[11,58,11,60],[12,49,12,50],[13,49,13,50],[14,49,14,50],[14,58,14,60],[15,49,15,50],[16,49,16,50],[16,58,16,61],[17,49,17,50],[17,58,17,59],[18,49,18,50],[19,49,19,50],[20,49,20,50],[21,49,21,50],[22,49,22,50],[23,47,23,54],[24,47,24,48],[24,49,25,50],[24,51,43,51],[24,52,24,54],[25,58,25,59],[26,49,26,50],[27,49,27,50],[28,49,28,50],[29,49,29,50],[30,1,30,3],[30,16,30,18],[30,31,30,33],[30,49,30,50],[31,1,31,3],[31,8,31,11],[31,23,31,26],[31,38,31,41],[31,49,31,50],[32,8,32,11],[32,23,32,26],[32,38,32,41],[32,49,32,50],[33,8,33,11],[33,23,33,26],[33,38,33,41],[33,49,33,50],[34,8,34,12],[34,23,34,27],[34,38,34,42],[34,49,34,50],[34,58,34,59],[34,60,34,61],[35,8,35,11],[35,23,35,26],[35,38,35,41],[35,49,35,50],[35,58,35,59],[35,60,35,61],[36,8,36,11],[36,23,36,26],[36,38,36,41],[36,49,36,50],[36,58,36,59],[36,60,36,61],[37,8,37,11],[37,23,37,26],[37,38,37,41],[37,49,37,50],[37,58,37,59],[37,60,37,61],[38,49,38,50],[38,58,38,59],[38,60,38,61],[39,7,39,13],[39,22,39,28],[39,37,39,43],[39,49,39,50],[39,58,39,59],[39,60,39,61],[40,49,40,50],[40,58,40,59],[40,60,40,61],[41,8,41,13],[41,22,43,22],[41,23,41,28],[41,37,43,37],[41,38,41,43],[41,49,41,50],[42,49,42,50],[43,8,43,13],[43,23,43,28],[43,38,43,43],[43,49,43,50],[45,47,45,48],[45,49,46,50],[45,51,64,51],[45,52,45,54],[47,49,47,50],[48,49,48,50],[49,49,49,50],[50,49,50,50],[51,49,51,50],[52,0,52,4],[52,16,52,19],[52,49,52,50],[53,1,53,2],[53,49,53,50],[54,49,54,50],[55,49,55,50],[56,49,56,50],[57,49,57,50],[58,49,58,50],[59,49,59,50],[60,1,60,2],[60,49,60,50],[61,49,61,50],[62,49,62,50],[63,7,63,14],[63,22,63,29],[63,38,63,44],[63,49,63,50],[64,49,64,50],[65,7,67,7],[65,8,65,14],[65,22,67,22],[65,23,65,29],[65,37,67,37],[65,38,65,44],[65,49,65,51],[67,1,67,2],[67,8,67,14],[67,23,67,29],[67,38,67,44],[67,46,67,56],[68,46,69,47],[68,49,68,50],[68,51,68,52],[68,53,68,54],[68,55,68,56],[70,46,70,47],[71,46,71,47],[72,46,74,47],[72,48,72,51],[72,52,72,53],[72,54,87,56],[73,48,73,49],[73,50,73,51],[73,52,74,52],[73,53,74,53],[74,1,74,2],[75,46,75,47],[76,46,76,47],[77,46,77,53],[78,46,80,46],[78,47,78,50],[78,51,78,53],[79,47,79,48],[79,49,79,50],[79,51,80,51],[79,52,80,52],[79,53,80,53],[81,1,81,2],[83,46,83,53],[84,47,84,50],[84,51,84,53],[85,47,85,48],[85,49,85,50],[86,47,86,48],[86,49,86,50],[87,47,87,48],[87,49,87,50],[88,1,88,2],[88,7,88,14],[88,22,88,29],[88,37,88,44],[89,46,89,54],[90,46,90,54],[91,46,92,46],[91,47,92,48],[91,49,91,50],[91,52,91,53],[91,54,92,54],[93,46,94,46],[93,47,93,48],[94,47,94,48],[95,1,95,2],[95,47,95,48],[96,47,96,48],[97,46,97,54],[98,46,100,46],[98,47,100,47],[98,48,98,51],[98,52,98,54],[99,48,99,49],[99,50,99,51],[99,52,100,52],[99,53,100,53],[99,54,100,54],[100,7,100,14],[100,22,100,29],[100,37,100,44],[101,46,102,46],[102,1,102,2],[107,48,107,50],[108,48,108,50],[109,1,109,2],[109,48,109,50],[110,48,110,50],[111,48,111,50],[112,48,112,51],[113,7,113,14],[113,22,113,29],[113,37,113,44],[113,48,113,50],[114,48,114,50],[115,48,115,50],[116,1,116,2],[116,48,116,50],[117,48,117,50],[118,48,118,50],[119,48,119,50],[120,48,120,50],[121,48,121,50],[122,48,122,50],[123,1,123,2],[123,48,123,50],[124,48,124,50],[125,48,125,50],[126,7,126,14],[126,22,126,29],[126,37,126,44],[126,48,126,50],[127,48,127,50],[128,48,128,50],[129,48,129,50],[130,1,130,2],[130,48,130,50],[131,48,131,50],[132,48,132,50],[133,48,133,50],[134,48,134,50],[135,48,135,50],[136,48,136,50],[137,1,137,2],[139,7,139,14],[139,22,139,29],[139,37,139,44],[144,1,144,2],[151,1,151,2],[152,7,152,14],[152,22,152,29],[152,37,152,44],[158,1,158,2],[165,1,165,2],[165,7,165,14],[165,22,165,29],[165,37,165,44],[172,1,172,2],[178,7,178,14],[178,22,178,29],[178,37,178,44],[179,1,179,2],[190,0,190,2],[190,15,190,21],[191,7,191,14],[191,22,191,29],[191,37,191,44],[204,7,204,14],[204,22,204,29],[204,37,204,44],[217,7,217,14],[217,22,217,29],[217,37,217,44],[230,7,230,14],[230,22,230,29],[230,37,230,44],[243,7,243,14],[243,15,243,16],[243,22,243,29],[243,37,243,44],[245,15,245,16],[254,15,254,16],[256,15,256,16],[265,15,265,16],[267,15,267,16],[276,15,276,16],[278,15,278,16],[287,15,287,16],[289,15,289,16],[298,15,298,16],[300,15,300,16],[309,15,309,16],[311,15,311,16],[320,15,320,16],[322,15,322,16],[331,15,331,16],[333,15,333,16],[344,15,344,16],[353,15,353,16],[355,15,355,16],[449,30,449,31]]}
["CANTÃO 1",{"$nulls":14},"CANTÃO 2",{"$nulls":14},"CANTÃO 3"]
[{"$nulls":8},"Cabo ",{"$nulls":3},{"$f":"E7","v":70},{"$nulls":10},"Cabo ",{"$nulls":3},{"$f":"T7","v":0},{"$nulls":10},"Cabo ",{"$nulls":3},{"$f":"AI7","v":0},{"$nulls":15},"DADOS DO CONDUTOR"]
[{"$nulls":8},"Seção do portador",null,null,"S =",{"$f":"HLOOKUP(M2,$BJ$3:$BP$12,3,FALSE)","v":49.48},{"$nulls":10},"Seção do portador",null,null,"S =",{"$f":"HLOOKUP(AB2,$BJ$3:$BP$12,3,FALSE)","v":{"$error":"#N/A"}},{"$nulls":10},"Seção do portador",null,null,"S =",{"$f":"HLOOKUP(AQ2,$BJ$3:$BP$12,3,FALSE)","v":{"$error":"#N/A"}},{"$nulls":4},"ESFORÇOS TRANSMITIDOS PELOS CONDUTORES AOS POSTES DE ALINHAMENTO E ANGULO ",{"$nulls":10},"CABO - SEÇÃO",null,null,25,35,50,70,95,120,150,185,"mm2"]
[{"$nulls":8},"diâmetro do cabo",null,null,"d =",{"$f":"HLOOKUP(M2,$BJ$3:$BP$12,2,FALSE)","v":40.5},{"$nulls":10},"diâmetro do cabo",null,null,"d =",{"$f":"HLOOKUP(AB2,$BJ$3:$BP$12,2,FALSE)","v":{"$error":"#N/A"}},{"$nulls":10},"diâmetro do cabo",null,null,"d =",{"$f":"HLOOKUP(AQ2,$BJ$3:$BP$12,2,FALSE)","v":{"$error":"#N/A"}},{"$nulls":4},"Poste ",null,"traçao horizontal",null,"TRECHO 1","Tração Vertical",{"$nulls":5},"DIÂMETRO DO CABO",null,null,{"$f":"Multiplex!K5","v":31.09},{"$f":"Multiplex!L5","v":34},{"$f":"Multiplex!M5","v":36.85},{"$f":"Multiplex!N5","v":40.5},{"$f":"Multiplex!O5","v":45.05},{"$f":"Multiplex!P5","v":49.5},{"$f":"Multiplex!Q5","v":{"v":51,"d":"51.00"}},null,"mm"]
[{"$nulls":8},"módulo de elasticidade",null,null,"E =",{"$f":"HLOOKUP(M2,$BJ$3:$BP$12,4,FALSE)","v":600},{"$nulls":10},"módulo de elasticidade",null,null,"E =",{"$f":"HLOOKUP(AB2,$BJ$3:$BP$12,4,FALSE)","v":{"$error":"#N/A"}},{"$nulls":10},"módulo de elasticidade",null,null,"E =",{"$f":"HLOOKUP(AQ2,$BJ$3:$BP$12,4,FALSE)","v":{"$error":"#N/A"}},{"$nulls":4},"nº","deflexão",{"$nulls":3},"0ºC s/carga","0ºC+1/3V","15ºC+V",{"$nulls":3},"SEÇÃO DO SUPORTE",null,null,{"$f":"Multiplex!K6","v":49.48},{"$f":"Multiplex!L6","v":49.48},{"$f":"Multiplex!M6","v":49.48},{"$f":"Multiplex!N6","v":49.48},{"$f":"Multiplex!O6","v":49.48},{"$f":"Multiplex!P6","v":65.44},{"$f":"Multiplex!Q6","v":65.44},null,"mm2"]
[{"$nulls":8},"coeficiente de dilatação linear",null,null,"d =",{"$f":"HLOOKUP(M2,$BJ$3:$BP$12,5,FALSE)","v":2.3E-5},{"$nulls":10},"coeficiente de dilatação linear",null,null,"d =",{"$f":"HLOOKUP(AB2,$BJ$3:$BP$12,5,FALSE)","v":{"$error":"#N/A"}},{"$nulls":10},"coeficiente de dilatação linear",null,null,"d =",{"$f":"HLOOKUP(AQ2,$BJ$3:$BP$12,5,FALSE)","v":{"$error":"#N/A"}},{"$nulls":4},{"$f":"IF(J13=0,0,I13)","v":0},{"$f":"Multiplex!E21","v":0},{"$f":"IF(J13=0,0,  0.05*(J12+J13)/2*$M$4*COS(AW6*PI()/180/2)+ 2*$M$33*ABS(SIN(AW6*PI()/180/2)))","v":0},null,null,{"$f":"IF(J13=0,0,  $M$7*(J12+J13)/2 +  $J$43*D34)","v":0},{"$f":"IF(J13=0,0,$M$7*(C34+$I$43/$M$9*D34))","v":0},{"$f":"IF(J13=0,0,$M$7*(C34+$N$43/$M$8*D34))","v":0},{"$nulls":3},"MÓDULO DE ELATICIDADE",null,null,{"$f":"Multiplex!K7","v":6000},{"$f":"Multiplex!L7","v":6000},{"$f":"Multiplex!M7","v":6000},{"$f":"Multiplex!N7","v":600},{"$f":"Multiplex!O7","v":6000},{"$f":"Multiplex!P7","v":600},{"$f":"Multiplex!Q7","v":6325},null,"kg/mm2"]
[null,"Cabo",null,null,{"$f":"Multiplex!D15","v":70},"mm2",null,null,"peso",null,null,"p =",{"$f":"HLOOKUP(M2,$BJ$3:$BP$12,8,FALSE)","v":0.985},{"$nulls":3},"Cabo",null,null,{"$f":"Multiplex!D45","v":0},"mm2",null,null,"peso",null,null,"p =",{"$f":"HLOOKUP(AB2,$BJ$3:$BP$12,8,FALSE)","v":{"$error":"#N/A"}},{"$nulls":3},"Cabo",null,null,{"$f":"Multiplex!D75","v":0},"mm2",null,null,"peso",null,null,"p =",{"$f":"HLOOKUP(AQ2,$BJ$3:$BP$12,8,FALSE)","v":{"$error":"#N/A"}},{"$nulls":4},0,{"$f":"Multiplex!E22","v":0},0,null,null,{"$f":"IF(J14=0,0,$M$7*(J13+J14)/2+$J$43*D35)","v":0},0,0,{"$nulls":3},"COEF.DILATAÇÃO LINEAR",null,null,{"$f":"Multiplex!K8","v":2.3E-5},{"$f":"Multiplex!L8","v":2.3E-5},{"$f":"Multiplex!M8","v":2.3E-5},{"$f":"Multiplex!N8","v":2.3E-5},{"$f":"Multiplex!O8","v":2.3E-5},{"$f":"Multiplex!P8","v":2.3E-5},{"$f":"Multiplex!Q8","v":2.3E-5},null,"ºC -1"]
[null,"peso",null,null,{"$f":"HLOOKUP(E7,$BJ$3:$BP$12,8,FALSE)","v":0.985},"kg/m.",null,null,"peso com carga (15 C e v=120 km/k)",null,null,"p1 =",{"$f":"HLOOKUP(M2,$BJ$3:$BP$12,9,FALSE)","v":2.2518547910555866},{"$nulls":3},"peso",null,null,{"$f":"HLOOKUP(T7,$BJ$3:$BP$12,8,FALSE)","v":{"$error":"#N/A"}},"kg/m.",null,null,"peso com carga (15 C e v=120 km/k)",null,null,"pv =",{"$f":"HLOOKUP(AB2,$BJ$3:$BP$12,9,FALSE)","v":{"$error":"#N/A"}},{"$nulls":3},"peso",null,null,{"$f":"HLOOKUP(AI7,$BJ$3:$BP$12,8,FALSE)","v":{"$error":"#N/A"}},"kg/m.",null,null,"peso com carga (15 C e v=120 km/k)",null,null,"pv =",{"$f":"HLOOKUP(AQ2,$BJ$3:$BP$12,9,FALSE)","v":{"$error":"#N/A"}},{"$nulls":4},0,{"$f":"Multiplex!E23","v":0},0,null,null,0,0,0,{"$nulls":3},"CARGA DE RUPTURA (SUPORTE)",null,null,{"$f":"Multiplex!K9","v":1425},{"$f":"Multiplex!L9","v":1425},{"$f":"Multiplex!M9","v":1425},{"$f":"Multiplex!N9","v":1425},{"$f":"Multiplex!O9","v":1995},{"$f":"Multiplex!P9","v":1995},{"$f":"Multiplex!Q9","v":1995},null,"kg"]
[null,"peso c/carga (15 C e v=120 km/h)",null,null,{"$f":"HLOOKUP(E7,$BJ$3:$BP$12,9,FALSE)","v":2.2518547910555866},"kg/m.",null,null,"peso com carga (v=1/3)",null,null,"p2=",{"$f":"HLOOKUP(M2,$BJ$3:$BP$12,10,FALSE)","v":1.1940896113776387},{"$nulls":3},"peso c/carga (15 C e v=120 km/h)",null,null,{"$f":"HLOOKUP(T7,$BJ$3:$BP$12,9,FALSE)","v":{"$error":"#N/A"}},"kg/m.",null,null,"peso com carga (v=1/3)",null,null,"pv(1/3)=",{"$f":"HLOOKUP(AB2,$BJ$3:$BP$12,10,FALSE)","v":{"$error":"#N/A"}},{"$nulls":3},"peso c/carga (15 C e v=120 km/h)",null,null,{"$f":"HLOOKUP(AI7,$BJ$3:$BP$12,9,FALSE)","v":{"$error":"#N/A"}},"kg/m.",null,null,"peso com carga (v=1/3)",null,null,"pv(1/3)=",{"$f":"HLOOKUP(AQ2,$BJ$3:$BP$12,10,FALSE)","v":{"$error":"#N/A"}},{"$nulls":4},0,{"$f":"Multiplex!E24","v":0},0,null,null,0,0,0,{"$nulls":3},"TRAÇÃO MÁX. ADMISSÍVEL",null,null,{"$f":"Multiplex!K10","v":285},{"$f":"Multiplex!L10","v":285},{"$f":"Multiplex!M10","v":285},{"$f":"Multiplex!N10","v":285},{"$f":"Multiplex!O10","v":399},{"$f":"Multiplex!P10","v":399},{"$f":"Multiplex!Q10","v":399},null,"kg"]
[null,"T máxima",null,null,{"$f":"HLOOKUP(E7,$BJ$3:$BP$12,7,FALSE)","v":285},"kg.",null,null,"carga de ruptura",{"$nulls":3},{"$f":"HLOOKUP(M2,$BJ$3:$BP$12,6,FALSE)","v":1425},{"$nulls":3},"T máximo",null,null,{"$f":"HLOOKUP(T7,$BJ$3:$BP$12,7,FALSE)","v":{"$error":"#N/A"}},"kg.",null,null,"carga de ruptura",{"$nulls":3},{"$f":"HLOOKUP(AB2,$BJ$3:$BP$12,6,FALSE)","v":{"$error":"#N/A"}},{"$nulls":3},"T máximo",null,null,{"$f":"HLOOKUP(AI7,$BJ$3:$BP$12,7,FALSE)","v":{"$error":"#N/A"}},"kg.",null,null,"carga de ruptura",{"$nulls":3},{"$f":"HLOOKUP(AQ2,$BJ$3:$BP$12,6,FALSE)","v":{"$error":"#N/A"}},{"$nulls":4},0,{"$f":"Multiplex!E25","v":0},0,null,null,0,0,0,{"$nulls":3},"PESO SEM CARGA",null,null,{"$f":"Multiplex!K11","v":0.585},{"$f":"Multiplex!L11","v":0.65},{"$f":"Multiplex!M11","v":{"v":0.81,"d":"0.810"}},{"$f":"Multiplex!N11","v":0.985},{"$f":"Multiplex!O11","v":{"v":1.32,"d":"1.320"}},{"$f":"Multiplex!P11","v":{"v":1.66,"d":"1.660"}},{"$f":"Multiplex!Q11","v":1.702},null,"kg/m"]
[null,"Vão nº","a","h","T","T1","T2",null,"vão","a=proj.horizontal","desnível","comprimento","a3",{"$nulls":3},"Vão nº","a","h","T","T1","T2",null,"vão","a=proj.horizontal","desnível","comprimento","a3",{"$nulls":3},"Vão nº","a","h","T","T1","T2",null,"vão","a=proj.horizontal","desnível","comprimento","a3",{"$nulls":4},0,{"$f":"Multiplex!E26","v":0},0,null,null,0,0,0,{"$nulls":3},"PESO C/CARGA (15 C ,v=120 km/h)",null,null,{"$f":"SQRT((0.05*BJ4)^2 + (BJ10^2))","v":{"v":1.6609320425592373,"d":"1.66"}},{"v":1.8200274723201297,"d":"1.82"},{"v":2.0126863267782196,"d":"2.01"},{"v":2.2518547910555866,"d":"2.25"},{"v":2.6107769437468225,"d":"2.61"},{"v":2.980138419604029,"d":"2.98"},{"v":3.065828436165338,"d":"3.07"},null,"kg/m"]
[null,{"$f":"Multiplex!B20","v":1},{"$f":"Multiplex!F20","v":50},{"$f":"Multiplex!D20","v":0},{"$f":"C202*C12/2/C196","v":{"v":279.3269321990375,"d":"279"}},{"$f":"E9*E60","v":{"v":285.01922914360165,"d":"285"}},{"$f":"E9*E59","v":{"v":285.01922914360165,"d":"285"}},null,{"$f":"IF(B12=0,\"-\",B12)","v":1},{"$f":"IF(C12=0,0,C12)","v":50},{"$f":"IF(C12=0,\"-\",D12)","v":0},{"$f":"SQRT(J12*J12+K12*K12)","v":{"v":50,"d":"50.00"}},{"$f":"POWER(J12,3)","v":125000},{"$nulls":3},{"$f":"Multiplex!B50","v":0},{"$f":"Multiplex!F50","v":0},{"$f":"Multiplex!D50","v":0},{"$f":"R202*R12/2/R196","v":{"$error":"#N/A"}},{"$f":"T9*T60","v":{"$error":"#N/A"}},{"$f":"T9*T59","v":{"$error":"#N/A"}},null,{"$f":"IF(Q12=0,0,Q12)","v":0},0,{"$f":"IF(R12=0,\"-\",S12)","v":"-"},{"$f":"IF(Y12=0,0,SQRT(Y12*Y12+Z12*Z12))","v":{"v":0,"d":"0.00"}},{"$f":"POWER(Y12,3)","v":0},{"$nulls":3},{"$f":"Multiplex!B80","v":0},{"$f":"Multiplex!F80","v":0},{"$f":"Multiplex!D80","v":0},{"$f":"AG202*AG12/2/AG196","v":{"$error":"#N/A"}},{"$f":"AI9*AI60","v":{"$error":"#N/A"}},{"$f":"AI9*AI59","v":{"$error":"#N/A"}},null,{"$f":"IF(AF12=0,0,AF12)","v":0},0,{"$f":"IF(AG12=0,\"-\",AH12)","v":"-"},{"$f":"IF(AN12=0,0,SQRT(AN12*AN12+AO12*AO12))","v":{"v":0,"d":"0.00"}},{"$f":"POWER(AN12,3)","v":0},{"$nulls":4},0,{"$f":"Multiplex!E27","v":0},0,null,null,0,0,0,{"$nulls":3},"PESO C/CARGA (v=1/3)",null,null,{"$f":"SQRT((0.05/3*BJ4)^2 + (BJ10^2))","v":{"v":0.7814868485422161,"d":"0.78"}},{"v":0.8623288880184353,"d":"0.86"},{"v":1.0165139912684156,"d":"1.02"},{"v":1.1940896113776387,"d":"1.19"},{"v":1.518601558817995,"d":"1.52"},{"v":1.8537057479546206,"d":"1.85"},{"v":1.9024468455123784,"d":"1.90"},null,"kg"]
[null,{"$f":"Multiplex!B21","v":2},{"$f":"Multiplex!F21","v":0},{"$f":"Multiplex!D21","v":0},{"$f":"IF(C13=0,\"-\",C213*C13/2/C207)","v":"-"},{"$f":"IF(C13=0,\"-\",E67*E$9)","v":"-"},{"$f":"IF(C13=0,\"-\",E$9*E66)","v":"-"},null,2,0,"-",{"$f":"IF(J13=0,0,SQRT(J13*J13+K13*K13))","v":{"v":0,"d":"0.00"}},{"$f":"IF(J13=\"-\",\"-\",POWER(J13,3))","v":0},{"$nulls":3},{"$f":"Multiplex!B51","v":0},{"$f":"Multiplex!F51","v":0},{"$f":"Multiplex!D51","v":0},{"$f":"IF(R13=0,\"-\",R213*R13/2/R207)","v":"-"},{"$f":"IF(R13=0,\"-\",T67*T$9)","v":"-"},{"$f":"IF(R13=0,\"-\",T$9*T66)","v":"-"},null,0,0,"-",{"v":0,"d":"0.00"},{"$f":"IF(Y13=\"-\",\"-\",POWER(Y13,3))","v":0},{"$nulls":3},{"$f":"Multiplex!B81","v":0},{"$f":"Multiplex!F81","v":0},{"$f":"Multiplex!D81","v":0},{"$f":"IF(AG13=0,\"-\",AG213*AG13/2/AG207)","v":"-"},{"$f":"IF(AG13=0,\"-\",AI67*AI$9)","v":"-"},{"$f":"IF(AG13=0,\"-\",AI$9*AI66)","v":"-"},null,0,0,"-",{"v":0,"d":"0.00"},{"$f":"IF(AN13=\"-\",\"-\",POWER(AN13,3))","v":0},{"$nulls":4},0,{"$f":"Multiplex!E28","v":0},0,null,null,0,0,0]
[null,{"$f":"Multiplex!B22","v":0},{"$f":"Multiplex!F22","v":0},{"$f":"Multiplex!D22","v":0},{"$f":"IF(C14=0,\"-\",C224*C14/2/C218)","v":"-"},{"$f":"IF(C14=0,\"-\",E74*E$9)","v":"-"},{"$f":"IF(C14=0,\"-\",E$9*E73)","v":"-"},null,"-",0,"-",{"v":0,"d":"0.00"},0,{"$nulls":3},{"$f":"Multiplex!B52","v":0},{"$f":"Multiplex!F52","v":0},{"$f":"Multiplex!D52","v":0},{"$f":"IF(R14=0,\"-\",R224*R14/2/R218)","v":"-"},{"$f":"IF(R14=0,\"-\",T74*T$9)","v":"-"},{"$f":"IF(R14=0,\"-\",T$9*T73)","v":"-"},null,0,0,"-",{"v":0,"d":"0.00"},0,{"$nulls":3},{"$f":"Multiplex!B82","v":0},{"$f":"Multiplex!F82","v":0},{"$f":"Multiplex!D82","v":0},{"$f":"IF(AG14=0,\"-\",AG224*AG14/2/AG218)","v":"-"},{"$f":"IF(AG14=0,\"-\",AI74*AI$9)","v":"-"},{"$f":"IF(AG14=0,\"-\",AI$9*AI73)","v":"-"},null,0,0,"-",{"v":0,"d":"0.00"},0,{"$nulls":4},0,{"$f":"Multiplex!E29","v":0},0,null,null,0,0,0]
[null,{"$f":"Multiplex!B23","v":0},{"$f":"Multiplex!F23","v":0},{"$f":"Multiplex!D23","v":0},{"$f":"IF(C15=0,\"-\",C235*C15/2/C229)","v":"-"},{"$f":"IF(C15=0,\"-\",E81*E$9)","v":"-"},{"$f":"IF(C15=0,\"-\",E$9*E80)","v":"-"},null,"-",0,"-",{"v":0,"d":"0.00"},0,{"$nulls":3},{"$f":"Multiplex!B53","v":0},{"$f":"Multiplex!F53","v":0},{"$f":"Multiplex!D53","v":0},{"$f":"IF(R15=0,\"-\",R235*R15/2/R229)","v":"-"},{"$f":"IF(R15=0,\"-\",T81*T$9)","v":"-"},{"$f":"IF(R15=0,\"-\",T$9*T80)","v":"-"},null,0,0,"-",{"v":0,"d":"0.00"},0,{"$nulls":3},{"$f":"Multiplex!B83","v":0},{"$f":"Multiplex!F83","v":0},{"$f":"Multiplex!D83","v":0},{"$f":"IF(AG15=0,\"-\",AG235*AG15/2/AG229)","v":"-"},{"$f":"IF(AG15=0,\"-\",AI81*AI$9)","v":"-"},{"$f":"IF(AG15=0,\"-\",AI$9*AI80)","v":"-"},null,0,0,"-",{"v":0,"d":"0.00"},0,{"$nulls":4},0,{"$f":"Multiplex!E30","v":0},0,null,null,0,0,0,{"$nulls":3},"Poste Assimétrico (rel. de esforços)",null,null,{"$f":"Multiplex!D4","v":2}]
[null,{"$f":"Multiplex!B24","v":0},{"$f":"Multiplex!F24","v":0},{"$f":"Multiplex!D24","v":0},{"$f":"IF(C16=0,\"-\",C246*C16/2/C240)","v":"-"},{"$f":"IF(C16=0,\"-\",E88*E$9)","v":"-"},{"$f":"IF(C16=0,\"-\",E$9*E87)","v":"-"},null,"-",0,"-",{"v":0,"d":"0.00"},0,{"$nulls":3},{"$f":"Multiplex!B54","v":0},{"$f":"Multiplex!F54","v":0},{"$f":"Multiplex!D54","v":0},{"$f":"IF(R16=0,\"-\",R246*R16/2/R240)","v":"-"},{"$f":"IF(R16=0,\"-\",T88*T$9)","v":"-"},{"$f":"IF(R16=0,\"-\",T$9*T87)","v":"-"},null,0,0,"-",{"v":0,"d":"0.00"},0,{"$nulls":3},{"$f":"Multiplex!B84","v":0},{"$f":"Multiplex!F84","v":0},{"$f":"Multiplex!D84","v":0},{"$f":"IF(AG16=0,\"-\",AG246*AG16/2/AG240)","v":"-"},{"$f":"IF(AG16=0,\"-\",AI88*AI$9)","v":"-"},{"$f":"IF(AG16=0,\"-\",AI$9*AI87)","v":"-"},null,0,0,"-",{"v":0,"d":"0.00"},0,{"$nulls":4},0,{"$f":"Multiplex!E31","v":0},0,null,null,0,0,0]
[null,{"$f":"Multiplex!B25","v":0},{"$f":"Multiplex!F25","v":0},{"$f":"Multiplex!D25","v":0},{"$f":"IF(C17=0,\"-\",C257*C17/2/C251)","v":"-"},{"$f":"IF(C17=0,\"-\",E95*E$9)","v":"-"},{"$f":"IF(C17=0,\"-\",E$9*E94)","v":"-"},null,"-",0,"-",{"v":0,"d":"0.00"},0,{"$nulls":3},{"$f":"Multiplex!B55","v":0},{"$f":"Multiplex!F55","v":0},{"$f":"Multiplex!D55","v":0},{"$f":"IF(R17=0,\"-\",R257*R17/2/R251)","v":"-"},{"$f":"IF(R17=0,\"-\",T95*T$9)","v":"-"},{"$f":"IF(R17=0,\"-\",T$9*T94)","v":"-"},null,0,0,"-",{"v":0,"d":"0.00"},0,{"$nulls":3},{"$f":"Multiplex!B85","v":0},{"$f":"Multiplex!F85","v":0},{"$f":"Multiplex!D85","v":0},{"$f":"IF(AG17=0,\"-\",AG257*AG17/2/AG251)","v":"-"},{"$f":"IF(AG17=0,\"-\",AI95*AI$9)","v":"-"},{"$f":"IF(AG17=0,\"-\",AI$9*AI94)","v":"-"},null,0,0,"-",{"v":0,"d":"0.00"},0,{"$nulls":4},0,{"$f":"Multiplex!E32","v":0},0,null,null,0,0,0,{"$nulls":3},"Derivação em Poste de Ancoragem Intermediária",{"$nulls":6},"circular",null,0.00471]
[null,{"$f":"Multiplex!B26","v":0},{"$f":"Multiplex!F26","v":0},{"$f":"Multiplex!D26","v":0},{"$f":"IF(C18=0,\"-\",C268*C18/2/C262)","v":"-"},{"$f":"IF(C18=0,\"-\",E102*E$9)","v":"-"},{"$f":"IF(C18=0,\"-\",E$9*E101)","v":"-"},null,"-",0,"-",{"v":0,"d":"0.00"},0,{"$nulls":3},{"$f":"Multiplex!B56","v":0},{"$f":"Multiplex!F56","v":0},{"$f":"Multiplex!D56","v":0},{"$f":"IF(R18=0,\"-\",R268*R18/2/R262)","v":"-"},{"$f":"IF(R18=0,\"-\",T102*T$9)","v":"-"},{"$f":"IF(R18=0,\"-\",T$9*T101)","v":"-"},null,0,0,"-",{"v":0,"d":"0.00"},0,{"$nulls":3},{"$f":"Multiplex!B86","v":0},{"$f":"Multiplex!F86","v":0},{"$f":"Multiplex!D86","v":0},{"$f":"IF(AG18=0,\"-\",AG268*AG18/2/AG262)","v":"-"},{"$f":"IF(AG18=0,\"-\",AI102*AI$9)","v":"-"},{"$f":"IF(AG18=0,\"-\",AI$9*AI101)","v":"-"},null,0,0,"-",{"v":0,"d":"0.00"},0,{"$nulls":4},0,{"$f":"Multiplex!E33","v":0},0,null,null,0,0,0,{"$nulls":3},"entre 1º  e 2º  cantão",{"$nulls":6},"plana",null,0.00754]
[null,{"$f":"Multiplex!B27","v":0},{"$f":"Multiplex!F27","v":0},{"$f":"Multiplex!D27","v":0},{"$f":"IF(C19=0,\"-\",C279*C19/2/C273)","v":"-"},{"$f":"IF(C19=0,\"-\",E109*E$9)","v":"-"},{"$f":"IF(C19=0,\"-\",E$9*E108)","v":"-"},null,"-",0,"-",{"v":0,"d":"0.00"},0,{"$nulls":3},{"$f":"Multiplex!B57","v":0},{"$f":"Multiplex!F57","v":0},{"$f":"Multiplex!D57","v":0},{"$f":"IF(R19=0,\"-\",R279*R19/2/R273)","v":"-"},{"$f":"IF(R19=0,\"-\",T109*T$9)","v":"-"},{"$f":"IF(R19=0,\"-\",T$9*T108)","v":"-"},null,0,0,"-",{"v":0,"d":"0.00"},0,{"$nulls":3},{"$f":"Multiplex!B87","v":0},{"$f":"Multiplex!F87","v":0},{"$f":"Multiplex!D87","v":0},{"$f":"IF(AG19=0,\"-\",AG279*AG19/2/AG273)","v":"-"},{"$f":"IF(AG19=0,\"-\",AI109*AI$9)","v":"-"},{"$f":"IF(AG19=0,\"-\",AI$9*AI108)","v":"-"},null,0,0,"-",{"v":0,"d":"0.00"},0,{"$nulls":4},0,{"$f":"Multiplex!E34","v":0},0,null,null,0,0,0,{"$nulls":3},"condutor:"]
[null,{"$f":"Multiplex!B28","v":0},{"$f":"Multiplex!F28","v":0},{"$f":"Multiplex!D28","v":0},{"$f":"IF(C20=0,\"-\",C290*C20/2/C284)","v":"-"},{"$f":"IF(C20=0,\"-\",E116*E$9)","v":"-"},{"$f":"IF(C20=0,\"-\",E$9*E115)","v":"-"},null,"-",0,"-",{"v":0,"d":"0.00"},0,{"$nulls":3},{"$f":"Multiplex!B58","v":0},{"$f":"Multiplex!F58","v":0},{"$f":"Multiplex!D58","v":0},{"$f":"IF(R20=0,\"-\",R290*R20/2/R284)","v":"-"},{"$f":"IF(R20=0,\"-\",T116*T$9)","v":"-"},{"$f":"IF(R20=0,\"-\",T$9*T115)","v":"-"},null,0,0,"-",{"v":0,"d":"0.00"},0,{"$nulls":3},{"$f":"Multiplex!B88","v":0},{"$f":"Multiplex!F88","v":0},{"$f":"Multiplex!D88","v":0},{"$f":"IF(AG20=0,\"-\",AG290*AG20/2/AG284)","v":"-"},{"$f":"IF(AG20=0,\"-\",AI116*AI$9)","v":"-"},{"$f":"IF(AG20=0,\"-\",AI$9*AI115)","v":"-"},null,0,0,"-",{"v":0,"d":"0.00"},0,{"$nulls":4},0,{"$f":"Multiplex!E35","v":0},0,null,null,0,0,0,{"$nulls":3},"vão:"]
[null,{"$f":"Multiplex!B29","v":0},{"$f":"Multiplex!F29","v":0},{"$f":"Multiplex!D29","v":0},{"$f":"IF(C21=0,\"-\",C301*C21/2/C295)","v":"-"},{"$f":"IF(C21=0,\"-\",E123*E$9)","v":"-"},{"$f":"IF(C21=0,\"-\",E$9*E122)","v":"-"},null,"-",0,"-",{"v":0,"d":"0.00"},0,{"$nulls":3},{"$f":"Multiplex!B59","v":0},{"$f":"Multiplex!F59","v":0},{"$f":"Multiplex!D59","v":0},{"$f":"IF(R21=0,\"-\",R301*R21/2/R295)","v":"-"},{"$f":"IF(R21=0,\"-\",T123*T$9)","v":"-"},{"$f":"IF(R21=0,\"-\",T$9*T122)","v":"-"},null,0,0,"-",{"v":0,"d":"0.00"},0,{"$nulls":3},{"$f":"Multiplex!B89","v":0},{"$f":"Multiplex!F89","v":0},{"$f":"Multiplex!D89","v":0},{"$f":"IF(AG21=0,\"-\",AG301*AG21/2/AG295)","v":"-"},{"$f":"IF(AG21=0,\"-\",AI123*AI$9)","v":"-"},{"$f":"IF(AG21=0,\"-\",AI$9*AI122)","v":"-"},null,0,0,"-",{"v":0,"d":"0.00"},0,{"$nulls":4},0,{"$f":"Multiplex!E36","v":0},0,null,null,0,0,0,{"$nulls":3},"desnível:"]
[null,{"$f":"Multiplex!B30","v":0},{"$f":"Multiplex!F30","v":0},{"$f":"Multiplex!D30","v":0},{"$f":"IF(C22=0,\"-\",C312*C22/2/C306)","v":"-"},{"$f":"IF(C22=0,\"-\",E130*E$9)","v":"-"},{"$f":"IF(C22=0,\"-\",E$9*E129)","v":"-"},null,"-",0,"-",{"v":0,"d":"0.00"},0,{"$nulls":3},{"$f":"Multiplex!B60","v":0},{"$f":"Multiplex!F60","v":0},{"$f":"Multiplex!D60","v":0},{"$f":"IF(R22=0,\"-\",R312*R22/2/R306)","v":"-"},{"$f":"IF(R22=0,\"-\",T130*T$9)","v":"-"},{"$f":"IF(R22=0,\"-\",T$9*T129)","v":"-"},null,0,0,"-",{"v":0,"d":"0.00"},0,{"$nulls":3},{"$f":"Multiplex!B90","v":0},{"$f":"Multiplex!F90","v":0},{"$f":"Multiplex!D90","v":0},{"$f":"IF(AG22=0,\"-\",AG312*AG22/2/AG306)","v":"-"},{"$f":"IF(AG22=0,\"-\",AI130*AI$9)","v":"-"},{"$f":"IF(AG22=0,\"-\",AI$9*AI129)","v":"-"},null,0,0,"-",{"v":0,"d":"0.00"},0,{"$nulls":4},0,{"$f":"Multiplex!E37","v":0},0,null,null,0,0,0,{"$nulls":3},"ângulo:"]
[null,{"$f":"Multiplex!B31","v":0},{"$f":"Multiplex!F31","v":0},{"$f":"Multiplex!D31","v":0},{"$f":"IF(C23=0,\"-\",C323*C23/2/C317)","v":"-"},{"$f":"IF(C23=0,\"-\",E137*E$9)","v":"-"},{"$f":"IF(C23=0,\"-\",E$9*E136)","v":"-"},null,"-",0,"-",{"v":0,"d":"0.00"},0,{"$nulls":3},{"$f":"Multiplex!B61","v":0},{"$f":"Multiplex!F61","v":0},{"$f":"Multiplex!D61","v":0},{"$f":"IF(R23=0,\"-\",R323*R23/2/R317)","v":"-"},{"$f":"IF(R23=0,\"-\",T137*T$9)","v":"-"},{"$f":"IF(R23=0,\"-\",T$9*T136)","v":"-"},null,0,0,"-",{"v":0,"d":"0.00"},0,{"$nulls":3},{"$f":"Multiplex!B91","v":0},{"$f":"Multiplex!F91","v":0},{"$f":"Multiplex!D91","v":0},{"$f":"IF(AG23=0,\"-\",AG323*AG23/2/AG317)","v":"-"},{"$f":"IF(AG23=0,\"-\",AI137*AI$9)","v":"-"},{"$f":"IF(AG23=0,\"-\",AI$9*AI136)","v":"-"},null,0,0,"-",{"v":0,"d":"0.00"},0,{"$nulls":4},0,{"$f":"Multiplex!E38","v":0},0,null,null,0,0,0,{"$nulls":3},"T máx",{"$f":"HLOOKUP(Multiplex!V42,BJ3:BP9, 7, FALSE)","v":{"$error":"#N/A"}}]
[null,{"$f":"Multiplex!B32","v":0},{"$f":"Multiplex!F32","v":0},{"$f":"Multiplex!D32","v":0},{"$f":"IF(C24=0,\"-\",C334*C24/2/C328)","v":"-"},{"$f":"IF(C24=0,\"-\",E144*E$9)","v":"-"},{"$f":"IF(C24=0,\"-\",E$9*E143)","v":"-"},null,"-",0,"-",{"v":0,"d":"0.00"},0,{"$nulls":3},{"$f":"Multiplex!B62","v":0},{"$f":"Multiplex!F62","v":0},{"$f":"Multiplex!D62","v":0},{"$f":"IF(R24=0,\"-\",R334*R24/2/R328)","v":"-"},{"$f":"IF(R24=0,\"-\",T144*T$9)","v":"-"},{"$f":"IF(R24=0,\"-\",T$9*T143)","v":"-"},null,0,0,"-",{"v":0,"d":"0.00"},0,{"$nulls":3},{"$f":"Multiplex!B92","v":0},{"$f":"Multiplex!F92","v":0},{"$f":"Multiplex!D92","v":0},{"$f":"IF(AG24=0,\"-\",AG334*AG24/2/AG328)","v":"-"},{"$f":"IF(AG24=0,\"-\",AI144*AI$9)","v":"-"},{"$f":"IF(AG24=0,\"-\",AI$9*AI143)","v":"-"},null,0,0,"-",{"v":0,"d":"0.00"},0,{"$nulls":15},"diâmetro",{"$f":"HLOOKUP(Multiplex!V42,BJ3:BP4,2,FALSE)","v":{"$error":"#N/A"}}]
[null,{"$f":"Multiplex!B33","v":0},{"$f":"Multiplex!F33","v":0},{"$f":"Multiplex!D33","v":0},{"$f":"IF(C25=0,\"-\",C345*C25/2/C339)","v":"-"},{"$f":"IF(C25=0,\"-\",E151*E$9)","v":"-"},{"$f":"IF(C25=0,\"-\",E$9*E150)","v":"-"},null,"-",0,"-",{"v":0,"d":"0.00"},0,{"$nulls":3},{"$f":"Multiplex!B63","v":0},{"$f":"Multiplex!F63","v":0},{"$f":"Multiplex!D63","v":0},{"$f":"IF(R25=0,\"-\",R345*R25/2/R339)","v":"-"},{"$f":"IF(R25=0,\"-\",T151*T$9)","v":"-"},{"$f":"IF(R25=0,\"-\",T$9*T150)","v":"-"},null,0,0,"-",{"v":0,"d":"0.00"},0,{"$nulls":3},{"$f":"Multiplex!B93","v":0},{"$f":"Multiplex!F93","v":0},{"$f":"Multiplex!D93","v":0},{"$f":"IF(AG25=0,\"-\",AG345*AG25/2/AG339)","v":"-"},{"$f":"IF(AG25=0,\"-\",AI151*AI$9)","v":"-"},{"$f":"IF(AG25=0,\"-\",AI$9*AI150)","v":"-"},null,0,0,"-",{"v":0,"d":"0.00"},0,{"$nulls":4},"Poste ",null,"traçao horizontal",null,"TRECHO 2","Tração Vertical",{"$nulls":5},"peso",{"$f":"HLOOKUP(Multiplex!V42,BJ3:BP10,8,FALSE)","v":{"$error":"#N/A"}}]
[null,{"$f":"Multiplex!B34","v":0},{"$f":"Multiplex!F34","v":0},{"$f":"Multiplex!D34","v":0},{"$f":"IF(C26=0,\"-\",C356*C26/2/C350)","v":"-"},{"$f":"IF(C26=0,\"-\",E158*E$9)","v":"-"},{"$f":"IF(C26=0,\"-\",E$9*E157)","v":"-"},null,"-",0,"-",{"v":0,"d":"0.00"},0,{"$nulls":3},{"$f":"Multiplex!B64","v":0},{"$f":"Multiplex!F64","v":0},{"$f":"Multiplex!D64","v":0},{"$f":"IF(R26=0,\"-\",R356*R26/2/R350)","v":"-"},{"$f":"IF(R26=0,\"-\",T158*T$9)","v":"-"},{"$f":"IF(R26=0,\"-\",T$9*T157)","v":"-"},null,0,0,"-",{"v":0,"d":"0.00"},0,{"$nulls":3},{"$f":"Multiplex!B94","v":0},{"$f":"Multiplex!F94","v":0},{"$f":"Multiplex!D94","v":0},{"$f":"IF(AG26=0,\"-\",AG356*AG26/2/AG350)","v":"-"},{"$f":"IF(AG26=0,\"-\",AI158*AI$9)","v":"-"},{"$f":"IF(AG26=0,\"-\",AI$9*AI157)","v":"-"},null,0,0,"-",{"v":0,"d":"0.00"},0,{"$nulls":4},"nº","deflexão",{"$nulls":3},"0ºC s/carga","0ºC+1/3V","15ºC+V",{"$nulls":3},"entre 2º  e 3º  cantão"]
[null,{"$f":"Multiplex!B35","v":0},{"$f":"Multiplex!F35","v":0},{"$f":"Multiplex!D35","v":0},{"$f":"IF(C27=0,\"-\",C367*C27/2/C361)","v":"-"},{"$f":"IF(C27=0,\"-\",E165*E$9)","v":"-"},{"$f":"IF(C27=0,\"-\",E$9*E164)","v":"-"},null,"-",0,"-",{"v":0,"d":"0.00"},0,{"$nulls":3},{"$f":"Multiplex!B65","v":0},{"$f":"Multiplex!F65","v":0},{"$f":"Multiplex!D65","v":0},{"$f":"IF(R27=0,\"-\",R367*R27/2/R361)","v":"-"},{"$f":"IF(R27=0,\"-\",T165*T$9)","v":"-"},{"$f":"IF(R27=0,\"-\",T$9*T164)","v":"-"},null,0,0,"-",{"v":0,"d":"0.00"},0,{"$nulls":3},{"$f":"Multiplex!B95","v":0},{"$f":"Multiplex!F95","v":0},{"$f":"Multiplex!D95","v":0},{"$f":"IF(AG27=0,\"-\",AG367*AG27/2/AG361)","v":"-"},{"$f":"IF(AG27=0,\"-\",AI165*AI$9)","v":"-"},{"$f":"IF(AG27=0,\"-\",AI$9*AI164)","v":"-"},null,0,0,"-",{"v":0,"d":"0.00"},0,{"$nulls":4},{"$f":"IF(Y13=0,0,X13)","v":0},{"$f":"Multiplex!E51","v":0},{"$f":"IF(Y13=0,0,  0.05*R34*$AB$4*COS(AW27*PI()/180/2)  +  $AB$33*2*ABS(SIN(AW27*PI()/180/2)))","v":0},null,null,{"$f":"IF(Y13=0,0,$AB$7*R34+$Y$43*S34)","v":0},{"$f":"IF(Y13=0,0,$AB$7*(R34+$X$43/$AB$9*S34))","v":0},{"$f":"IF(Y13=0,0,$AB$7*(R34+$AC$43/$AB$8*S34))","v":0},{"$nulls":3},"condutor:",{"$f":"Multiplex!V72","v":0}]
[null,{"$f":"Multiplex!B36","v":0},{"$f":"Multiplex!F36","v":0},{"$f":"Multiplex!D36","v":0},{"$f":"IF(C28=0,\"-\",C378*C28/2/C372)","v":"-"},{"$f":"IF(C28=0,\"-\",E172*E$9)","v":"-"},{"$f":"IF(C28=0,\"-\",E$9*E171)","v":"-"},null,"-",0,"-",{"v":0,"d":"0.00"},0,{"$nulls":3},{"$f":"Multiplex!B66","v":0},{"$f":"Multiplex!F66","v":0},{"$f":"Multiplex!D66","v":0},{"$f":"IF(R28=0,\"-\",R378*R28/2/R372)","v":"-"},{"$f":"IF(R28=0,\"-\",T172*T$9)","v":"-"},{"$f":"IF(R28=0,\"-\",T$9*T171)","v":"-"},null,0,0,"-",{"v":0,"d":"0.00"},0,{"$nulls":3},{"$f":"Multiplex!B96","v":0},{"$f":"Multiplex!F96","v":0},{"$f":"Multiplex!D96","v":0},{"$f":"IF(AG28=0,\"-\",AG378*AG28/2/AG372)","v":"-"},{"$f":"IF(AG28=0,\"-\",AI172*AI$9)","v":"-"},{"$f":"IF(AG28=0,\"-\",AI$9*AI171)","v":"-"},null,0,0,"-",{"v":0,"d":"0.00"},0,{"$nulls":4},0,{"$f":"Multiplex!E52","v":0},0,null,null,0,0,0,{"$nulls":3},"vão:",{"$f":"Multiplex!W72","v":0}]
[null,{"$f":"Multiplex!B37","v":0},{"$f":"Multiplex!F37","v":0},{"$f":"Multiplex!D37","v":0},{"$f":"IF(C29=0,\"-\",C389*C29/2/C383)","v":"-"},{"$f":"IF(C29=0,\"-\",E179*E$9)","v":"-"},{"$f":"IF(C29=0,\"-\",E$9*E178)","v":"-"},null,"-",0,"-",{"v":0,"d":"0.00"},0,{"$nulls":3},{"$f":"Multiplex!B67","v":0},{"$f":"Multiplex!F67","v":0},{"$f":"Multiplex!D67","v":0},{"$f":"IF(R29=0,\"-\",R389*R29/2/R383)","v":"-"},{"$f":"IF(R29=0,\"-\",T179*T$9)","v":"-"},{"$f":"IF(R29=0,\"-\",T$9*T178)","v":"-"},null,0,0,"-",{"v":0,"d":"0.00"},0,{"$nulls":3},{"$f":"Multiplex!B97","v":0},{"$f":"Multiplex!F97","v":0},{"$f":"Multiplex!D97","v":0},{"$f":"IF(AG29=0,\"-\",AG389*AG29/2/AG383)","v":"-"},{"$f":"IF(AG29=0,\"-\",AI179*AI$9)","v":"-"},{"$f":"IF(AG29=0,\"-\",AI$9*AI178)","v":"-"},null,0,0,"-",{"v":0,"d":"0.00"},0,{"$nulls":4},0,{"$f":"Multiplex!E53","v":0},0,null,null,0,0,0,{"$nulls":3},"desnível:",{"$f":"Multiplex!X72","v":0}]
[null,{"$f":"Multiplex!B38","v":0},{"$f":"Multiplex!F38","v":0},{"$f":"Multiplex!D38","v":0},{"$f":"IF(C30=0,\"-\",C400*C30/2/C394)","v":"-"},{"$f":"IF(C30=0,\"-\",E186*E$9)","v":"-"},{"$f":"IF(C30=0,\"-\",E$9*E185)","v":"-"},null,"-",0,"-",{"v":0,"d":"0.00"},0,{"$nulls":3},{"$f":"Multiplex!B68","v":0},{"$f":"Multiplex!F68","v":0},{"$f":"Multiplex!D68","v":0},{"$f":"IF(R30=0,\"-\",R400*R30/2/R394)","v":"-"},{"$f":"IF(R30=0,\"-\",T186*T$9)","v":"-"},{"$f":"IF(R30=0,\"-\",T$9*T185)","v":"-"},null,0,0,"-",{"v":0,"d":"0.00"},0,{"$nulls":3},{"$f":"Multiplex!B98","v":0},{"$f":"Multiplex!F98","v":0},{"$f":"Multiplex!D98","v":0},{"$f":"IF(AG30=0,\"-\",AG400*AG30/2/AG394)","v":"-"},{"$f":"IF(AG30=0,\"-\",AI186*AI$9)","v":"-"},{"$f":"IF(AG30=0,\"-\",AI$9*AI185)","v":"-"},null,0,0,"-",{"v":0,"d":"0.00"},0,{"$nulls":4},0,{"$f":"Multiplex!E54","v":0},0,null,null,0,0,0,{"$nulls":3},"ângulo:",{"$f":"Multiplex!Y72","v":0}]
[null,"Tração Máxima Admissível",null,null,{"$f":"MIN(E12:E30)","v":{"v":279.3269321990375,"d":"279"}},{"$nulls":3},"soma",{"$f":"SUM(J12:J30)","v":50},null,null,{"$f":"SUM(M12:M30)","v":125000},{"$nulls":3},"Tração Máxima Admissível",null,null,{"$f":"MIN(T12:T30)","v":{"$error":"#N/A"}},{"$nulls":3},"soma",{"$f":"SUM(Y12:Y30)","v":0},null,null,{"$f":"SUM(AB12:AB30)","v":0},{"$nulls":3},"Tração Máxima Admissível",null,null,{"$f":"MIN(AI12:AI30)","v":{"$error":"#N/A"}},{"$nulls":3},"soma",{"$f":"SUM(AN12:AN30)","v":0},null,null,{"$f":"SUM(AQ12:AQ30)","v":0},{"$nulls":4},0,{"$f":"Multiplex!E55","v":0},0,null,null,0,0,0,{"$nulls":3},"T máx",{"$f":"HLOOKUP(BH27,BJ3:BP9,7,FALSE)","v":{"$error":"#N/A"}}]
[null,"Cálculo L - N",{"$nulls":6},"vão regulador",{"$nulls":3},{"$f":"SQRT(M31/J31)","v":{"v":50,"d":"50.00"}},{"$nulls":10},"vão regulador",{"$nulls":3},{"$f":"SQRT(AB31/Y31)","v":{"$error":"#DIV/0!"}},{"$nulls":10},"vão regulador",{"$nulls":3},{"$f":"SQRT(AQ31/AN31)","v":{"$error":"#DIV/0!"}},{"$nulls":4},0,{"$f":"Multiplex!E56","v":0},0,null,null,0,0,0,{"$nulls":3},"diâmetro",{"$f":"HLOOKUP(BH27,BJ3:BP4,2,FALSE)","v":{"$error":"#N/A"}}]
[null,"Poste nNº","L","N",{"$nulls":4},"Componente horizontal  a 15ºC+V=120 km/h",{"$nulls":3},{"$f":"E31","v":{"v":279.3269321990375,"d":"279"}},{"$nulls":3},"APOYO Nº","L","N",{"$nulls":4},"Componente horizontal  a 15ºC+V=120 km/h",{"$nulls":3},{"$f":"T31","v":{"$error":"#N/A"}},{"$nulls":3},"APOYO Nº","L","N",{"$nulls":4},"Componente horizontal  a 15ºC+V=120 km/h",{"$nulls":3},{"$f":"AI31","v":{"$error":"#N/A"}},{"$nulls":4},0,{"$f":"Multiplex!E57","v":0},0,null,null,0,0,0,{"$nulls":3},"peso",{"$f":"HLOOKUP(BH27,BJ3:BP10,8,FALSE)","v":{"$error":"#N/A"}}]
[null,{"$f":"IF(B13=0,\"-\",B13)","v":2},{"$f":"IF((C12+C13)/2 =0,\"-\",(C12+C13)/2)","v":25},{"$f":"IF(C13=0,\"-\",D12/C12-D13/C13)","v":"-"},{"$nulls":4},"Componente horizontal  a 0º+1/3 V=1/3",{"$nulls":3},{"$f":"IF(J94>0,M92,N98)","v":{"v":199.43985219585218,"d":"199"}},{"$nulls":3},{"$f":"IF(Q13=0,\"-\",Q13)","v":"-"},{"$f":"IF((R12+R13)/2 =0,\"-\",(R12+R13)/2)","v":"-"},{"$f":"IF(R13=0,\"-\",S12/R12-S13/R13)","v":"-"},{"$nulls":4},"Componente horizontal  a 0º+1/3 V=1/3",{"$nulls":3},{"$f":"IF(Y94>0,AC92,AC98)","v":{"$error":"#N/A"}},{"$nulls":3},{"$f":"IF(AF13=0,\"-\",AF13)","v":"-"},{"$f":"IF((AG12+AG13)/2 =0,\"-\",(AG12+AG13)/2)","v":"-"},{"$f":"IF(AG13=0,\"-\",AH12/AG12-AH13/AG13)","v":"-"},{"$nulls":4},"Componente horizontal  a 0º+1/3 V=1/3",{"$nulls":3},{"$f":"IF(AN94>0,AR92,AR98)","v":{"$error":"#N/A"}},{"$nulls":4},0,{"$f":"Multiplex!E58","v":0},0,null,null,0,0,0]
[null,"-","-","-",{"$nulls":4},"Condições iniciais",{"$nulls":7},"-","-","-",{"$nulls":4},"Condições iniciais",{"$nulls":7},"-","-","-",{"$nulls":4},"Condições iniciais",{"$nulls":8},0,{"$f":"Multiplex!E59","v":0},0,null,null,0,0,0,{"$nulls":3},"entre 1º  e 2º  cantão",null,"entre 2º  e 3º  cantão"]
[null,"-","-","-",{"$nulls":4},"Componente horizontal máxima",{"$nulls":3},{"$f":"M33","v":{"v":279.3269321990375,"d":"279"}},{"$nulls":3},"-","-","-",{"$nulls":4},"Componente horizontal máxima",{"$nulls":3},{"$f":"AB33","v":{"$error":"#N/A"}},{"$nulls":3},"-","-","-",{"$nulls":4},"Componente horizontal máxima",{"$nulls":3},{"$f":"AQ33","v":{"$error":"#N/A"}},{"$nulls":4},0,{"$f":"Multiplex!E60","v":0},0,null,null,0,0,0,{"$nulls":3},"Tração H  no poste :",null,"Tração H  no poste :"]
[null,"-","-","-",{"$nulls":4},"Temperatura",{"$nulls":3},{"$f":"IF(M33>M34,15,0)","v":15},{"$nulls":3},"-","-","-",{"$nulls":4},"Temperatura",{"$nulls":3},{"$f":"IF(AB33>AB34,15,0)","v":{"$error":"#N/A"}},{"$nulls":3},"-","-","-",{"$nulls":4},"Temperatura",{"$nulls":3},{"$f":"IF(AQ33>AQ34,15,0)","v":{"$error":"#N/A"}},{"$nulls":4},0,{"$f":"Multiplex!E61","v":0},0,null,null,0,0,0,{"$nulls":3},{"$f":"2/3*(SQRT((-AZ102+AZ104*COS(RADIANS(Multiplex!E50))+BH23*COS(RADIANS(Multiplex!Y42)))^2+\n(AZ104*SIN(RADIANS(Multiplex!E50))+BH23*SIN(RADIANS(Multiplex!Y42)))^2))+\n0.05*(AX71/2*BB71+AY71/2*BC71+Multiplex!W42/2*BH24)","v":{"$error":"#N/A"}},null,{"$f":"2/3*(SQRT((-AZ104+AZ105*COS(RADIANS(Multiplex!E80))+BH31*COS(RADIANS(BH30)))^2+\n(AZ105*SIN(RADIANS(Multiplex!E80))+BH31*SIN(RADIANS(BH30)))^2))+\n0.05 *  ( AX72/2*BB72  +  AY72/2*BC72  +  BH28/2*BH32)","v":{"$error":"#N/A"}}]
[null,"-","-","-",{"$nulls":4},"Peso conductor",{"$nulls":3},{"$f":"IF(M33>M34,M8,M9)","v":2.2518547910555866},{"$nulls":3},"-","-","-",{"$nulls":4},"Peso conductor",{"$nulls":3},{"$f":"IF(AB33>AB34,AB8,AB9)","v":{"$error":"#N/A"}},{"$nulls":3},"-","-","-",{"$nulls":4},"Peso conductor",{"$nulls":3},{"$f":"IF(AQ33>AQ34,AQ8,AQ9)","v":{"$error":"#N/A"}},{"$nulls":4},0,{"$f":"Multiplex!E62","v":0},0,null,null,0,0,0,{"$nulls":3},"Tração V no poste :",null,"Tração V  no poste :"]
[null,"-","-","-",{"$nulls":12},"-","-","-",{"$nulls":12},"-","-","-",{"$nulls":13},0,{"$f":"Multiplex!E63","v":0},0,null,null,0,0,0,{"$nulls":3},{"$f":" (BD71*AX71/2 + J43*AZ71/AX71) +  (BE71*AY71/2 - Y43*BA71/AY71) +  ( BH25*Multiplex!W42/2 - BH23*0.75 * Multiplex!X42/Multiplex!W42)","v":{"$error":"#VALUE!"}},null,{"$f":" (BD72*AX72/2 + Y43*AZ72/AX72) + (BE72*AY72/2 - AN43*BA72/AY72) + (BH33*BH28/2 - BH31*0.75*BH29/BH28)","v":{"$error":"#N/A"}}]
[null,"-","-","-",{"$nulls":3},"TRAÇÕES E FLECHAS DE MONTAGEM",{"$nulls":8},"-","-","-",{"$nulls":3},"TRAÇÕES E FLECHAS DE MONTAGEM",{"$nulls":8},"-","-","-",{"$nulls":3},"TRAÇÕES E FLECHAS DE MONTAGEM",{"$nulls":9},0,{"$f":"Multiplex!E64","v":0},0,null,null,0,0,0,{"$nulls":3},"ângulo de montagem",null,"ângulo de montagem"]
[null,"-","-","-",{"$nulls":3},"temperatura","0ºC+1/3 V","0ºC","5ºC","10ºC","15ºC","15ºC+V",null,null,"-","-","-",{"$nulls":3},"temperatura","0ºC+1/3 V","0ºC","5ºC","10ºC","15ºC","15ºC+V",null,null,"-","-","-",{"$nulls":3},"temperatura","0ºC+1/3 V","0ºC","5ºC","10ºC","15ºC","15ºC+V",{"$nulls":3},0,{"$f":"Multiplex!E65","v":0},0,null,null,0,0,0,{"$nulls":3},{"$f":"DEGREES( ATAN((AZ103*SIN(RADIANS(Multiplex!E50))+BH23*SIN(RADIANS(Multiplex!Y42)))/(-AZ102+AZ104*COS(RADIANS(Multiplex!E50))+BH23*COS(RADIANS(Multiplex!Y42)))) )","v":{"$error":"#N/A"}},null,{"$f":"DEGREES(ATAN( ( AZ105*SIN(RADIANS(Multiplex!E80)) + BH31*SIN(RADIANS(BH30)) ) / (-AZ104+AZ105*COS(RADIANS(Multiplex!E80)) + BH31*COS(RADIANS(BH30)))))","v":{"$error":"#N/A"}}]
[null,"-","-","-",{"$nulls":4},"trações",{"$nulls":7},"-","-","-",{"$nulls":3},"vãos","trações",{"$nulls":7},"-","-","-",{"$nulls":3},"vãos","trações",{"$nulls":8},0,{"$f":"Multiplex!E66","v":0},0,null,null,0,0,0]
[null,"-","-","-",{"$nulls":4},{"$f":"IF(M37=0,M36,IF(J94>0,M92,N98))","v":{"v":199.43985219585218,"d":"199.44"}},{"$f":"IF($J$107>0,$N$105,$N$111)","v":{"v":180.5876259403912,"d":"180.59"}},{"$f":"IF(J120>0,N118,N124)","v":{"v":178.90854630535767,"d":"178.91"}},{"$f":"IF($J$133>0,$N$131,$N$137)","v":{"v":177.2533130691826,"d":"177.25"}},{"$f":"IF($J$146>0,$N$144,$N$150)","v":{"v":175.62178558035907,"d":"175.62"}},{"$f":"IF($J$159>0,$N$157,$N$163)","v":{"v":279.3269321990524,"d":"279.33"}},null,null,"-","-","-",{"$nulls":4},{"$f":"IF(AB37=0,AB36,IF(Y94>0,AC92,AC98))","v":{"$error":"#N/A"}},{"$f":"IF(Y31=0,\"-\",IF(Y107>0,AB105,AC111))","v":"-"},{"$f":"IF(Y31=0,\"-\",IF(Y120>0,AC118,AC124))","v":"-"},{"$f":"IF(Y31=0,\"-\",IF(Y133>0,AC131,AC137))","v":"-"},{"$f":"IF(Y31=0,\"-\",IF(Y146>0,AC144,AC150))","v":"-"},{"$f":"IF(Y31=0,\"-\",IF(Y159>0,AC157,AC163))","v":"-"},null,null,"-","-","-",{"$nulls":4},{"$f":"IF(AQ37=0,AQ36,IF(AN94>0,AR92,AR98))","v":{"$error":"#N/A"}},{"$f":"IF(AN31=0,\"-\",IF(AN107>0,AR105,AR111))","v":"-"},{"$f":"IF(AN31=0,\"-\",IF(AN120>0,AR118,AR124))","v":"-"},{"$f":"IF(AN31=0,\"-\",IF(AN133>0,AR131,AR137))","v":"-"},{"$f":"IF(AN31=0,\"-\",IF(AN146>0,AR144,AR150))","v":"-"},{"$f":"IF(AN31=0,\"-\",IF(AN159>0,AR157,AR163))","v":"-"},{"$nulls":3},0,{"$f":"Multiplex!E67","v":0},0,null,null,0,0,0]
[null,"-","-","-",{"$nulls":3},"vão","FLECHAS",{"$nulls":7},"-","-","-",{"$nulls":4},"flechas",{"$nulls":7},"-","-","-",{"$nulls":4},"flechas",{"$nulls":8},0,{"$f":"Multiplex!E68","v":0},0,null,null,0,0,0]
[null,"-","-","-",{"$nulls":3},{"$f":"$I$12","v":1},null,{"$f":"IF(J12=\"-\",\"-\",$M$7*J12*L12/8/$J$43*(1+J12^2*$M$7^2/48/$J$43^2))","v":{"v":1.707146089875741,"d":"1.71"}},{"$f":"IF(J12=\"-\",\"-\",$M$7*J12*L12/8/$K$43*(1+J12^2*$M$7^2/48/$K$43^2))","v":{"v":1.7232181499083805,"d":"1.72"}},{"$f":"$M$7*$J$12*$L$12/8/$L$43*(1+$J$12*$J$12*$M$7*$M$7/48/$L$43/$L$43)","v":{"v":1.7393614094676313,"d":"1.74"}},{"$f":"$M$7*$J$12*$L$12/8/$M$43*(1+$J$12*$J$12*$M$7*$M$7/48/$M$43/$M$43)","v":{"v":1.7555727076408993,"d":"1.76"}},{"$f":"$M$8*$J$12*$L$12/8/$N$43*(1+$J$12*$J$12*$M$8*$M$8/48/$N$43/$N$43)","v":{"v":2.527814381087393,"d":"2.53"}},null,null,"-","-","-",{"$nulls":3},{"$f":"X12","v":0},null,{"$f":"IF(Y12=\"-\",\"-\",$AB$7*Y12*AA12/8/$Y$43*(1+Y12^2*$AB$7^2/48/$Y$43^2))","v":{"$error":"#N/A"}},{"$f":"IF(Y12=\"-\",\"-\",$AB$7*Y12*AA12/8/$Z$43*(1+Y12^2*$AB$7^2/48/$Z$43^2))","v":{"$error":"#N/A"}},{"$f":"IF(Y12=\"-\",\"-\",$AB$7*Y12*AA12/8/$AA$43*(1+Y12*Y12*$AB$7*$AB$7/48/$AA$43/$AA$43))","v":{"$error":"#N/A"}},{"$f":"IF(Y12=\"-\",\"-\",$AB$7*Y12*AA12/8/$AB$43*(1+Y12*Y12*$AB$7*$AB$7/48/$AB$43/$AB$43))","v":{"$error":"#N/A"}},{"$f":"IF(Y12=\"-\",\"-\",$AB$8*Y12*AA12/8/$AC$43*(1+Y12*Y12*$AB$8*$AB$8/48/$AC$43/$AC$43))","v":{"$error":"#N/A"}},null,null,"-","-","-",{"$nulls":3},{"$f":"AM12","v":0},null,{"$f":"IF(AN12=\"-\",\"-\",$AQ$7*AN12*AP12/8/$AN$43*(1+AN12^2*$AQ$7^2/48/$AN$43^2))","v":{"$error":"#N/A"}},{"$f":"IF(AN12=\"-\",\"-\",$AQ$7*AN12*AP12/8/$AO$43*(1+AN12^2*$AQ$7^2/48/$AO$43^2))","v":{"$error":"#N/A"}},{"$f":"IF(AN12=\"-\",\"-\",$AQ$7*AN12*AP12/8/$AP$43*(1+AN12*AN12*$AQ$7*$AQ$7/48/$AP$43/$AP$43))","v":{"$error":"#N/A"}},{"$f":"IF(AN12=\"-\",\"-\",$AQ$7*AN12*AP12/8/$AQ$43*(1+AN12*AN12*$AQ$7*$AQ$7/48/$AQ$43/$AQ$43))","v":{"$error":"#N/A"}},{"$f":"IF(AN12=\"-\",\"-\",$AQ$8*AN12*AP12/8/$AR$43*(1+AN12*AN12*$AQ$8*$AQ$8/48/$AR$43/$AR$43))","v":{"$error":"#N/A"}}]
[null,"-","-","-",{"$nulls":3},{"$f":"IF($I$13=0,\"-\",$I$13)","v":2},null,{"v":0,"d":"0.00"},{"v":0,"d":"0.00"},{"$f":"IF($J13=\"-\",\"-\",$M$7*$J13*$L13/8/$L$43*(1+$J13*$J13*$M$7*$M$7/48/$L$43/$L$43))","v":{"v":0,"d":"0.00"}},{"$f":"IF($J13=\"-\",\"-\",$M$7*$J13*$L13/8/$M$43*(1+$J13*$J13*$M$7*$M$7/48/$M$43/$M$43))","v":{"v":0,"d":"0.00"}},{"$f":"IF($J13=\"-\",\"-\",$M$8*$J13*$L13/8/$N$43*(1+$J13*$J13*$M$8*$M$8/48/$N$43/$N$43))","v":{"v":0,"d":"0.00"}},null,null,"-","-","-",{"$nulls":3},{"$f":"IF(X13=0,\"-\",X13)","v":"-"},null,{"$error":"#N/A"},{"$error":"#N/A"},{"$error":"#N/A"},{"$error":"#N/A"},{"$error":"#N/A"},null,null,"-","-","-",{"$nulls":3},{"$f":"IF(AM13=0,\"-\",AM13)","v":"-"},null,{"$error":"#N/A"},{"$error":"#N/A"},{"$error":"#N/A"},{"$error":"#N/A"},{"$error":"#N/A"},{"$nulls":3},"Poste ",null,"traçao horizontal",null,"TRECHO 3","Tração Vertical"]
[null,"-","-","-",{"$nulls":3},{"$f":"IF($I$14=0,\"-\",$I$14)","v":"-"},null,{"v":0,"d":"0.00"},{"v":0,"d":"0.00"},{"v":0,"d":"0.00"},{"v":0,"d":"0.00"},{"v":0,"d":"0.00"},null,null,"-","-","-",{"$nulls":3},"-",null,{"$error":"#N/A"},{"$error":"#N/A"},{"$error":"#N/A"},{"$error":"#N/A"},{"$error":"#N/A"},null,null,"-","-","-",{"$nulls":3},"-",null,{"$error":"#N/A"},{"$error":"#N/A"},{"$error":"#N/A"},{"$error":"#N/A"},{"$error":"#N/A"},{"$nulls":3},"nº","deflexão",{"$nulls":3},"0ºC s/carga","0ºC+1/3V","15ºC+V"]
[null,"-","-","-",{"$nulls":3},{"$f":"IF($I$15=0,\"-\",$I$15)","v":"-"},null,{"v":0,"d":"0.00"},{"v":0,"d":"0.00"},{"v":0,"d":"0.00"},{"v":0,"d":"0.00"},{"v":0,"d":"0.00"},null,null,"-","-","-",{"$nulls":3},"-",null,{"$error":"#N/A"},{"$error":"#N/A"},{"$error":"#N/A"},{"$error":"#N/A"},{"$error":"#N/A"},null,null,"-","-","-",{"$nulls":3},"-",null,{"$error":"#N/A"},{"$error":"#N/A"},{"$error":"#N/A"},{"$error":"#N/A"},{"$error":"#N/A"},{"$nulls":3},{"$f":"IF(AN13=0,0,AM13)","v":0},{"$f":"Multiplex!E81","v":0},{"$f":"IF(AN13=0,0,  0.05*AG34*$AQ$4*COS(AW48*PI()/180/2)  +  2*$AQ$33*ABS(SIN(AW48*PI()/180/2)))","v":0},null,null,{"$f":"IF(AN13=0,0,$AQ$7*AG34+AH34*$AN$43)","v":0},{"$f":"IF(AN13=0,0,$AQ$7*(AG34+$AM$43/$AQ$9*AH34))","v":0},{"$f":"IF(AN13=0,0,$AQ$7*(AG34+$AR$43/$AQ$8*AH34))","v":0}]
[null,"-","-","-",{"$nulls":3},{"$f":"IF($I$16=0,\"-\",$I$16)","v":"-"},null,{"v":0,"d":"0.00"},{"v":0,"d":"0.00"},{"v":0,"d":"0.00"},{"v":0,"d":"0.00"},{"v":0,"d":"0.00"},null,null,"-","-","-",{"$nulls":3},"-",null,{"$error":"#N/A"},{"$error":"#N/A"},{"$error":"#N/A"},{"$error":"#N/A"},{"$error":"#N/A"},null,null,"-","-","-",{"$nulls":3},"-",null,{"$error":"#N/A"},{"$error":"#N/A"},{"$error":"#N/A"},{"$error":"#N/A"},{"$error":"#N/A"},{"$nulls":3},0,{"$f":"Multiplex!E82","v":0},0,null,null,0,0,0]
[null,"-","-","-",{"$nulls":3},{"$f":"IF($I$17=0,\"-\",$I$17)","v":"-"},null,{"v":0,"d":"0.00"},{"v":0,"d":"0.00"},{"v":0,"d":"0.00"},{"v":0,"d":"0.00"},{"v":0,"d":"0.00"},null,null,"-","-","-",{"$nulls":3},"-",null,{"$error":"#N/A"},{"$error":"#N/A"},{"$error":"#N/A"},{"$error":"#N/A"},{"$error":"#N/A"},null,null,"-","-","-",{"$nulls":3},"-",null,{"$error":"#N/A"},{"$error":"#N/A"},{"$error":"#N/A"},{"$error":"#N/A"},{"$error":"#N/A"},{"$nulls":3},0,{"$f":"Multiplex!E83","v":0},0,null,null,0,0,0]
[null,"-","-","-",{"$nulls":3},{"$f":"IF($I$18=0,\"-\",$I$18)","v":"-"},null,{"v":0,"d":"0.00"},{"v":0,"d":"0.00"},{"v":0,"d":"0.00"},{"v":0,"d":"0.00"},{"v":0,"d":"0.00"},null,null,"-","-","-",{"$nulls":3},"-",null,{"$error":"#N/A"},{"$error":"#N/A"},{"$error":"#N/A"},{"$error":"#N/A"},{"$error":"#N/A"},null,null,"-","-","-",{"$nulls":3},"-",null,{"$error":"#N/A"},{"$error":"#N/A"},{"$error":"#N/A"},{"$error":"#N/A"},{"$error":"#N/A"},{"$nulls":3},0,{"$f":"Multiplex!E84","v":0},0,null,null,0,0,0]
[{"$nulls":7},{"$f":"IF($I$19=0,\"-\",$I$19)","v":"-"},null,{"v":0,"d":"0.00"},{"v":0,"d":"0.00"},{"v":0,"d":"0.00"},{"v":0,"d":"0.00"},{"v":0,"d":"0.00"},{"$nulls":8},"-",null,{"$error":"#N/A"},{"$error":"#N/A"},{"$error":"#N/A"},{"$error":"#N/A"},{"$error":"#N/A"},{"$nulls":8},"-",null,{"$error":"#N/A"},{"$error":"#N/A"},{"$error":"#N/A"},{"$error":"#N/A"},{"$error":"#N/A"},{"$nulls":3},0,{"$f":"Multiplex!E85","v":0},0,null,null,0,0,0]
["Equações da Catenária",{"$nulls":6},{"$f":"IF($I$20=0,\"-\",$I$20)","v":"-"},null,{"v":0,"d":"0.00"},{"v":0,"d":"0.00"},{"v":0,"d":"0.00"},{"v":0,"d":"0.00"},{"v":0,"d":"0.00"},{"$nulls":8},"-",null,{"$error":"#N/A"},{"$error":"#N/A"},{"$error":"#N/A"},{"$error":"#N/A"},{"$error":"#N/A"},{"$nulls":8},"-",null,{"$error":"#N/A"},{"$error":"#N/A"},{"$error":"#N/A"},{"$error":"#N/A"},{"$error":"#N/A"},{"$nulls":3},0,{"$f":"Multiplex!E86","v":0},0,null,null,0,0,0]
[null,"vão 1",{"$nulls":5},{"$f":"IF($I$21=0,\"-\",$I$21)","v":"-"},null,{"v":0,"d":"0.00"},{"v":0,"d":"0.00"},{"v":0,"d":"0.00"},{"v":0,"d":"0.00"},{"v":0,"d":"0.00"},{"$nulls":8},"-",null,{"$error":"#N/A"},{"$error":"#N/A"},{"$error":"#N/A"},{"$error":"#N/A"},{"$error":"#N/A"},{"$nulls":8},"-",null,{"$error":"#N/A"},{"$error":"#N/A"},{"$error":"#N/A"},{"$error":"#N/A"},{"$error":"#N/A"},{"$nulls":3},0,{"$f":"Multiplex!E87","v":0},0,null,null,0,0,0]
[null,"c = T/p =",{"$f":"E12/E9","v":124.04304811683676},{"$nulls":4},{"$f":"IF($I$22=0,\"-\",$I$22)","v":"-"},null,{"v":0,"d":"0.00"},{"v":0,"d":"0.00"},{"v":0,"d":"0.00"},{"v":0,"d":"0.00"},{"v":0,"d":"0.00"},{"$nulls":3},{"$f":"T12/T9","v":{"$error":"#N/A"}},{"$nulls":4},"-",null,{"$error":"#N/A"},{"$error":"#N/A"},{"$error":"#N/A"},{"$error":"#N/A"},{"$error":"#N/A"},{"$nulls":3},{"$f":"AI12/AI9","v":{"$error":"#N/A"}},{"$nulls":4},"-",null,{"$error":"#N/A"},{"$error":"#N/A"},{"$error":"#N/A"},{"$error":"#N/A"},{"$error":"#N/A"},{"$nulls":3},0,{"$f":"Multiplex!E88","v":0},0,null,null,0,0,0]
[null,"Senh(a/2c)=",{"$f":"SINH(C12/2/C55)","v":0.20291013965347293},{"$nulls":4},{"$f":"IF($I$23=0,\"-\",$I$23)","v":"-"},null,{"v":0,"d":"0.00"},{"v":0,"d":"0.00"},{"v":0,"d":"0.00"},{"v":0,"d":"0.00"},{"v":0,"d":"0.00"},{"$nulls":3},{"$f":"SINH(R12/2/R55)","v":{"$error":"#N/A"}},{"$nulls":4},"-",null,{"$error":"#N/A"},{"$error":"#N/A"},{"$error":"#N/A"},{"$error":"#N/A"},{"$error":"#N/A"},{"$nulls":3},{"$f":"SINH(AG12/2/AG55)","v":{"$error":"#N/A"}},{"$nulls":4},"-",null,{"$error":"#N/A"},{"$error":"#N/A"},{"$error":"#N/A"},{"$error":"#N/A"},{"$error":"#N/A"},{"$nulls":3},0,{"$f":"Multiplex!E89","v":0},0,null,null,0,0,0]
[null,"z =",{"$f":"D12/2/C55/C56","v":0},{"$nulls":4},{"$f":"IF($I$24=0,\"-\",$I$24)","v":"-"},null,{"v":0,"d":"0.00"},{"v":0,"d":"0.00"},{"v":0,"d":"0.00"},{"v":0,"d":"0.00"},{"v":0,"d":"0.00"},{"$nulls":3},{"$f":"S12/2/R55/R56","v":{"$error":"#N/A"}},{"$nulls":4},"-",null,{"$error":"#N/A"},{"$error":"#N/A"},{"$error":"#N/A"},{"$error":"#N/A"},{"$error":"#N/A"},{"$nulls":3},{"$f":"AH12/2/AG55/AG56","v":{"$error":"#N/A"}},{"$nulls":4},"-",null,{"$error":"#N/A"},{"$error":"#N/A"},{"$error":"#N/A"},{"$error":"#N/A"},{"$error":"#N/A"},{"$nulls":3},0,{"$f":"Multiplex!E90","v":0},0,null,null,0,0,0]
[null,"x=",{"$f":"C55*ASINH(C57)","v":0},{"$nulls":4},{"$f":"IF($I$25=0,\"-\",$I$25)","v":"-"},null,{"v":0,"d":"0.00"},{"v":0,"d":"0.00"},{"v":0,"d":"0.00"},{"v":0,"d":"0.00"},{"v":0,"d":"0.00"},{"$nulls":3},{"$f":"R55*ASINH(R57)","v":{"$error":"#N/A"}},{"$nulls":4},"-",null,{"$error":"#N/A"},{"$error":"#N/A"},{"$error":"#N/A"},{"$error":"#N/A"},{"$error":"#N/A"},{"$nulls":3},{"$f":"AG55*ASINH(AG57)","v":{"$error":"#N/A"}},{"$nulls":4},"-",null,{"$error":"#N/A"},{"$error":"#N/A"},{"$error":"#N/A"},{"$error":"#N/A"},{"$error":"#N/A"},{"$nulls":3},0,{"$f":"Multiplex!E91","v":0},0,null,null,0,0,0]
[null,"x2 =",{"$f":"C58+C12/2","v":25},"y2 =",{"$f":"C55*COSH(C59/C55)","v":126.57087405267154},null,null,{"$f":"IF($I$26=0,\"-\",$I$26)","v":"-"},null,{"v":0,"d":"0.00"},{"v":0,"d":"0.00"},{"v":0,"d":"0.00"},{"v":0,"d":"0.00"},{"v":0,"d":"0.00"},{"$nulls":3},{"$f":"R58+R12/2","v":{"$error":"#N/A"}},"y2 =",{"$f":"R55*COSH(R59/R55)","v":{"$error":"#N/A"}},null,null,"-",null,{"$error":"#N/A"},{"$error":"#N/A"},{"$error":"#N/A"},{"$error":"#N/A"},{"$error":"#N/A"},{"$nulls":3},{"$f":"AG58+AG12/2","v":{"$error":"#N/A"}},null,{"$f":"AG55*COSH(AG59/AG55)","v":{"$error":"#N/A"}},null,null,"-",null,{"$error":"#N/A"},{"$error":"#N/A"},{"$error":"#N/A"},{"$error":"#N/A"},{"$error":"#N/A"},{"$nulls":3},0,{"$f":"Multiplex!E92","v":0},0,null,null,0,0,0]
[null," x1 =",{"$f":"C58-C12/2","v":-25},"y1 =",{"$f":"C55*COSH(C60/C55)","v":126.57087405267154},null,null,{"$f":"IF($I$26=0,\"-\",$I$27)","v":"-"},null,{"v":0,"d":"0.00"},{"v":0,"d":"0.00"},{"v":0,"d":"0.00"},{"v":0,"d":"0.00"},{"v":0,"d":"0.00"},{"$nulls":3},{"$f":"R58-R12/2","v":{"$error":"#N/A"}},"y1 =",{"$f":"R55*COSH(R60/R55)","v":{"$error":"#N/A"}},null,null,"-",null,{"$error":"#N/A"},{"$error":"#N/A"},{"$error":"#N/A"},{"$error":"#N/A"},{"$error":"#N/A"},{"$nulls":3},{"$f":"AG58-AG12/2","v":{"$error":"#N/A"}},null,{"$f":"AG55*COSH(AG60/AG55)","v":{"$error":"#N/A"}},null,null,"-",null,{"$error":"#N/A"},{"$error":"#N/A"},{"$error":"#N/A"},{"$error":"#N/A"},{"$error":"#N/A"},{"$nulls":3},0,{"$f":"Multiplex!E93","v":0},0,null,null,0,0,0]
[null,"vão  2",{"$nulls":5},{"$f":"IF($I$26=0,\"-\",$I$28)","v":"-"},null,{"v":0,"d":"0.00"},{"v":0,"d":"0.00"},{"v":0,"d":"0.00"},{"v":0,"d":"0.00"},{"v":0,"d":"0.00"},{"$nulls":8},"-",null,{"$error":"#N/A"},{"$error":"#N/A"},{"$error":"#N/A"},{"$error":"#N/A"},{"$error":"#N/A"},{"$nulls":8},"-",null,{"$error":"#N/A"},{"$error":"#N/A"},{"$error":"#N/A"},{"$error":"#N/A"},{"$error":"#N/A"},{"$nulls":3},0,{"$f":"Multiplex!E94","v":0},0,null,null,0,0,0]
[null,"c = T/p =",{"$f":"E13/E9","v":{"$error":"#VALUE!"}},{"$nulls":4},{"$f":"IF($I$26=0,\"-\",$I$29)","v":"-"},null,{"v":0,"d":"0.00"},{"v":0,"d":"0.00"},{"v":0,"d":"0.00"},{"v":0,"d":"0.00"},{"v":0,"d":"0.00"},{"$nulls":3},{"$f":"T13/T9","v":{"$error":"#VALUE!"}},{"$nulls":4},"-",null,{"$error":"#N/A"},{"$error":"#N/A"},{"$error":"#N/A"},{"$error":"#N/A"},{"$error":"#N/A"},{"$nulls":3},{"$f":"AI13/AI9","v":{"$error":"#VALUE!"}},{"$nulls":4},"-",null,{"$error":"#N/A"},{"$error":"#N/A"},{"$error":"#N/A"},{"$error":"#N/A"},{"$error":"#N/A"},{"$nulls":3},0,{"$f":"Multiplex!E95","v":0},0,null,null,0,0,0]
[null,"Senh(a/2c)=",{"$f":"SINH(C13/2/C62)","v":{"$error":"#VALUE!"}},{"$nulls":4},{"$f":"IF($I$26=0,\"-\",$I$30)","v":"-"},null,{"v":0,"d":"0.00"},{"v":0,"d":"0.00"},{"v":0,"d":"0.00"},{"v":0,"d":"0.00"},{"v":0,"d":"0.00"},{"$nulls":3},{"$f":"SINH(R13/2/R62)","v":{"$error":"#VALUE!"}},{"$nulls":4},"-",null,{"$error":"#N/A"},{"$error":"#N/A"},{"$error":"#N/A"},{"$error":"#N/A"},{"$error":"#N/A"},{"$nulls":3},{"$f":"SINH(AG13/2/AG62)","v":{"$error":"#VALUE!"}},{"$nulls":4},"-",null,{"$error":"#N/A"},{"$error":"#N/A"},{"$error":"#N/A"},{"$error":"#N/A"},{"$error":"#N/A"},{"$nulls":3},0,{"$f":"Multiplex!E96","v":0},0,null,null,0,0,0]
[null,"z =",{"$f":" D13/2/C62/C63","v":{"$error":"#VALUE!"}},{"$nulls":4},"TRAÇÕES E FLECHAS DE MONTAGEM",{"$nulls":9},{"$f":" S13/2/R62/R63","v":{"$error":"#VALUE!"}},{"$nulls":4},"TRAÇÕES E FLECHAS DE MONTAGEM",{"$nulls":9},{"$f":" AH13/2/AG62/AG63","v":{"$error":"#VALUE!"}},{"$nulls":5},"TRAÇÕES E FLECHAS DE MONTAGEM",{"$nulls":8},0,{"$f":"Multiplex!E97","v":0},0,null,null,0,0,0]
[null,"x=",{"$f":"C62*ASINH(C64)","v":{"$error":"#VALUE!"}},{"$nulls":4},"temperatura","20ºC","25ºC","30ºC","35ºC","40ºC","45ºC","50ºC",null,null,{"$f":"R62*ASINH(R64)","v":{"$error":"#VALUE!"}},{"$nulls":4},"temperatura","20ºC","25ºC","30ºC","35ºC","40ºC","45ºC","50ºC",null,null,{"$f":"AG62*ASINH(AG64)","v":{"$error":"#VALUE!"}},{"$nulls":4},"temperatura","20ºC","25ºC","30ºC","35ºC","40ºC","45ºC","50ºC",null,null,0,{"$f":"Multiplex!E98","v":0},0,null,null,0,0,0]
[null,"x2 =",{"$f":"C65+C13/2","v":{"$error":"#VALUE!"}},"y2 =",{"$f":"C62*COSH(C66/C62)","v":{"$error":"#VALUE!"}},null,null,"vãos","trações",{"$nulls":8},{"$f":"R65+R13/2","v":{"$error":"#VALUE!"}}," y2 =",{"$f":"R62*COSH(R66/R62)","v":{"$error":"#VALUE!"}},null,null,"vãos","trações",{"$nulls":8},{"$f":"AG65+AG13/2","v":{"$error":"#VALUE!"}},null,{"$f":"AG62*COSH(AG66/AG62)","v":{"$error":"#VALUE!"}},null,null,"vãos","trações"]
[null," x1 =",{"$f":"C65-C13/2","v":{"$error":"#VALUE!"}},"y1 =",{"$f":"C62*COSH(C67/C62)","v":{"$error":"#VALUE!"}},{"$nulls":3},{"$f":"IF($J$172>0,$N$170,$N$176)","v":{"v":174.01381112148448,"d":"174.01"}},{"$f":"IF($J$185>0,$N$183,$N$189)","v":{"v":172.42922540226954,"d":"172.43"}},{"$f":"IF($J$198>0,$N$196,$N$202)","v":{"v":170.86785307230386,"d":"170.87"}},{"$f":"IF($J$211>0,$N$209,$N$215)","v":{"v":169.32950825031472,"d":"169.33"}},{"$f":"IF($J$224>0,$N$222,$N$228)","v":{"v":167.81399506703465,"d":"167.81"}},{"$f":"IF($J$237>0,$N$235,$N$241)","v":{"v":166.3211082185677,"d":"166.32"}},{"$f":"IF($J$250>0,$N$248,$N$254)","v":{"v":164.85063352731865,"d":"164.85"}},null,null,{"$f":"R65-R13/2","v":{"$error":"#VALUE!"}},"y1=",{"$f":"R62*COSH(R67/R62)","v":{"$error":"#VALUE!"}},{"$nulls":3},{"$f":"IF(Y31=0,\"-\",IF(Y172>0,AC170,AC176))","v":"-"},{"$f":"IF(Y31=0,\"-\",IF(Y185>0,AC183,AC189))","v":"-"},{"$f":"IF(Y31=0,\"-\",IF(Y198>0,AC196,AC202))","v":"-"},{"$f":"IF(Y31=0,\"-\",IF(Y211>0,AC209,AC215))","v":"-"},{"$f":"IF(Y31=0,\"-\",IF(Y224>0,AC222,AC228))","v":"-"},{"$f":"IF(Y31=0,\"-\",IF(Y237>0,AC235,AC241))","v":"-"},{"$f":"IF(Y31=0,\"-\",IF(Y250>0,AC248,AC254))","v":"-"},null,null,{"$f":"AG65-AG13/2","v":{"$error":"#VALUE!"}},null,{"$f":"AG62*COSH(AG67/AG62)","v":{"$error":"#VALUE!"}},{"$nulls":3},{"$f":"IF(AN31=0,\"-\",IF(AN172>0,AR170,AR176))","v":"-"},{"$f":"IF(AN31=0,\"-\",IF(AN185>0,AR183,AR189))","v":"-"},{"$f":"IF(AN31=0,\"-\",IF(AN198>0,AR196,AR202))","v":"-"},{"$f":"IF(AN31=0,\"-\",IF(AN211>0,AR209,AR215))","v":"-"},{"$f":"IF(AN31=0,\"-\",IF(AN224>0,AR222,AR228))","v":"-"},{"$f":"IF(AN31=0,\"-\",IF(AN237>0,AR235,AR241))","v":"-"},{"$f":"IF(AN31=0,\"-\",IF(AN250>0,AR248,AR254))","v":"-"}]
[null,"vão  3",{"$nulls":6},"FLECHAS",{"$nulls":14},"flechas",{"$nulls":14},"flechas",{"$nulls":7},"POSTES DE ANCORAGEM INTERMEDIÁRIOS"]
[null,null,{"$f":"E14/E9","v":{"$error":"#VALUE!"}},{"$nulls":4},{"$f":"IF($I$12=0,\"-\",$I$12)","v":1},{"$f":"IF($J12=\"-\",\"-\",$M$7*$J12*$L12/8/$I$67*(1+$J12*$J12*$M$7*$M$7/48/$I$67/$I$67))","v":{"v":1.771848883292472,"d":"1.77"}},{"$f":"IF($J12=\"-\",\"-\",$M$7*$J12*$L12/8/$J$67*(1+$J12*$J12*$M$7*$M$7/48/$J$67/$J$67))","v":{"v":1.788186780546474,"d":"1.79"}},{"$f":"IF($J12=\"-\",\"-\",$M$7*$J12*$L12/8/$K$67*(1+$J12*$J12*$M$7*$M$7/48/$K$67/$K$67))","v":{"v":1.8045832540889692,"d":"1.80"}},{"$f":"IF($J12=\"-\",\"-\",$M$7*$J12*$L12/8/$L$67*(1+$J12*$J12*$M$7*$M$7/48/$L$67/$L$67))","v":{"v":1.8210351742723312,"d":"1.82"}},{"$f":"IF($J12=\"-\",\"-\",$M$7*$J12*$L12/8/$M$67*(1+$J12*$J12*$M$7*$M$7/48/$M$67/$M$67))","v":{"v":1.8375394320036031,"d":"1.84"}},{"$f":"IF($J12=\"-\",\"-\",$M$7*$J12*$L12/8/$N$67*(1+$J12*$J12*$M$7*$M$7/48/$N$67/$N$67))","v":{"v":1.8540929434036197,"d":"1.85"}},{"$f":"IF($J12=\"-\",\"-\",$M$7*$J12*$L12/8/$O$67*(1+$J12*$J12*$M$7*$M$7/48/$O$67/$O$67))","v":{"v":1.8706926542249391,"d":"1.87"}},null,null,{"$f":"T14/T9","v":{"$error":"#VALUE!"}},{"$nulls":4},{"$f":"IF(Y12=0,\"-\",X12)","v":"-"},{"$f":"IF(Y12=\"-\",\"-\",$AB$7*Y12*AA12/8/$X$67*(1+Y12*Y12*$AB$7*$AB$7/48/$X$67/$X$67))","v":{"$error":"#N/A"}},{"$f":"IF(Y12=\"-\",\"-\",$AB$7*Y12*AA12/8/$Y$67*(1+Y12*Y12*$AB$7*$AB$7/48/$Y$67/$Y$67))","v":{"$error":"#N/A"}},{"$f":"IF(Y12=\"-\",\"-\",$AB$7*Y12*AA12/8/$Z$67*(1+Y12*Y12*$AB$7*$AB$7/48/$Z$67/$Z$67))","v":{"$error":"#N/A"}},{"$f":"IF(Y12=\"-\",\"-\",$AB$7*Y12*AA12/8/$AA$67*(1+Y12*Y12*$AB$7*$AB$7/48/$AA$67/$AA$67))","v":{"$error":"#N/A"}},{"$f":"IF(Y12=\"-\",\"-\",$AB$7*Y12*AA12/8/$AB$67*(1+Y12*Y12*$AB$7*$AB$7/48/$AB$67/$AB$67))","v":{"$error":"#N/A"}},{"$f":"IF(Y12=\"-\",\"-\",$AB$7*Y12*AA12/8/$AC$67*(1+Y12*Y12*$AB$7*$AB$7/48/$AC$67/$AC$67))","v":{"$error":"#N/A"}},{"$f":"IF(Y12=\"-\",\"-\",$AB$7*Y12*AA12/8/$AD$67*(1+Y12*Y12*$AB$7*$AB$7/48/$AD$67/$AD$67))","v":{"$error":"#N/A"}},null,null,{"$f":"AI14/AI9","v":{"$error":"#VALUE!"}},{"$nulls":4},{"$f":"IF(AN12=0,\"-\",AM12)","v":"-"},{"$f":"IF(AN12=\"-\",\"-\",$AQ$7*AN12*AP12/8/$AM$67*(1+AN12*AN12*$AQ$7*$AQ$7/48/$AM$67/$AM$67))","v":{"$error":"#N/A"}},{"$f":"IF(AN12=\"-\",\"-\",$AQ$7*AN12*AP12/8/$AN$67*(1+AN12*AN12*$AQ$7*$AQ$7/48/$AN$67/$AN$67))","v":{"$error":"#N/A"}},{"$f":"IF(AN12=\"-\",\"-\",$AQ$7*AN12*AP12/8/$AO$67*(1+AN12*AN12*$AQ$7*$AQ$7/48/$AO$67/$AO$67))","v":{"$error":"#N/A"}},{"$f":"IF(AN12=\"-\",\"-\",$AQ$7*AN12*AP12/8/$AP$67*(1+AN12*AN12*$AQ$7*$AQ$7/48/$AP$67/$AP$67))","v":{"$error":"#N/A"}},{"$f":"IF(AN12=\"-\",\"-\",$AQ$7*AN12*AP12/8/$AQ$67*(1+AN12*AN12*$AQ$7*$AQ$7/48/$AQ$67/$AQ$67))","v":{"$error":"#N/A"}},{"$f":"IF(AN12=\"-\",\"-\",$AQ$7*AN12*AP12/8/$AR$67*(1+AN12*AN12*$AQ$7*$AQ$7/48/$AR$67/$AR$67))","v":{"$error":"#N/A"}},{"$f":"IF(AN12=\"-\",\"-\",$AQ$7*AN12*AP12/8/$AS$67*(1+AN12*AN12*$AQ$7*$AQ$7/48/$AS$67/$AS$67))","v":{"$error":"#N/A"}},null,"poste nº",null,"ângulo","comprimento dos vãos",null,"desnível",null,"diâmetro do condutor",null,"peso "]
[null,null,{"$f":"SINH(C14/2/C69)","v":{"$error":"#VALUE!"}},{"$nulls":4},{"$f":"IF($I$13=0,\"-\",$I$13)","v":2},{"v":0,"d":"0.00"},{"v":0,"d":"0.00"},{"v":0,"d":"0.00"},{"v":0,"d":"0.00"},{"v":0,"d":"0.00"},{"v":0,"d":"0.00"},{"v":0,"d":"0.00"},null,null,{"$f":"SINH(R14/2/R69)","v":{"$error":"#VALUE!"}},{"$nulls":4},"-",{"$error":"#N/A"},{"$error":"#N/A"},{"$error":"#N/A"},{"$error":"#N/A"},{"$error":"#N/A"},{"$error":"#N/A"},{"$error":"#N/A"},null,null,{"$f":"SINH(AG14/2/AG69)","v":{"$error":"#VALUE!"}},{"$nulls":4},"-",{"$error":"#N/A"},{"$error":"#N/A"},{"$error":"#N/A"},{"$error":"#N/A"},{"$error":"#N/A"},{"$error":"#N/A"},{"$error":"#N/A"},{"$nulls":4},"anterior","posterior","anterior","posterior","anterior","posterior","anterior","posterior"]
[null,null,{"$f":"D14/2/C69/C70","v":{"$error":"#VALUE!"}},{"$nulls":4},{"$f":"IF($I$14=0,\"-\",$I$14)","v":"-"},{"v":0,"d":"0.00"},{"v":0,"d":"0.00"},{"v":0,"d":"0.00"},{"v":0,"d":"0.00"},{"v":0,"d":"0.00"},{"v":0,"d":"0.00"},{"v":0,"d":"0.00"},null,null,{"$f":"S14/2/R69/R70","v":{"$error":"#VALUE!"}},{"$nulls":4},"-",{"$error":"#N/A"},{"$error":"#N/A"},{"$error":"#N/A"},{"$error":"#N/A"},{"$error":"#N/A"},{"$error":"#N/A"},{"$error":"#N/A"},null,null,{"$f":"AH14/2/AG69/AG70","v":{"$error":"#VALUE!"}},{"$nulls":4},"-",{"$error":"#N/A"},{"$error":"#N/A"},{"$error":"#N/A"},{"$error":"#N/A"},{"$error":"#N/A"},{"$error":"#N/A"},{"$error":"#N/A"},null,{"$f":"IF(Q12>0,  1+MAX(B12:B30), \"-\")","v":"-"},null,{"$f":"IF(Multiplex!E50<0,  -180+Multiplex!E50, 180-Multiplex!E50)","v":180},{"$f":"IF(AU71=\"-\",\"-\",VLOOKUP(AU71-1,B12:C30,2,FALSE))","v":"-"},{"$f":"IF(AU71=\"\",\"-\",R12)","v":0},{"$f":"IF(AU71=\"\",\"-\",VLOOKUP(AU71-1,B12:D30,3,FALSE))","v":{"$error":"#VALUE!"}},{"$f":"IF(AU71=\"\",\"-\",S12)","v":0},{"$f":"M4","v":{"v":40.5,"d":"41"}},{"$f":"AB4","v":{"$error":"#N/A"}},{"$f":"E8","v":{"v":0.985,"d":"0.99"}},{"$f":"T8","v":{"$error":"#N/A"}}]
[null,null,{"$f":"C69*ASINH(C71)","v":{"$error":"#VALUE!"}},{"$nulls":4},{"$f":"IF($I$15=0,\"-\",$I$15)","v":"-"},{"v":0,"d":"0.00"},{"v":0,"d":"0.00"},{"v":0,"d":"0.00"},{"v":0,"d":"0.00"},{"v":0,"d":"0.00"},{"v":0,"d":"0.00"},{"v":0,"d":"0.00"},null,null,{"$f":"R69*ASINH(R71)","v":{"$error":"#VALUE!"}},{"$nulls":4},"-",{"$error":"#N/A"},{"$error":"#N/A"},{"$error":"#N/A"},{"$error":"#N/A"},{"$error":"#N/A"},{"$error":"#N/A"},{"$error":"#N/A"},null,null,{"$f":"AG69*ASINH(AG71)","v":{"$error":"#VALUE!"}},{"$nulls":4},"-",{"$error":"#N/A"},{"$error":"#N/A"},{"$error":"#N/A"},{"$error":"#N/A"},{"$error":"#N/A"},{"$error":"#N/A"},{"$error":"#N/A"},null,{"$f":"IF(AF12>0,1+MAX(Q12:Q30),\"-\")","v":"-"},null,{"$f":"IF(Multiplex!E80<0,  -180+Multiplex!E80,  180-Multiplex!E80)","v":180},{"$f":"IF(AU72=\"\",\"-\",VLOOKUP(AU72-1,$Q$12:$S$30,2,FALSE))","v":{"$error":"#VALUE!"}},{"$f":"IF(AU72=\"\",\"-\",AG12)","v":0},{"$f":"IF(AU72=\"\",\"-\",VLOOKUP(AU72-1,Q12:S30,3,FALSE))","v":{"$error":"#VALUE!"}},{"$f":"IF(AU72=\"\",\"-\",AH12)","v":0},{"$f":"AB4","v":{"$error":"#N/A"}},{"$f":"AQ4","v":{"$error":"#N/A"}},{"$f":"T8","v":{"$error":"#N/A"}},{"$f":"AI8","v":{"$error":"#N/A"}}]
[null,null,{"$f":"C72+C14/2","v":{"$error":"#VALUE!"}},null,{"$f":"C69*COSH(C73/C69)","v":{"$error":"#VALUE!"}},null,null,{"$f":"IF($I$16=0,\"-\",$I$16)","v":"-"},{"v":0,"d":"0.00"},{"v":0,"d":"0.00"},{"v":0,"d":"0.00"},{"v":0,"d":"0.00"},{"v":0,"d":"0.00"},{"v":0,"d":"0.00"},{"v":0,"d":"0.00"},null,null,{"$f":"R72+R14/2","v":{"$error":"#VALUE!"}},"y2 =",{"$f":"R69*COSH(R73/R69)","v":{"$error":"#VALUE!"}},null,null,"-",{"$error":"#N/A"},{"$error":"#N/A"},{"$error":"#N/A"},{"$error":"#N/A"},{"$error":"#N/A"},{"$error":"#N/A"},{"$error":"#N/A"},null,null,{"$f":"AG72+AG14/2","v":{"$error":"#VALUE!"}},null,{"$f":"AG69*COSH(AG73/AG69)","v":{"$error":"#VALUE!"}},null,null,"-",{"$error":"#N/A"},{"$error":"#N/A"},{"$error":"#N/A"},{"$error":"#N/A"},{"$error":"#N/A"},{"$error":"#N/A"},{"$error":"#N/A"},null,"poste nº",null,"Componente horizontal",{"$nulls":3},"relação de esforços"]
[null,null,{"$f":"C72-C14/2","v":{"$error":"#VALUE!"}},null,{"$f":"C69*COSH(C74/C69)","v":{"$error":"#VALUE!"}},null,null,{"$f":"IF($I$17=0,\"-\",$I$17)","v":"-"},{"v":0,"d":"0.00"},{"v":0,"d":"0.00"},{"v":0,"d":"0.00"},{"v":0,"d":"0.00"},{"v":0,"d":"0.00"},{"v":0,"d":"0.00"},{"v":0,"d":"0.00"},null,null,{"$f":"R72-R14/2","v":{"$error":"#VALUE!"}},"y1=",{"$f":"R69*COSH(R74/R69)","v":{"$error":"#VALUE!"}},null,null,"-",{"$error":"#N/A"},{"$error":"#N/A"},{"$error":"#N/A"},{"$error":"#N/A"},{"$error":"#N/A"},{"$error":"#N/A"},{"$error":"#N/A"},null,null,{"$f":"AG72-AG14/2","v":{"$error":"#VALUE!"}},null,{"$f":"AG69*COSH(AG74/AG69)","v":{"$error":"#VALUE!"}},null,null,"-",{"$error":"#N/A"},{"$error":"#N/A"},{"$error":"#N/A"},{"$error":"#N/A"},{"$error":"#N/A"},{"$error":"#N/A"},{"$error":"#N/A"},{"$nulls":3},"vão anterior",null,"vão posterior",null,"nominal","útil"]
[null,"vão  4",{"$nulls":5},{"$f":"IF($I$18=0,\"-\",$I$18)","v":"-"},{"v":0,"d":"0.00"},{"v":0,"d":"0.00"},{"v":0,"d":"0.00"},{"v":0,"d":"0.00"},{"v":0,"d":"0.00"},{"v":0,"d":"0.00"},{"v":0,"d":"0.00"},null,null,"VANO Nº 4",{"$nulls":4},"-",{"$error":"#N/A"},{"$error":"#N/A"},{"$error":"#N/A"},{"$error":"#N/A"},{"$error":"#N/A"},{"$error":"#N/A"},{"$error":"#N/A"},null,null,"VANO Nº 4",{"$nulls":4},"-",{"$error":"#N/A"},{"$error":"#N/A"},{"$error":"#N/A"},{"$error":"#N/A"},{"$error":"#N/A"},{"$error":"#N/A"},{"$error":"#N/A"},{"$nulls":3},"0º+1/3V","15º +V","0º+1/3 V","15º+V"]
[null,null,{"$f":"E15/E9","v":{"$error":"#VALUE!"}},{"$nulls":4},{"$f":"IF($I$19=0,\"-\",$I$19)","v":"-"},{"v":0,"d":"0.00"},{"v":0,"d":"0.00"},{"v":0,"d":"0.00"},{"v":0,"d":"0.00"},{"v":0,"d":"0.00"},{"v":0,"d":"0.00"},{"v":0,"d":"0.00"},null,null,{"$f":"T15/T9","v":{"$error":"#VALUE!"}},{"$nulls":4},"-",{"$error":"#N/A"},{"$error":"#N/A"},{"$error":"#N/A"},{"$error":"#N/A"},{"$error":"#N/A"},{"$error":"#N/A"},{"$error":"#N/A"},null,null,{"$f":"AI15/AI9","v":{"$error":"#VALUE!"}},{"$nulls":4},"-",{"$error":"#N/A"},{"$error":"#N/A"},{"$error":"#N/A"},{"$error":"#N/A"},{"$error":"#N/A"},{"$error":"#N/A"},{"$error":"#N/A"},null,{"$f":"AU71","v":"-"},null,{"$f":"I43","v":{"v":199.43985219585218,"d":"199.44"}},{"$f":"N43","v":{"v":279.3269321990524,"d":"279"}},{"$f":"X43","v":{"$error":"#N/A"}},{"$f":"AC43","v":"-"},{"$f":"$BJ$15","v":2},{"$f":"$BJ$15","v":2}]
[null,null,{"$f":"SINH(C15/2/C76)","v":{"$error":"#VALUE!"}},{"$nulls":4},{"$f":"IF($I$20=0,\"-\",$I$20)","v":"-"},{"v":0,"d":"0.00"},{"v":0,"d":"0.00"},{"v":0,"d":"0.00"},{"v":0,"d":"0.00"},{"v":0,"d":"0.00"},{"v":0,"d":"0.00"},{"v":0,"d":"0.00"},null,null,{"$f":"SINH(R15/2/R76)","v":{"$error":"#VALUE!"}},{"$nulls":4},"-",{"$error":"#N/A"},{"$error":"#N/A"},{"$error":"#N/A"},{"$error":"#N/A"},{"$error":"#N/A"},{"$error":"#N/A"},{"$error":"#N/A"},null,null,{"$f":"SINH(AG15/2/AG76)","v":{"$error":"#VALUE!"}},{"$nulls":4},"-",{"$error":"#N/A"},{"$error":"#N/A"},{"$error":"#N/A"},{"$error":"#N/A"},{"$error":"#N/A"},{"$error":"#N/A"},{"$error":"#N/A"},null,{"$f":"AU72","v":"-"},null,{"$f":"X43","v":{"$error":"#N/A"}},{"$f":"AC43","v":"-"},{"$f":"AM43","v":{"$error":"#N/A"}},{"$f":"AR43","v":"-"},{"$f":"$BJ$15","v":2},{"$f":"$BJ$15","v":2}]
[null,null,{"$f":"D15/2/C76/C77","v":{"$error":"#VALUE!"}},{"$nulls":4},{"$f":"IF($I$21=0,\"-\",$I$21)","v":"-"},{"v":0,"d":"0.00"},{"v":0,"d":"0.00"},{"v":0,"d":"0.00"},{"v":0,"d":"0.00"},{"v":0,"d":"0.00"},{"v":0,"d":"0.00"},{"v":0,"d":"0.00"},null,null,{"$f":"S15/2/R76/R77","v":{"$error":"#VALUE!"}},{"$nulls":4},"-",{"$error":"#N/A"},{"$error":"#N/A"},{"$error":"#N/A"},{"$error":"#N/A"},{"$error":"#N/A"},{"$error":"#N/A"},{"$error":"#N/A"},null,null,{"$f":"AH15/2/AG76/AG77","v":{"$error":"#VALUE!"}},{"$nulls":4},"-",{"$error":"#N/A"},{"$error":"#N/A"},{"$error":"#N/A"},{"$error":"#N/A"},{"$error":"#N/A"},{"$error":"#N/A"},{"$error":"#N/A"},null,"ESFORÇOS NA DISPOSIÇÃO NORMAL"]
[null,null,{"$f":"C76*ASINH(C78)","v":{"$error":"#VALUE!"}},{"$nulls":4},{"$f":"IF($I$22=0,\"-\",$I$22)","v":"-"},{"v":0,"d":"0.00"},{"v":0,"d":"0.00"},{"v":0,"d":"0.00"},{"v":0,"d":"0.00"},{"v":0,"d":"0.00"},{"v":0,"d":"0.00"},{"v":0,"d":"0.00"},null,null,{"$f":"R76*ASINH(R78)","v":{"$error":"#VALUE!"}},{"$nulls":4},"-",{"$error":"#N/A"},{"$error":"#N/A"},{"$error":"#N/A"},{"$error":"#N/A"},{"$error":"#N/A"},{"$error":"#N/A"},{"$error":"#N/A"},null,null,{"$f":"AG76*ASINH(AG78)","v":{"$error":"#VALUE!"}},{"$nulls":4},"-",{"$error":"#N/A"},{"$error":"#N/A"},{"$error":"#N/A"},{"$error":"#N/A"},{"$error":"#N/A"},{"$error":"#N/A"},{"$error":"#N/A"},null,"Poste","Esforço Horiznontal",{"$nulls":3},"Carga Vertical"]
[null,null,{"$f":"C79+C15/2","v":{"$error":"#VALUE!"}},null,{"$f":"C76*COSH(C80/C76)","v":{"$error":"#VALUE!"}},null,null,{"$f":"IF($I$23=0,\"-\",$I$23)","v":"-"},{"v":0,"d":"0.00"},{"v":0,"d":"0.00"},{"v":0,"d":"0.00"},{"v":0,"d":"0.00"},{"v":0,"d":"0.00"},{"v":0,"d":"0.00"},{"v":0,"d":"0.00"},null,null,{"$f":"R79+R15/2","v":{"$error":"#VALUE!"}},"y2 =",{"$f":"R76*COSH(R80/R76)","v":{"$error":"#VALUE!"}},null,null,"-",{"$error":"#N/A"},{"$error":"#N/A"},{"$error":"#N/A"},{"$error":"#N/A"},{"$error":"#N/A"},{"$error":"#N/A"},{"$error":"#N/A"},null,null,{"$f":"AG79+AG15/2","v":{"$error":"#VALUE!"}},null,{"$f":"AG76*COSH(AG80/AG76)","v":{"$error":"#VALUE!"}},null,null,"-",{"$error":"#N/A"},{"$error":"#N/A"},{"$error":"#N/A"},{"$error":"#N/A"},{"$error":"#N/A"},{"$error":"#N/A"},{"$error":"#N/A"},null,null,"0ºC +1/3 V",null,"15ºC + V",null,"0ºsin sobr.","0º+1/3 V","15º+V"]
[null,null,{"$f":"C79-C15/2","v":{"$error":"#VALUE!"}},null,{"$f":"C76*COSH(C81/C76)","v":{"$error":"#VALUE!"}},null,null,{"$f":"IF($I$24=0,\"-\",$I$24)","v":"-"},{"v":0,"d":"0.00"},{"v":0,"d":"0.00"},{"v":0,"d":"0.00"},{"v":0,"d":"0.00"},{"v":0,"d":"0.00"},{"v":0,"d":"0.00"},{"v":0,"d":"0.00"},null,null,{"$f":"R79-R15/2","v":{"$error":"#VALUE!"}},"y1 =",{"$f":"R76*COSH(R81/R76)","v":{"$error":"#VALUE!"}},null,null,"-",{"$error":"#N/A"},{"$error":"#N/A"},{"$error":"#N/A"},{"$error":"#N/A"},{"$error":"#N/A"},{"$error":"#N/A"},{"$error":"#N/A"},null,null,{"$f":"AG79-AG15/2","v":{"$error":"#VALUE!"}},null,{"$f":"AG76*COSH(AG81/AG76)","v":{"$error":"#VALUE!"}},null,null,"-",{"$error":"#N/A"},{"$error":"#N/A"},{"$error":"#N/A"},{"$error":"#N/A"},{"$error":"#N/A"},{"$error":"#N/A"},{"$error":"#N/A"},null,null,"assimétrico","simétrico","assimétrico","simétrico"]
[null,"vão  5",{"$nulls":5},{"$f":"IF($I$25=0,\"-\",$I$25)","v":"-"},{"v":0,"d":"0.00"},{"v":0,"d":"0.00"},{"v":0,"d":"0.00"},{"v":0,"d":"0.00"},{"v":0,"d":"0.00"},{"v":0,"d":"0.00"},{"v":0,"d":"0.00"},{"$nulls":7},"-",{"$error":"#N/A"},{"$error":"#N/A"},{"$error":"#N/A"},{"$error":"#N/A"},{"$error":"#N/A"},{"$error":"#N/A"},{"$error":"#N/A"},{"$nulls":7},"-",{"$error":"#N/A"},{"$error":"#N/A"},{"$error":"#N/A"},{"$error":"#N/A"},{"$error":"#N/A"},{"$error":"#N/A"},{"$error":"#N/A"},null,{"$f":"AU71","v":"-"},{"$f":"IF($AU71=\"\",\"-\",$AZ114+$AZ115+$AZ116+$AZ117*BA76)","v":{"$error":"#VALUE!"}},{"$f":"IF($AU71=\"\",\"-\",$AZ114+$AZ115+$AZ116+$AZ117*BB76)","v":{"$error":"#VALUE!"}},{"$f":"ABS(IF($AU71=\"\",\"-\",$AZ119+$AZ120+$AZ121+$AZ122*BA76))","v":{"$error":"#VALUE!"}},{"$f":"ABS(IF($AU71=\"\",\"-\",$AZ119+$AZ120+$AZ121+$AZ122))","v":{"$error":"#VALUE!"}},{"$f":"IF(AU71=\"\",\"-\",M7*AX71/2+AB7*AY71/2+J43*AZ71/AX71-Y43*BA71/AY71)","v":{"$error":"#VALUE!"}},{"$f":"IF(AU71=\"\",\"-\",$M$7*(AX71/2+$I$43/$M$9*$AZ$71/AX71)+$AB$7*($AY$71/2-$X$43/$AB$9*$BA$71/$AY$71))","v":{"$error":"#VALUE!"}},{"$f":"IF(AU71=\"\",\"-\",$M$7*(AX71/2+$N$43/$M$8*$AZ$71/AX71)+$AB$7*($AY$71/2-$AC$43/$AB$8*$BA$71/$AY$71))","v":{"$error":"#VALUE!"}}]
[null,null,{"$f":"E16/E9","v":{"$error":"#VALUE!"}},{"$nulls":4},{"$f":"IF($I$26=0,\"-\",$I$26)","v":"-"},{"v":0,"d":"0.00"},{"v":0,"d":"0.00"},{"v":0,"d":"0.00"},{"v":0,"d":"0.00"},{"v":0,"d":"0.00"},{"v":0,"d":"0.00"},{"v":0,"d":"0.00"},null,null,{"$f":"T16/T9","v":{"$error":"#VALUE!"}},{"$nulls":4},"-",{"$error":"#N/A"},{"$error":"#N/A"},{"$error":"#N/A"},{"$error":"#N/A"},{"$error":"#N/A"},{"$error":"#N/A"},{"$error":"#N/A"},null,null,{"$f":"AI16/AI9","v":{"$error":"#VALUE!"}},{"$nulls":4},"-",{"$error":"#N/A"},{"$error":"#N/A"},{"$error":"#N/A"},{"$error":"#N/A"},{"$error":"#N/A"},{"$error":"#N/A"},{"$error":"#N/A"},null,{"$f":"AU72","v":"-"},{"$f":"IF($AU72=\"\",\"-\",$AZ129+$AZ130+$AZ131+$AZ132*BA77)","v":{"$error":"#VALUE!"}},{"$f":"IF($AU72=\"\",\"-\",$AZ129+$AZ130+$AZ131+$AZ132*BB77)","v":{"$error":"#VALUE!"}},{"$f":"ABS(IF($AU72=\"\",\"-\",$AZ134+$AZ135+$AZ136+$AZ137*BA77))","v":{"$error":"#VALUE!"}},{"$f":"ABS(IF($AU72=\"\",\"-\",$AZ134+$AZ135+$AZ136+$AZ137))","v":{"$error":"#VALUE!"}},{"$f":"IF(AU72=\"\",\"-\",$AB$7*$AX$72/2+$Y$43*$AZ$72/$AX$72+$AQ$7*$AY$72/2-$AN$43*$BA$72/$AY$72)","v":{"$error":"#N/A"}},{"$f":"IF(AU72=\"\",\"-\",$AB$7*($AX$72/2+$X$43/$AB$9*$AZ$72/$AX$72)+$AQ$7*($AY$72/2-$AM$43/$AQ$9*$BA$72/$AY$72))","v":{"$error":"#N/A"}},{"$f":"IF(AU72=\"\",\"-\",$AB$7*($AX$72/2+$AC$43/$AB$8*$AZ$72/$AX$72)+$AQ$7*($AY$72/2-$AR$43/$AQ$8*$BA$72/$AY$72))","v":{"$error":"#N/A"}}]
[null,null,{"$f":"SINH(C16/2/C83)","v":{"$error":"#VALUE!"}},{"$nulls":4},{"$f":"IF($I$27=0,\"-\",$I$27)","v":"-"},{"v":0,"d":"0.00"},{"v":0,"d":"0.00"},{"v":0,"d":"0.00"},{"v":0,"d":"0.00"},{"v":0,"d":"0.00"},{"v":0,"d":"0.00"},{"v":0,"d":"0.00"},null,null,{"$f":"SINH(R16/2/R83)","v":{"$error":"#VALUE!"}},{"$nulls":4},"-",{"$error":"#N/A"},{"$error":"#N/A"},{"$error":"#N/A"},{"$error":"#N/A"},{"$error":"#N/A"},{"$error":"#N/A"},{"$error":"#N/A"},null,null,{"$f":"SINH(AG16/2/AG83)","v":{"$error":"#VALUE!"}},{"$nulls":4},"-",{"$error":"#N/A"},{"$error":"#N/A"},{"$error":"#N/A"},{"$error":"#N/A"},{"$error":"#N/A"},{"$error":"#N/A"},{"$error":"#N/A"},null,"ESFORÇOS NA DISPOSIÇÃO INVERTIDA"]
[null,null,{"$f":"D16/2/C83/C84","v":{"$error":"#VALUE!"}},{"$nulls":4},{"$f":"IF($I$27=0,\"-\",$I$28)","v":"-"},{"v":0,"d":"0.00"},{"v":0,"d":"0.00"},{"v":0,"d":"0.00"},{"v":0,"d":"0.00"},{"v":0,"d":"0.00"},{"v":0,"d":"0.00"},{"v":0,"d":"0.00"},null,null,{"$f":"S16/2/R83/R84","v":{"$error":"#VALUE!"}},{"$nulls":4},"-",{"$error":"#N/A"},{"$error":"#N/A"},{"$error":"#N/A"},{"$error":"#N/A"},{"$error":"#N/A"},{"$error":"#N/A"},{"$error":"#N/A"},null,null,{"$f":"AH16/2/AG83/AG84","v":{"$error":"#VALUE!"}},{"$nulls":4},"-",{"$error":"#N/A"},{"$error":"#N/A"},{"$error":"#N/A"},{"$error":"#N/A"},{"$error":"#N/A"},{"$error":"#N/A"},{"$error":"#N/A"},null,"Poste","Esforço Equivalente",{"$nulls":3},"Carga Vertical"]
[null,null,{"$f":"C83*ASINH(C85)","v":{"$error":"#VALUE!"}},{"$nulls":4},{"$f":"IF($I$27=0,\"-\",$I$29)","v":"-"},{"v":0,"d":"0.00"},{"v":0,"d":"0.00"},{"v":0,"d":"0.00"},{"v":0,"d":"0.00"},{"v":0,"d":"0.00"},{"v":0,"d":"0.00"},{"v":0,"d":"0.00"},null,null,{"$f":"R83*ASINH(R85)","v":{"$error":"#VALUE!"}},{"$nulls":4},"-",{"$error":"#N/A"},{"$error":"#N/A"},{"$error":"#N/A"},{"$error":"#N/A"},{"$error":"#N/A"},{"$error":"#N/A"},{"$error":"#N/A"},null,null,{"$f":"AG83*ASINH(AG85)","v":{"$error":"#VALUE!"}},{"$nulls":4},"-",{"$error":"#N/A"},{"$error":"#N/A"},{"$error":"#N/A"},{"$error":"#N/A"},{"$error":"#N/A"},{"$error":"#N/A"},{"$error":"#N/A"},null,null,"0ºC +1/3 V",null,"15ºC + V",null,"0ºsin sobr.","0º+1/3 V","15º+V"]
[null,null,{"$f":"C86+C16/2","v":{"$error":"#VALUE!"}},null,{"$f":"C83*COSH(C87/C83)","v":{"$error":"#VALUE!"}},null,null,{"$f":"IF($I$27=0,\"-\",$I$30)","v":"-"},{"v":0,"d":"0.00"},{"v":0,"d":"0.00"},{"v":0,"d":"0.00"},{"v":0,"d":"0.00"},{"v":0,"d":"0.00"},{"v":0,"d":"0.00"},{"v":0,"d":"0.00"},null,null,{"$f":"R86+R16/2","v":{"$error":"#VALUE!"}},"y2 =",{"$f":"R83*COSH(R87/R83)","v":{"$error":"#VALUE!"}},null,null,"-",{"$error":"#N/A"},{"$error":"#N/A"},{"$error":"#N/A"},{"$error":"#N/A"},{"$error":"#N/A"},{"$error":"#N/A"},{"$error":"#N/A"},null,null,{"$f":"AG86+AG16/2","v":{"$error":"#VALUE!"}},null,{"$f":"AG83*COSH(AG87/AG83)","v":{"$error":"#VALUE!"}},null,null,"-",{"$error":"#N/A"},{"$error":"#N/A"},{"$error":"#N/A"},{"$error":"#N/A"},{"$error":"#N/A"},{"$error":"#N/A"},{"$error":"#N/A"},null,{"$f":"AU71","v":"-"},{"$f":"IF(AU71=\"\",\"-\",(AZ114+AZ115+AZ116)*BB76+AZ117)","v":{"$error":"#VALUE!"}},null,{"$f":"ABS(IF(AU71=\"\",\"-\",(AZ119+AZ120+AZ121)*BB76+AZ122))","v":{"$error":"#VALUE!"}},null,{"$f":"IF(AU71=\"\",\"-\",M7*AX71/2+AB7*AY71/2+J43*AZ71/AX71-Y43*BA71/AY71)","v":{"$error":"#VALUE!"}},{"$f":"IF(AU71=\"\",\"-\",$M$7*(AX71/2+$I$43/$M$9*$AZ$71/AX71)+$AB$7*($AY$71/2-$X$43/$AB$9*$BA$71/$AY$71))","v":{"$error":"#VALUE!"}},{"$f":"IF(AU71=\"\",\"-\",$M$7*(AX71/2+$N$43/$M$8*$AZ$71/AX71)+$AB$7*($AY$71/2-$AC$43/$AB$8*$BA$71/$AY$71))","v":{"$error":"#VALUE!"}}]
[null,null,{"$f":"C86-C16/2","v":{"$error":"#VALUE!"}},null,{"$f":"C83*COSH(C88/C83)","v":{"$error":"#VALUE!"}},{"$nulls":12},{"$f":"R86-R16/2","v":{"$error":"#VALUE!"}},"y1 =",{"$f":"R83*COSH(R88/R83)","v":{"$error":"#VALUE!"}},{"$nulls":12},{"$f":"AG86-AG16/2","v":{"$error":"#VALUE!"}},null,{"$f":"AG83*COSH(AG88/AG83)","v":{"$error":"#VALUE!"}},{"$nulls":11},{"$f":"AU72","v":"-"},{"$f":"IF(AU72=\"\",\"-\",(AZ129+AZ130+AZ131)*BB77+AZ132)","v":{"$error":"#VALUE!"}},null,{"$f":"ABS(IF(AU72=\"\",\"-\",(AZ134+AZ135+AZ136)*BB77+AZ137))","v":{"$error":"#VALUE!"}},null,{"$f":"IF(AU72=\"\",\"-\",$AB$7*$AX$72/2+$Y$43*$AZ$72/$AX$72+$AQ$7*$AY$72/2-$AN$43*$BA$72/$AY$72)","v":{"$error":"#N/A"}},{"$f":"IF(AU72=\"\",\"-\",$AB$7*($AX$72/2+$X$43/$AB$9*$AZ$72/$AX$72)+$AQ$7*($AY$72/2-$AM$43/$AQ$9*$BA$72/$AY$72))","v":{"$error":"#N/A"}},{"$f":"IF(AU72=\"\",\"-\",$AB$7*($AX$72/2+$AC$43/$AB$8*$AZ$72/$AX$72)+$AQ$7*($AY$72/2-$AR$43/$AQ$8*$BA$72/$AY$72))","v":{"$error":"#N/A"}}]
[null,"vão  6",{"$nulls":5},"t = 0º  (v=1/3)",{"$nulls":14},"t = 0º  (v=1/3)",{"$nulls":14},"t = 0º  (v=1/3)"]
[null,null,{"$f":"E17/E9","v":{"$error":"#VALUE!"}},{"$nulls":5},"A =",{"$f":"M6*(-15)*M3*M5-M36+M32*M32/24*M8*M8/M36/M36*M3*M5","v":-88.58373553842378},null,"S=",{"$f":"POWER(J93+J95,1/3)","v":164.6153656681505},{"$nulls":4},{"$f":"T17/T9","v":{"$error":"#VALUE!"}},{"$nulls":6},{"$f":"AB6*(-15)*AB3*AB5-AB33+AB32*AB32/24*AB8*AB8/AB33/AB33*AB3*AB5","v":{"$error":"#N/A"}},{"$nulls":3},{"$f":"POWER(Y93+Y95,1/3)","v":{"$error":"#DIV/0!"}},{"$nulls":3},{"$f":"AI17/AI9","v":{"$error":"#VALUE!"}},{"$nulls":6},{"$f":"AQ6*(-15)*AQ3*AQ5-AQ33+AQ32*AQ32/24*AQ8*AQ8/AQ33/AQ33*AQ3*AQ5","v":{"$error":"#N/A"}},{"$nulls":3},{"$f":"POWER(AN93+AN95,1/3)","v":{"$error":"#DIV/0!"}},null,null,"POSTES DE ANCORAGEM TERMINAIS"]
[null,null,{"$f":"SINH(C17/2/C90)","v":{"$error":"#VALUE!"}},{"$nulls":5},"B=",{"$f":"M32*M32*M9*M9/24*M3*M5","v":{"v":4409441.125,"d":"4.40944113E+06"}},null,"T =",{"$f":"POWER(J93-J95,1/3)","v":5.296574681560419},{"$nulls":4},{"$f":"SINH(R17/2/R90)","v":{"$error":"#VALUE!"}},{"$nulls":6},{"$f":"AB32*AB32*AB9*AB9/24*AB3*AB5","v":{"$error":"#DIV/0!"}},{"$nulls":3},{"$f":"POWER(Y93-Y95,1/3)","v":{"$error":"#DIV/0!"}},{"$nulls":3},{"$f":"SINH(AG17/2/AG90)","v":{"$error":"#VALUE!"}},{"$nulls":6},{"$f":"AQ32*AQ32*AQ9*AQ9/24*AQ3*AQ5","v":{"$error":"#DIV/0!"}},{"$nulls":3},{"$f":"POWER(AN93-AN95,1/3)","v":{"$error":"#DIV/0!"}},null,null,"DISPOSIÇÃO NORMAL"]
[null,null,{"$f":"D17/2/C90/C91","v":{"$error":"#VALUE!"}},{"$nulls":5},"Q =",{"$f":"-J90*J90/9","v":-871.8975779934894},null,"X= ",{"$f":"M90+M91-J90/3","v":{"v":199.43985219585218,"d":"199.44"}},{"$nulls":4},{"$f":"S17/2/R90/R91","v":{"$error":"#VALUE!"}},{"$nulls":6},{"$f":"-Y90*Y90/9","v":{"$error":"#N/A"}},{"$nulls":3},{"$f":"AC90+AC91-Y90/3","v":{"$error":"#DIV/0!"}},{"$nulls":3},{"$f":"AH17/2/AG90/AG91","v":{"$error":"#VALUE!"}},{"$nulls":6},{"$f":"-AN90*AN90/9","v":{"$error":"#N/A"}},{"$nulls":3},{"$f":"AR90+AR91-AN90/3","v":{"$error":"#DIV/0!"}},null,null,"cantão","poste nº",null,"vão",null,"diâmetro","esforço horizontal",null,"relaçäo\nde esforços"]
[null,null,{"$f":"C90*ASINH(C92)","v":{"$error":"#VALUE!"}},{"$nulls":5},"R =",{"$f":"J91/2-J90*J90*J90/27","v":{"v":2230465.8773218556,"d":"2230466"}},{"$nulls":7},{"$f":"R90*ASINH(R92)","v":{"$error":"#VALUE!"}},{"$nulls":6},{"$f":"Y91/2-Y90*Y90*Y90/27","v":{"$error":"#DIV/0!"}},{"$nulls":7},{"$f":"AG90*ASINH(AG92)","v":{"$error":"#VALUE!"}},{"$nulls":6},{"$f":"AN91/2-AN90*AN90*AN90/27","v":{"$error":"#DIV/0!"}},{"$nulls":9},"compr.","desnível","mm","0º+1/3 V","15º+V"]
[null,null,{"$f":"C93+C17/2","v":{"$error":"#VALUE!"}},null,{"$f":"C90*COSH(C94/C90)","v":{"$error":"#VALUE!"}},{"$nulls":4},{"$f":"J92*J92*J92+J93*J93","v":{"v":4974315208661.879,"d":"4974315208662"}},{"$nulls":7},{"$f":"R93+R17/2","v":{"$error":"#VALUE!"}},"y2 =",{"$f":"R90*COSH(R94/R90)","v":{"$error":"#VALUE!"}},{"$nulls":4},{"$f":"Y92*Y92*Y92+Y93*Y93","v":{"$error":"#N/A"}},{"$nulls":7},{"$f":"AG93+AG17/2","v":{"$error":"#VALUE!"}},null,{"$f":"AG90*COSH(AG94/AG90)","v":{"$error":"#VALUE!"}},{"$nulls":4},{"$f":"AN92*AN92*AN92+AN93*AN93","v":{"$error":"#N/A"}},{"$nulls":6},"1º",{"$f":"B12","v":1},null,{"$f":"C12","v":{"v":50,"d":"50.00"}},{"$f":"D12","v":0},{"$f":"M4","v":{"v":40.5,"d":"40.50"}},{"$f":"I43","v":{"v":199.43985219585218,"d":"199.44"}},{"$f":"N43","v":{"v":279.3269321990524,"d":"279.33"}},{"$f":"$BJ$15","v":2}]
[null,null,{"$f":"C93-C17/2","v":{"$error":"#VALUE!"}},null,{"$f":"C90*COSH(C95/C90)","v":{"$error":"#VALUE!"}},{"$nulls":4},{"$f":"SQRT(J92*J92*J92+J93*J93)","v":{"v":2230317.288786929,"d":"2.23031729E+06"}},{"$nulls":7},{"$f":"R93-R17/2","v":{"$error":"#VALUE!"}},"y1 =",{"$f":"R90*COSH(R95/R90)","v":{"$error":"#VALUE!"}},{"$nulls":4},{"$f":"SQRT(Y92*Y92*Y92+Y93*Y93)","v":{"$error":"#N/A"}},{"$nulls":7},{"$f":"AG93-AG17/2","v":{"$error":"#VALUE!"}},null,{"$f":"AG90*COSH(AG95/AG90)","v":{"$error":"#VALUE!"}},{"$nulls":4},{"$f":"SQRT(AN92*AN92*AN92+AN93*AN93)","v":{"$error":"#N/A"}},{"$nulls":7},{"$f":"MAX(B12:B30) + 1","v":3},null,{"$f":"VLOOKUP(AV95-1,B12:D30,2,FALSE)","v":{"v":0,"d":"0.00"}},{"$f":"VLOOKUP(AV95-1,B12:D30,3,FALSE)","v":0},{"$f":"M4","v":{"v":40.5,"d":"40.50"}},{"$f":"I43","v":{"v":199.43985219585218,"d":"199.44"}},{"$f":"N43","v":{"v":279.3269321990524,"d":"279.33"}},{"$f":"$BJ$15","v":2}]
[null,"vão  7",{"$nulls":7},{"$f":"SQRT(-J92)","v":29.52791184614126},{"$nulls":8},"VANO Nº 7",{"$nulls":5},{"$f":"SQRT(-Y92)","v":{"$error":"#N/A"}},{"$nulls":14},{"$f":"SQRT(-AN92)","v":{"$error":"#N/A"}},{"$nulls":6},"2º",{"$f":"MAX(Q12:Q30) + 1","v":1},null,{"$f":"VLOOKUP(AV96-1,Q12:S30,2,FALSE)","v":{"v":0,"d":"0.00"}},{"$f":"VLOOKUP(AV96-1,Q12:S30,3,FALSE)","v":0},{"$f":"AB4","v":{"$error":"#N/A"}},{"$f":"X43","v":{"$error":"#N/A"}},{"$f":"AC43","v":"-"},{"$f":"$BJ$15","v":2}]
[null,null,{"$f":"E18/E9","v":{"$error":"#VALUE!"}},{"$nulls":6},{"$f":"SQRT(ABS((J92^3)))","v":25745.31482185583},{"$nulls":7},{"$f":"T18/T9","v":{"$error":"#VALUE!"}},{"$nulls":6},{"$f":"SQRT(-Y92*-Y92*-Y92)","v":{"$error":"#N/A"}},{"$nulls":7},{"$f":"AI18/AI9","v":{"$error":"#VALUE!"}},{"$nulls":6},{"$f":"SQRT(-AN92*-AN92*-AN92)","v":{"$error":"#N/A"}},{"$nulls":6},"3º",{"$f":"MAX(AF12:AF30)+1","v":1},null,{"$f":"VLOOKUP(AV97-1,AF12:AH30,2,FALSE)","v":{"v":0,"d":"0.00"}},{"$f":"VLOOKUP(AV97-1,AF12:AH30,3,FALSE)","v":0},{"$f":"AQ4","v":{"$error":"#N/A"}},{"$f":"AM43","v":{"$error":"#N/A"}},{"$f":"AR43","v":"-"},{"$f":"$BJ$15","v":2}]
[null,null,{"$f":"SINH(C18/2/C97)","v":{"$error":"#VALUE!"}},{"$nulls":9},"x = ",{"$f":"2*J96*COS(1/3*J100)-J90/3","v":{"$error":"#NUM!"}},{"$nulls":3},{"$f":"SINH(R18/2/R97)","v":{"$error":"#VALUE!"}},{"$nulls":10},{"$f":"2*Y96*COS(1/3*Y100)-Y90/3","v":{"$error":"#N/A"}},{"$nulls":3},{"$f":"SINH(AG18/2/AG97)","v":{"$error":"#VALUE!"}},{"$nulls":10},{"$f":"2*AN96*COS(1/3*AN100)-AN90/3","v":{"$error":"#N/A"}},null,null,"ESFORÇOS SOBRE OS POSTE"]
[null,null,{"$f":"D18/2/C97/C98","v":{"$error":"#VALUE!"}},{"$nulls":6},{"$f":"J93/J97","v":{"v":86.63579733848732,"d":"86.635797338487"}},{"$nulls":7},{"$f":"S18/2/R97/R98","v":{"$error":"#VALUE!"}},{"$nulls":6},{"$f":"Y93/Y97","v":{"$error":"#DIV/0!"}},{"$nulls":7},{"$f":"AH18/2/AG97/AG98","v":{"$error":"#VALUE!"}},{"$nulls":6},{"$f":"AN93/AN97","v":{"$error":"#DIV/0!"}},{"$nulls":6},"cantão","poste nº","esforço horizontal",{"$nulls":3},"esforço vertical"]
[null,null,{"$f":"C97*ASINH(C99)","v":{"$error":"#VALUE!"}},{"$nulls":6},{"$f":"ACOS(J99)","v":{"$error":"#NUM!"}},{"$nulls":7},{"$f":"R97*ASINH(R99)","v":{"$error":"#VALUE!"}},{"$nulls":6},{"$f":"ACOS(Y99)","v":{"$error":"#DIV/0!"}},{"$nulls":7},{"$f":"AG97*ASINH(AG99)","v":{"$error":"#VALUE!"}},{"$nulls":6},{"$f":"ACOS(AN99)","v":{"$error":"#DIV/0!"}},{"$nulls":8},"0ºC +1/3 V",null,"15ºC + V",null,"0ºsin sobr.","0º+1/3 V","15º+V"]
[null,null,{"$f":"C100+C18/2","v":{"$error":"#VALUE!"}},null,{"$f":"C97*COSH(C101/C97)","v":{"$error":"#VALUE!"}},null,null,"t = 0 ºC",{"$nulls":9},{"$f":"R100+R18/2","v":{"$error":"#VALUE!"}},"y2 =",{"$f":"R97*COSH(R101/R97)","v":{"$error":"#VALUE!"}},null,null,"t = 0 ºC",{"$nulls":9},{"$f":"AG100+AG18/2","v":{"$error":"#VALUE!"}},null,{"$f":"AG97*COSH(AG101/AG97)","v":{"$error":"#VALUE!"}},null,null,"t = 0 ºC",{"$nulls":10},"assimétrico","simétrico","assimétrico","simétrico"]
[null,null,{"$f":"C100-C18/2","v":{"$error":"#VALUE!"}},null,{"$f":"C97*COSH(C102/C97)","v":{"$error":"#VALUE!"}},{"$nulls":5},"t =",0,{"$nulls":5},{"$f":"R100-R18/2","v":{"$error":"#VALUE!"}},"y1 =",{"$f":"R97*COSH(R102/R97)","v":{"$error":"#VALUE!"}},{"$nulls":5},"t =",0,{"$nulls":5},{"$f":"AG100-AG18/2","v":{"$error":"#VALUE!"}},null,{"$f":"AG97*COSH(AG102/AG97)","v":{"$error":"#VALUE!"}},{"$nulls":5},"t =",0,{"$nulls":4},"1º",{"$f":"AV94","v":1},{"$f":"$AX94/2/3*0.05*$AZ94*BC94+$BA94","v":{"v":233.18985219585218,"d":"233"}},{"$f":"$AX94/2/3*0.05*$AZ94+$BA94","v":{"v":216.31485219585218,"d":"216"}},{"$f":"$AX94/2*0.05*$AZ94*BC94+$BB94","v":{"v":380.5769321990524,"d":"381"}},{"$f":"$AX94/2*0.05*$AZ94  +  $BB94","v":{"v":329.9519321990524,"d":"330"}},{"$f":"M7*AX94/2+J43*(0-AY94/AX94)","v":{"v":24.625,"d":"24.63"}},{"$f":"M7*(AX94/2-BA94/M9*AY94/AX94)","v":{"v":24.625,"d":"24.63"}},{"$f":"M7*(AX94/2-BB94/M8*AY94/AX94)","v":{"v":24.625,"d":"25"}}]
[null,"vão  8",{"$nulls":7},{"$f":"M6*(L102-M37)*M3*M5-M36+M32*M32/24*M38*M38/M36/M36*M3*M5","v":-88.58373553842378},{"$nulls":3},{"$f":"POWER(J106+J108,1/3)","v":145.04864391489102},{"$nulls":10},{"$f":"AB6*(AA102-AB37)*AB3*AB5-AB36+AB32*AB32/24*AB38*AB38/AB36/AB36*AB3*AB5","v":{"$error":"#N/A"}},null,"S=",{"$f":"POWER(Y106+Y108,1/3)","v":{"$error":"#DIV/0!"}},{"$nulls":11},{"$f":"AQ6*(AP102-AQ37)*AQ3*AQ5-AQ36+AQ32*AQ32/24*AQ38*AQ38/AQ36/AQ36*AQ3*AQ5","v":{"$error":"#N/A"}},{"$nulls":3},{"$f":"POWER(AN106+AN108,1/3)","v":{"$error":"#DIV/0!"}},{"$nulls":3},{"$f":"AV95","v":3},{"$f":"$AX95/2/3*0.05*$AZ95*BC95+$BA95","v":{"v":199.43985219585218,"d":"199"}},{"$f":"$AX95/2/3*0.05*$AZ95+$BA95","v":{"v":199.43985219585218,"d":"199"}},{"$f":"IF($AX95=\"-\",\"-\",$AX95/2*0.05*$AZ95*BC95+$BB95)","v":{"v":279.3269321990524,"d":"279"}},{"$f":"IF($AX95=\"-\",\"-\",$AX95/2*0.05*$AZ95+$BB95)","v":{"v":279.3269321990524,"d":"279"}},{"$f":"IF(AX95=\"-\",\"-\",M7*AX95/2+J43*AY95/AX95)","v":{"$error":"#DIV/0!"}},{"$f":"IF(AX95=\"-\",\"-\",M7*(AX95/2+BA95/M9*AY95/AX95))","v":{"$error":"#DIV/0!"}},{"$f":"IF(AX95=\"-\",\"-\",M7*(AX95/2+BB95/M8*AY95/AX95))","v":{"$error":"#DIV/0!"}}]
[null,null,{"$f":"E19/E9","v":{"$error":"#VALUE!"}},{"$nulls":6},{"$f":"M32*M32*M7*M7/24*M3*M5","v":{"v":3000420.8125,"d":"3.00042081E+06"}},{"$nulls":3},{"$f":"POWER(J106-J108,1/3)","v":6.01107017935893},{"$nulls":3},{"$f":"T19/T9","v":{"$error":"#VALUE!"}},{"$nulls":6},{"$f":"AB32*AB32*AB7*AB7/24*AB3*AB5","v":{"$error":"#DIV/0!"}},null,"T =",{"$f":"POWER(Y106-Y108,1/3)","v":{"$error":"#DIV/0!"}},{"$nulls":4},{"$f":"AI19/AI9","v":{"$error":"#VALUE!"}},{"$nulls":6},{"$f":"AQ32*AQ32*AQ7*AQ7/24*AQ3*AQ5","v":{"$error":"#DIV/0!"}},{"$nulls":3},{"$f":"POWER(AN106-AN108,1/3)","v":{"$error":"#DIV/0!"}},null,null,"2º",{"$f":"AV96","v":1},{"$f":"$AX96/2/3*0.05*$AZ96*BC96+$BA96","v":{"$error":"#N/A"}},{"$f":"$AX96/2/3*0.05*$AZ96+$BA96","v":{"$error":"#N/A"}},{"$f":"IF($AX96=\"-\",\"-\",$AX96/2*0.05*$AZ96*BC96+$BB96)","v":{"$error":"#N/A"}},{"$f":"IF($AX96=\"-\",\"-\",$AX96/2*0.05*$AZ96+$BB96)","v":{"$error":"#N/A"}},{"$f":"IF(AX96=\"-\",\"-\",AB7*AX96/2+Y43*AY96/AX96)","v":{"$error":"#N/A"}},{"$f":"IF(AX96=\"-\",\"-\",AB7*(AX96/2+BA96/AB9*AY96/AX96))","v":{"$error":"#N/A"}},{"$f":"IF(AX96=\"-\",\"-\",AB7*(AX96/2+BB96/AB8*AY96/AX96))","v":{"$error":"#N/A"}}]
[null,null,{"$f":"SINH(C19/2/C104)","v":{"$error":"#VALUE!"}},{"$nulls":6},{"$f":"-J103*J103/9","v":-871.8975779934894},{"$nulls":3},{"$f":"N103+N104-J103/3","v":{"v":180.5876259403912,"d":"180.59"}},{"$nulls":3},{"$f":"SINH(R19/2/R104)","v":{"$error":"#VALUE!"}},{"$nulls":6},{"$f":"-Y103*Y103/9","v":{"$error":"#N/A"}},null,"x = ",{"$f":"AB103+AB104-Y103/3","v":{"$error":"#DIV/0!"}},{"$nulls":4},{"$f":"SINH(AG19/2/AG104)","v":{"$error":"#VALUE!"}},{"$nulls":6},{"$f":"-AN103*AN103/9","v":{"$error":"#N/A"}},{"$nulls":3},{"$f":"AR103+AR104-AN103/3","v":{"$error":"#DIV/0!"}},null,null,"3º",{"$f":"AV97","v":1},{"$f":"$AX97/2/3*0.05*$AZ97*BC97+$BA97","v":{"$error":"#N/A"}},{"$f":"$AX97/2/3*0.05*$AZ97+$BA97","v":{"$error":"#N/A"}},{"$f":"IF($AX97=\"-\",\"-\",$AX97/2*0.05*$AZ97*BC97+$BB97)","v":{"$error":"#N/A"}},{"$f":"IF($AX97=\"-\",\"-\",$AX97/2*0.05*$AZ97+$BB97)","v":{"$error":"#N/A"}},{"$f":"IF(AX97=\"-\",\"-\",AQ7*AX97/2+AN43*AY97/AX97)","v":{"$error":"#N/A"}},{"$f":"IF(AX97=\"-\",\"-\",AQ7*(AX97/2+BA97/AQ9*AY97/AX97))","v":{"$error":"#N/A"}},{"$f":"IF(AX97=\"-\",\"-\",AQ7*(AX97/2+BB97/AQ8*AY97/AX97))","v":{"$error":"#N/A"}}]
[null,null,{"$f":"D19/2/C104/C105","v":{"$error":"#VALUE!"}},{"$nulls":6},{"$f":"J104/2-J103*J103*J103/27","v":{"v":1525955.7210718559,"d":"1525956"}},{"$nulls":7},{"$f":"S19/2/R104/R105","v":{"$error":"#VALUE!"}},{"$nulls":6},{"$f":"Y104/2-Y103*Y103*Y103/27","v":{"$error":"#DIV/0!"}},{"$nulls":7},{"$f":"AH19/2/AG104/AG105","v":{"$error":"#VALUE!"}},{"$nulls":6},{"$f":"AN104/2-AN103*AN103*AN103/27","v":{"$error":"#DIV/0!"}}]
[null,null,{"$f":"C104*ASINH(C106)","v":{"$error":"#VALUE!"}},{"$nulls":6},{"$f":"J105*J105*J105+J106*J106","v":{"v":2327878041436.6514,"d":"2.33E+12"}},{"$nulls":7},{"$f":"R104*ASINH(R106)","v":{"$error":"#VALUE!"}},{"$nulls":6},{"$f":"Y105*Y105*Y105+Y106*Y106","v":{"$error":"#N/A"}},{"$nulls":7},{"$f":"AG104*ASINH(AG106)","v":{"$error":"#VALUE!"}},{"$nulls":6},{"$f":"AN105*AN105*AN105+AN106*AN106","v":{"$error":"#N/A"}}]
[null,null,{"$f":"C107+C19/2","v":{"$error":"#VALUE!"}},null,{"$f":"C104*COSH(C108/C104)","v":{"$error":"#VALUE!"}},{"$nulls":4},{"$f":"SQRT(J105*J105*J105+J106*J106)","v":{"v":1525738.5232852488,"d":"1.52573852E+06"}},{"$nulls":7},{"$f":"R107+R19/2","v":{"$error":"#VALUE!"}},"y2 =",{"$f":"R104*COSH(R108/R104)","v":{"$error":"#VALUE!"}},{"$nulls":4},{"$f":"SQRT(Y105*Y105*Y105+Y106*Y106)","v":{"$error":"#N/A"}},{"$nulls":7},{"$f":"AG107+AG19/2","v":{"$error":"#VALUE!"}},null,{"$f":"AG104*COSH(AG108/AG104)","v":{"$error":"#VALUE!"}},{"$nulls":4},{"$f":"SQRT(AN105*AN105*AN105+AN106*AN106)","v":{"$error":"#N/A"}},{"$nulls":8},"APOIO Nº",null,null,{"$f":"AU71","v":"-"}]
[null,null,{"$f":"C107-C19/2","v":{"$error":"#VALUE!"}},null,{"$f":"C104*COSH(C109/C104)","v":{"$error":"#VALUE!"}},{"$nulls":4},{"$f":"SQRT(-J105)","v":29.52791184614126},{"$nulls":7},{"$f":"R107-R19/2","v":{"$error":"#VALUE!"}},"y1 =",{"$f":"R104*COSH(R109/R104)","v":{"$error":"#VALUE!"}},{"$nulls":4},{"$f":"SQRT(-Y105)","v":{"$error":"#N/A"}},{"$nulls":7},{"$f":"AG107-AG19/2","v":{"$error":"#VALUE!"}},null,{"$f":"AG104*COSH(AG109/AG104)","v":{"$error":"#VALUE!"}},{"$nulls":4},{"$f":"SQRT(-AN105)","v":{"$error":"#N/A"}},{"$nulls":8},"ângulo",null,null,{"$f":"AW71*PI()/180","v":{"v":3.141592653589793,"d":"3.14"}}]
[null,"vão  9",{"$nulls":7},{"$f":"SQRT(ABS((J105^3)))","v":25745.31482185583},{"$nulls":7},"VANO Nº 9",{"$nulls":6},{"$f":"SQRT(-Y105*-Y105*-Y105)","v":{"$error":"#N/A"}},{"$nulls":7},"VANO Nº 9",{"$nulls":6},{"$f":"SQRT(-AN105*-AN105*-AN105)","v":{"$error":"#N/A"}},{"$nulls":8},"cos(a/2)",null,null,{"$f":"COS(AZ109/2)","v":{"v":6.1257422745431e-17,"d":"0.00"}}]
[null,null,{"$f":"E20/E9","v":{"$error":"#VALUE!"}},{"$nulls":10},{"$f":"2*J109*COS(1/3*J113)-J103/3","v":{"$error":"#NUM!"}},{"$nulls":3},{"$f":"T20/T9","v":{"$error":"#VALUE!"}},{"$nulls":9},"x = ",{"$f":"2*Y109*COS(1/3*Y113)-Y103/3","v":{"$error":"#N/A"}},{"$nulls":3},{"$f":"AI20/AI9","v":{"$error":"#VALUE!"}},{"$nulls":10},{"$f":"2*AN109*COS(1/3*AN113)-AN103/3","v":{"$error":"#N/A"}},{"$nulls":4},"(180-a)/2",null,null,{"$f":"(PI()-AZ109)/2","v":{"v":0,"d":"0.00"}}]
[null,null,{"$f":"SINH(C20/2/C111)","v":{"$error":"#VALUE!"}},{"$nulls":6},{"$f":"J106/J110","v":{"v":59.27120066818661,"d":"59.2712006682"}},{"$nulls":7},{"$f":"SINH(R20/2/R111)","v":{"$error":"#VALUE!"}},{"$nulls":6},{"$f":"Y106/Y110","v":{"$error":"#DIV/0!"}},{"$nulls":7},{"$f":"SINH(AG20/2/AG111)","v":{"$error":"#VALUE!"}},{"$nulls":6},{"$f":"AN106/AN110","v":{"$error":"#DIV/0!"}},{"$nulls":8},"cos((180-a)/2)",null,null,{"$f":"COS(AZ111)","v":{"v":1,"d":"1.00"}}]
[null,null,{"$f":"D20/2/C111/C112","v":{"$error":"#VALUE!"}},{"$nulls":6},{"$f":"ACOS(J112)","v":{"$error":"#NUM!"}},{"$nulls":7},{"$f":"S20/2/R111/R112","v":{"$error":"#VALUE!"}},{"$nulls":6},{"$f":"ACOS(Y112)","v":{"$error":"#DIV/0!"}},{"$nulls":7},{"$f":"AH20/2/AG111/AG112","v":{"$error":"#VALUE!"}},{"$nulls":6},{"$f":"ACOS(AN112)","v":{"$error":"#DIV/0!"}},{"$nulls":8},"0º+1/3 V"]
[null,null,{"$f":"C111*ASINH(C113)","v":{"$error":"#VALUE!"}},{"$nulls":4},"t = 5ºC",{"$nulls":9},{"$f":"R111*ASINH(R113)","v":{"$error":"#VALUE!"}},{"$nulls":4},"t = 5 ºC",{"$nulls":9},{"$f":"AG111*ASINH(AG113)","v":{"$error":"#VALUE!"}},{"$nulls":4},"t = 5 ºC",{"$nulls":10},"1/3 * (a1/2*0,05*d1) * (cos((180-a)/2) =",null,null,{"$f":"(AX71/2*0.05*BB71)/3 * AZ112","v":{"$error":"#VALUE!"}}]
[null,null,{"$f":"C114+C20/2","v":{"$error":"#VALUE!"}},null,{"$f":"C111*COSH(C115/C111)","v":{"$error":"#VALUE!"}},{"$nulls":5},"t =",5,{"$nulls":5},{"$f":"R114+R20/2","v":{"$error":"#VALUE!"}},"y2 =",{"$f":"R111*COSH(R115/R111)","v":{"$error":"#VALUE!"}},{"$nulls":5},"t =",5,{"$nulls":5},{"$f":"AG114+AG20/2","v":{"$error":"#VALUE!"}},null,{"$f":"AG111*COSH(AG115/AG111)","v":{"$error":"#VALUE!"}},{"$nulls":5},"t =",5,{"$nulls":6},"1/3 * (a2/2*0,05*d2) * cos((180-a)/2) =",null,null,{"$f":"(AY71/2*0.05*BC71)/3 * AZ112","v":{"$error":"#N/A"}}]
[null,null,{"$f":"C114-C20/2","v":{"$error":"#VALUE!"}},null,{"$f":"C111*COSH(C116/C111)","v":{"$error":"#VALUE!"}},{"$nulls":4},{"$f":"M6*(L115-M37)*M3*M5-M36+M32*M32/24*M38*M38/M36/M36*M3*M5","v":-85.16961553842376},{"$nulls":3},{"$f":"POWER(J119+J121,1/3)","v":144.95856977057517},{"$nulls":3},{"$f":"R114-R20/2","v":{"$error":"#VALUE!"}},"y1 =",{"$f":"R111*COSH(R116/R111)","v":{"$error":"#VALUE!"}},{"$nulls":4},{"$f":"AB6*(AA115-AB37)*AB3*AB5-AB36+AB32*AB32/24*AB38*AB38/AB36/AB36*AB3*AB5","v":{"$error":"#N/A"}},null,null,"S=",{"$f":"POWER(Y119+Y121,1/3)","v":{"$error":"#DIV/0!"}},{"$nulls":3},{"$f":"AG114-AG20/2","v":{"$error":"#VALUE!"}},null,{"$f":"AG111*COSH(AG116/AG111)","v":{"$error":"#VALUE!"}},{"$nulls":4},{"$f":"AQ6*(AP115-AQ37)*AQ3*AQ5-AQ36+AQ32*AQ32/24*AQ38*AQ38/AQ36/AQ36*AQ3*AQ5","v":{"$error":"#N/A"}},{"$nulls":3},{"$f":"POWER(AN119+AN121,1/3)","v":{"$error":"#DIV/0!"}},{"$nulls":4},"(F1 + F2 )* (cos a/2) =",null,null,{"$f":"(AW76+AY76)*AZ110","v":{"$error":"#N/A"}}]
[null,"vão  10",{"$nulls":7},{"$f":"M32*M32*M7*M7/24*M3*M5","v":{"v":3000420.8125,"d":"3.00042081E+06"}},{"$nulls":3},{"$f":"POWER(J119-J121,1/3)","v":5.560104688641251},{"$nulls":4},"VANO Nº 10",{"$nulls":5},{"$f":"AB32*AB32*AB7*AB7/24*AB3*AB5","v":{"$error":"#DIV/0!"}},null,null,"T =",{"$f":"POWER(Y119-Y121,1/3)","v":{"$error":"#DIV/0!"}},{"$nulls":10},{"$f":"AQ32*AQ32*AQ7*AQ7/24*AQ3*AQ5","v":{"$error":"#DIV/0!"}},{"$nulls":3},{"$f":"POWER(AN119-AN121,1/3)","v":{"$error":"#DIV/0!"}},{"$nulls":4},"(F1 - F2)*cos ((180-a)/2))=",null,null,{"$f":"ABS((AW76-AY76)) * AZ112","v":{"$error":"#N/A"}}]
[null,null,{"$f":"E21/E9","v":{"$error":"#VALUE!"}},{"$nulls":6},{"$f":"-J116*J116/9","v":-805.9848234403237},{"$nulls":3},{"$f":"N116+N117-J116/3","v":{"v":178.90854630535767,"d":"178.91"}},{"$nulls":3},{"$f":"T21/T9","v":{"$error":"#VALUE!"}},{"$nulls":6},{"$f":"-Y116*Y116/9","v":{"$error":"#N/A"}},null,null,"x = ",{"$f":"AC116+AC117-Y116/3","v":{"$error":"#DIV/0!"}},{"$nulls":3},{"$f":"AI21/AI9","v":{"$error":"#VALUE!"}},{"$nulls":6},{"$f":"-AN116*AN116/9","v":{"$error":"#N/A"}},{"$nulls":3},{"$f":"AR116+AR117-AN116/3","v":{"$error":"#DIV/0!"}},{"$nulls":4},"15º+V"]
[null,null,{"$f":"SINH(C21/2/C118)","v":{"$error":"#VALUE!"}},{"$nulls":6},{"$f":"J117/2-J116*J116*J116/27","v":{"v":1523092.2120974055,"d":"1523092"}},{"$nulls":7},{"$f":"SINH(R21/2/R118)","v":{"$error":"#VALUE!"}},{"$nulls":6},{"$f":"Y117/2-Y116*Y116*Y116/27","v":{"$error":"#DIV/0!"}},{"$nulls":7},{"$f":"SINH(AG21/2/AG118)","v":{"$error":"#VALUE!"}},{"$nulls":6},{"$f":"AN117/2-AN116*AN116*AN116/27","v":{"$error":"#DIV/0!"}},{"$nulls":8},"a1 / 2 * 0,05 * d1 * cos((180-a)/2) =",null,null,{"$f":"AX71/2 * 0.05 * BB71 * AZ112","v":{"$error":"#VALUE!"}}]
[null,null,{"$f":"D21/2/C118/C119","v":{"$error":"#VALUE!"}},{"$nulls":6},{"$f":"J118*J118*J118+J119*J119","v":{"v":2319286309512.9297,"d":"2319286309513"}},{"$nulls":7},{"$f":"S21/2/R118/R119","v":{"$error":"#VALUE!"}},{"$nulls":6},{"$f":"Y118*Y118*Y118+Y119*Y119","v":{"$error":"#N/A"}},{"$nulls":7},{"$f":"AH21/2/AG118/AG119","v":{"$error":"#VALUE!"}},{"$nulls":6},{"$f":"AN118*AN118*AN118+AN119*AN119","v":{"$error":"#N/A"}},{"$nulls":8},"a2 / 2 * 0,05  *d2 * cos((180-a)/2) =",null,null,{"$f":"AY71/2*0.05*BC71*AZ112","v":{"$error":"#N/A"}}]
[null,null,{"$f":"C118*ASINH(C120)","v":{"$error":"#VALUE!"}},{"$nulls":6},{"$f":"SQRT(J118*J118*J118+J119*J119)","v":{"v":1522920.3227723143,"d":"1.52292032E+06"}},{"$nulls":7},{"$f":"R118*ASINH(R120)","v":{"$error":"#VALUE!"}},{"$nulls":6},{"$f":"SQRT(Y118*Y118*Y118+Y119*Y119)","v":{"$error":"#N/A"}},{"$nulls":7},{"$f":"AG118*ASINH(AG120)","v":{"$error":"#VALUE!"}},{"$nulls":6},{"$f":"SQRT(AN118*AN118*AN118+AN119*AN119)","v":{"$error":"#N/A"}},{"$nulls":8},"(F1 + F2)*cos (a/2) =",null,null,{"$f":"(AX76+AZ76)*AZ110","v":{"$error":"#VALUE!"}}]
[null,null,{"$f":"C121+C21/2","v":{"$error":"#VALUE!"}},null,{"$f":"C118*COSH(C122/C118)","v":{"$error":"#VALUE!"}},{"$nulls":4},{"$f":"SQRT(-J118)","v":28.38987184614125},{"$nulls":7},{"$f":"R121+R21/2","v":{"$error":"#VALUE!"}}," y2 =",{"$f":"R118*COSH(R122/R118)","v":{"$error":"#VALUE!"}},{"$nulls":4},{"$f":"SQRT(-Y118)","v":{"$error":"#N/A"}},{"$nulls":7},{"$f":"AG121+AG21/2","v":{"$error":"#VALUE!"}},null,{"$f":"AG118*COSH(AG122/AG118)","v":{"$error":"#VALUE!"}},{"$nulls":4},{"$f":"SQRT(-AN118)","v":{"$error":"#N/A"}},{"$nulls":8},"(F1 - F2)*cos ((180-a)/2)=",null,null,{"$f":"ABS(AX76-AZ76)*AZ112","v":{"$error":"#VALUE!"}}]
[null,null,{"$f":"C121-C21/2","v":{"$error":"#VALUE!"}},null,{"$f":"C118*COSH(C123/C118)","v":{"$error":"#VALUE!"}},{"$nulls":4},{"$f":"SQRT(-J118*-J118*-J118)","v":22881.805847405572},{"$nulls":7},{"$f":"R121-R21/2","v":{"$error":"#VALUE!"}},"y1 =",{"$f":"R118*COSH(R123/R118)","v":{"$error":"#VALUE!"}},{"$nulls":4},{"$f":"SQRT(-Y118*-Y118*-Y118)","v":{"$error":"#N/A"}},{"$nulls":7},{"$f":"AG121-AG21/2","v":{"$error":"#VALUE!"}},null,{"$f":"AG118*COSH(AG123/AG118)","v":{"$error":"#VALUE!"}},{"$nulls":4},{"$f":"SQRT(-AN118*-AN118*-AN118)","v":{"$error":"#N/A"}},{"$nulls":8},"APOIO Nº",null,null,{"$f":"AU72","v":"-"}]
[null,"vão  11",{"$nulls":11},{"$f":"2*J122*COS(1/3*J126)-J116/3","v":{"$error":"#NUM!"}},{"$nulls":4},"VANO Nº 11",{"$nulls":8},"x = ",{"$f":"2*Y122*COS(1/3*Y126)-Y116/3","v":{"$error":"#N/A"}},{"$nulls":14},{"$f":"2*AN122*COS(1/3*AN126)-AN116/3","v":{"$error":"#N/A"}},{"$nulls":7},{"$f":"AW72*PI()/180","v":{"v":3.141592653589793,"d":"3.14"}}]
[null,null,{"$f":"E22/E9","v":{"$error":"#VALUE!"}},{"$nulls":6},{"$f":"J119/J123","v":{"v":66.56346191618873,"d":"66.56346191619"}},{"$nulls":7},{"$f":"T22/T9","v":{"$error":"#VALUE!"}},{"$nulls":6},{"$f":"Y119/Y123","v":{"$error":"#DIV/0!"}},{"$nulls":7},{"$f":"AI22/AI9","v":{"$error":"#VALUE!"}},{"$nulls":6},{"$f":"AN119/AN123","v":{"$error":"#DIV/0!"}},{"$nulls":11},{"$f":"COS(AZ124/2)","v":{"v":6.1257422745431e-17,"d":"0.00"}}]
[null,null,{"$f":"SINH(C22/2/C125)","v":{"$error":"#VALUE!"}},{"$nulls":6},{"$f":"ACOS(J125)","v":{"$error":"#NUM!"}},{"$nulls":7},{"$f":"SINH(R22/2/R125)","v":{"$error":"#VALUE!"}},{"$nulls":6},{"$f":"ACOS(Y125)","v":{"$error":"#DIV/0!"}},{"$nulls":7},{"$f":"SINH(AG22/2/AG125)","v":{"$error":"#VALUE!"}},{"$nulls":6},{"$f":"ACOS(AN125)","v":{"$error":"#DIV/0!"}},{"$nulls":11},{"$f":"(PI()-AZ124)/2","v":{"v":0,"d":"0.00"}}]
[null,null,{"$f":"D22/2/C125/C126","v":{"$error":"#VALUE!"}},{"$nulls":4},"t = 10ºC",{"$nulls":9},{"$f":"S22/2/R125/R126","v":{"$error":"#VALUE!"}},{"$nulls":4},"t = 10 ºC",{"$nulls":9},{"$f":"AH22/2/AG125/AG126","v":{"$error":"#VALUE!"}},{"$nulls":4},"t = 10 ºC",{"$nulls":13},{"$f":"COS(AZ126)","v":{"v":1,"d":"1.00"}}]
[null,null,{"$f":"C125*ASINH(C127)","v":{"$error":"#VALUE!"}},{"$nulls":7},"t =",10,{"$nulls":5},{"$f":"R125*ASINH(R127)","v":{"$error":"#VALUE!"}},{"$nulls":7},"t =",10,{"$nulls":5},{"$f":"AG125*ASINH(AG127)","v":{"$error":"#VALUE!"}},{"$nulls":7},"t =",10,{"$nulls":6},"0º+1/3 V"]
[null,null,{"$f":"C128+C22/2","v":{"$error":"#VALUE!"}},null,{"$f":"C125*COSH(C129/C125)","v":{"$error":"#VALUE!"}},{"$nulls":4},{"$f":"M6*(L128-M37)*M3*M5-M36+M32*M32/24*M38*M38/M36/M36*M3*M5","v":-81.75549553842379},{"$nulls":3},{"$f":"POWER(J132+J134,1/3)","v":144.87526210044447},{"$nulls":3},{"$f":"R128+R22/2","v":{"$error":"#VALUE!"}}," y2 =",{"$f":"R125*COSH(R129/R125)","v":{"$error":"#VALUE!"}},{"$nulls":4},{"$f":"AB6*(AA128-AB37)*AB3*AB5-AB36+AB32*AB32/24*AB38*AB38/AB36/AB36*AB3*AB5","v":{"$error":"#N/A"}},null,null,"S=",{"$f":"POWER(Y132+Y134,1/3)","v":{"$error":"#DIV/0!"}},{"$nulls":3},{"$f":"AG128+AG22/2","v":{"$error":"#VALUE!"}},null,{"$f":"AG125*COSH(AG129/AG125)","v":{"$error":"#VALUE!"}},{"$nulls":4},{"$f":"AQ6*(AP128-AQ37)*AQ3*AQ5-AQ36+AQ32*AQ32/24*AQ38*AQ38/AQ36/AQ36*AQ3*AQ5","v":{"$error":"#N/A"}},{"$nulls":3},{"$f":"POWER(AN132+AN134,1/3)","v":{"$error":"#DIV/0!"}},{"$nulls":7},{"$f":"AX72/2*0.05/3*BB72*AZ127","v":{"$error":"#VALUE!"}}]
[null,null,{"$f":"C128-C22/2","v":{"$error":"#VALUE!"}},null,{"$f":"C125*COSH(C130/C125)","v":{"$error":"#VALUE!"}},{"$nulls":4},{"$f":"M32*M32*M7*M7/24*M3*M5","v":{"v":3000420.8125,"d":"3.00042081E+06"}},{"$nulls":3},{"$f":"POWER(J132-J134,1/3)","v":5.12621912259687},{"$nulls":3},{"$f":"R128-R22/2","v":{"$error":"#VALUE!"}},"y1 =",{"$f":"R125*COSH(R130/R125)","v":{"$error":"#VALUE!"}},{"$nulls":4},{"$f":"AB32*AB32*AB7*AB7/24*AB3*AB5","v":{"$error":"#DIV/0!"}},null,null,"T =",{"$f":"POWER(Y132-Y134,1/3)","v":{"$error":"#DIV/0!"}},{"$nulls":3},{"$f":"AG128-AG22/2","v":{"$error":"#VALUE!"}},null,{"$f":"AG125*COSH(AG130/AG125)","v":{"$error":"#VALUE!"}},{"$nulls":4},{"$f":"AQ32*AQ32*AQ7*AQ7/24*AQ3*AQ5","v":{"$error":"#DIV/0!"}},{"$nulls":3},{"$f":"POWER(AN132-AN134,1/3)","v":{"$error":"#DIV/0!"}},{"$nulls":7},{"$f":"AY72/2*0.05/3*AZ127*BC72","v":{"$error":"#N/A"}}]
[null,"vão 12",{"$nulls":7},{"$f":"-J129*J129/9","v":-742.6623389703591},{"$nulls":3},{"$f":"N129+N130-J129/3","v":{"v":177.2533130691826,"d":"177.25"}},{"$nulls":4},"VANO Nº 12",{"$nulls":5},{"$f":"-Y129*Y129/9","v":{"$error":"#N/A"}},null,null,"x = ",{"$f":"AC129+AC130-Y129/3","v":{"$error":"#DIV/0!"}},{"$nulls":10},{"$f":"-AN129*AN129/9","v":{"$error":"#N/A"}},{"$nulls":3},{"$f":"AR129+AR130-AN129/3","v":{"$error":"#DIV/0!"}},{"$nulls":7},{"$f":"(AW77+AY77)*AZ125","v":{"$error":"#N/A"}}]
[null,null,{"$f":"E23/E9","v":{"$error":"#VALUE!"}},{"$nulls":6},{"$f":"J130/2-J129*J129*J129/27","v":{"v":1520449.3154300821,"d":"1520449"}},{"$nulls":7},{"$f":"T23/T9","v":{"$error":"#VALUE!"}},{"$nulls":6},{"$f":"Y130/2-Y129*Y129*Y129/27","v":{"$error":"#DIV/0!"}},{"$nulls":7},{"$f":"AI23/AI9","v":{"$error":"#VALUE!"}},{"$nulls":6},{"$f":"AN130/2-AN129*AN129*AN129/27","v":{"$error":"#DIV/0!"}},{"$nulls":11},{"$f":"ABS(AW77-AY77)*AZ127","v":{"$error":"#N/A"}}]
[null,null,{"$f":"SINH(C23/2/C132)","v":{"$error":"#VALUE!"}},{"$nulls":6},{"$f":"J131*J131*J131+J132*J132","v":{"v":2311356507347.006,"d":"2311356507347"}},{"$nulls":7},{"$f":"SINH(R23/2/R132)","v":{"$error":"#VALUE!"}},{"$nulls":6},{"$f":"Y131*Y131*Y131+Y132*Y132","v":{"$error":"#N/A"}},{"$nulls":7},{"$f":"SINH(AG23/2/AG132)","v":{"$error":"#VALUE!"}},{"$nulls":6},{"$f":"AN131*AN131*AN131+AN132*AN132","v":{"$error":"#N/A"}},{"$nulls":8},"15º+V"]
[null,null,{"$f":"D23/2/C132/C133","v":{"$error":"#VALUE!"}},{"$nulls":6},{"$f":"SQRT(J131*J131*J131+J132*J132)","v":{"v":1520314.6080160532,"d":"1.52031461E+06"}},{"$nulls":7},{"$f":"S23/2/R132/R133","v":{"$error":"#VALUE!"}},{"$nulls":6},{"$f":"SQRT(Y131*Y131*Y131+Y132*Y132)","v":{"$error":"#N/A"}},{"$nulls":7},{"$f":"AH23/2/AG132/AG133","v":{"$error":"#VALUE!"}},{"$nulls":6},{"$f":"SQRT(AN131*AN131*AN131+AN132*AN132)","v":{"$error":"#N/A"}},{"$nulls":11},{"$f":"AX72/2*0.05*BB72*AZ127","v":{"$error":"#VALUE!"}}]
[null,null,{"$f":"C132*ASINH(C134)","v":{"$error":"#VALUE!"}},{"$nulls":6},{"$f":"SQRT(-J131)","v":27.25183184614126},{"$nulls":7},{"$f":"R132*ASINH(R134)","v":{"$error":"#VALUE!"}},{"$nulls":6},{"$f":"SQRT(-Y131)","v":{"$error":"#N/A"}},{"$nulls":7},{"$f":"AG132*ASINH(AG134)","v":{"$error":"#VALUE!"}},{"$nulls":6},{"$f":"SQRT(-AN131)","v":{"$error":"#N/A"}},{"$nulls":11},{"$f":"AY72/2*0.05*BC72*AZ127","v":{"$error":"#N/A"}}]
[null,null,{"$f":"C135+C23/2","v":{"$error":"#VALUE!"}},null,{"$f":"C132*COSH(C136/C132)","v":{"$error":"#VALUE!"}},{"$nulls":4},{"$f":"SQRT(-J131*-J131*-J131)","v":20238.909180082188},{"$nulls":7},{"$f":"R135+R23/2","v":{"$error":"#VALUE!"}}," y2 =",{"$f":"R132*COSH(R136/R132)","v":{"$error":"#VALUE!"}},{"$nulls":4},{"$f":"SQRT(-Y131*-Y131*-Y131)","v":{"$error":"#N/A"}},{"$nulls":7},{"$f":"AG135+AG23/2","v":{"$error":"#VALUE!"}},null,{"$f":"AG132*COSH(AG136/AG132)","v":{"$error":"#VALUE!"}},{"$nulls":4},{"$f":"SQRT(-AN131*-AN131*-AN131)","v":{"$error":"#N/A"}},{"$nulls":11},{"$f":"(AX77+AZ77)*AZ125","v":{"$error":"#VALUE!"}}]
[null,null,{"$f":"C135-C23/2","v":{"$error":"#VALUE!"}},null,{"$f":"C132*COSH(C137/C132)","v":{"$error":"#VALUE!"}},{"$nulls":8},{"$f":"2*J135*COS(1/3*J139)-J129/3","v":{"$error":"#NUM!"}},{"$nulls":3},{"$f":"R135-R23/2","v":{"$error":"#VALUE!"}},"y1 =",{"$f":"R132*COSH(R137/R132)","v":{"$error":"#VALUE!"}},{"$nulls":7},"x = ",{"$f":"2*Y135*COS(1/3*Y139)-Y129/3","v":{"$error":"#N/A"}},{"$nulls":3},{"$f":"AG135-AG23/2","v":{"$error":"#VALUE!"}},null,{"$f":"AG132*COSH(AG137/AG132)","v":{"$error":"#VALUE!"}},{"$nulls":8},{"$f":"2*AN135*COS(1/3*AN139)-AN129/3","v":{"$error":"#N/A"}},{"$nulls":7},{"$f":"ABS(AX77-AZ77)*AZ127","v":{"$error":"#VALUE!"}}]
[null,"vão 13",{"$nulls":7},{"$f":"J132/J136","v":{"v":75.12506241820627,"d":"75.12506241820630"}},{"$nulls":8},"VANO Nº 13",{"$nulls":5},{"$f":"Y132/Y136","v":{"$error":"#DIV/0!"}},{"$nulls":14},{"$f":"AN132/AN136","v":{"$error":"#DIV/0!"}}]
[null,null,{"$f":"E24/E9","v":{"$error":"#VALUE!"}},{"$nulls":6},{"$f":"ACOS(J138)","v":{"$error":"#NUM!"}},{"$nulls":7},{"$f":"T24/T9","v":{"$error":"#VALUE!"}},{"$nulls":6},{"$f":"ACOS(Y138)","v":{"$error":"#DIV/0!"}},{"$nulls":7},{"$f":"AI24/AI9","v":{"$error":"#VALUE!"}},{"$nulls":6},{"$f":"ACOS(AN138)","v":{"$error":"#DIV/0!"}}]
[null,null,{"$f":"SINH(C24/2/C139)","v":{"$error":"#VALUE!"}},{"$nulls":4},"t = 15ºC",{"$nulls":9},{"$f":"SINH(R24/2/R139)","v":{"$error":"#VALUE!"}},{"$nulls":4},"t = 15 ºC",{"$nulls":9},{"$f":"SINH(AG24/2/AG139)","v":{"$error":"#VALUE!"}},{"$nulls":4},"t = 15 ºC"]
[null,null,{"$f":"D24/2/C139/C140","v":{"$error":"#VALUE!"}},{"$nulls":7},"t =",15,{"$nulls":5},{"$f":"S24/2/R139/R140","v":{"$error":"#VALUE!"}},{"$nulls":7},"t =",15,{"$nulls":5},{"$f":"AH24/2/AG139/AG140","v":{"$error":"#VALUE!"}},{"$nulls":7},"t =",15]
[null,null,{"$f":"C139*ASINH(C141)","v":{"$error":"#VALUE!"}},{"$nulls":6},{"$f":"M6*(L141-M37)*M3*M5-M36+M32*M32/24*M38*M38/M36/M36*M3*M5","v":-78.34137553842376},{"$nulls":3},{"$f":"POWER(J145+J147,1/3)","v":144.79848218197344},{"$nulls":3},{"$f":"R139*ASINH(R141)","v":{"$error":"#VALUE!"}},{"$nulls":6},{"$f":"AB6*(AA141-AB37)*AB3*AB5-AB36+AB32*AB32/24*AB38*AB38/AB36/AB36*AB3*AB5","v":{"$error":"#N/A"}},null,null,"S=",{"$f":"POWER(Y145+Y147,1/3)","v":{"$error":"#DIV/0!"}},{"$nulls":3},{"$f":"AG139*ASINH(AG141)","v":{"$error":"#VALUE!"}},{"$nulls":6},{"$f":"AQ6*(AP141-AQ37)*AQ3*AQ5-AQ36+AQ32*AQ32/24*AQ38*AQ38/AQ36/AQ36*AQ3*AQ5","v":{"$error":"#N/A"}},{"$nulls":3},{"$f":"POWER(AN145+AN147,1/3)","v":{"$error":"#DIV/0!"}}]
[null,null,{"$f":"C142+C24/2","v":{"$error":"#VALUE!"}},null,{"$f":"C139*COSH(C143/C139)","v":{"$error":"#VALUE!"}},{"$nulls":4},{"$f":"M32*M32*M7*M7/24*M3*M5","v":{"v":3000420.8125,"d":"3.00042081E+06"}},{"$nulls":3},{"$f":"POWER(J145-J147,1/3)","v":4.709511552244368},{"$nulls":3},{"$f":"R142+R24/2","v":{"$error":"#VALUE!"}}," y2 =",{"$f":"R139*COSH(R143/R139)","v":{"$error":"#VALUE!"}},{"$nulls":4},{"$f":"AB32*AB32*AB7*AB7/24*AB3*AB5","v":{"$error":"#DIV/0!"}},null,null,"T =",{"$f":"POWER(Y145-Y147,1/3)","v":{"$error":"#DIV/0!"}},{"$nulls":3},{"$f":"AG142+AG24/2","v":{"$error":"#VALUE!"}},null,{"$f":"AG139*COSH(AG143/AG139)","v":{"$error":"#VALUE!"}},{"$nulls":4},{"$f":"AQ32*AQ32*AQ7*AQ7/24*AQ3*AQ5","v":{"$error":"#DIV/0!"}},{"$nulls":3},{"$f":"POWER(AN145-AN147,1/3)","v":{"$error":"#DIV/0!"}}]
[null,null,{"$f":"C142-C24/2","v":{"$error":"#VALUE!"}},null,{"$f":"C139*COSH(C144/C139)","v":{"$error":"#VALUE!"}},{"$nulls":4},{"$f":"-J142*J142/9","v":-681.9301245835935},{"$nulls":3},{"$f":"N142+N143-J142/3","v":{"v":175.62178558035907,"d":"175.62"}},{"$nulls":3},{"$f":"R142-R24/2","v":{"$error":"#VALUE!"}},"y1 =",{"$f":"R139*COSH(R144/R139)","v":{"$error":"#VALUE!"}},{"$nulls":4},{"$f":"-Y142*Y142/9","v":{"$error":"#N/A"}},null,null,"x = ",{"$f":"AC142+AC143-Y142/3","v":{"$error":"#DIV/0!"}},{"$nulls":3},{"$f":"AG142-AG24/2","v":{"$error":"#VALUE!"}},null,{"$f":"AG139*COSH(AG144/AG139)","v":{"$error":"#VALUE!"}},{"$nulls":4},{"$f":"-AN142*AN142/9","v":{"$error":"#N/A"}},{"$nulls":3},{"$f":"AR142+AR143-AN142/3","v":{"$error":"#DIV/0!"}}]
[null,"vão 14",{"$nulls":7},{"$f":"J143/2-J142*J142*J142/27","v":{"v":1518018.1875769892,"d":"1518018"}},{"$nulls":14},{"$f":"Y143/2-Y142*Y142*Y142/27","v":{"$error":"#DIV/0!"}},{"$nulls":14},{"$f":"AN143/2-AN142*AN142*AN142/27","v":{"$error":"#DIV/0!"}}]
[null,null,{"$f":"E25/E9","v":{"$error":"#VALUE!"}},{"$nulls":6},{"$f":"J144*J144*J144+J145*J145","v":{"v":2304062100738.7373,"d":"2304062100739"}},{"$nulls":7},{"$f":"T25/T9","v":{"$error":"#VALUE!"}},{"$nulls":6},{"$f":"Y144*Y144*Y144+Y145*Y145","v":{"$error":"#N/A"}},{"$nulls":7},{"$f":"AI25/AI9","v":{"$error":"#VALUE!"}},{"$nulls":6},{"$f":"AN144*AN144*AN144+AN145*AN145","v":{"$error":"#N/A"}}]
[null,null,{"$f":"SINH(C25/2/C146)","v":{"$error":"#VALUE!"}},{"$nulls":6},{"$f":"SQRT(J144*J144*J144+J145*J145)","v":{"v":1517913.7329699397,"d":"1.51791373E+06"}},{"$nulls":7},{"$f":"SINH(R25/2/R146)","v":{"$error":"#VALUE!"}},{"$nulls":6},{"$f":"SQRT(Y144*Y144*Y144+Y145*Y145)","v":{"$error":"#N/A"}},{"$nulls":7},{"$f":"SINH(AG25/2/AG146)","v":{"$error":"#VALUE!"}},{"$nulls":6},{"$f":"SQRT(AN144*AN144*AN144+AN145*AN145)","v":{"$error":"#N/A"}}]
[null,null,{"$f":"D25/2/C146/C147","v":{"$error":"#VALUE!"}},{"$nulls":6},{"$f":"SQRT(-J144)","v":26.113791846141254},{"$nulls":7},{"$f":"S25/2/R146/R147","v":{"$error":"#VALUE!"}},{"$nulls":6},{"$f":"SQRT(-Y144)","v":{"$error":"#N/A"}},{"$nulls":7},{"$f":"AH25/2/AG146/AG147","v":{"$error":"#VALUE!"}},{"$nulls":6},{"$f":"SQRT(-AN144)","v":{"$error":"#N/A"}}]
[null,null,{"$f":"C146*ASINH(C148)","v":{"$error":"#VALUE!"}},{"$nulls":6},{"$f":"SQRT(-J144*-J144*-J144)","v":17807.781326989134},{"$nulls":7},{"$f":"R146*ASINH(R148)","v":{"$error":"#VALUE!"}},{"$nulls":6},{"$f":"SQRT(-Y144*-Y144*-Y144)","v":{"$error":"#N/A"}},{"$nulls":7},{"$f":"AG146*ASINH(AG148)","v":{"$error":"#VALUE!"}},{"$nulls":6},{"$f":"SQRT(-AN144*-AN144*-AN144)","v":{"$error":"#N/A"}}]
[null,null,{"$f":"C149+C25/2","v":{"$error":"#VALUE!"}},null,{"$f":"C146*COSH(C150/C146)","v":{"$error":"#VALUE!"}},{"$nulls":8},{"$f":"2*J148*COS(1/3*J152)-J142/3","v":{"$error":"#NUM!"}},{"$nulls":3},{"$f":"R149+R25/2","v":{"$error":"#VALUE!"}}," y2 =",{"$f":"R146*COSH(R150/R146)","v":{"$error":"#VALUE!"}},{"$nulls":7},"x = ",{"$f":"2*Y148*COS(1/3*Y152)-Y142/3","v":{"$error":"#N/A"}},{"$nulls":3},{"$f":"AG149+AG25/2","v":{"$error":"#VALUE!"}},null,{"$f":"AG146*COSH(AG150/AG146)","v":{"$error":"#VALUE!"}},{"$nulls":8},{"$f":"2*AN148*COS(1/3*AN152)-AN142/3","v":{"$error":"#N/A"}}]
[null,null,{"$f":"C149-C25/2","v":{"$error":"#VALUE!"}},null,{"$f":"C146*COSH(C151/C146)","v":{"$error":"#VALUE!"}},{"$nulls":4},{"$f":"J145/J149","v":{"v":85.24465567624136,"d":"85.24465567624140"}},{"$nulls":7},{"$f":"R149-R25/2","v":{"$error":"#VALUE!"}},"y1 =",{"$f":"R146*COSH(R151/R146)","v":{"$error":"#VALUE!"}},{"$nulls":4},{"$f":"Y145/Y149","v":{"$error":"#DIV/0!"}},{"$nulls":7},{"$f":"AG149-AG25/2","v":{"$error":"#VALUE!"}},null,{"$f":"AG146*COSH(AG151/AG146)","v":{"$error":"#VALUE!"}},{"$nulls":4},{"$f":"AN145/AN149","v":{"$error":"#DIV/0!"}}]
[null,"vão 15",{"$nulls":7},{"$f":"ACOS(J151)","v":{"$error":"#NUM!"}},{"$nulls":14},{"$f":"ACOS(Y151)","v":{"$error":"#DIV/0!"}},{"$nulls":14},{"$f":"ACOS(AN151)","v":{"$error":"#DIV/0!"}}]
[null,null,{"$f":"E26/E9","v":{"$error":"#VALUE!"}},{"$nulls":4},"t = 15ºC  - v=120 km/h",{"$nulls":9},{"$f":"T26/T9","v":{"$error":"#VALUE!"}},{"$nulls":4},"t = 15 ºC   (V=120 KM/H)",{"$nulls":9},{"$f":"AI26/AI9","v":{"$error":"#VALUE!"}},{"$nulls":4},"t = 15 ºC   (V=120 KM/H)"]
[null,null,{"$f":"SINH(C26/2/C153)","v":{"$error":"#VALUE!"}},{"$nulls":7},"t =",15,{"$nulls":5},{"$f":"SINH(R26/2/R153)","v":{"$error":"#VALUE!"}},{"$nulls":7},"t =",15,{"$nulls":5},{"$f":"SINH(AG26/2/AG153)","v":{"$error":"#VALUE!"}},{"$nulls":7},"t =",15]
[null,null,{"$f":"D26/2/C153/C154","v":{"$error":"#VALUE!"}},{"$nulls":6},{"$f":"M6*(L154-M37)*M3*M5-M36+M32*M32/24*M38*M38/M36/M36*M3*M5","v":-78.34137553842376},{"$nulls":3},{"$f":"POWER(J158+J160,1/3)","v":250.49076403208204},{"$nulls":3},{"$f":"S26/2/R153/R154","v":{"$error":"#VALUE!"}},{"$nulls":6},{"$f":"AB6*(AA154-AB37)*AB3*AB5-AB36+AB32*AB32/24*AB38*AB38/AB36/AB36*AB3*AB5","v":{"$error":"#N/A"}},null,"S=",{"$f":"POWER(Y158+Y160,1/3)","v":{"$error":"#DIV/0!"}},{"$nulls":4},{"$f":"AH26/2/AG153/AG154","v":{"$error":"#VALUE!"}},{"$nulls":6},{"$f":"AQ6*(AP154-AQ37)*AQ3*AQ5-AQ36+AQ32*AQ32/24*AQ38*AQ38/AQ36/AQ36*AQ3*AQ5","v":{"$error":"#N/A"}},{"$nulls":3},{"$f":"POWER(AN158+AN160,1/3)","v":{"$error":"#DIV/0!"}}]
[null,null,{"$f":"C153*ASINH(C155)","v":{"$error":"#VALUE!"}},{"$nulls":6},{"$f":"M32*M32*M8*M8/24*M3*M5","v":{"v":15681603.624999998,"d":"1.56816036E+07"}},{"$nulls":3},{"$f":"POWER(J158-J160,1/3)","v":2.722376320829107},{"$nulls":3},{"$f":"R153*ASINH(R155)","v":{"$error":"#VALUE!"}},{"$nulls":6},{"$f":"AB32*AB32*AB8*AB8/24*AB3*AB5","v":{"$error":"#DIV/0!"}},null,null,"T =",{"$f":"POWER(Y158-Y160,1/3)","v":{"$error":"#DIV/0!"}},{"$nulls":3},{"$f":"AG153*ASINH(AG155)","v":{"$error":"#VALUE!"}},{"$nulls":6},{"$f":"AQ32*AQ32*AQ8*AQ8/24*AQ3*AQ5","v":{"$error":"#DIV/0!"}},{"$nulls":3},{"$f":"POWER(AN158-AN160,1/3)","v":{"$error":"#DIV/0!"}}]
[null,null,{"$f":"C156+C26/2","v":{"$error":"#VALUE!"}},null,{"$f":"C153*COSH(C157/C153)","v":{"$error":"#VALUE!"}},{"$nulls":4},{"$f":"-J155*J155/9","v":-681.9301245835935},{"$nulls":3},{"$f":"N155+N156-J155/3","v":{"v":279.3269321990524,"d":"279.33"}},{"$nulls":3},{"$f":"R156+R26/2","v":{"$error":"#VALUE!"}}," y2 =",{"$f":"R153*COSH(R157/R153)","v":{"$error":"#VALUE!"}},{"$nulls":4},{"$f":"-Y155*Y155/9","v":{"$error":"#N/A"}},null,null,"x = ",{"$f":"AB155+AC156-Y155/3","v":{"$error":"#DIV/0!"}},{"$nulls":3},{"$f":"AG156+AG26/2","v":{"$error":"#VALUE!"}},null,{"$f":"AG153*COSH(AG157/AG153)","v":{"$error":"#VALUE!"}},{"$nulls":4},{"$f":"-AN155*AN155/9","v":{"$error":"#N/A"}},{"$nulls":3},{"$f":"AR155+AR156-AN155/3","v":{"$error":"#DIV/0!"}}]
[null,null,{"$f":"C156-C26/2","v":{"$error":"#VALUE!"}},null,{"$f":"C153*COSH(C158/C153)","v":{"$error":"#VALUE!"}},{"$nulls":4},{"$f":"J156/2-J155*J155*J155/27","v":{"v":7858609.593826988,"d":"7858610"}},{"$nulls":7},{"$f":"R156-R26/2","v":{"$error":"#VALUE!"}},"y1 =",{"$f":"R153*COSH(R158/R153)","v":{"$error":"#VALUE!"}},{"$nulls":4},{"$f":"Y156/2-Y155*Y155*Y155/27","v":{"$error":"#DIV/0!"}},{"$nulls":7},{"$f":"AG156-AG26/2","v":{"$error":"#VALUE!"}},null,{"$f":"AG153*COSH(AG158/AG153)","v":{"$error":"#VALUE!"}},{"$nulls":4},{"$f":"AN156/2-AN155*AN155*AN155/27","v":{"$error":"#DIV/0!"}}]
[null,"vão 16",{"$nulls":7},{"$f":"J157*J157*J157+J158*J158","v":{"v":61757427631113.78,"d":"61757427631114"}},{"$nulls":14},{"$f":"Y157*Y157*Y157+Y158*Y158","v":{"$error":"#N/A"}},{"$nulls":14},{"$f":"AN157*AN157*AN157+AN158*AN158","v":{"$error":"#N/A"}}]
[null,null,{"$f":"E27/E9","v":{"$error":"#VALUE!"}},{"$nulls":6},{"$f":"SQRT(J157*J157*J157+J158*J158)","v":{"v":7858589.41738998,"d":"7.85858942E+06"}},{"$nulls":7},{"$f":"T27/T9","v":{"$error":"#VALUE!"}},{"$nulls":6},{"$f":"SQRT(Y157*Y157*Y157+Y158*Y158)","v":{"$error":"#N/A"}},{"$nulls":7},{"$f":"AI27/AI9","v":{"$error":"#VALUE!"}},{"$nulls":6},{"$f":"SQRT(AN157*AN157*AN157+AN158*AN158)","v":{"$error":"#N/A"}}]
[null,null,{"$f":"SINH(C27/2/C160)","v":{"$error":"#VALUE!"}},{"$nulls":6},{"$f":"SQRT(-J157)","v":26.113791846141254},{"$nulls":7},{"$f":"SINH(R27/2/R160)","v":{"$error":"#VALUE!"}},{"$nulls":6},{"$f":"SQRT(-Y157)","v":{"$error":"#N/A"}},{"$nulls":7},{"$f":"SINH(AG27/2/AG160)","v":{"$error":"#VALUE!"}},{"$nulls":6},{"$f":"SQRT(-AN157)","v":{"$error":"#N/A"}}]
[null,null,{"$f":"D27/2/C160/C161","v":{"$error":"#VALUE!"}},{"$nulls":6},{"$f":"SQRT(-J157*-J157*-J157)","v":17807.781326989134},{"$nulls":7},{"$f":"S27/2/R160/R161","v":{"$error":"#VALUE!"}},{"$nulls":6},{"$f":"SQRT(-Y157*-Y157*-Y157)","v":{"$error":"#N/A"}},{"$nulls":7},{"$f":"AH27/2/AG160/AG161","v":{"$error":"#VALUE!"}},{"$nulls":6},{"$f":"SQRT(-AN157*-AN157*-AN157)","v":{"$error":"#N/A"}}]
[null,null,{"$f":"C160*ASINH(C162)","v":{"$error":"#VALUE!"}},{"$nulls":10},{"$f":"2*J161*COS(1/3*J165)-J155/3","v":{"$error":"#NUM!"}},{"$nulls":3},{"$f":"R160*ASINH(R162)","v":{"$error":"#VALUE!"}},{"$nulls":9},"x = ",{"$f":"2*Y161*COS(1/3*Y165)-Y155/3","v":{"$error":"#N/A"}},{"$nulls":3},{"$f":"AG160*ASINH(AG162)","v":{"$error":"#VALUE!"}},{"$nulls":10},{"$f":"2*AN161*COS(1/3*AN165)-AN155/3","v":{"$error":"#N/A"}}]
[null,null,{"$f":"C163+C27/2","v":{"$error":"#VALUE!"}},null,{"$f":"C160*COSH(C164/C160)","v":{"$error":"#VALUE!"}},{"$nulls":4},{"$f":"J158/J162","v":{"v":441.3020044173964,"d":"441.302004417396000"}},{"$nulls":7},{"$f":"R163+R27/2","v":{"$error":"#VALUE!"}}," y2 =",{"$f":"R160*COSH(R164/R160)","v":{"$error":"#VALUE!"}},{"$nulls":4},{"$f":"Y158/Y162","v":{"$error":"#DIV/0!"}},{"$nulls":7},{"$f":"AG163+AG27/2","v":{"$error":"#VALUE!"}},null,{"$f":"AG160*COSH(AG164/AG160)","v":{"$error":"#VALUE!"}},{"$nulls":4},{"$f":"AN158/AN162","v":{"$error":"#DIV/0!"}}]
[null,null,{"$f":"C163-C27/2","v":{"$error":"#VALUE!"}},null,{"$f":"C160*COSH(C165/C160)","v":{"$error":"#VALUE!"}},{"$nulls":4},{"$f":"ACOS(J164)","v":{"$error":"#NUM!"}},{"$nulls":7},{"$f":"R163-R27/2","v":{"$error":"#VALUE!"}},"y1 =",{"$f":"R160*COSH(R165/R160)","v":{"$error":"#VALUE!"}},{"$nulls":4},{"$f":"ACOS(Y164)","v":{"$error":"#DIV/0!"}},{"$nulls":7},{"$f":"AG163-AG27/2","v":{"$error":"#VALUE!"}},null,{"$f":"AG160*COSH(AG165/AG160)","v":{"$error":"#VALUE!"}},{"$nulls":4},{"$f":"ACOS(AN164)","v":{"$error":"#DIV/0!"}}]
[null,"vão 17",{"$nulls":5},"t = 20ºC",{"$nulls":14},"t = 20 ºC",{"$nulls":14},"t = 20 ºC"]
[null,null,{"$f":"E28/E9","v":{"$error":"#VALUE!"}},{"$nulls":7},"t =",20,{"$nulls":5},{"$f":"T28/T9","v":{"$error":"#VALUE!"}},{"$nulls":7},"t =",20,{"$nulls":5},{"$f":"AI28/AI9","v":{"$error":"#VALUE!"}},{"$nulls":7},"t =",20]
[null,null,{"$f":"SINH(C28/2/C167)","v":{"$error":"#VALUE!"}},{"$nulls":6},{"$f":"M6*(L167-M37)*M3*M5-M36+M32*M32/24*M38*M38/M36/M36*M3*M5","v":-74.92725553842374},{"$nulls":3},{"$f":"POWER(J171+J173,1/3)","v":144.72798631600335},{"$nulls":3},{"$f":"SINH(R28/2/R167)","v":{"$error":"#VALUE!"}},{"$nulls":6},{"$f":"AB6*(AA167-AB37)*AB3*AB5-AB36+AB32*AB32/24*AB38*AB38/AB36/AB36*AB3*AB5","v":{"$error":"#N/A"}},{"$nulls":3},{"$f":"POWER(Y171+Y173,1/3)","v":{"$error":"#DIV/0!"}},{"$nulls":3},{"$f":"SINH(AG28/2/AG167)","v":{"$error":"#VALUE!"}},{"$nulls":6},{"$f":"AQ6*(AP167-AQ37)*AQ3*AQ5-AQ36+AQ32*AQ32/24*AQ38*AQ38/AQ36/AQ36*AQ3*AQ5","v":{"$error":"#N/A"}},{"$nulls":3},{"$f":"POWER(AN171+AN173,1/3)","v":{"$error":"#DIV/0!"}}]
[null,null,{"$f":"D28/2/C167/C168","v":{"$error":"#VALUE!"}},{"$nulls":6},{"$f":"M32*M32*M7*M7/24*M3*M5","v":{"v":3000420.8125,"d":"3.00042081E+06"}},{"$nulls":3},{"$f":"POWER(J171-J173,1/3)","v":4.3100729593398786},{"$nulls":3},{"$f":"S28/2/R167/R168","v":{"$error":"#VALUE!"}},{"$nulls":6},{"$f":"AB32*AB32*AB7*AB7/24*AB3*AB5","v":{"$error":"#DIV/0!"}},{"$nulls":3},{"$f":"POWER(Y171-Y173,1/3)","v":{"$error":"#DIV/0!"}},{"$nulls":3},{"$f":"AH28/2/AG167/AG168","v":{"$error":"#VALUE!"}},{"$nulls":6},{"$f":"AQ32*AQ32*AQ7*AQ7/24*AQ3*AQ5","v":{"$error":"#DIV/0!"}},{"$nulls":3},{"$f":"POWER(AN171-AN173,1/3)","v":{"$error":"#DIV/0!"}}]
[null,null,{"$f":"C167*ASINH(C169)","v":{"$error":"#VALUE!"}},{"$nulls":6},{"$f":"-J168*J168/9","v":-623.7881802800279},{"$nulls":3},{"$f":"N168+N169-J168/3","v":{"v":174.01381112148448,"d":"174.01"}},{"$nulls":3},{"$f":"R167*ASINH(R169)","v":{"$error":"#VALUE!"}},{"$nulls":6},{"$f":"-Y168*Y168/9","v":{"$error":"#N/A"}},{"$nulls":3},{"$f":"AC168+AC169-Y168/3","v":{"$error":"#DIV/0!"}},{"$nulls":3},{"$f":"AG167*ASINH(AG169)","v":{"$error":"#VALUE!"}},{"$nulls":6},{"$f":"-AN168*AN168/9","v":{"$error":"#N/A"}},{"$nulls":3},{"$f":"AR168+AR169-AN168/3","v":{"$error":"#DIV/0!"}}]
[null,null,{"$f":"C170+C28/2","v":{"$error":"#VALUE!"}},null,{"$f":"C167*COSH(C171/C167)","v":{"$error":"#VALUE!"}},{"$nulls":4},{"$f":"J169/2-J168*J168*J168/27","v":{"v":1515789.98504523,"d":"1515790"}},{"$nulls":7},{"$f":"R170+R28/2","v":{"$error":"#VALUE!"}}," y2 =",{"$f":"R167*COSH(R171/R167)","v":{"$error":"#VALUE!"}},{"$nulls":4},{"$f":"Y169/2-Y168*Y168*Y168/27","v":{"$error":"#DIV/0!"}},{"$nulls":7},{"$f":"AG170+AG28/2","v":{"$error":"#VALUE!"}},null,{"$f":"AG167*COSH(AG171/AG167)","v":{"$error":"#VALUE!"}},{"$nulls":4},{"$f":"AN169/2-AN168*AN168*AN168/27","v":{"$error":"#DIV/0!"}}]
[null,null,{"$f":"C170-C28/2","v":{"$error":"#VALUE!"}},null,{"$f":"C167*COSH(C172/C167)","v":{"$error":"#VALUE!"}},{"$nulls":4},{"$f":"J170*J170*J170+J171*J171","v":2297376555487.9814},{"$nulls":7},{"$f":"R170-R28/2","v":{"$error":"#VALUE!"}},"y1 =",{"$f":"R167*COSH(R172/R167)","v":{"$error":"#VALUE!"}},{"$nulls":4},{"$f":"Y170*Y170*Y170+Y171*Y171","v":{"$error":"#N/A"}},{"$nulls":7},{"$f":"AG170-AG28/2","v":{"$error":"#VALUE!"}},null,{"$f":"AG167*COSH(AG172/AG167)","v":{"$error":"#VALUE!"}},{"$nulls":4},{"$f":"AN170*AN170*AN170+AN171*AN171","v":{"$error":"#N/A"}}]
[null,"vão 18",{"$nulls":7},{"$f":"SQRT(J170*J170*J170+J171*J171)","v":{"v":1515709.9179882612,"d":"1.51570992E+06"}},{"$nulls":14},{"$f":"SQRT(Y170*Y170*Y170+Y171*Y171)","v":{"$error":"#N/A"}},{"$nulls":14},{"$f":"SQRT(AN170*AN170*AN170+AN171*AN171)","v":{"$error":"#N/A"}}]
[null,null,{"$f":"E29/E9","v":{"$error":"#VALUE!"}},{"$nulls":6},{"$f":"SQRT(-J170)","v":24.975751846141247},{"$nulls":7},{"$f":"T29/T9","v":{"$error":"#VALUE!"}},{"$nulls":6},{"$f":"SQRT(-Y170)","v":{"$error":"#N/A"}},{"$nulls":7},{"$f":"AI29/AI9","v":{"$error":"#VALUE!"}},{"$nulls":6},{"$f":"SQRT(-AN170)","v":{"$error":"#N/A"}}]
[null,null,{"$f":"SINH(C29/2/C174)","v":{"$error":"#VALUE!"}},{"$nulls":6},{"$f":"SQRT(-J170*-J170*-J170)","v":15579.578795229994},{"$nulls":7},{"$f":"SINH(R29/2/R174)","v":{"$error":"#VALUE!"}},{"$nulls":6},{"$f":"SQRT(-Y170*-Y170*-Y170)","v":{"$error":"#N/A"}},{"$nulls":7},{"$f":"SINH(AG29/2/AG174)","v":{"$error":"#VALUE!"}},{"$nulls":6},{"$f":"SQRT(-AN170*-AN170*-AN170)","v":{"$error":"#N/A"}}]
[null,null,{"$f":"D29/2/C174/C175","v":{"$error":"#VALUE!"}},{"$nulls":10},{"$f":"2*J174*COS(1/3*J178)-J168/3","v":{"$error":"#NUM!"}},{"$nulls":3},{"$f":"S29/2/R174/R175","v":{"$error":"#VALUE!"}},{"$nulls":10},{"$f":"2*Y174*COS(1/3*Y178)-Y168/3","v":{"$error":"#N/A"}},{"$nulls":3},{"$f":"AH29/2/AG174/AG175","v":{"$error":"#VALUE!"}},{"$nulls":10},{"$f":"2*AN174*COS(1/3*AN178)-AN168/3","v":{"$error":"#N/A"}}]
[null,null,{"$f":"C174*ASINH(C176)","v":{"$error":"#VALUE!"}},{"$nulls":6},{"$f":"J171/J175","v":{"v":97.29338674478927,"d":"97.2933867447893"}},{"$nulls":7},{"$f":"R174*ASINH(R176)","v":{"$error":"#VALUE!"}},{"$nulls":6},{"$f":"Y171/Y175","v":{"$error":"#DIV/0!"}},{"$nulls":7},{"$f":"AG174*ASINH(AG176)","v":{"$error":"#VALUE!"}},{"$nulls":6},{"$f":"AN171/AN175","v":{"$error":"#DIV/0!"}}]
[null,null,{"$f":"C177+C29/2","v":{"$error":"#VALUE!"}},null,{"$f":"C174*COSH(C178/C174)","v":{"$error":"#VALUE!"}},{"$nulls":4},{"$f":"ACOS(J177)","v":{"$error":"#NUM!"}},{"$nulls":7},{"$f":"R177+R29/2","v":{"$error":"#VALUE!"}}," y2 =",{"$f":"R174*COSH(R178/R174)","v":{"$error":"#VALUE!"}},{"$nulls":4},{"$f":"ACOS(Y177)","v":{"$error":"#DIV/0!"}},{"$nulls":7},{"$f":"AG177+AG29/2","v":{"$error":"#VALUE!"}},null,{"$f":"AG174*COSH(AG178/AG174)","v":{"$error":"#VALUE!"}},{"$nulls":4},{"$f":"ACOS(AN177)","v":{"$error":"#DIV/0!"}}]
[null,null,{"$f":"C177-C29/2","v":{"$error":"#VALUE!"}},null,{"$f":"C174*COSH(C179/C174)","v":{"$error":"#VALUE!"}},null,null,"t = 25ºC",{"$nulls":9},{"$f":"R177-R29/2","v":{"$error":"#VALUE!"}},"y1 =",{"$f":"R174*COSH(R179/R174)","v":{"$error":"#VALUE!"}},null,null,"t = 25 ºC",{"$nulls":9},{"$f":"AG177-AG29/2","v":{"$error":"#VALUE!"}},null,{"$f":"AG174*COSH(AG179/AG174)","v":{"$error":"#VALUE!"}},null,null,"t = 25 ºC"]
[null,"vão 19",{"$nulls":8},"t =",25,{"$nulls":13},"t =",25,{"$nulls":13},"t =",25]
[null,null,{"$f":"E30/E9","v":{"$error":"#VALUE!"}},{"$nulls":6},{"$f":"M6*(L180-M37)*M3*M5-M36+M32*M32/24*M38*M38/M36/M36*M3*M5","v":-71.51313553842377},{"$nulls":3},{"$f":"POWER(J184+J186,1/3)","v":144.66352616978145},{"$nulls":3},{"$f":"T30/T9","v":{"$error":"#VALUE!"}},{"$nulls":6},{"$f":"AB6*(AA180-AB37)*AB3*AB5-AB36+AB32*AB32/24*AB38*AB38/AB36/AB36*AB3*AB5","v":{"$error":"#N/A"}},{"$nulls":3},{"$f":"POWER(Y184+Y186,1/3)","v":{"$error":"#DIV/0!"}},{"$nulls":3},{"$f":"AI30/AI9","v":{"$error":"#VALUE!"}},{"$nulls":6},{"$f":"AQ6*(AP180-AQ37)*AQ3*AQ5-AQ36+AQ32*AQ32/24*AQ38*AQ38/AQ36/AQ36*AQ3*AQ5","v":{"$error":"#N/A"}},{"$nulls":3},{"$f":"POWER(AN184+AN186,1/3)","v":{"$error":"#DIV/0!"}}]
[null,null,{"$f":"SINH(C30/2/C181)","v":{"$error":"#VALUE!"}},{"$nulls":6},{"$f":"M32*M32*M7*M7/24*M3*M5","v":{"v":3000420.8125,"d":"3.00042081E+06"}},{"$nulls":3},{"$f":"POWER(J184-J186,1/3)","v":3.927987386346846},{"$nulls":3},{"$f":"SINH(R30/2/R181)","v":{"$error":"#VALUE!"}},{"$nulls":6},{"$f":"AB32*AB32*AB7*AB7/24*AB3*AB5","v":{"$error":"#DIV/0!"}},{"$nulls":3},{"$f":"POWER(Y184-Y186,1/3)","v":{"$error":"#DIV/0!"}},{"$nulls":3},{"$f":"SINH(AG30/2/AG181)","v":{"$error":"#VALUE!"}},{"$nulls":6},{"$f":"AQ32*AQ32*AQ7*AQ7/24*AQ3*AQ5","v":{"$error":"#DIV/0!"}},{"$nulls":3},{"$f":"POWER(AN184-AN186,1/3)","v":{"$error":"#DIV/0!"}}]
[null,null,{"$f":"D30/2/C181/C182","v":{"$error":"#VALUE!"}},{"$nulls":6},{"$f":"-J181*J181/9","v":-568.2365060596632},{"$nulls":3},{"$f":"N181+N182-J181/3","v":{"v":172.42922540226954,"d":"172.43"}},{"$nulls":3},{"$f":"S30/2/R181/R182","v":{"$error":"#VALUE!"}},{"$nulls":6},{"$f":"-Y181*Y181/9","v":{"$error":"#N/A"}},{"$nulls":3},{"$f":"AC181+AC182-Y181/3","v":{"$error":"#DIV/0!"}},{"$nulls":3},{"$f":"AH30/2/AG181/AG182","v":{"$error":"#VALUE!"}},{"$nulls":6},{"$f":"-AN181*AN181/9","v":{"$error":"#N/A"}},{"$nulls":3},{"$f":"AR181+AR182-AN181/3","v":{"$error":"#DIV/0!"}}]
[null,null,{"$f":"C181*ASINH(C183)","v":{"$error":"#VALUE!"}},{"$nulls":6},{"$f":"J182/2-J181*J181*J181/27","v":{"v":1513755.8643419084,"d":"1513756"}},{"$nulls":7},{"$f":"R181*ASINH(R183)","v":{"$error":"#VALUE!"}},{"$nulls":6},{"$f":"Y182/2-Y181*Y181*Y181/27","v":{"$error":"#DIV/0!"}},{"$nulls":7},{"$f":"AG181*ASINH(AG183)","v":{"$error":"#VALUE!"}},{"$nulls":6},{"$f":"AN182/2-AN181*AN181*AN181/27","v":{"$error":"#DIV/0!"}}]
[null,null,{"$f":"C184+C30/2","v":{"$error":"#VALUE!"}},null,{"$f":"C181*COSH(C185/C181)","v":{"$error":"#VALUE!"}},{"$nulls":4},{"$f":"J183*J183*J183+J184*J184","v":2291273337394.5986},{"$nulls":7},{"$f":"R184+R30/2","v":{"$error":"#VALUE!"}}," y2 =",{"$f":"R181*COSH(R185/R181)","v":{"$error":"#VALUE!"}},{"$nulls":4},{"$f":"Y183*Y183*Y183+Y184*Y184","v":{"$error":"#N/A"}},{"$nulls":7},{"$f":"AG184+AG30/2","v":{"$error":"#VALUE!"}},null,{"$f":"AG181*COSH(AG185/AG181)","v":{"$error":"#VALUE!"}},{"$nulls":4},{"$f":"AN183*AN183*AN183+AN184*AN184","v":{"$error":"#N/A"}}]
[null,null,{"$f":"C184-C30/2","v":{"$error":"#VALUE!"}},null,{"$f":"C181*COSH(C186/C181)","v":{"$error":"#VALUE!"}},{"$nulls":4},{"$f":"SQRT(J183*J183*J183+J184*J184)","v":{"v":1513695.2590910096,"d":"1.51369526E+06"}},{"$nulls":7},{"$f":"R184-R30/2","v":{"$error":"#VALUE!"}},"y1 =",{"$f":"R181*COSH(R186/R181)","v":{"$error":"#VALUE!"}},{"$nulls":4},{"$f":"SQRT(Y183*Y183*Y183+Y184*Y184)","v":{"$error":"#N/A"}},{"$nulls":7},{"$f":"AG184-AG30/2","v":{"$error":"#VALUE!"}},null,{"$f":"AG181*COSH(AG186/AG181)","v":{"$error":"#VALUE!"}},{"$nulls":4},{"$f":"SQRT(AN183*AN183*AN183+AN184*AN184)","v":{"$error":"#N/A"}}]
[{"$nulls":9},{"$f":"SQRT(-J183)","v":23.837711846141257},{"$nulls":14},{"$f":"SQRT(-Y183)","v":{"$error":"#N/A"}},{"$nulls":14},{"$f":"SQRT(-AN183)","v":{"$error":"#N/A"}}]
[{"$nulls":9},{"$f":"SQRT(-J183*-J183*-J183)","v":13545.45809190835},{"$nulls":14},{"$f":"SQRT(-Y183*-Y183*-Y183)","v":{"$error":"#N/A"}},{"$nulls":14},{"$f":"SQRT(-AN183*-AN183*-AN183)","v":{"$error":"#N/A"}}]
[{"$nulls":13},{"$f":"2*J187*COS(1/3*J191)-J181/3","v":{"$error":"#NUM!"}},{"$nulls":14},{"$f":"2*Y187*COS(1/3*Y191)-Y181/3","v":{"$error":"#N/A"}},{"$nulls":14},{"$f":"2*AN187*COS(1/3*AN191)-AN181/3","v":{"$error":"#N/A"}}]
[{"$nulls":9},{"$f":"J184/J188","v":{"v":111.75375938346306,"d":"111.7537593835"}},{"$nulls":14},{"$f":"Y184/Y188","v":{"$error":"#DIV/0!"}},{"$nulls":14},{"$f":"AN184/AN188","v":{"$error":"#DIV/0!"}}]
["Equações da Parábola",{"$nulls":8},{"$f":"ACOS(J190)","v":{"$error":"#NUM!"}},{"$nulls":5},"Equações da Parábola",{"$nulls":8},{"$f":"ACOS(Y190)","v":{"$error":"#DIV/0!"}},{"$nulls":6},"Equações da Parabola",{"$nulls":7},{"$f":"ACOS(AN190)","v":{"$error":"#DIV/0!"}}]
[null,"vão 1",{"$nulls":5},"t = 30ºC",{"$nulls":9},"vão 1",{"$nulls":4},"t = 30 ºC",{"$nulls":14},"t = 30 ºC"]
[null,"a2 ",{"$f":"POWER(C12,2)","v":2500},{"$nulls":7},"t=",30,{"$nulls":5},{"$f":"POWER(R12,2)","v":0},{"$nulls":7},"t=",30,{"$nulls":5},{"$f":"POWER(AG12,2)","v":0},{"$nulls":7},"t=",30]
[null,"h2 ",{"$f":"POWER(D12,2)","v":0},{"$nulls":6},{"$f":"M6*(L193-M37)*M3*M5-M36+M32*M32/24*M38*M38/M36/M36*M3*M5","v":-68.09901553842374},{"$nulls":3},{"$f":"POWER(J197+J199,1/3)","v":144.6048491175437},{"$nulls":3},{"$f":"POWER(S12,2)","v":0},{"$nulls":6},{"$f":"AB6*(AA193-AB37)*AB3*AB5-AB36+AB32*AB32/24*AB38*AB38/AB36/AB36*AB3*AB5","v":{"$error":"#N/A"}},{"$nulls":3},{"$f":"POWER(Y197+Y199,1/3)","v":{"$error":"#DIV/0!"}},{"$nulls":3},{"$f":"POWER(AH12,2)","v":0},{"$nulls":6},{"$f":"AQ6*(AP193-AQ37)*AQ3*AQ5-AQ36+AQ32*AQ32/24*AQ38*AQ38/AQ36/AQ36*AQ3*AQ5","v":{"$error":"#N/A"}},{"$nulls":3},{"$f":"POWER(AN197+AN199,1/3)","v":{"$error":"#DIV/0!"}}]
[null,"a2 + h2 ",{"$f":"C193+C194","v":2500},{"$nulls":6},{"$f":"M32*M32*M7*M7/24*M3*M5","v":{"v":3000420.8125,"d":"3.00042081E+06"}},{"$nulls":3},{"$f":"POWER(J197-J199,1/3)","v":3.5633321086189067},{"$nulls":3},{"$f":"R193+R194","v":0},{"$nulls":6},{"$f":"AB32*AB32*AB7*AB7/24*AB3*AB5","v":{"$error":"#DIV/0!"}},{"$nulls":3},{"$f":"POWER(Y197-Y199,1/3)","v":{"$error":"#DIV/0!"}},{"$nulls":3},{"$f":"AG193+AG194","v":0},{"$nulls":6},{"$f":"AQ32*AQ32*AQ7*AQ7/24*AQ3*AQ5","v":{"$error":"#DIV/0!"}},{"$nulls":3},{"$f":"POWER(AN197-AN199,1/3)","v":{"$error":"#DIV/0!"}}]
[null,"b ",{"$f":"SQRT(C195)","v":50},{"$nulls":6},{"$f":"-J194*J194/9","v":-515.2751019224976},{"$nulls":3},{"$f":"N194+N195-J194/3","v":{"v":170.86785307230386,"d":"170.87"}},{"$nulls":3},{"$f":"SQRT(R195)","v":0},{"$nulls":6},{"$f":"-Y194*Y194/9","v":{"$error":"#N/A"}},{"$nulls":3},{"$f":"AC194+AC195-Y194/3","v":{"$error":"#DIV/0!"}},{"$nulls":3},{"$f":"SQRT(AG195)","v":0},{"$nulls":6},{"$f":"-AN194*AN194/9","v":{"$error":"#N/A"}},{"$nulls":3},{"$f":"AR194+AR195-AN194/3","v":{"$error":"#DIV/0!"}}]
[null,"TA - p h/2 ",{"$f":"E10-(E9)*ABS(D12)/2","v":285},{"$nulls":6},{"$f":"J195/2-J194*J194*J194/27","v":{"v":1511906.9819741277,"d":"1511907"}},{"$nulls":7},{"$f":"T10-(T9)*ABS(S12)/2","v":{"$error":"#N/A"}},{"$nulls":6},{"$f":"Y195/2-Y194*Y194*Y194/27","v":{"$error":"#DIV/0!"}},{"$nulls":7},{"$f":"AI10-(AI9)*ABS(AH12)/2","v":{"$error":"#N/A"}},{"$nulls":6},{"$f":"AN195/2-AN194*AN194*AN194/27","v":{"$error":"#DIV/0!"}}]
[null,"(T A - p h/2)2",{"$f":"POWER(C197,2)","v":81225},{"$nulls":6},{"$f":"J196*J196*J196+J197*J197","v":2285725912258.445},{"$nulls":7},{"$f":"POWER(R197,2)","v":{"$error":"#N/A"}},{"$nulls":6},{"$f":"Y196*Y196*Y196+Y197*Y197","v":{"$error":"#N/A"}},{"$nulls":7},{"$f":"POWER(AG197,2)","v":{"$error":"#N/A"}},{"$nulls":6},{"$f":"AN196*AN196*AN196+AN197*AN197","v":{"$error":"#N/A"}}]
[null,"b2 x p2 /2",{"$f":"C195*E9*E9/2","v":6338.5625},{"$nulls":6},{"$f":"SQRT(J196*J196*J196+J197*J197)","v":{"v":1511861.7371500758,"d":"1.51186174E+06"}},{"$nulls":7},{"$f":"R195*T9*T9/2","v":{"$error":"#N/A"}},{"$nulls":6},{"$f":"SQRT(Y196*Y196*Y196+Y197*Y197)","v":{"$error":"#N/A"}},{"$nulls":7},{"$f":"AG195*AI9*AI9/2","v":{"$error":"#N/A"}},{"$nulls":6},{"$f":"SQRT(AN196*AN196*AN196+AN197*AN197)","v":{"$error":"#N/A"}}]
[null,"(TA- p h/2)2 - b2xp2/2",{"$f":"C198-C199","v":74886.4375},{"$nulls":6},{"$f":"SQRT(-J196)","v":22.699671846141246},{"$nulls":7},{"$f":"R198-R199","v":{"$error":"#N/A"}},{"$nulls":6},{"$f":"SQRT(-Y196)","v":{"$error":"#N/A"}},{"$nulls":7},{"$f":"AG198-AG199","v":{"$error":"#N/A"}},{"$nulls":6},{"$f":"SQRT(-AN196)","v":{"$error":"#N/A"}}]
[null,"Raiz",{"$f":"SQRT(C200)","v":273.653864398075},{"$nulls":6},{"$f":"SQRT(-J196*-J196*-J196)","v":11696.57572412768},{"$nulls":7},{"$f":"SQRT(R200)","v":{"$error":"#N/A"}},{"$nulls":6},{"$f":"SQRT(-Y196*-Y196*-Y196)","v":{"$error":"#N/A"}},{"$nulls":7},{"$f":"SQRT(AG200)","v":{"$error":"#N/A"}},{"$nulls":6},{"$f":"SQRT(-AN196*-AN196*-AN196)","v":{"$error":"#N/A"}}]
[null,"TA - ph/2 + Raiz",{"$f":"C197+C201","v":558.653864398075},{"$nulls":10},{"$f":"2*J200*COS(1/3*J204)-J194/3","v":{"$error":"#NUM!"}},{"$nulls":3},{"$f":"R197+R201","v":{"$error":"#N/A"}},{"$nulls":10},{"$f":"2*Y200*COS(1/3*Y204)-Y194/3","v":{"$error":"#N/A"}},{"$nulls":3},{"$f":"AG197+AG201","v":{"$error":"#N/A"}},{"$nulls":10},{"$f":"2*AN200*COS(1/3*AN204)-AN194/3","v":{"$error":"#N/A"}}]
[null,"vão 2",{"$nulls":7},{"$f":"J197/J201","v":{"v":129.26065009397306,"d":"129.2606500940"}},{"$nulls":7},"vão 2",{"$nulls":6},{"$f":"Y197/Y201","v":{"$error":"#DIV/0!"}},{"$nulls":14},{"$f":"AN197/AN201","v":{"$error":"#DIV/0!"}}]
[null,null,{"$f":"POWER(C13,2)","v":0},{"$nulls":6},{"$f":"ACOS(J203)","v":{"$error":"#NUM!"}},{"$nulls":7},{"$f":"POWER(R13,2)","v":0},{"$nulls":6},{"$f":"ACOS(Y203)","v":{"$error":"#DIV/0!"}},{"$nulls":7},{"$f":"POWER(AG13,2)","v":0},{"$nulls":6},{"$f":"ACOS(AN203)","v":{"$error":"#DIV/0!"}}]
[null,null,{"$f":"POWER(D13,2)","v":0},{"$nulls":4},"t = 35ºC",{"$nulls":9},{"$f":"POWER(S13,2)","v":0},{"$nulls":4},"t = 35 ºC",{"$nulls":9},{"$f":"POWER(AH13,2)","v":0},{"$nulls":4},"t = 35 ºC"]
[null,null,{"$f":"C204+C205","v":0},{"$nulls":7},"t =",35,{"$nulls":5},{"$f":"R204+R205","v":0},{"$nulls":7},"t =",35,{"$nulls":5},{"$f":"AG204+AG205","v":0},{"$nulls":7},"t =",35]
[null,null,{"$f":"SQRT(C206)","v":0},{"$nulls":6},{"$f":"M6*(L206-M37)*M3*M5-M36+M32*M32/24*M38*M38/M36/M36*M3*M5","v":-64.68489553842377},{"$nulls":3},{"$f":"POWER(J210+J212,1/3)","v":144.55169857682353},{"$nulls":3},{"$f":"SQRT(R206)","v":0},{"$nulls":6},{"$f":"AB6*(AA206-AB37)*AB3*AB5-AB36+AB32*AB32/24*AB38*AB38/AB36/AB36*AB3*AB5","v":{"$error":"#N/A"}},{"$nulls":3},{"$f":"POWER(Y210+Y212,1/3)","v":{"$error":"#DIV/0!"}},{"$nulls":3},{"$f":"SQRT(AG206)","v":0},{"$nulls":6},{"$f":"AQ6*(AP206-AQ37)*AQ3*AQ5-AQ36+AQ32*AQ32/24*AQ38*AQ38/AQ36/AQ36*AQ3*AQ5","v":{"$error":"#N/A"}},{"$nulls":3},{"$f":"POWER(AN210+AN212,1/3)","v":{"$error":"#DIV/0!"}}]
[null,null,{"$f":"E10-E9*ABS(D13)/2","v":285},{"$nulls":6},{"$f":"M32*M32*M7*M7/24*M3*M5","v":{"v":3000420.8125,"d":"3.00042081E+06"}},{"$nulls":3},{"$f":"POWER(J210-J212,1/3)","v":3.216177827349927},{"$nulls":3},{"$f":"T10-T9*ABS(S13)/2","v":{"$error":"#N/A"}},{"$nulls":6},{"$f":"AB32*AB32*AB7*AB7/24*AB3*AB5","v":{"$error":"#DIV/0!"}},{"$nulls":3},{"$f":"POWER(Y210-Y212,1/3)","v":{"$error":"#DIV/0!"}},{"$nulls":3},{"$f":"AI10-AI9*ABS(AH13)/2","v":{"$error":"#N/A"}},{"$nulls":6},{"$f":"AQ32*AQ32*AQ7*AQ7/24*AQ3*AQ5","v":{"$error":"#DIV/0!"}},{"$nulls":3},{"$f":"POWER(AN210-AN212,1/3)","v":{"$error":"#DIV/0!"}}]
[null,null,{"$f":"POWER(C208,2)","v":81225},{"$nulls":6},{"$f":"-J207*J207/9","v":-464.90396786853285},{"$nulls":3},{"$f":"N207+N208-J207/3","v":{"v":169.32950825031472,"d":"169.33"}},{"$nulls":3},{"$f":"POWER(R208,2)","v":{"$error":"#N/A"}},{"$nulls":6},{"$f":"-Y207*Y207/9","v":{"$error":"#N/A"}},{"$nulls":3},{"$f":"AC207+AC208-Y207/3","v":{"$error":"#DIV/0!"}},{"$nulls":3},{"$f":"POWER(AG208,2)","v":{"$error":"#N/A"}},{"$nulls":6},{"$f":"-AN207*AN207/9","v":{"$error":"#N/A"}},{"$nulls":3},{"$f":"AR207+AR208-AN207/3","v":{"$error":"#DIV/0!"}}]
[null,null,{"$f":"C207*C207*E9*E9/2","v":0},{"$nulls":6},{"$f":"J208/2-J207*J207*J207/27","v":1510234.4944489915},{"$nulls":7},{"$f":"R207*R207*T9*T9/2","v":{"$error":"#N/A"}},{"$nulls":6},{"$f":"Y208/2-Y207*Y207*Y207/27","v":{"$error":"#DIV/0!"}},{"$nulls":7},{"$f":"AG207*AG207*AI9*AI9/2","v":{"$error":"#N/A"}},{"$nulls":6},{"$f":"AN208/2-AN207*AN207*AN207/27","v":{"$error":"#DIV/0!"}}]
[null,null,{"$f":"C209-C210","v":81225},{"$nulls":6},{"$f":"J209*J209*J209+J210*J210","v":2280707745879.38},{"$nulls":7},{"$f":"R209-R210","v":{"$error":"#N/A"}},{"$nulls":6},{"$f":"Y209*Y209*Y209+Y210*Y210","v":{"$error":"#N/A"}},{"$nulls":7},{"$f":"AG209-AG210","v":{"$error":"#N/A"}},{"$nulls":6},{"$f":"AN209*AN209*AN209+AN210*AN210","v":{"$error":"#N/A"}}]
[null,null,{"$f":"SQRT(C211)","v":285},{"$nulls":6},{"$f":"SQRT(J209*J209*J209+J210*J210)","v":{"v":1510201.226949369,"d":"1.51020123E+06"}},{"$nulls":7},{"$f":"SQRT(R211)","v":{"$error":"#N/A"}},{"$nulls":6},{"$f":"SQRT(Y209*Y209*Y209+Y210*Y210)","v":{"$error":"#N/A"}},{"$nulls":7},{"$f":"SQRT(AG211)","v":{"$error":"#N/A"}},{"$nulls":6},{"$f":"SQRT(AN209*AN209*AN209+AN210*AN210)","v":{"$error":"#N/A"}}]
[null,null,{"$f":"C208+C212","v":570},{"$nulls":6},{"$f":"SQRT(-J209)","v":21.561631846141257},{"$nulls":7},{"$f":"R208+R212","v":{"$error":"#N/A"}},{"$nulls":6},{"$f":"SQRT(-Y209)","v":{"$error":"#N/A"}},{"$nulls":7},{"$f":"AG208+AG212","v":{"$error":"#N/A"}},{"$nulls":6},{"$f":"SQRT(-AN209)","v":{"$error":"#N/A"}}]
[null,"vão 3",{"$nulls":7},{"$f":"SQRT(-J209*-J209*-J209)","v":10024.08819899159},{"$nulls":7},"vão 3",{"$nulls":6},{"$f":"SQRT(-Y209*-Y209*-Y209)","v":{"$error":"#N/A"}},{"$nulls":14},{"$f":"SQRT(-AN209*-AN209*-AN209)","v":{"$error":"#N/A"}}]
[null,null,{"$f":"POWER(C14,2)","v":0},{"$nulls":10},{"$f":"2*J213*COS(1/3*J217)-J207/3","v":{"$error":"#NUM!"}},{"$nulls":3},{"$f":"POWER(R14,2)","v":0},{"$nulls":10},{"$f":"2*Y213*COS(1/3*Y217)-Y207/3","v":{"$error":"#N/A"}},{"$nulls":3},{"$f":"POWER(AG14,2)","v":0},{"$nulls":10},{"$f":"2*AN213*COS(1/3*AN217)-AN207/3","v":{"$error":"#N/A"}}]
[null,null,{"$f":"POWER(D14,2)","v":0},{"$nulls":6},{"$f":"J210/J214","v":150.66053534933172},{"$nulls":7},{"$f":"POWER(S14,2)","v":0},{"$nulls":6},{"$f":"Y210/Y214","v":{"$error":"#DIV/0!"}},{"$nulls":7},{"$f":"POWER(AH14,2)","v":0},{"$nulls":6},{"$f":"AN210/AN214","v":{"$error":"#DIV/0!"}}]
[null,null,{"$f":"C215+C216","v":0},{"$nulls":6},{"$f":"ACOS(J216)","v":{"$error":"#NUM!"}},{"$nulls":7},{"$f":"R215+R216","v":0},{"$nulls":6},{"$f":"ACOS(Y216)","v":{"$error":"#DIV/0!"}},{"$nulls":7},{"$f":"AG215+AG216","v":0},{"$nulls":6},{"$f":"ACOS(AN216)","v":{"$error":"#DIV/0!"}}]
[null,null,{"$f":"SQRT(C217)","v":0},{"$nulls":4},"t = 40ºC",{"$nulls":9},{"$f":"SQRT(R217)","v":0},{"$nulls":4},"t = 40 ºC",{"$nulls":9},{"$f":"SQRT(AG217)","v":0},{"$nulls":4},"t = 40 ºC"]
[null,null,{"$f":"E10-ABS(D14)*E9/2","v":285},{"$nulls":7},"t=",40,{"$nulls":5},{"$f":"T10-ABS(S14)*T9/2","v":{"$error":"#N/A"}},{"$nulls":7},"t=",40,{"$nulls":5},{"$f":"AI10-ABS(AH14)*AI9/2","v":{"$error":"#N/A"}},{"$nulls":7},"t=",40]
[null,null,{"$f":"POWER(C219,2)","v":81225},{"$nulls":6},{"$f":"M6*(L219-M37)*M3*M5-M36+M32*M32/24*M38*M38/M36/M36*M3*M5","v":-61.27077553842375},{"$nulls":3},{"$f":"POWER(J223+J225,1/3)","v":144.50381433875276},{"$nulls":3},{"$f":"POWER(R219,2)","v":{"$error":"#N/A"}},{"$nulls":6},{"$f":"AB6*(AA219-AB37)*AB3*AB5-AB36+AB32*AB32/24*AB38*AB38/AB36/AB36*AB3*AB5","v":{"$error":"#N/A"}},{"$nulls":3},{"$f":"POWER(Y223+Y225,1/3)","v":{"$error":"#DIV/0!"}},{"$nulls":3},{"$f":"POWER(AG219,2)","v":{"$error":"#N/A"}},{"$nulls":6},{"$f":"AQ6*(AP219-AQ37)*AQ3*AQ5-AQ36+AQ32*AQ32/24*AQ38*AQ38/AQ36/AQ36*AQ3*AQ5","v":{"$error":"#N/A"}},{"$nulls":3},{"$f":"POWER(AN223+AN225,1/3)","v":{"$error":"#DIV/0!"}}]
[null,null,{"$f":"C218*C218*E9*E9/2","v":0},{"$nulls":6},{"$f":"M32*M32*M7*M7/24*M3*M5","v":{"v":3000420.8125,"d":"3.00042081E+06"}},{"$nulls":3},{"$f":"POWER(J223-J225,1/3)","v":2.8865888821406465},{"$nulls":3},{"$f":"R218*R218*T9*T9/2","v":{"$error":"#N/A"}},{"$nulls":6},{"$f":"AB32*AB32*AB7*AB7/24*AB3*AB5","v":{"$error":"#DIV/0!"}},{"$nulls":3},{"$f":"POWER(Y223-Y225,1/3)","v":{"$error":"#DIV/0!"}},{"$nulls":3},{"$f":"AG218*AG218*AI9*AI9/2","v":{"$error":"#N/A"}},{"$nulls":6},{"$f":"AQ32*AQ32*AQ7*AQ7/24*AQ3*AQ5","v":{"$error":"#DIV/0!"}},{"$nulls":3},{"$f":"POWER(AN223-AN225,1/3)","v":{"$error":"#DIV/0!"}}]
[null,null,{"$f":"C220-C221","v":81225},{"$nulls":6},{"$f":"-J220*J220/9","v":-417.12310389776735},{"$nulls":3},{"$f":"N220+N221-J220/3","v":{"v":167.81399506703465,"d":"167.81"}},{"$nulls":3},{"$f":"R220-R221","v":{"$error":"#N/A"}},{"$nulls":6},{"$f":"-Y220*Y220/9","v":{"$error":"#N/A"}},{"$nulls":3},{"$f":"AC220+AC221-Y220/3","v":{"$error":"#DIV/0!"}},{"$nulls":3},{"$f":"AG220-AG221","v":{"$error":"#N/A"}},{"$nulls":6},{"$f":"-AN220*AN220/9","v":{"$error":"#N/A"}},{"$nulls":3},{"$f":"AR220+AR221-AN220/3","v":{"$error":"#DIV/0!"}}]
[null,null,{"$f":"SQRT(C222)","v":285},{"$nulls":6},{"$f":"J221/2-J220*J220*J220/27","v":1508729.5582736037},{"$nulls":7},{"$f":"SQRT(R222)","v":{"$error":"#N/A"}},{"$nulls":6},{"$f":"Y221/2-Y220*Y220*Y220/27","v":{"$error":"#DIV/0!"}},{"$nulls":7},{"$f":"SQRT(AG222)","v":{"$error":"#N/A"}},{"$nulls":6},{"$f":"AN221/2-AN220*AN220*AN220/27","v":{"$error":"#DIV/0!"}}]
[null,null,{"$f":"C219+C223","v":570},{"$nulls":6},{"$f":"J222*J222*J222+J223*J223","v":2276192304057.262},{"$nulls":7},{"$f":"R219+R223","v":{"$error":"#N/A"}},{"$nulls":6},{"$f":"Y222*Y222*Y222+Y223*Y223","v":{"$error":"#N/A"}},{"$nulls":7},{"$f":"AG219+AG223","v":{"$error":"#N/A"}},{"$nulls":6},{"$f":"AN222*AN222*AN222+AN223*AN223","v":{"$error":"#N/A"}}]
[null,"vão 4",{"$nulls":7},{"$f":"SQRT(J222*J222*J222+J223*J223)","v":{"v":1508705.506073754,"d":"1.50870551E+06"}},{"$nulls":7},"vão 4",{"$nulls":6},{"$f":"SQRT(Y222*Y222*Y222+Y223*Y223)","v":{"$error":"#N/A"}},{"$nulls":14},{"$f":"SQRT(AN222*AN222*AN222+AN223*AN223)","v":{"$error":"#N/A"}}]
[null,null,{"$f":"POWER(C15,2)","v":0},{"$nulls":6},{"$f":"SQRT(-J222)","v":20.42359184614125},{"$nulls":7},{"$f":"POWER(R15,2)","v":0},{"$nulls":6},{"$f":"SQRT(-Y222)","v":{"$error":"#N/A"}},{"$nulls":7},{"$f":"POWER(AG15,2)","v":0},{"$nulls":6},{"$f":"SQRT(-AN222)","v":{"$error":"#N/A"}}]
[null,null,{"$f":"POWER(D15,2)","v":0},{"$nulls":6},{"$f":"SQRT(-J222*-J222*-J222)","v":8519.15202360357},{"$nulls":7},{"$f":"POWER(S15,2)","v":0},{"$nulls":6},{"$f":"SQRT(-Y222*-Y222*-Y222)","v":{"$error":"#N/A"}},{"$nulls":7},{"$f":"POWER(AH15,2)","v":0},{"$nulls":6},{"$f":"SQRT(-AN222*-AN222*-AN222)","v":{"$error":"#N/A"}}]
[null,null,{"$f":"C226+C227","v":0},{"$nulls":10},{"$f":"2*J226*COS(1/3*J230)-J220/3","v":{"$error":"#NUM!"}},{"$nulls":3},{"$f":"R226+R227","v":0},{"$nulls":10},{"$f":"2*Y226*COS(1/3*Y230)-Y220/3","v":{"$error":"#N/A"}},{"$nulls":3},{"$f":"AG226+AG227","v":0},{"$nulls":10},{"$f":"2*AN226*COS(1/3*AN230)-AN220/3","v":{"$error":"#N/A"}}]
[null,null,{"$f":"SQRT(C228)","v":0},{"$nulls":6},{"$f":"J223/J227","v":177.09856029020793},{"$nulls":7},{"$f":"SQRT(R228)","v":0},{"$nulls":6},{"$f":"Y223/Y227","v":{"$error":"#DIV/0!"}},{"$nulls":7},{"$f":"SQRT(AG228)","v":0},{"$nulls":6},{"$f":"AN223/AN227","v":{"$error":"#DIV/0!"}}]
[null,null,{"$f":"E10-ABS(D15)*E9/2","v":285},{"$nulls":6},{"$f":"ACOS(J229)","v":{"$error":"#NUM!"}},{"$nulls":7},{"$f":"T10-ABS(S15)*T9/2","v":{"$error":"#N/A"}},{"$nulls":6},{"$f":"ACOS(Y229)","v":{"$error":"#DIV/0!"}},{"$nulls":7},{"$f":"AI10-ABS(AH15)*AI9/2","v":{"$error":"#N/A"}},{"$nulls":6},{"$f":"ACOS(AN229)","v":{"$error":"#DIV/0!"}}]
[null,null,{"$f":"POWER(C230,2)","v":81225},{"$nulls":4},"t = 45ºC",{"$nulls":9},{"$f":"POWER(R230,2)","v":{"$error":"#N/A"}},{"$nulls":4},"t = 45 ºC",{"$nulls":9},{"$f":"POWER(AG230,2)","v":{"$error":"#N/A"}},{"$nulls":4},"t = 45 ºC"]
[null,null,{"$f":"C228*E9*E9/2","v":0},{"$nulls":7},"t=",45,{"$nulls":5},{"$f":"R228*T9*T9/2","v":{"$error":"#N/A"}},{"$nulls":7},"t=",45,{"$nulls":5},{"$f":"AG228*AI9*AI9/2","v":{"$error":"#N/A"}},{"$nulls":7},"t=",45]
[null,null,{"$f":"C231-C232","v":81225},{"$nulls":6},{"$f":"M6*(L232-M37)*M3*M5-M36+M32*M32/24*M38*M38/M36/M36*M3*M5","v":-57.85665553842378},{"$nulls":3},{"$f":"POWER(J236+J238,1/3)","v":144.46093289071933},{"$nulls":3},{"$f":"R231-R232","v":{"$error":"#N/A"}},{"$nulls":6},{"$f":"AB6*(AA232-AB37)*AB3*AB5-AB36+AB32*AB32/24*AB38*AB38/AB36/AB36*AB3*AB5","v":{"$error":"#N/A"}},null,"S=",{"$f":"POWER(Y236+Y238,1/3)","v":{"$error":"#DIV/0!"}},{"$nulls":4},{"$f":"AG231-AG232","v":{"$error":"#N/A"}},{"$nulls":6},{"$f":"AQ6*(AP232-AQ37)*AQ3*AQ5-AQ36+AQ32*AQ32/24*AQ38*AQ38/AQ36/AQ36*AQ3*AQ5","v":{"$error":"#N/A"}},{"$nulls":3},{"$f":"POWER(AN236+AN238,1/3)","v":{"$error":"#DIV/0!"}}]
[null,null,{"$f":"SQRT(C233)","v":285},{"$nulls":6},{"$f":"M32*M32*M7*M7/24*M3*M5","v":{"v":3000420.8125,"d":"3.00042081E+06"}},{"$nulls":3},{"$f":"POWER(J236-J238,1/3)","v":2.574623481707096},{"$nulls":3},{"$f":"SQRT(R233)","v":{"$error":"#N/A"}},{"$nulls":6},{"$f":"AB32*AB32*AB7*AB7/24*AB3*AB5","v":{"$error":"#DIV/0!"}},{"$nulls":3},{"$f":"POWER(Y236-Y238,1/3)","v":{"$error":"#DIV/0!"}},{"$nulls":3},{"$f":"SQRT(AG233)","v":{"$error":"#N/A"}},{"$nulls":6},{"$f":"AQ32*AQ32*AQ7*AQ7/24*AQ3*AQ5","v":{"$error":"#DIV/0!"}},{"$nulls":3},{"$f":"POWER(AN236-AN238,1/3)","v":{"$error":"#DIV/0!"}}]
[null,null,{"$f":"C230+C234","v":570},{"$nulls":6},{"$f":"-J233*J233/9","v":-371.9325100102026},{"$nulls":3},{"$f":"N233+N234-J233/3","v":{"v":166.3211082185677,"d":"166.32"}},{"$nulls":3},{"$f":"R230+R234","v":{"$error":"#N/A"}},{"$nulls":6},{"$f":"-Y233*Y233/9","v":{"$error":"#N/A"}},{"$nulls":3},{"$f":"AB233+AC234-Y233/3","v":{"$error":"#DIV/0!"}},{"$nulls":3},{"$f":"AG230+AG234","v":{"$error":"#N/A"}},{"$nulls":6},{"$f":"-AN233*AN233/9","v":{"$error":"#N/A"}},{"$nulls":3},{"$f":"AR233+AR234-AN233/3","v":{"$error":"#DIV/0!"}}]
[null,"vão 5",{"$nulls":7},{"$f":"J234/2-J233*J233*J233/27","v":1507383.3299550673},{"$nulls":7},"vão 5",{"$nulls":6},{"$f":"Y234/2-Y233*Y233*Y233/27","v":{"$error":"#DIV/0!"}},{"$nulls":14},{"$f":"AN234/2-AN233*AN233*AN233/27","v":{"$error":"#DIV/0!"}}]
[null,null,{"$f":"C16*C16","v":0},{"$nulls":6},{"$f":"J235*J235*J235+J236*J236","v":2272153052591.9487},{"$nulls":7},{"$f":"R16*R16","v":0},{"$nulls":6},{"$f":"Y235*Y235*Y235+Y236*Y236","v":{"$error":"#N/A"}},{"$nulls":7},{"$f":"AG16*AG16","v":0},{"$nulls":6},{"$f":"AN235*AN235*AN235+AN236*AN236","v":{"$error":"#N/A"}}]
[null,null,{"$f":"D16*D16","v":0},{"$nulls":6},{"$f":"SQRT(J235*J235*J235+J236*J236)","v":{"v":1507366.263584252,"d":"1.50736626E+06"}},{"$nulls":7},{"$f":"S16*S16","v":0},{"$nulls":6},{"$f":"SQRT(Y235*Y235*Y235+Y236*Y236)","v":{"$error":"#N/A"}},{"$nulls":7},{"$f":"AH16*AH16","v":0},{"$nulls":6},{"$f":"SQRT(AN235*AN235*AN235+AN236*AN236)","v":{"$error":"#N/A"}}]
[null,null,{"$f":"C237+C238","v":0},{"$nulls":6},{"$f":"SQRT(-J235)","v":19.28555184614126},{"$nulls":7},{"$f":"R237+R238","v":0},{"$nulls":6},{"$f":"SQRT(-Y235)","v":{"$error":"#N/A"}},{"$nulls":7},{"$f":"AG237+AG238","v":0},{"$nulls":6},{"$f":"SQRT(-AN235)","v":{"$error":"#N/A"}}]
[null,null,{"$f":"SQRT(C239)","v":0},{"$nulls":6},{"$f":"SQRT(-J235*-J235*-J235)","v":7172.923705067215},{"$nulls":7},{"$f":"SQRT(R239)","v":0},{"$nulls":6},{"$f":"SQRT(-Y235*-Y235*-Y235)","v":{"$error":"#N/A"}},{"$nulls":7},{"$f":"SQRT(AG239)","v":0},{"$nulls":6},{"$f":"SQRT(-AN235*-AN235*-AN235)","v":{"$error":"#N/A"}}]
[null,null,{"$f":"E10-E9*ABS(D16)/2","v":285},{"$nulls":10},{"$f":"2*J239*COS(1/3*J243)-J233/3","v":{"$error":"#NUM!"}},{"$nulls":3},{"$f":"T10-T9*ABS(S16)/2","v":{"$error":"#N/A"}},{"$nulls":10},{"$f":"2*Y239*COS(1/3*Y243)-Y233/3","v":{"$error":"#N/A"}},{"$nulls":3},{"$f":"AI10-AI9*ABS(AH16)/2","v":{"$error":"#N/A"}},{"$nulls":10},{"$f":"2*AN239*COS(1/3*AN243)-AN233/3","v":{"$error":"#N/A"}}]
[null,null,{"$f":"POWER(C241,2)","v":81225},{"$nulls":6},{"$f":"J236/J240","v":210.14908173220866},{"$nulls":7},{"$f":"POWER(R241,2)","v":{"$error":"#N/A"}},{"$nulls":6},{"$f":"Y236/Y240","v":{"$error":"#DIV/0!"}},{"$nulls":7},{"$f":"POWER(AG241,2)","v":{"$error":"#N/A"}},{"$nulls":6},{"$f":"AN236/AN240","v":{"$error":"#DIV/0!"}}]
[null,null,{"$f":"C239*E9*E9/2","v":0},{"$nulls":6},{"$f":"ACOS(J242)","v":{"$error":"#NUM!"}},{"$nulls":7},{"$f":"R239*T9*T9/2","v":{"$error":"#N/A"}},{"$nulls":6},{"$f":"ACOS(Y242)","v":{"$error":"#DIV/0!"}},{"$nulls":7},{"$f":"AG239*AI9*AI9/2","v":{"$error":"#N/A"}},{"$nulls":6},{"$f":"ACOS(AN242)","v":{"$error":"#DIV/0!"}}]
[null,null,{"$f":"C242-C243","v":81225},{"$nulls":4},"t = 50ºC",{"$nulls":9},{"$f":"R242-R243","v":{"$error":"#N/A"}},{"$nulls":4},"t = 50 ºC",{"$nulls":9},{"$f":"AG242-AG243","v":{"$error":"#N/A"}},{"$nulls":4},"t = 50 ºC"]
[null,null,{"$f":"SQRT(C244)","v":285},{"$nulls":7},"t =",50,{"$nulls":5},{"$f":"SQRT(R244)","v":{"$error":"#N/A"}},{"$nulls":7},"t =",50,{"$nulls":5},{"$f":"SQRT(AG244)","v":{"$error":"#N/A"}},{"$nulls":7},"t =",50]
[null,null,{"$f":"C241+C245","v":570},{"$nulls":6},{"$f":"M6*(L245-M37)*M3*M5-M36+M32*M32/24*M38*M38/M36/M36*M3*M5","v":-54.442535538423755},{"$nulls":3},{"$f":"POWER(J249+J251,1/3)","v":144.42278772984858},{"$nulls":3},{"$f":"R241+R245","v":{"$error":"#N/A"}},{"$nulls":6},{"$f":"AB6*(AA245-AB37)*AB3*AB5-AB36+AB32*AB32/24*AB38*AB38/AB36/AB36*AB3*AB5","v":{"$error":"#N/A"}},{"$nulls":3},{"$f":"POWER(Y249+Y251,1/3)","v":{"$error":"#DIV/0!"}},{"$nulls":3},{"$f":"AG241+AG245","v":{"$error":"#N/A"}},{"$nulls":6},{"$f":"AQ6*(AP245-AQ37)*AQ3*AQ5-AQ36+AQ32*AQ32/24*AQ38*AQ38/AQ36/AQ36*AQ3*AQ5","v":{"$error":"#N/A"}},{"$nulls":3},{"$f":"POWER(AN249+AN251,1/3)","v":{"$error":"#DIV/0!"}}]
[null,"vão 6",{"$nulls":7},{"$f":"M32*M32*M7*M7/24*M3*M5","v":{"v":3000420.8125,"d":"3.00042081E+06"}},{"$nulls":3},{"$f":"POWER(J249-J251,1/3)","v":2.2803339513288297},{"$nulls":3},"vão 6",{"$nulls":6},{"$f":"AB32*AB32*AB7*AB7/24*AB3*AB5","v":{"$error":"#DIV/0!"}},{"$nulls":3},{"$f":"POWER(Y249-Y251,1/3)","v":{"$error":"#DIV/0!"}},{"$nulls":10},{"$f":"AQ32*AQ32*AQ7*AQ7/24*AQ3*AQ5","v":{"$error":"#DIV/0!"}},{"$nulls":3},{"$f":"POWER(AN249-AN251,1/3)","v":{"$error":"#DIV/0!"}}]
[null,null,{"$f":"C17*C17","v":0},{"$nulls":6},{"$f":"-J246*J246/9","v":-329.33218620583705},{"$nulls":3},{"$f":"N246+N247-J246/3","v":{"v":164.85063352731865,"d":"164.85"}},{"$nulls":3},{"$f":"R17*R17","v":0},{"$nulls":6},{"$f":"-Y246*Y246/9","v":{"$error":"#N/A"}},{"$nulls":3},{"$f":"AC246+AC247-Y246/3","v":{"$error":"#DIV/0!"}},{"$nulls":3},{"$f":"AG17*AG17","v":0},{"$nulls":6},{"$f":"-AN246*AN246/9","v":{"$error":"#N/A"}},{"$nulls":3},{"$f":"AR246+AR247-AN246/3","v":{"$error":"#DIV/0!"}}]
[null,null,{"$f":"D17*D17","v":0},{"$nulls":6},{"$f":"J247/2-J246*J246*J246/27","v":1506186.966000486},{"$nulls":7},{"$f":"S17*S17","v":0},{"$nulls":6},{"$f":"Y247/2-Y246*Y246*Y246/27","v":{"$error":"#DIV/0!"}},{"$nulls":7},{"$f":"AH17*AH17","v":0},{"$nulls":6},{"$f":"AN247/2-AN246*AN246*AN246/27","v":{"$error":"#DIV/0!"}}]
[null,null,{"$f":"C248+C249","v":0},{"$nulls":6},{"$f":"J248*J248*J248+J249*J249","v":2268563457283.298},{"$nulls":7},{"$f":"R248+R249","v":0},{"$nulls":6},{"$f":"Y248*Y248*Y248+Y249*Y249","v":{"$error":"#N/A"}},{"$nulls":7},{"$f":"AG248+AG249","v":0},{"$nulls":6},{"$f":"AN248*AN248*AN248+AN249*AN249","v":{"$error":"#N/A"}}]
[null,null,{"$f":"SQRT(C250)","v":0},{"$nulls":6},{"$f":"SQRT(J248*J248*J248+J249*J249)","v":{"v":1506175.1084396853,"d":"1.50617511E+06"}},{"$nulls":7},{"$f":"SQRT(R250)","v":0},{"$nulls":6},{"$f":"SQRT(Y248*Y248*Y248+Y249*Y249)","v":{"$error":"#N/A"}},{"$nulls":7},{"$f":"SQRT(AG250)","v":0},{"$nulls":6},{"$f":"SQRT(AN248*AN248*AN248+AN249*AN249)","v":{"$error":"#N/A"}}]
[null,null,{"$f":"E10-E9/2*ABS(D17)","v":285},{"$nulls":6},{"$f":"SQRT(-J248)","v":18.147511846141253},{"$nulls":7},{"$f":"T10-T9/2*ABS(S17)","v":{"$error":"#N/A"}},{"$nulls":6},{"$f":"SQRT(-Y248)","v":{"$error":"#N/A"}},{"$nulls":7},{"$f":"AI10-AI9/2*ABS(AH17)","v":{"$error":"#N/A"}},{"$nulls":6},{"$f":"SQRT(-AN248)","v":{"$error":"#N/A"}}]
[null,null,{"$f":"POWER(C252,2)","v":81225},{"$nulls":6},{"$f":"SQRT(-J248*-J248*-J248)","v":5976.559750486024},{"$nulls":7},{"$f":"POWER(R252,2)","v":{"$error":"#N/A"}},{"$nulls":6},{"$f":"SQRT(-Y248*-Y248*-Y248)","v":{"$error":"#N/A"}},{"$nulls":7},{"$f":"POWER(AG252,2)","v":{"$error":"#N/A"}},{"$nulls":6},{"$f":"SQRT(-AN248*-AN248*-AN248)","v":{"$error":"#N/A"}}]
[null,null,{"$f":"C250*E9*E9/2","v":0},{"$nulls":10},{"$f":"2*J252*COS(1/3*J256)-J246/3","v":{"$error":"#NUM!"}},{"$nulls":3},{"$f":"R250*T9*T9/2","v":{"$error":"#N/A"}},{"$nulls":10},{"$f":"2*Y252*COS(1/3*Y256)-Y246/3","v":{"$error":"#N/A"}},{"$nulls":3},{"$f":"AG250*AI9*AI9/2","v":{"$error":"#N/A"}},{"$nulls":10},{"$f":"2*AN252*COS(1/3*AN256)-AN246/3","v":{"$error":"#N/A"}}]
[null,null,{"$f":"C253-C254","v":81225},{"$nulls":6},{"$f":"J249/J253","v":252.0157128652483},{"$nulls":7},{"$f":"R253-R254","v":{"$error":"#N/A"}},{"$nulls":6},{"$f":"Y249/Y253","v":{"$error":"#DIV/0!"}},{"$nulls":7},{"$f":"AG253-AG254","v":{"$error":"#N/A"}},{"$nulls":6},{"$f":"AN249/AN253","v":{"$error":"#DIV/0!"}}]
[null,null,{"$f":"SQRT(C255)","v":285},{"$nulls":6},{"$f":"ACOS(J255)","v":{"$error":"#NUM!"}},{"$nulls":7},{"$f":"SQRT(R255)","v":{"$error":"#N/A"}},{"$nulls":6},{"$f":"ACOS(Y255)","v":{"$error":"#DIV/0!"}},{"$nulls":7},{"$f":"SQRT(AG255)","v":{"$error":"#N/A"}},{"$nulls":6},{"$f":"ACOS(AN255)","v":{"$error":"#DIV/0!"}}]
[null,null,{"$f":"C252+C256","v":570},{"$nulls":14},{"$f":"R252+R256","v":{"$error":"#N/A"}},{"$nulls":14},{"$f":"AG252+AG256","v":{"$error":"#N/A"}}]
[null,"vão 7",{"$nulls":15},"vão 7"]
[null,null,{"$f":"C18*C18","v":0},{"$nulls":14},{"$f":"R18*R18","v":0},{"$nulls":14},{"$f":"AG18*AG18","v":0}]
[null,null,{"$f":"D18*D18","v":0},{"$nulls":14},{"$f":"S18*S18","v":0},{"$nulls":14},{"$f":"AH18*AH18","v":0}]
[null,null,{"$f":"C259+C260","v":0},{"$nulls":14},{"$f":"R259+R260","v":0},{"$nulls":14},{"$f":"AG259+AG260","v":0}]
[null,null,{"$f":"SQRT(C261)","v":0},{"$nulls":14},{"$f":"SQRT(R261)","v":0},{"$nulls":14},{"$f":"SQRT(AG261)","v":0}]
[null,null,{"$f":"E10-E9/2*ABS(D18)","v":285},{"$nulls":14},{"$f":"T10-T9/2*ABS(S18)","v":{"$error":"#N/A"}},{"$nulls":14},{"$f":"AI10-AI9/2*ABS(AH18)","v":{"$error":"#N/A"}}]
[null,null,{"$f":"POWER(C263,2)","v":81225},{"$nulls":14},{"$f":"POWER(R263,2)","v":{"$error":"#N/A"}},{"$nulls":14},{"$f":"POWER(AG263,2)","v":{"$error":"#N/A"}}]
[null,null,{"$f":"C261*E9*E9/2","v":0},{"$nulls":14},{"$f":"R261*T9*T9/2","v":{"$error":"#N/A"}},{"$nulls":14},{"$f":"AG261*AI9*AI9/2","v":{"$error":"#N/A"}}]
[null,null,{"$f":"C264-C265","v":81225},{"$nulls":14},{"$f":"R264-R265","v":{"$error":"#N/A"}},{"$nulls":14},{"$f":"AG264-AG265","v":{"$error":"#N/A"}}]
[null,null,{"$f":"SQRT(C266)","v":285},{"$nulls":14},{"$f":"SQRT(R266)","v":{"$error":"#N/A"}},{"$nulls":14},{"$f":"SQRT(AG266)","v":{"$error":"#N/A"}}]
[null,null,{"$f":"C263+C267","v":570},{"$nulls":14},{"$f":"R263+R267","v":{"$error":"#N/A"}},{"$nulls":14},{"$f":"AG263+AG267","v":{"$error":"#N/A"}}]
[null,"vão 8",{"$nulls":15},"vão 8"]
[null,null,{"$f":"C19*C19","v":0},{"$nulls":14},{"$f":"R19*R19","v":0},{"$nulls":14},{"$f":"AG19*AG19","v":0}]
[null,null,{"$f":"D19*D19","v":0},{"$nulls":14},{"$f":"S19*S19","v":0},{"$nulls":14},{"$f":"AH19*AH19","v":0}]
[null,null,{"$f":"C270+C271","v":0},{"$nulls":14},{"$f":"R270+R271","v":0},{"$nulls":14},{"$f":"AG270+AG271","v":0}]
[null,null,{"$f":"SQRT(C272)","v":0},{"$nulls":14},{"$f":"SQRT(R272)","v":0},{"$nulls":14},{"$f":"SQRT(AG272)","v":0}]
[null,null,{"$f":"E10-E9/2*ABS(D19)","v":285},{"$nulls":14},{"$f":"T10-T9/2*ABS(S19)","v":{"$error":"#N/A"}},{"$nulls":14},{"$f":"AI10-AI9/2*ABS(AH19)","v":{"$error":"#N/A"}}]
[null,null,{"$f":"POWER(C274,2)","v":81225},{"$nulls":14},{"$f":"POWER(R274,2)","v":{"$error":"#N/A"}},{"$nulls":14},{"$f":"POWER(AG274,2)","v":{"$error":"#N/A"}}]
[null,null,{"$f":"C272*E9*E9/2","v":0},{"$nulls":14},{"$f":"R272*T9*T9/2","v":{"$error":"#N/A"}},{"$nulls":14},{"$f":"AG272*AI9*AI9/2","v":{"$error":"#N/A"}}]
[null,null,{"$f":"C275-C276","v":81225},{"$nulls":14},{"$f":"R275-R276","v":{"$error":"#N/A"}},{"$nulls":14},{"$f":"AG275-AG276","v":{"$error":"#N/A"}}]
[null,null,{"$f":"SQRT(C277)","v":285},{"$nulls":14},{"$f":"SQRT(R277)","v":{"$error":"#N/A"}},{"$nulls":14},{"$f":"SQRT(AG277)","v":{"$error":"#N/A"}}]
[null,null,{"$f":"C274+C278","v":570},{"$nulls":14},{"$f":"R274+R278","v":{"$error":"#N/A"}},{"$nulls":14},{"$f":"AG274+AG278","v":{"$error":"#N/A"}}]
[null,"vão 9",{"$nulls":15},"vão 9",{"$nulls":14},"VANO 9"]
[null,null,{"$f":"C20*C20","v":0},{"$nulls":14},{"$f":"R20*R20","v":0},{"$nulls":14},{"$f":"AG20*AG20","v":0}]
[null,null,{"$f":"D20*D20","v":0},{"$nulls":14},{"$f":"S20*S20","v":0},{"$nulls":14},{"$f":"AH20*AH20","v":0}]
[null,null,{"$f":"C281+C282","v":0},{"$nulls":14},{"$f":"R281+R282","v":0},{"$nulls":14},{"$f":"AG281+AG282","v":0}]
[null,null,{"$f":"SQRT(C283)","v":0},{"$nulls":14},{"$f":"SQRT(R283)","v":0},{"$nulls":14},{"$f":"SQRT(AG283)","v":0}]
[null,null,{"$f":"E10-E9/2*ABS(D20)","v":285},{"$nulls":14},{"$f":"T10-T9/2*ABS(S20)","v":{"$error":"#N/A"}},{"$nulls":14},{"$f":"AI10-AI9/2*ABS(AH20)","v":{"$error":"#N/A"}}]
[null,null,{"$f":"POWER(C285,2)","v":81225},{"$nulls":14},{"$f":"POWER(R285,2)","v":{"$error":"#N/A"}},{"$nulls":14},{"$f":"POWER(AG285,2)","v":{"$error":"#N/A"}}]
[null,null,{"$f":"C283*E9*E9/2","v":0},{"$nulls":14},{"$f":"R283*T9*T9/2","v":{"$error":"#N/A"}},{"$nulls":14},{"$f":"AG283*AI9*AI9/2","v":{"$error":"#N/A"}}]
[null,null,{"$f":"C286-C287","v":81225},{"$nulls":14},{"$f":"R286-R287","v":{"$error":"#N/A"}},{"$nulls":14},{"$f":"AG286-AG287","v":{"$error":"#N/A"}}]
[null,null,{"$f":"SQRT(C288)","v":285},{"$nulls":14},{"$f":"SQRT(R288)","v":{"$error":"#N/A"}},{"$nulls":14},{"$f":"SQRT(AG288)","v":{"$error":"#N/A"}}]
[null,null,{"$f":"C285+C289","v":570},{"$nulls":14},{"$f":"R285+R289","v":{"$error":"#N/A"}},{"$nulls":14},{"$f":"AG285+AG289","v":{"$error":"#N/A"}}]
[null,"vão 10",{"$nulls":15},"vão 10"]
[null,null,{"$f":"C21*C21","v":0},{"$nulls":14},{"$f":"R21*R21","v":0},{"$nulls":14},{"$f":"AG21*AG21","v":0}]
[null,null,{"$f":"D21*D21","v":0},{"$nulls":14},{"$f":"S21*S21","v":0},{"$nulls":14},{"$f":"AH21*AH21","v":0}]
[null,null,{"$f":"C292+C293","v":0},{"$nulls":14},{"$f":"R292+R293","v":0},{"$nulls":14},{"$f":"AG292+AG293","v":0}]
[null,null,{"$f":"SQRT(C294)","v":0},{"$nulls":14},{"$f":"SQRT(R294)","v":0},{"$nulls":14},{"$f":"SQRT(AG294)","v":0}]
[null,null,{"$f":"E10-E9/2*ABS(D21)","v":285},{"$nulls":14},{"$f":"T10-T9/2*ABS(S21)","v":{"$error":"#N/A"}},{"$nulls":14},{"$f":"AI10-AI9/2*ABS(AH21)","v":{"$error":"#N/A"}}]
[null,null,{"$f":"POWER(C296,2)","v":81225},{"$nulls":14},{"$f":"POWER(R296,2)","v":{"$error":"#N/A"}},{"$nulls":14},{"$f":"POWER(AG296,2)","v":{"$error":"#N/A"}}]
[null,null,{"$f":"C294*E9*E9/2","v":0},{"$nulls":14},{"$f":"R294*T9*T9/2","v":{"$error":"#N/A"}},{"$nulls":14},{"$f":"AG294*AI9*AI9/2","v":{"$error":"#N/A"}}]
[null,null,{"$f":"C297-C298","v":81225},{"$nulls":14},{"$f":"R297-R298","v":{"$error":"#N/A"}},{"$nulls":14},{"$f":"AG297-AG298","v":{"$error":"#N/A"}}]
[null,null,{"$f":"SQRT(C299)","v":285},{"$nulls":14},{"$f":"SQRT(R299)","v":{"$error":"#N/A"}},{"$nulls":14},{"$f":"SQRT(AG299)","v":{"$error":"#N/A"}}]
[null,null,{"$f":"C296+C300","v":570},{"$nulls":14},{"$f":"R296+R300","v":{"$error":"#N/A"}},{"$nulls":14},{"$f":"AG296+AG300","v":{"$error":"#N/A"}}]
[null,"vão 11",{"$nulls":15},"vão 11"]
[null,null,{"$f":"C22*C22","v":0},{"$nulls":14},{"$f":"R22*R22","v":0},{"$nulls":14},{"$f":"AG22*AG22","v":0}]
[null,null,{"$f":"D22*D22","v":0},{"$nulls":14},{"$f":"S22*S22","v":0},{"$nulls":14},{"$f":"AH22*AH22","v":0}]
[null,null,{"$f":"C303+C304","v":0},{"$nulls":14},{"$f":"R303+R304","v":0},{"$nulls":14},{"$f":"AG303+AG304","v":0}]
[null,null,{"$f":"SQRT(C305)","v":0},{"$nulls":14},{"$f":"SQRT(R305)","v":0},{"$nulls":14},{"$f":"SQRT(AG305)","v":0}]
[null,null,{"$f":"E10-E9/2*ABS(D22)","v":285},{"$nulls":14},{"$f":"T10-T9/2*ABS(S22)","v":{"$error":"#N/A"}},{"$nulls":14},{"$f":"AI10-AI9/2*ABS(AH22)","v":{"$error":"#N/A"}}]
[null,null,{"$f":"POWER(C307,2)","v":81225},{"$nulls":14},{"$f":"POWER(R307,2)","v":{"$error":"#N/A"}},{"$nulls":14},{"$f":"POWER(AG307,2)","v":{"$error":"#N/A"}}]
[null,null,{"$f":"C305*E9*E9/2","v":0},{"$nulls":14},{"$f":"R305*T9*T9/2","v":{"$error":"#N/A"}},{"$nulls":14},{"$f":"AG305*AI9*AI9/2","v":{"$error":"#N/A"}}]
[null,null,{"$f":"C308-C309","v":81225},{"$nulls":14},{"$f":"R308-R309","v":{"$error":"#N/A"}},{"$nulls":14},{"$f":"AG308-AG309","v":{"$error":"#N/A"}}]
[null,null,{"$f":"SQRT(C310)","v":285},{"$nulls":14},{"$f":"SQRT(R310)","v":{"$error":"#N/A"}},{"$nulls":14},{"$f":"SQRT(AG310)","v":{"$error":"#N/A"}}]
[null,null,{"$f":"C307+C311","v":570},{"$nulls":14},{"$f":"R307+R311","v":{"$error":"#N/A"}},{"$nulls":14},{"$f":"AG307+AG311","v":{"$error":"#N/A"}}]
[null,"vão 12",{"$nulls":15},"vão 12"]
[null,null,{"$f":"C23*C23","v":0},{"$nulls":14},{"$f":"R23*R23","v":0},{"$nulls":14},{"$f":"AG23*AG23","v":0}]
[null,null,{"$f":"D23*D23","v":0},{"$nulls":14},{"$f":"S23*S23","v":0},{"$nulls":14},{"$f":"AH23*AH23","v":0}]
[null,null,{"$f":"C314+C315","v":0},{"$nulls":14},{"$f":"R314+R315","v":0},{"$nulls":14},{"$f":"AG314+AG315","v":0}]
[null,null,{"$f":"SQRT(C316)","v":0},{"$nulls":14},{"$f":"SQRT(R316)","v":0},{"$nulls":14},{"$f":"SQRT(AG316)","v":0}]
[null,null,{"$f":"E10-E9/2*ABS(D23)","v":285},{"$nulls":14},{"$f":"T10-T9/2*ABS(S23)","v":{"$error":"#N/A"}},{"$nulls":14},{"$f":"AI10-AI9/2*ABS(AH23)","v":{"$error":"#N/A"}}]
[null,null,{"$f":"POWER(C318,2)","v":81225},{"$nulls":14},{"$f":"POWER(R318,2)","v":{"$error":"#N/A"}},{"$nulls":14},{"$f":"POWER(AG318,2)","v":{"$error":"#N/A"}}]
[null,null,{"$f":"C316*E9*E9/2","v":0},{"$nulls":14},{"$f":"R316*T9*T9/2","v":{"$error":"#N/A"}},{"$nulls":14},{"$f":"AG316*AI9*AI9/2","v":{"$error":"#N/A"}}]
[null,null,{"$f":"C319-C320","v":81225},{"$nulls":14},{"$f":"R319-R320","v":{"$error":"#N/A"}},{"$nulls":14},{"$f":"AG319-AG320","v":{"$error":"#N/A"}}]
[null,null,{"$f":"SQRT(C321)","v":285},{"$nulls":14},{"$f":"SQRT(R321)","v":{"$error":"#N/A"}},{"$nulls":14},{"$f":"SQRT(AG321)","v":{"$error":"#N/A"}}]
[null,null,{"$f":"C318+C322","v":570},{"$nulls":14},{"$f":"R318+R322","v":{"$error":"#N/A"}},{"$nulls":14},{"$f":"AG318+AG322","v":{"$error":"#N/A"}}]
[null,"vão 13",{"$nulls":15},"vão 13"]
[null,null,{"$f":"C24*C24","v":0},{"$nulls":14},{"$f":"R24*R24","v":0},{"$nulls":14},{"$f":"AG24*AG24","v":0}]
[null,null,{"$f":"D24*D24","v":0},{"$nulls":14},{"$f":"S24*S24","v":0},{"$nulls":14},{"$f":"AH24*AH24","v":0}]
[null,null,{"$f":"C325+C326","v":0},{"$nulls":14},{"$f":"R325+R326","v":0},{"$nulls":14},{"$f":"AG325+AG326","v":0}]
[null,null,{"$f":"SQRT(C327)","v":0},{"$nulls":14},{"$f":"SQRT(R327)","v":0},{"$nulls":14},{"$f":"SQRT(AG327)","v":0}]
[null,null,{"$f":"E10-E9/2*ABS(D24)","v":285},{"$nulls":14},{"$f":"T10-T9/2*ABS(S24)","v":{"$error":"#N/A"}},{"$nulls":14},{"$f":"AI10-AI9/2*ABS(AH24)","v":{"$error":"#N/A"}}]
[null,null,{"$f":"POWER(C329,2)","v":81225},{"$nulls":14},{"$f":"POWER(R329,2)","v":{"$error":"#N/A"}},{"$nulls":14},{"$f":"POWER(AG329,2)","v":{"$error":"#N/A"}}]
[null,null,{"$f":"C327*E9*E9/2","v":0},{"$nulls":14},{"$f":"R327*T9*T9/2","v":{"$error":"#N/A"}},{"$nulls":14},{"$f":"AG327*AI9*AI9/2","v":{"$error":"#N/A"}}]
[null,null,{"$f":"C330-C331","v":81225},{"$nulls":14},{"$f":"R330-R331","v":{"$error":"#N/A"}},{"$nulls":14},{"$f":"AG330-AG331","v":{"$error":"#N/A"}}]
[null,null,{"$f":"SQRT(C332)","v":285},{"$nulls":14},{"$f":"SQRT(R332)","v":{"$error":"#N/A"}},{"$nulls":14},{"$f":"SQRT(AG332)","v":{"$error":"#N/A"}}]
[null,null,{"$f":"C329+C333","v":570},{"$nulls":14},{"$f":"R329+R333","v":{"$error":"#N/A"}},{"$nulls":14},{"$f":"AG329+AG333","v":{"$error":"#N/A"}}]
[null,"vão 14",{"$nulls":15},"vão 14"]
[null,null,{"$f":"C25*C25","v":0},{"$nulls":14},{"$f":"R25*R25","v":0},{"$nulls":14},{"$f":"AG25*AG25","v":0}]
[null,null,{"$f":"D25*D25","v":0},{"$nulls":14},{"$f":"S25*S25","v":0},{"$nulls":14},{"$f":"AH25*AH25","v":0}]
[null,null,{"$f":"C336+C337","v":0},{"$nulls":14},{"$f":"R336+R337","v":0},{"$nulls":14},{"$f":"AG336+AG337","v":0}]
[null,null,{"$f":"SQRT(C338)","v":0},{"$nulls":14},{"$f":"SQRT(R338)","v":0},{"$nulls":14},{"$f":"SQRT(AG338)","v":0}]
[null,null,{"$f":"E10-E9/2*ABS(D25)","v":285},{"$nulls":14},{"$f":"T10-T9/2*ABS(S25)","v":{"$error":"#N/A"}},{"$nulls":14},{"$f":"AI10-AI9/2*ABS(AH25)","v":{"$error":"#N/A"}}]
[null,null,{"$f":"POWER(C340,2)","v":81225},{"$nulls":14},{"$f":"POWER(R340,2)","v":{"$error":"#N/A"}},{"$nulls":14},{"$f":"POWER(AG340,2)","v":{"$error":"#N/A"}}]
[null,null,{"$f":"C338*E9*E9/2","v":0},{"$nulls":14},{"$f":"R338*T9*T9/2","v":{"$error":"#N/A"}},{"$nulls":14},{"$f":"AG338*AI9*AI9/2","v":{"$error":"#N/A"}}]
[null,null,{"$f":"C341-C342","v":81225},{"$nulls":14},{"$f":"R341-R342","v":{"$error":"#N/A"}},{"$nulls":14},{"$f":"AG341-AG342","v":{"$error":"#N/A"}}]
[null,null,{"$f":"SQRT(C343)","v":285},{"$nulls":14},{"$f":"SQRT(R343)","v":{"$error":"#N/A"}},{"$nulls":14},{"$f":"SQRT(AG343)","v":{"$error":"#N/A"}}]
[null,null,{"$f":"C340+C344","v":570},{"$nulls":14},{"$f":"R340+R344","v":{"$error":"#N/A"}},{"$nulls":14},{"$f":"AG340+AG344","v":{"$error":"#N/A"}}]
[null,"vão 15",{"$nulls":15},"vão 15"]
[null,null,{"$f":"C26*C26","v":0},{"$nulls":14},{"$f":"R26*R26","v":0},{"$nulls":14},{"$f":"AG26*AG26","v":0}]
[null,null,{"$f":"D26*D26","v":0},{"$nulls":14},{"$f":"S26*S26","v":0},{"$nulls":14},{"$f":"AH26*AH26","v":0}]
[null,null,{"$f":"C347+C348","v":0},{"$nulls":14},{"$f":"R347+R348","v":0},{"$nulls":14},{"$f":"AG347+AG348","v":0}]
[null,null,{"$f":"SQRT(C349)","v":0},{"$nulls":14},{"$f":"SQRT(R349)","v":0},{"$nulls":14},{"$f":"SQRT(AG349)","v":0}]
[null,null,{"$f":"E10-E9/2*ABS(D26)","v":285},{"$nulls":14},{"$f":"T10-T9/2*ABS(S26)","v":{"$error":"#N/A"}},{"$nulls":14},{"$f":"AI10-AI9/2*ABS(AH26)","v":{"$error":"#N/A"}}]
[null,null,{"$f":"POWER(C351,2)","v":81225},{"$nulls":14},{"$f":"POWER(R351,2)","v":{"$error":"#N/A"}},{"$nulls":14},{"$f":"POWER(AG351,2)","v":{"$error":"#N/A"}}]
[null,null,{"$f":"C349*E9*E9/2","v":0},{"$nulls":14},{"$f":"R349*T9*T9/2","v":{"$error":"#N/A"}},{"$nulls":14},{"$f":"AG349*AI9*AI9/2","v":{"$error":"#N/A"}}]
[null,null,{"$f":"C352-C353","v":81225},{"$nulls":14},{"$f":"R352-R353","v":{"$error":"#N/A"}},{"$nulls":14},{"$f":"AG352-AG353","v":{"$error":"#N/A"}}]
[null,null,{"$f":"SQRT(C354)","v":285},{"$nulls":14},{"$f":"SQRT(R354)","v":{"$error":"#N/A"}},{"$nulls":14},{"$f":"SQRT(AG354)","v":{"$error":"#N/A"}}]
[null,null,{"$f":"C351+C355","v":570},{"$nulls":14},{"$f":"R351+R355","v":{"$error":"#N/A"}},{"$nulls":14},{"$f":"AG351+AG355","v":{"$error":"#N/A"}}]
[null,"vão 16",{"$nulls":15},"vão 16"]
[null,null,{"$f":"C27*C27","v":0},{"$nulls":14},{"$f":"R27*R27","v":0},{"$nulls":14},{"$f":"AG27*AG27","v":0}]
[null,null,{"$f":"D27*D27","v":0},{"$nulls":14},{"$f":"S27*S27","v":0},{"$nulls":14},{"$f":"AH27*AH27","v":0}]
[null,null,{"$f":"C358+C359","v":0},{"$nulls":14},{"$f":"R358+R359","v":0},{"$nulls":14},{"$f":"AG358+AG359","v":0}]
[null,null,{"$f":"SQRT(C360)","v":0},{"$nulls":14},{"$f":"SQRT(R360)","v":0},{"$nulls":14},{"$f":"SQRT(AG360)","v":0}]
[null,null,{"$f":"E10-E9/2*ABS(D27)","v":285},{"$nulls":14},{"$f":"T10-T9/2*ABS(S27)","v":{"$error":"#N/A"}},{"$nulls":14},{"$f":"AI10-AI9/2*ABS(AH27)","v":{"$error":"#N/A"}}]
[null,null,{"$f":"POWER(C362,2)","v":81225},{"$nulls":14},{"$f":"POWER(R362,2)","v":{"$error":"#N/A"}},{"$nulls":14},{"$f":"POWER(AG362,2)","v":{"$error":"#N/A"}}]
[null,null,{"$f":"C360*E9*E9/2","v":0},{"$nulls":14},{"$f":"R360*T9*T9/2","v":{"$error":"#N/A"}},{"$nulls":14},{"$f":"AG360*AI9*AI9/2","v":{"$error":"#N/A"}}]
[null,null,{"$f":"C363-C364","v":81225},{"$nulls":14},{"$f":"R363-R364","v":{"$error":"#N/A"}},{"$nulls":14},{"$f":"AG363-AG364","v":{"$error":"#N/A"}}]
[null,null,{"$f":"SQRT(C365)","v":285},{"$nulls":14},{"$f":"SQRT(R365)","v":{"$error":"#N/A"}},{"$nulls":14},{"$f":"SQRT(AG365)","v":{"$error":"#N/A"}}]
[null,null,{"$f":"C362+C366","v":570},{"$nulls":14},{"$f":"R362+R366","v":{"$error":"#N/A"}},{"$nulls":14},{"$f":"AG362+AG366","v":{"$error":"#N/A"}}]
[null,"vão 17",{"$nulls":15},"vão 17"]
[null,null,{"$f":"C28*C28","v":0},{"$nulls":14},{"$f":"R28*R28","v":0},{"$nulls":14},{"$f":"AG28*AG28","v":0}]
[null,null,{"$f":"D28*D28","v":0},{"$nulls":14},{"$f":"S28*S28","v":0},{"$nulls":14},{"$f":"AH28*AH28","v":0}]
[null,null,{"$f":"C369+C370","v":0},{"$nulls":14},{"$f":"R369+R370","v":0},{"$nulls":14},{"$f":"AG369+AG370","v":0}]
[null,null,{"$f":"SQRT(C371)","v":0},{"$nulls":14},{"$f":"SQRT(R371)","v":0},{"$nulls":14},{"$f":"SQRT(AG371)","v":0}]
[null,null,{"$f":"E10-E9/2*ABS(D28)","v":285},{"$nulls":14},{"$f":"T10-T9/2*ABS(S28)","v":{"$error":"#N/A"}},{"$nulls":14},{"$f":"AI10-AI9/2*ABS(AH28)","v":{"$error":"#N/A"}}]
[null,null,{"$f":"POWER(C373,2)","v":81225},{"$nulls":14},{"$f":"POWER(R373,2)","v":{"$error":"#N/A"}},{"$nulls":14},{"$f":"POWER(AG373,2)","v":{"$error":"#N/A"}}]
[null,null,{"$f":"C371*E9*E9/2","v":0},{"$nulls":14},{"$f":"R371*T9*T9/2","v":{"$error":"#N/A"}},{"$nulls":14},{"$f":"AG371*AI9*AI9/2","v":{"$error":"#N/A"}}]
[null,null,{"$f":"C374-C375","v":81225},{"$nulls":14},{"$f":"R374-R375","v":{"$error":"#N/A"}},{"$nulls":14},{"$f":"AG374-AG375","v":{"$error":"#N/A"}}]
[null,null,{"$f":"SQRT(C376)","v":285},{"$nulls":14},{"$f":"SQRT(R376)","v":{"$error":"#N/A"}},{"$nulls":14},{"$f":"SQRT(AG376)","v":{"$error":"#N/A"}}]
[null,null,{"$f":"C373+C377","v":570},{"$nulls":14},{"$f":"R373+R377","v":{"$error":"#N/A"}},{"$nulls":14},{"$f":"AG373+AG377","v":{"$error":"#N/A"}}]
[null,"vão 18",{"$nulls":15},"vão 18"]
[null,null,{"$f":"C29*C29","v":0},{"$nulls":14},{"$f":"R29*R29","v":0},{"$nulls":14},{"$f":"AG29*AG29","v":0}]
[null,null,{"$f":"D29*D29","v":0},{"$nulls":14},{"$f":"S29*S29","v":0},{"$nulls":14},{"$f":"AH29*AH29","v":0}]
[null,null,{"$f":"C380+C381","v":0},{"$nulls":14},{"$f":"R380+R381","v":0},{"$nulls":14},{"$f":"AG380+AG381","v":0}]
[null,null,{"$f":"SQRT(C382)","v":0},{"$nulls":14},{"$f":"SQRT(R382)","v":0},{"$nulls":14},{"$f":"SQRT(AG382)","v":0}]
[null,null,{"$f":"E10-E9/2*ABS(D29)","v":285},{"$nulls":14},{"$f":"T10-T9/2*ABS(S29)","v":{"$error":"#N/A"}},{"$nulls":14},{"$f":"AI10-AI9/2*ABS(AH29)","v":{"$error":"#N/A"}}]
[null,null,{"$f":"POWER(C384,2)","v":81225},{"$nulls":14},{"$f":"POWER(R384,2)","v":{"$error":"#N/A"}},{"$nulls":14},{"$f":"POWER(AG384,2)","v":{"$error":"#N/A"}}]
[null,null,{"$f":"C382*E9*E9/2","v":0},{"$nulls":14},{"$f":"R382*T9*T9/2","v":{"$error":"#N/A"}},{"$nulls":14},{"$f":"AG382*AI9*AI9/2","v":{"$error":"#N/A"}}]
[null,null,{"$f":"C385-C386","v":81225},{"$nulls":14},{"$f":"R385-R386","v":{"$error":"#N/A"}},{"$nulls":14},{"$f":"AG385-AG386","v":{"$error":"#N/A"}}]
[null,null,{"$f":"SQRT(C387)","v":285},{"$nulls":14},{"$f":"SQRT(R387)","v":{"$error":"#N/A"}},{"$nulls":14},{"$f":"SQRT(AG387)","v":{"$error":"#N/A"}}]
[null,null,{"$f":"C384+C388","v":570},{"$nulls":14},{"$f":"R384+R388","v":{"$error":"#N/A"}},{"$nulls":14},{"$f":"AG384+AG388","v":{"$error":"#N/A"}}]
[null,"vão 19",{"$nulls":15},"vão 19"]
[null,null,{"$f":"C30*C30","v":0},{"$nulls":14},{"$f":"R30*R30","v":0},{"$nulls":14},{"$f":"AG30*AG30","v":0}]
[null,null,{"$f":"D30*D30","v":0},{"$nulls":14},{"$f":"S30*S30","v":0},{"$nulls":14},{"$f":"AH30*AH30","v":0}]
[null,null,{"$f":"C391+C392","v":0},{"$nulls":14},{"$f":"R391+R392","v":0},{"$nulls":14},{"$f":"AG391+AG392","v":0}]
[null,null,{"$f":"SQRT(C393)","v":0},{"$nulls":14},{"$f":"SQRT(R393)","v":0},{"$nulls":14},{"$f":"SQRT(AG393)","v":0}]
[null,null,{"$f":"E10-E9/2*ABS(D30)","v":285},{"$nulls":14},{"$f":"T10-T9/2*ABS(S30)","v":{"$error":"#N/A"}},{"$nulls":14},{"$f":"AI10-AI9/2*ABS(AH30)","v":{"$error":"#N/A"}}]
[null,null,{"$f":"POWER(C395,2)","v":81225},{"$nulls":14},{"$f":"POWER(R395,2)","v":{"$error":"#N/A"}},{"$nulls":14},{"$f":"POWER(AG395,2)","v":{"$error":"#N/A"}}]
[null,null,{"$f":"C393*E9*E9/2","v":0},{"$nulls":14},{"$f":"R393*T9*T9/2","v":{"$error":"#N/A"}},{"$nulls":14},{"$f":"AG393*AI9*AI9/2","v":{"$error":"#N/A"}}]
[null,null,{"$f":"C396-C397","v":81225},{"$nulls":14},{"$f":"R396-R397","v":{"$error":"#N/A"}},{"$nulls":14},{"$f":"AG396-AG397","v":{"$error":"#N/A"}}]
[null,null,{"$f":"SQRT(C398)","v":285},{"$nulls":14},{"$f":"SQRT(R398)","v":{"$error":"#N/A"}},{"$nulls":14},{"$f":"SQRT(AG398)","v":{"$error":"#N/A"}}]
[null,null,{"$f":"C395+C399","v":570},{"$nulls":14},{"$f":"R395+R399","v":{"$error":"#N/A"}},{"$nulls":14},{"$f":"AG395+AG399","v":{"$error":"#N/A"}}]

{"sheet":"Configuracoes","index":17,"n_rows":54,"n_cols":13,"rows_kept":54,"merged":[[1,0,1,7],[2,10,3,12],[3,6,3,8],[4,3,4,4]]}
[]
["ATENÇÃO NUNCA EXCLUIR NEM INCLUIR LINHAS NEM COLUNAS NESTA PLANILHA"]
[{"$nulls":10},"Projetistas"]
[{"$nulls":6},"Gerar Tabela"]
["Espaçamentos Verticais","Valor em (m)",null,"Configuração Inicial",null,null,"º C","Vãos","Variar",null,"Usuario","Função","CREA"]
["Distância entre a ponta do poste e a 1º estrutura na rede",{"v":0.2,"d":"0.20"},null,"optPrimária","exibir",null,-5,30,5,null,"Eleandro Luis Marques da Silva","Eletrotécnico",127488]
["Distância entre  estruturas primárias  (em Circuito Duplo )","1,0",null,"optSecundaria","noexibir",null,0,35,10]
["Distância entre  a estrutura primária e secundária (circ. Simples)","1,0",null,"optMista","noexibir",null,5,40,15]
["Dist. entre 2º  estrut. Primária e  estrut. secundária (Circ. Duplo)","0,7",null,"opttangente","exibir",null,10,45,20]
["Distância entre estruturas Secundarias","0,2",null,"optancoragem","noexibir",null,15,50,30]
["Distância do cabo de cobertura até a ponta do poste","0,01",null,"optgrau","noexibir",null,20,55,40]
["Distância entre rede secundária e cabo telefonico","0,4",null,"optmetro","exibir",null,25,60,50]
["Distância entre condutores na rede Pilar","0,5",null,"Circuito Simples","exibir",null,30,65]
["Distância entre circuitos duplos em redes compactas",{"v":0.6,"d":"0.60"},null,"Circuito Duplo","noexibir",null,35,70]
[{"$nulls":3},"Circ Simpl Pilar?","noexibir",null,40,75]
[{"$nulls":3},"opturbana","noexibir",null,45,80]
[{"$nulls":3},"optrural","exibir",null,50,85]
[{"$nulls":3},"Opt15_kv","exibir",null,null,90]
[{"$nulls":3},"Opt25_kv","noexibir",null,null,95]
[{"$nulls":7},100]
[{"$nulls":7},105]
[{"$nulls":7},110]
[{"$nulls":7},115]
[{"$nulls":7},120]
[{"$nulls":7},125]
[{"$nulls":7},130]
[{"$nulls":7},135]
[{"$nulls":7},140]
[{"$nulls":7},145]
[{"$nulls":7},150]
[{"$nulls":7},155]
[{"$nulls":7},160]
[{"$nulls":7},165]
[{"$nulls":7},170]
[{"$nulls":7},175]
[{"$nulls":7},180]
[{"$nulls":7},185]
[{"$nulls":7},190]
[{"$nulls":7},195]
[{"$nulls":7},200]
[{"$nulls":7},205]
[{"$nulls":7},210]
[{"$nulls":7},215]
[{"$nulls":7},220]
[{"$nulls":7},225]
[{"$nulls":7},230]
[{"$nulls":7},235]
[{"$nulls":7},240]
[{"$nulls":7},245]
[{"$nulls":7},250]
[{"$nulls":7},255]
[{"$nulls":7},260]
[{"$nulls":7},265]
[{"$nulls":7},270]

{"sheet":"Estrut_Primarias","index":18,"n_rows":37,"n_cols":16,"rows_kept":37,"merged":[[1,0,1,15],[5,0,5,15],[7,0,7,3],[7,6,7,9],[7,12,7,15],[9,0,12,0],[9,6,12,6],[9,12,10,12],[11,12,12,12],[13,0,16,0],[13,6,16,6],[13,12,14,12],[15,12,16,12],[17,0,20,0],[17,6,20,6],[17,12,18,12],[19,12,20,12],[21,0,24,0],[21,6,24,6],[21,12,22,12],[25,0,28,0],[25,6,28,6],[29,0,32,0],[29,6,32,6],[33,0,36,0],[33,6,36,6]]}
[]
["ATENÇÃO NUNCA EXCLUIR NEM INCLUIR LINHAS NEM COLUNAS NESTA PLANILHA"]
[]
[]
[]
["DADOS ESPECÍFICOS PARA REDES RURAIS"]
[]
["Rede Convencional",{"$nulls":5},"Rede tipo pilar",{"$nulls":5},"Rede Secundária"]
["ângulo deve ser",">","<=","ESTRUTURA INDICADA",null,null,"ângulo deve ser",">","<=","ESTRUTURA INDICADA",null,null,"ângulo deve ser",">","<=","ESTRUTURA INDICADA"]
["4 CAA",0,21,"N1, T1, U1, NP1",null,null,"4 CAA",0,10,"P1-TP1-TP2-UP1-UP1T-UP2T",null,null,"4 CAA",0,45,"Não seccionar"]
["4 CAA",21,45,"N2, T2, U2, NP1",{"$nulls":3},{"$f":"I10","v":10},60,"P2-P4-P3A-UP2-UP4-UP3A",{"$nulls":3},45,null,"Seccionar"]
["4 CAA",45,60,"N4, U4, T4, P3A, U3A",{"$nulls":3},60,60,"P2-P4-P3A-UP2-UP4-UP3A",null,null,"2 CAA",0,45,"Não seccionar"]
["4 CAA",60,null,"N3 + N3 ,  U3 + U3",{"$nulls":3},60,null,"P3 + P3-UP3 + UP3",null,null,"2 CAA",45,null,"Seccionar"]
["2 CAA",0,15,"N1, T1, U1, NP1",null,null,"2 CAA",0,10,"P1-TP1-TP2-UP1-UP1T-UP2T",null,null,"1/0 CAA",0,45,"Não seccionar"]
["2 CAA",15,29,"N2, T2, U2, NP1",null,null,"2 CAA",{"$f":"I14","v":10},45,"P2-UP2",null,null,"1/0 CAA",45,null,"Seccionar"]
["2 CAA",29,60,"N4, T4, U4, P3A, U3A",null,null,"2 CAA",45,60,"P4-P3A-UP4-UP3A",null,null,"2/0 CAA",0,45,"Não seccionar"]
["2 CAA",60,null,"N3 + N3, U3 + U3",null,null,"2 CAA",60,null,"P3 + P3-UP3 + UP3",null,null,"2/0 CAA",45,null,"Seccionar"]
["1/0 CAA",0,10,"N1, T1, NP1",null,null,"1/0 CAA",0,9,"P1-TP1-TP2-UP1-UP1T-UP2T",null,null,"3/0 CAA",0,45,"Não seccionar"]
["1/0 CAA",10,20,"N2, T2, NP1",null,null,"1/0 CAA",9,30,"P2-UP2",null,null,"3/0 CAA",45,null,"Seccionar"]
["1/0 CAA",20,60,"N4, T4",null,null,"1/0 CAA",30,60,"P4-UP4",null,null,"4/0 CAA",0,45,"Não seccionar"]
["1/0 CAA",60,null,"N3 + N3",null,null,"1/0 CAA",60,null,"P3 + P3-UP3 + UP3",null,null,"4/0 CAA",45,null,"Seccionar"]
["2/0 CAA",0,9,"N1, T1, NP1",null,null,"2/0 CAA",0,8,"P1-TP1-TP2-UP1-UP1T-UP2T",null,null,"336,4 CAA",0,45,"Não seccionar"]
["2/0 CAA",9,18,"N2, T2, NP1",null,null,"2/0 CAA",8,24,"P2-UP2",null,null,"336,4 CAA",45,null,"Seccionar"]
["2/0 CAA",18,60,"N4, T4",null,null,"2/0 CAA",24,60,"P4-UP4"]
["2/0 CAA",60,null,"N3 + N3",null,null,"2/0 CAA",61,null,"P3 + P3-UP3 + UP3"]
["3/0 CAA",0,5,"N1, T1, NP1",null,null,"3/0 CAA",0,5,"P1-TP1-TP2-UP1-UP1T-UP2T"]
["3/0 CAA",5,11,"N2, T2, NP1",null,null,"3/0 CAA",5,24,"P2-UP2"]
["3/0 CAA",11,60,"N4, T4",null,null,"3/0 CAA",24,60,"P4-UP4"]
["3/0 CAA",60,null,"N3 + N3",null,null,"3/0 CAA",60,null,"P3 + P3-UP3 + UP3"]
["4/0 CAA",0,5,"N1, T1, NP1",null,null,"4/0 CAA",0,5,"P1-TP1-TP2-UP1-UP1T-UP2T"]
["4/0 CAA",5,11,"N2, T2, NP1",null,null,"4/0 CAA",5,15,"P2-UP2"]
["4/0 CAA",11,60,"N4, T4",null,null,"4/0 CAA",15,60,"P4-UP4"]
["4/0 CAA",60,null,"N3 + N3",null,null,"4/0 CAA",60,null,"P3 + P3-UP3 + UP3"]
["336,4 CAA",0,3,"N1, T1, NP1",null,null,"336,4 CAA",0,3,"P1-TP1-TP2-UP1-UP1T-UP2T"]
["336,4 CAA",3,7,"N2, T2, NP1",null,null,"336,4 CAA",3,9,"P2-UP2"]
["336,4 CAA",7,60,"N4, T4",null,null,"336,4 CAA",9,60,"P4-UP4"]
["336,4 CAA",60,null,"N3 + N3",null,null,"336,4 CAA",60,null,"P3 + P3-UP3 + UP3"]

{"sheet":"Estrut_Urbana_15KV","index":19,"n_rows":1315,"n_cols":183,"rows_kept":1315,"merged":[[0,0,2,183],[3,0,84,0],[3,2,7,2],[3,183,84,183],[8,2,12,2],[13,2,17,2],[18,2,22,2],[23,2,27,2],[28,2,32,2],[33,2,37,2],[38,2,42,2],[43,2,47,2],[48,2,52,2],[53,2,57,2],[58,2,62,2],[63,2,67,2],[68,2,72,2],[73,2,77,2],[78,2,82,2],[84,3,84,7],[84,8,84,12],[84,13,84,17],[84,18,84,22],[84,23,84,27],[84,28,84,32],[84,33,84,37],[84,38,84,42],[84,43,84,47],[84,48,84,52],[84,53,84,57],[84,58,84,62],[84,63,84,67],[84,68,84,72],[84,73,84,77],[84,78,84,82],[84,83,84,87],[84,88,84,92],[84,93,84,97],[84,98,84,102],[84,103,84,107],[84,108,84,112],[84,113,84,117],[84,118,84,122],[84,123,84,127],[84,128,84,132],[84,133,84,137],[84,138,84,142],[84,143,84,147],[84,148,84,152],[84,153,84,157],[84,158,84,162],[84,163,84,167],[84,168,84,172],[84,173,84,177],[84,178,84,182],[85,0,166,0],[85,2,89,2],[85,183,166,183],[90,2,94,2],[95,2,99,2],[100,2,104,2],[105,2,109,2],[110,2,114,2],[115,2,119,2],[120,2,124,2],[125,2,129,2],[130,2,134,2],[135,2,139,2],[140,2,144,2],[145,2,149,2],[150,2,154,2],[155,2,159,2],[160,2,164,2],[166,3,166,7],[166,8,166,12],[166,13,166,17],[166,18,166,22],[166,23,166,27],[166,28,166,32],[166,33,166,37],[166,38,166,42],[166,43,166,47],[166,48,166,52],[166,53,166,57],[166,58,166,62],[166,63,166,67],[166,68,166,72],[166,73,166,77],[166,78,166,82],[166,83,166,87],[166,88,166,92],[166,93,166,97],[166,98,166,102],[166,103,166,107],[166,108,166,112],[166,113,166,117],[166,118,166,122],[166,123,166,127],[166,128,166,132],[166,133,166,137],[166,138,166,142],[166,143,166,147],[166,148,166,152],[166,153,166,157],[166,158,166,162],[166,163,166,167],[166,168,166,172],[166,173,166,177],[166,178,166,182],[167,0,248,0],[167,2,171,2],[167,183,248,183],[172,2,176,2],[177,2,181,2],[182,2,186,2],[187,2,191,2],[192,2,196,2],[197,2,201,2],[202,2,206,2],[207,2,211,2],[212,2,216,2],[217,2,221,2],[222,2,226,2],[227,2,231,2],[232,2,236,2],[237,2,241,2],[242,2,246,2],[248,3,248,7],[248,8,248,12],[248,13,248,17],[248,18,248,22],[248,23,248,27],[248,28,248,32],[248,33,248,37],[248,38,248,42],[248,43,248,47],[248,48,248,52],[248,53,248,57],[248,58,248,62],[248,63,248,67],[248,68,248,72],[248,73,248,77],[248,78,248,82],[248,83,248,87],[248,88,248,92],[248,93,248,97],[248,98,248,102],[248,103,248,107],[248,108,248,112],[248,113,248,117],[248,118,248,122],[248,123,248,127],[248,128,248,132],[248,133,248,137],[248,138,248,142],[248,143,248,147],[248,148,248,152],[248,153,248,157],[248,158,248,162],[248,163,248,167],[248,168,248,172],[248,173,248,177],[248,178,248,182],[249,0,330,0],[249,2,253,2],[249,183,330,183],[254,2,258,2],[259,2,263,2],[264,2,268,2],[269,2,273,2],[274,2,278,2],[279,2,283,2],[284,2,288,2],[289,2,293,2],[294,2,298,2],[299,2,303,2],[304,2,308,2],[309,2,313,2],[314,2,318,2],[319,2,323,2],[324,2,328,2],[330,3,330,7],[330,8,330,12],[330,13,330,17],[330,18,330,22],[330,23,330,27],[330,28,330,32],[330,33,330,37],[330,38,330,42],[330,43,330,47],[330,48,330,52],[330,53,330,57],[330,58,330,62],[330,63,330,67],[330,68,330,72],[330,73,330,77],[330,78,330,82],[330,83,330,87],[330,88,330,92],[330,93,330,97],[330,98,330,102],[330,103,330,107],[330,108,330,112],[330,113,330,117],[330,118,330,122],[330,123,330,127],[330,128,330,132],[330,133,330,137],[330,138,330,142],[330,143,330,147],[330,148,330,152],[330,153,330,157],[330,158,330,162],[330,163,330,167],[330,168,330,172],[330,173,330,177],[330,178,330,182],[331,0,412,0],[331,2,335,2],[331,183,412,183],[336,2,340,2],[341,2,345,2],[346,2,350,2],[351,2,355,2],[356,2,360,2],[361,2,365,2],[366,2,370,2],[371,2,375,2],[376,2,380,2],[381,2,385,2],[386,2,390,2],[391,2,395,2],[396,2,400,2],[401,2,405,2],[406,2,410,2],[412,3,412,7],[412,8,412,12],[412,13,412,17],[412,18,412,22],[412,23,412,27],[412,28,412,32],[412,33,412,37],[412,38,412,42],[412,43,412,47],[412,48,412,52],[412,53,412,57],[412,58,412,62],[412,63,412,67],[412,68,412,72],[412,73,412,77],[412,78,412,82],[412,83,412,87],[412,88,412,92],[412,93,412,97],[412,98,412,102],[412,103,412,107],[412,108,412,112],[412,113,412,117],[412,118,412,122],[412,123,412,127],[412,128,412,132],[412,133,412,137],[412,138,412,142],[412,143,412,147],[412,148,412,152],[412,153,412,157],[412,158,412,162],[412,163,412,167],[412,168,412,172],[412,173,412,177],[412,178,412,182],[413,0,494,0],[413,2,417,2],[413,183,494,183],[418,2,422,2],[423,2,427,2],[428,2,432,2],[433,2,437,2],[438,2,442,2],[443,2,447,2],[448,2,452,2],[453,2,457,2],[458,2,462,2],[463,2,467,2],[468,2,472,2],[473,2,477,2],[478,2,482,2],[483,2,487,2],[488,2,492,2],[494,3,494,7],[494,8,494,12],[494,13,494,17],[494,18,494,22],[494,23,494,27],[494,28,494,32],[494,33,494,37],[494,38,494,42],[494,43,494,47],[494,48,494,52],[494,53,494,57],[494,58,494,62],[494,63,494,67],[494,68,494,72],[494,73,494,77],[494,78,494,82],[494,83,494,87],[494,88,494,92],[494,93,494,97],[494,98,494,102],[494,103,494,107],[494,108,494,112],[494,113,494,117],[494,118,494,122],[494,123,494,127],[494,128,494,132],[494,133,494,137],[494,138,494,142],[494,143,494,147],[494,148,494,152],[494,153,494,157],[494,158,494,162],[494,163,494,167],[494,168,494,172],[494,173,494,177],[494,178,494,182],[495,0,576,0],[495,2,499,2],[495,183,576,183],[500,2,504,2],[505,2,509,2],[510,2,514,2],[515,2,519,2],[520,2,524,2],[525,2,529,2],[530,2,534,2],[535,2,539,2],[540,2,544,2],[545,2,549,2],[550,2,554,2],[555,2,559,2],[560,2,564,2],[565,2,569,2],[570,2,574,2],[576,3,576,7],[576,8,576,12],[576,13,576,17],[576,18,576,22],[576,23,576,27],[576,28,576,32],[576,33,576,37],[576,38,576,42],[576,43,576,47],[576,48,576,52],[576,53,576,57],[576,58,576,62],[576,63,576,67],[576,68,576,72],[576,73,576,77],[576,78,576,82],[576,83,576,87],[576,88,576,92],[576,93,576,97],[576,98,576,102],[576,103,576,107],[576,108,576,112],[576,113,576,117],[576,118,576,122],[576,123,576,127],[576,128,576,132],[576,133,576,137],[576,138,576,142],[576,143,576,147],[576,148,576,152],[576,153,576,157],[576,158,576,162],[576,163,576,167],[576,168,576,172],[576,173,576,177],[576,178,576,182],[577,0,658,0],[577,2,581,2],[577,183,658,183],[582,2,586,2],[587,2,591,2],[592,2,596,2],[597,2,601,2],[602,2,606,2],[607,2,611,2],[612,2,616,2],[617,2,621,2],[622,2,626,2],[627,2,631,2],[632,2,636,2],[637,2,641,2],[642,2,646,2],[647,2,651,2],[652,2,656,2],[658,3,658,7],[658,8,658,12],[658,13,658,17],[658,18,658,22],[658,23,658,27],[658,28,658,32],[658,33,658,37],[658,38,658,42],[658,43,658,47],[658,48,658,52],[658,53,658,57],[658,58,658,62],[658,63,658,67],[658,68,658,72],[658,73,658,77],[658,78,658,82],[658,83,658,87],[658,88,658,92],[658,93,658,97],[658,98,658,102],[658,103,658,107],[658,108,658,112],[658,113,658,117],[658,118,658,122],[658,123,658,127],[658,128,658,132],[658,133,658,137],[658,138,658,142],[658,143,658,147],[658,148,658,152],[658,153,658,157],[658,158,658,162],[658,163,658,167],[658,168,658,172],[658,173,658,177],[658,178,658,182],[659,0,740,0],[659,2,663,2],[659,183,740,183],[664,2,668,2],[669,2,673,2],[674,2,678,2],[679,2,683,2],[684,2,688,2],[689,2,693,2],[694,2,698,2],[699,2,703,2],[704,2,708,2],[709,2,713,2],[714,2,718,2],[719,2,723,2],[724,2,728,2],[729,2,733,2],[734,2,738,2],[740,3,740,7],[740,8,740,12],[740,13,740,17],[740,18,740,22],[740,23,740,27],[740,28,740,32],[740,33,740,37],[740,38,740,42],[740,43,740,47],[740,48,740,52],[740,53,740,57],[740,58,740,62],[740,63,740,67],[740,68,740,72],[740,73,740,77],[740,78,740,82],[740,83,740,87],[740,88,740,92],[740,93,740,97],[740,98,740,102],[740,103,740,107],[740,108,740,112],[740,113,740,117],[740,118,740,122],[740,123,740,127],[740,128,740,132],[740,133,740,137],[740,138,740,142],[740,143,740,147],[740,148,740,152],[740,153,740,157],[740,158,740,162],[740,163,740,167],[740,168,740,172],[740,173,740,177],[740,178,740,182],[741,0,822,0],[741,2,745,2],[741,183,822,183],[746,2,750,2],[751,2,755,2],[756,2,760,2],[761,2,765,2],[766,2,770,2],[771,2,775,2],[776,2,780,2],[781,2,785,2],[786,2,790,2],[791,2,795,2],[796,2,800,2],[801,2,805,2],[806,2,810,2],[811,2,815,2],[816,2,820,2],[822,3,822,7],[822,8,822,12],[822,13,822,17],[822,18,822,22],[822,23,822,27],[822,28,822,32],[822,33,822,37],[822,38,822,42],[822,43,822,47],[822,48,822,52],[822,53,822,57],[822,58,822,62],[822,63,822,67],[822,68,822,72],[822,73,822,77],[822,78,822,82],[822,83,822,87],[822,88,822,92],[822,93,822,97],[822,98,822,102],[822,103,822,107],[822,108,822,112],[822,113,822,117],[822,118,822,122],[822,123,822,127],[822,128,822,132],[822,133,822,137],[822,138,822,142],[822,143,822,147],[822,148,822,152],[822,153,822,157],[822,158,822,162],[822,163,822,167],[822,168,822,172],[822,173,822,177],[822,178,822,182],[823,0,904,0],[823,2,827,2],[823,183,904,183],[828,2,832,2],[833,2,837,2],[838,2,842,2],[843,2,847,2],[848,2,852,2],[853,2,857,2],[858,2,862,2],[863,2,867,2],[868,2,872,2],[873,2,877,2],[878,2,882,2],[883,2,887,2],[888,2,892,2],[893,2,897,2],[898,2,902,2],[904,3,904,7],[904,8,904,12],[904,13,904,17],[904,18,904,22],[904,23,904,27],[904,28,904,32],[904,33,904,37],[904,38,904,42],[904,43,904,47],[904,48,904,52],[904,53,904,57],[904,58,904,62],[904,63,904,67],[904,68,904,72],[904,73,904,77],[904,78,904,82],[904,83,904,87],[904,88,904,92],[904,93,904,97],[904,98,904,102],[904,103,904,107],[904,108,904,112],[904,113,904,117],[904,118,904,122],[904,123,904,127],[904,128,904,132],[904,133,904,137],[904,138,904,142],[904,143,904,147],[904,148,904,152],[904,153,904,157],[904,158,904,162],[904,163,904,167],[904,168,904,172],[904,173,904,177],[904,178,904,182],[905,0,986,0],[905,2,909,2],[905,183,986,183],[910,2,914,2],[915,2,919,2],[920,2,924,2],[925,2,929,2],[930,2,934,2],[935,2,939,2],[940,2,944,2],[945,2,949,2],[950,2,954,2],[955,2,959,2],[960,2,964,2],[965,2,969,2],[970,2,974,2],[975,2,979,2],[980,2,984,2],[986,3,986,7],[986,8,986,12],[986,13,986,17],[986,18,986,22],[986,23,986,27],[986,28,986,32],[986,33,986,37],[986,38,986,42],[986,43,986,47],[986,48,986,52],[986,53,986,57],[986,58,986,62],[986,63,986,67],[986,68,986,72],[986,73,986,77],[986,78,986,82],[986,83,986,87],[986,88,986,92],[986,93,986,97],[986,98,986,102],[986,103,986,107],[986,108,986,112],[986,113,986,117],[986,118,986,122],[986,123,986,127],[986,128,986,132],[986,133,986,137],[986,138,986,142],[986,143,986,147],[986,148,986,152],[986,153,986,157],[986,158,986,162],[986,163,986,167],[986,168,986,172],[986,173,986,177],[986,178,986,182],[987,0,1068,0],[987,2,991,2],[987,183,1068,183],[992,2,996,2],[997,2,1001,2],[1002,2,1006,2],[1007,2,1011,2],[1012,2,1016,2],[1017,2,1021,2],[1022,2,1026,2],[1027,2,1031,2],[1032,2,1036,2],[1037,2,1041,2],[1042,2,1046,2],[1047,2,1051,2],[1052,2,1056,2],[1057,2,1061,2],[1062,2,1066,2],[1068,3,1068,7],[1068,8,1068,12],[1068,13,1068,17],[1068,18,1068,22],[1068,23,1068,27],[1068,28,1068,32],[1068,33,1068,37],[1068,38,1068,42],[1068,43,1068,47],[1068,48,1068,52],[1068,53,1068,57],[1068,58,1068,62],[1068,63,1068,67],[1068,68,1068,72],[1068,73,1068,77],[1068,78,1068,82],[1068,83,1068,87],[1068,88,1068,92],[1068,93,1068,97],[1068,98,1068,102],[1068,103,1068,107],[1068,108,1068,112],[1068,113,1068,117],[1068,118,1068,122],[1068,123,1068,127],[1068,128,1068,132],[1068,133,1068,137],[1068,138,1068,142],[1068,143,1068,147],[1068,148,1068,152],[1068,153,1068,157],[1068,158,1068,162],[1068,163,1068,167],[1068,168,1068,172],[1068,173,1068,177],[1068,178,1068,182],[1069,0,1150,0],[1069,2,1073,2],[1069,183,1150,183],[1074,2,1078,2],[1079,2,1083,2],[1084,2,1088,2],[1089,2,1093,2],[1094,2,1098,2],[1099,2,1103,2],[1104,2,1108,2],[1109,2,1113,2],[1114,2,1118,2],[1119,2,1123,2],[1124,2,1128,2],[1129,2,1133,2],[1134,2,1138,2],[1139,2,1143,2],[1144,2,1148,2],[1150,3,1150,7],[1150,8,1150,12],[1150,13,1150,17],[1150,18,1150,22],[1150,23,1150,27],[1150,28,1150,32],[1150,33,1150,37],[1150,38,1150,42],[1150,43,1150,47],[1150,48,1150,52],[1150,53,1150,57],[1150,58,1150,62],[1150,63,1150,67],[1150,68,1150,72],[1150,73,1150,77],[1150,78,1150,82],[1150,83,1150,87],[1150,88,1150,92],[1150,93,1150,97],[1150,98,1150,102],[1150,103,1150,107],[1150,108,1150,112],[1150,113,1150,117],[1150,118,1150,122],[1150,123,1150,127],[1150,128,1150,132],[1150,133,1150,137],[1150,138,1150,142],[1150,143,1150,147],[1150,148,1150,152],[1150,153,1150,157],[1150,158,1150,162],[1150,163,1150,167],[1150,168,1150,172],[1150,173,1150,177],[1150,178,1150,182],[1151,0,1232,0],[1151,2,1155,2],[1151,183,1232,183],[1156,2,1160,2],[1161,2,1165,2],[1166,2,1170,2],[1171,2,1175,2],[1176,2,1180,2],[1181,2,1185,2],[1186,2,1190,2],[1191,2,1195,2],[1196,2,1200,2],[1201,2,1205,2],[1206,2,1210,2],[1211,2,1215,2],[1216,2,1220,2],[1221,2,1225,2],[1226,2,1230,2],[1232,3,1232,7],[1232,8,1232,12],[1232,13,1232,17],[1232,18,1232,22],[1232,23,1232,27],[1232,28,1232,32],[1232,33,1232,37],[1232,38,1232,42],[1232,43,1232,47],[1232,48,1232,52],[1232,53,1232,57],[1232,58,1232,62],[1232,63,1232,67],[1232,68,1232,72],[1232,73,1232,77],[1232,78,1232,82],[1232,83,1232,87],[1232,88,1232,92],[1232,93,1232,97],[1232,98,1232,102],[1232,103,1232,107],[1232,108,1232,112],[1232,113,1232,117],[1232,118,1232,122],[1232,123,1232,127],[1232,128,1232,132],[1232,133,1232,137],[1232,138,1232,142],[1232,143,1232,147],[1232,148,1232,152],[1232,153,1232,157],[1232,158,1232,162],[1232,163,1232,167],[1232,168,1232,172],[1232,173,1232,177],[1232,178,1232,182],[1233,0,1314,0],[1233,2,1237,2],[1233,183,1314,183],[1238,2,1242,2],[1243,2,1247,2],[1248,2,1252,2],[1253,2,1257,2],[1258,2,1262,2],[1263,2,1267,2],[1268,2,1272,2],[1273,2,1277,2],[1278,2,1282,2],[1283,2,1287,2],[1288,2,1292,2],[1293,2,1297,2],[1298,2,1302,2],[1303,2,1307,2],[1308,2,1312,2],[1314,3,1314,7],[1314,8,1314,12],[1314,13,1314,17],[1314,18,1314,22],[1314,23,1314,27],[1314,28,1314,32],[1314,33,1314,37],[1314,38,1314,42],[1314,43,1314,47],[1314,48,1314,52],[1314,53,1314,57],[1314,58,1314,62],[1314,63,1314,67],[1314,68,1314,72],[1314,73,1314,77],[1314,78,1314,82],[1314,83,1314,87],[1314,88,1314,92],[1314,93,1314,97],[1314,98,1314,102],[1314,103,1314,107],[1314,108,1314,112],[1314,113,1314,117],[1314,118,1314,122],[1314,123,1314,127],[1314,128,1314,132],[1314,133,1314,137],[1314,138,1314,142],[1314,143,1314,147],[1314,148,1314,152],[1314,153,1314,157],[1314,158,1314,162],[1314,163,1314,167],[1314,168,1314,172],[1314,173,1314,177],[1314,178,1314,182]]}
["NÃO INSERIR NEM EXCLUIR LINHAS OU COLUNAS NESTA PLANILA"]
[]
[]
["??4 CA",80,80]
[null,79]
[null,78]
[null,77]
[null,76]
[null,75,75]
[null,74]
[null,73]
[null,72]
[null,71]
[null,70,70]
[null,69]
[null,68]
[null,67]
[null,66]
[null,65,65]
[null,64]
[null,63]
[null,62]
[null,61]
[null,60,60]
[null,59]
[null,58]
[null,57]
[null,56]
[null,55,55]
[null,54]
[null,53]
[null,52]
[null,51]
[null,50,50]
[null,49]
[null,48]
[null,47]
[null,46]
[null,45,45]
[null,44]
[null,43]
[null,42]
[null,41]
[null,40,40]
[null,39]
[null,38]
[null,37]
[null,36]
[null,35,35]
[null,34]
[null,33]
[null,32]
[null,31]
[null,30,30]
[null,29]
[null,28]
[null,27]
[null,26]
[null,25,25]
[null,24]
[null,23]
[null,22]
[null,21]
[null,20,20]
[null,19]
[null,18]
[null,17]
[null,16]
[null,15,15]
[null,14]
[null,13]
[null,12]
[null,11]
[null,10,10]
[null,9]
[null,8]
[null,7]
[null,6]
[null,5,5]
[null,4]
[null,3]
[null,2]
[null,1]
[null,0,null,1,2,3,4,5,6,7,8,9,10,11,12,13,14,15,16,17,18,19,20,21,22,23,24,25,26,27,28,29,30,31,32,33,34,35,36,37,38,39,40,41,42,43,44,45,46,47,48,49,50,51,52,53,54,55,56,57,58,59,60,61,62,63,64,65,66,67,68,69,70,71,72,73,74,75,76,77,78,79,80,81,82,83,84,85,86,87,88,89,90,91,92,93,94,95,96,97,98,99,100,101,102,103,104,105,106,107,108,109,110,111,112,113,114,115,116,117,118,119,120,121,122,123,124,125,126,127,128,129,130,131,132,133,134,135,136,137,138,139,140,141,142,143,144,145,146,147,148,149,150,151,152,153,154,155,156,157,158,159,160,161,162,163,164,165,166,167,168,169,170,171,172,173,174,175,176,177,178,179,180]
[{"$nulls":3},5,{"$nulls":4},10,{"$nulls":4},15,{"$nulls":4},20,{"$nulls":4},25,{"$nulls":4},30,{"$nulls":4},35,{"$nulls":4},40,{"$nulls":4},45,{"$nulls":4},50,{"$nulls":4},55,{"$nulls":4},60,{"$nulls":4},65,{"$nulls":4},70,{"$nulls":4},75,{"$nulls":4},80,{"$nulls":4},85,{"$nulls":4},90,{"$nulls":4},95,{"$nulls":4},100,{"$nulls":4},105,{"$nulls":4},110,{"$nulls":4},115,{"$nulls":4},120,{"$nulls":4},125,{"$nulls":4},130,{"$nulls":4},135,{"$nulls":4},140,{"$nulls":4},145,{"$nulls":4},150,{"$nulls":4},155,{"$nulls":4},160,{"$nulls":4},165,{"$nulls":4},170,{"$nulls":4},175,{"$nulls":4},180]
["2 CA",80,80]
[null,79]
[null,78]
[null,77]
[null,76]
[null,75,75]
[null,74]
[null,73]
[null,72]
[null,71]
[null,70,70]
[null,69]
[null,68]
[null,67]
[null,66]
[null,65,65]
[null,64]
[null,63]
[null,62]
[null,61]
[null,60,60]
[null,59]
[null,58]
[null,57]
[null,56]
[null,55,55]
[null,54]
[null,53]
[null,52]
[null,51]
[null,50,50]
[null,49]
[null,48]
[null,47]
[null,46]
[null,45,45]
[null,44]
[null,43]
[null,42]
[null,41]
[null,40,40]
[null,39]
[null,38]
[null,37]
[null,36]
[null,35,35]
[null,34]
[null,33]
[null,32]
[null,31]
[null,30,30]
[null,29]
[null,28]
[null,27]
[null,26]
[null,25,25]
[null,24]
[null,23]
[null,22]
[null,21]
[null,20,20]
[null,19]
[null,18]
[null,17]
[null,16]
[null,15,15]
[null,14]
[null,13]
[null,12]
[null,11]
[null,10,10]
[null,9]
[null,8]
[null,7]
[null,6]
[null,5,5]
[null,4]
[null,3]
[null,2]
[null,1]
[null,0,0,1,2,3,4,5,6,7,8,9,10,11,12,13,14,15,16,17,18,19,20,21,22,23,24,25,26,27,28,29,30,31,32,33,34,35,36,37,38,39,40,41,42,43,44,45,46,47,48,49,50,51,52,53,54,55,56,57,58,59,60,61,62,63,64,65,66,67,68,69,70,71,72,73,74,75,76,77,78,79,80,81,82,83,84,85,86,87,88,89,90,91,92,93,94,95,96,97,98,99,100,101,102,103,104,105,106,107,108,109,110,111,112,113,114,115,116,117,118,119,120,121,122,123,124,125,126,127,128,129,130,131,132,133,134,135,136,137,138,139,140,141,142,143,144,145,146,147,148,149,150,151,152,153,154,155,156,157,158,159,160,161,162,163,164,165,166,167,168,169,170,171,172,173,174,175,176,177,178,179,180]
[null,null,0,5,{"$nulls":4},10,{"$nulls":4},15,{"$nulls":4},20,{"$nulls":4},25,{"$nulls":4},30,{"$nulls":4},35,{"$nulls":4},40,{"$nulls":4},45,{"$nulls":4},50,{"$nulls":4},55,{"$nulls":4},60,{"$nulls":4},65,{"$nulls":4},70,{"$nulls":4},75,{"$nulls":4},80,{"$nulls":4},85,{"$nulls":4},90,{"$nulls":4},95,{"$nulls":4},100,{"$nulls":4},105,{"$nulls":4},110,{"$nulls":4},115,{"$nulls":4},120,{"$nulls":4},125,{"$nulls":4},130,{"$nulls":4},135,{"$nulls":4},140,{"$nulls":4},145,{"$nulls":4},150,{"$nulls":4},155,{"$nulls":4},160,{"$nulls":4},165,{"$nulls":4},170,{"$nulls":4},175,{"$nulls":4},180]
["1/0 CA",80,80]
[null,79]
[null,78]
[null,77]
[null,76]
[null,75,75]
[null,74]
[null,73]
[null,72]
[null,71]
[null,70,70]
[null,69]
[null,68]
[null,67]
[null,66]
[null,65,65]
[null,64]
[null,63]
[null,62]
[null,61]
[null,60,60]
[null,59]
[null,58]
[null,57]
[null,56]
[null,55,55]
[null,54]
[null,53]
[null,52]
[null,51]
[null,50,50]
[null,49]
[null,48]
[null,47]
[null,46]
[null,45,45]
[null,44]
[null,43]
[null,42]
[null,41]
[null,40,40]
[null,39]
[null,38]
[null,37]
[null,36]
[null,35,35]
[null,34]
[null,33]
[null,32]
[null,31]
[null,30,30]
[null,29]
[null,28]
[null,27]
[null,26]
[null,25,25]
[null,24]
[null,23]
[null,22]
[null,21]
[null,20,20]
[null,19]
[null,18]
[null,17]
[null,16]
[null,15,15]
[null,14]
[null,13]
[null,12]
[null,11]
[null,10,10]
[null,9]
[null,8]
[null,7]
[null,6]
[null,5,5]
[null,4]
[null,3]
[null,2]
[null,1]
[null,0,0,1,2,3,4,5,6,7,8,9,10,11,12,13,14,15,16,17,18,19,20,21,22,23,24,25,26,27,28,29,30,31,32,33,34,35,36,37,38,39,40,41,42,43,44,45,46,47,48,49,50,51,52,53,54,55,56,57,58,59,60,61,62,63,64,65,66,67,68,69,70,71,72,73,74,75,76,77,78,79,80,81,82,83,84,85,86,87,88,89,90,91,92,93,94,95,96,97,98,99,100,101,102,103,104,105,106,107,108,109,110,111,112,113,114,115,116,117,118,119,120,121,122,123,124,125,126,127,128,129,130,131,132,133,134,135,136,137,138,139,140,141,142,143,144,145,146,147,148,149,150,151,152,153,154,155,156,157,158,159,160,161,162,163,164,165,166,167,168,169,170,171,172,173,174,175,176,177,178,179,180]
[null,null,0,5,{"$nulls":4},10,{"$nulls":4},15,{"$nulls":4},20,{"$nulls":4},25,{"$nulls":4},30,{"$nulls":4},35,{"$nulls":4},40,{"$nulls":4},45,{"$nulls":4},50,{"$nulls":4},55,{"$nulls":4},60,{"$nulls":4},65,{"$nulls":4},70,{"$nulls":4},75,{"$nulls":4},80,{"$nulls":4},85,{"$nulls":4},90,{"$nulls":4},95,{"$nulls":4},100,{"$nulls":4},105,{"$nulls":4},110,{"$nulls":4},115,{"$nulls":4},120,{"$nulls":4},125,{"$nulls":4},130,{"$nulls":4},135,{"$nulls":4},140,{"$nulls":4},145,{"$nulls":4},150,{"$nulls":4},155,{"$nulls":4},160,{"$nulls":4},165,{"$nulls":4},170,{"$nulls":4},175,{"$nulls":4},180]
["??2/0 CA",80,80]
[null,79]
[null,78]
[null,77]
[null,76]
[null,75,75]
[null,74]
[null,73]
[null,72]
[null,71]
[null,70,70]
[null,69]
[null,68]
[null,67]
[null,66]
[null,65,65]
[null,64]
[null,63]
[null,62]
[null,61]
[null,60,60]
[null,59]
[null,58]
[null,57]
[null,56]
[null,55,55]
[null,54]
[null,53]
[null,52]
[null,51]
[null,50,50]
[null,49]
[null,48]
[null,47]
[null,46]
[null,45,45]
[null,44]
[null,43]
[null,42]
[null,41]
[null,40,40]
[null,39]
[null,38]
[null,37]
[null,36]
[null,35,35]
[null,34]
[null,33]
[null,32]
[null,31]
[null,30,30]
[null,29]
[null,28]
[null,27]
[null,26]
[null,25,25]
[null,24]
[null,23]
[null,22]
[null,21]
[null,20,20]
[null,19]
[null,18]
[null,17]
[null,16]
[null,15,15]
[null,14]
[null,13]
[null,12]
[null,11]
[null,10,10]
[null,9]
[null,8]
[null,7]
[null,6]
[null,5,5]
[null,4]
[null,3]
[null,2]
[null,1]
[null,0,0,1,2,3,4,5,6,7,8,9,10,11,12,13,14,15,16,17,18,19,20,21,22,23,24,25,26,27,28,29,30,31,32,33,34,35,36,37,38,39,40,41,42,43,44,45,46,47,48,49,50,51,52,53,54,55,56,57,58,59,60,61,62,63,64,65,66,67,68,69,70,71,72,73,74,75,76,77,78,79,80,81,82,83,84,85,86,87,88,89,90,91,92,93,94,95,96,97,98,99,100,101,102,103,104,105,106,107,108,109,110,111,112,113,114,115,116,117,118,119,120,121,122,123,124,125,126,127,128,129,130,131,132,133,134,135,136,137,138,139,140,141,142,143,144,145,146,147,148,149,150,151,152,153,154,155,156,157,158,159,160,161,162,163,164,165,166,167,168,169,170,171,172,173,174,175,176,177,178,179,180]
[null,null,0,5,{"$nulls":4},10,{"$nulls":4},15,{"$nulls":4},20,{"$nulls":4},25,{"$nulls":4},30,{"$nulls":4},35,{"$nulls":4},40,{"$nulls":4},45,{"$nulls":4},50,{"$nulls":4},55,{"$nulls":4},60,{"$nulls":4},65,{"$nulls":4},70,{"$nulls":4},75,{"$nulls":4},80,{"$nulls":4},85,{"$nulls":4},90,{"$nulls":4},95,{"$nulls":4},100,{"$nulls":4},105,{"$nulls":4},110,{"$nulls":4},115,{"$nulls":4},120,{"$nulls":4},125,{"$nulls":4},130,{"$nulls":4},135,{"$nulls":4},140,{"$nulls":4},145,{"$nulls":4},150,{"$nulls":4},155,{"$nulls":4},160,{"$nulls":4},165,{"$nulls":4},170,{"$nulls":4},175,{"$nulls":4},180]
["??3/0 CA",80,80]
[null,79]
[null,78]
[null,77]
[null,76]
[null,75,75]
[null,74]
[null,73]
[null,72]
[null,71]
[null,70,70]
[null,69]
[null,68]
[null,67]
[null,66]
[null,65,65]
[null,64]
[null,63]
[null,62]
[null,61]
[null,60,60]
[null,59]
[null,58]
[null,57]
[null,56]
[null,55,55]
[null,54]
[null,53]
[null,52]
[null,51]
[null,50,50]
[null,49]
[null,48]
[null,47]
[null,46]
[null,45,45]
[null,44]
[null,43]
[null,42]
[null,41]
[null,40,40]
[null,39]
[null,38]
[null,37]
[null,36]
[null,35,35]
[null,34]
[null,33]
[null,32]
[null,31]
[null,30,30]
[null,29]
[null,28]
[null,27]
[null,26]
[null,25,25]
[null,24]
[null,23]
[null,22]
[null,21]
[null,20,20]
[null,19]
[null,18]
[null,17]
[null,16]
[null,15,15]
[null,14]
[null,13]
[null,12]
[null,11]
[null,10,10]
[null,9]
[null,8]
[null,7]
[null,6]
[null,5,5]
[null,4]
[null,3]
[null,2]
[null,1]
[null,0,0,1,2,3,4,5,6,7,8,9,10,11,12,13,14,15,16,17,18,19,20,21,22,23,24,25,26,27,28,29,30,31,32,33,34,35,36,37,38,39,40,41,42,43,44,45,46,47,48,49,50,51,52,53,54,55,56,57,58,59,60,61,62,63,64,65,66,67,68,69,70,71,72,73,74,75,76,77,78,79,80,81,82,83,84,85,86,87,88,89,90,91,92,93,94,95,96,97,98,99,100,101,102,103,104,105,106,107,108,109,110,111,112,113,114,115,116,117,118,119,120,121,122,123,124,125,126,127,128,129,130,131,132,133,134,135,136,137,138,139,140,141,142,143,144,145,146,147,148,149,150,151,152,153,154,155,156,157,158,159,160,161,162,163,164,165,166,167,168,169,170,171,172,173,174,175,176,177,178,179,180]
[null,null,0,5,{"$nulls":4},10,{"$nulls":4},15,{"$nulls":4},20,{"$nulls":4},25,{"$nulls":4},30,{"$nulls":4},35,{"$nulls":4},40,{"$nulls":4},45,{"$nulls":4},50,{"$nulls":4},55,{"$nulls":4},60,{"$nulls":4},65,{"$nulls":4},70,{"$nulls":4},75,{"$nulls":4},80,{"$nulls":4},85,{"$nulls":4},90,{"$nulls":4},95,{"$nulls":4},100,{"$nulls":4},105,{"$nulls":4},110,{"$nulls":4},115,{"$nulls":4},120,{"$nulls":4},125,{"$nulls":4},130,{"$nulls":4},135,{"$nulls":4},140,{"$nulls":4},145,{"$nulls":4},150,{"$nulls":4},155,{"$nulls":4},160,{"$nulls":4},165,{"$nulls":4},170,{"$nulls":4},175,{"$nulls":4},180]
["4/0 CA",80,80]
[null,79]
[null,78]
[null,77]
[null,76]
[null,75,75]
[null,74]
[null,73]
[null,72]
[null,71]
[null,70,70]
[null,69]
[null,68]
[null,67]
[null,66]
[null,65,65]
[null,64]
[null,63]
[null,62]
[null,61]
[null,60,60]
[null,59]
[null,58]
[null,57]
[null,56]
[null,55,55]
[null,54]
[null,53]
[null,52]
[null,51]
[null,50,50]
[null,49]
[null,48]
[null,47]
[null,46]
[null,45,45]
[null,44]
[null,43]
[null,42]
[null,41]
[null,40,40]
[null,39]
[null,38]
[null,37]
[null,36]
[null,35,35]
[null,34]
[null,33]
[null,32]
[null,31]
[null,30,30]
[null,29]
[null,28]
[null,27]
[null,26]
[null,25,25]
[null,24]
[null,23]
[null,22]
[null,21]
[null,20,20]
[null,19]
[null,18]
[null,17]
[null,16]
[null,15,15]
[null,14]
[null,13]
[null,12]
[null,11]
[null,10,10]
[null,9]
[null,8]
[null,7]
[null,6]
[null,5,5]
[null,4]
[null,3]
[null,2]
[null,1]
[null,0,0,1,2,3,4,5,6,7,8,9,10,11,12,13,14,15,16,17,18,19,20,21,22,23,24,25,26,27,28,29,30,31,32,33,34,35,36,37,38,39,40,41,42,43,44,45,46,47,48,49,50,51,52,53,54,55,56,57,58,59,60,61,62,63,64,65,66,67,68,69,70,71,72,73,74,75,76,77,78,79,80,81,82,83,84,85,86,87,88,89,90,91,92,93,94,95,96,97,98,99,100,101,102,103,104,105,106,107,108,109,110,111,112,113,114,115,116,117,118,119,120,121,122,123,124,125,126,127,128,129,130,131,132,133,134,135,136,137,138,139,140,141,142,143,144,145,146,147,148,149,150,151,152,153,154,155,156,157,158,159,160,161,162,163,164,165,166,167,168,169,170,171,172,173,174,175,176,177,178,179,180]
[null,null,0,5,{"$nulls":4},10,{"$nulls":4},15,{"$nulls":4},20,{"$nulls":4},25,{"$nulls":4},30,{"$nulls":4},35,{"$nulls":4},40,{"$nulls":4},45,{"$nulls":4},50,{"$nulls":4},55,{"$nulls":4},60,{"$nulls":4},65,{"$nulls":4},70,{"$nulls":4},75,{"$nulls":4},80,{"$nulls":4},85,{"$nulls":4},90,{"$nulls":4},95,{"$nulls":4},100,{"$nulls":4},105,{"$nulls":4},110,{"$nulls":4},115,{"$nulls":4},120,{"$nulls":4},125,{"$nulls":4},130,{"$nulls":4},135,{"$nulls":4},140,{"$nulls":4},145,{"$nulls":4},150,{"$nulls":4},155,{"$nulls":4},160,{"$nulls":4},165,{"$nulls":4},170,{"$nulls":4},175,{"$nulls":4},180]
["336,4 CA",80,80]
[null,79]
[null,78]
[null,77]
[null,76]
[null,75,75]
[null,74]
[null,73]
[null,72]
[null,71]
[null,70,70]
[null,69]
[null,68]
[null,67]
[null,66]
[null,65,65]
[null,64]
[null,63]
[null,62]
[null,61]
[null,60,60]
[null,59]
[null,58]
[null,57]
[null,56]
[null,55,55]
[null,54]
[null,53]
[null,52]
[null,51]
[null,50,50]
[null,49]
[null,48]
[null,47]
[null,46]
[null,45,45]
[null,44]
[null,43]
[null,42]
[null,41]
[null,40,40]
[null,39]
[null,38]
[null,37]
[null,36]
[null,35,35]
[null,34]
[null,33]
[null,32]
[null,31]
[null,30,30]
[null,29]
[null,28]
[null,27]
[null,26]
[null,25,25]
[null,24]
[null,23]
[null,22]
[null,21]
[null,20,20]
[null,19]
[null,18]
[null,17]
[null,16]
[null,15,15]
[null,14]
[null,13]
[null,12]
[null,11]
[null,10,10]
[null,9]
[null,8]
[null,7]
[null,6]
[null,5,5]
[null,4]
[null,3]
[null,2]
[null,1]
[null,0,0,1,2,3,4,5,6,7,8,9,10,11,12,13,14,15,16,17,18,19,20,21,22,23,24,25,26,27,28,29,30,31,32,33,34,35,36,37,38,39,40,41,42,43,44,45,46,47,48,49,50,51,52,53,54,55,56,57,58,59,60,61,62,63,64,65,66,67,68,69,70,71,72,73,74,75,76,77,78,79,80,81,82,83,84,85,86,87,88,89,90,91,92,93,94,95,96,97,98,99,100,101,102,103,104,105,106,107,108,109,110,111,112,113,114,115,116,117,118,119,120,121,122,123,124,125,126,127,128,129,130,131,132,133,134,135,136,137,138,139,140,141,142,143,144,145,146,147,148,149,150,151,152,153,154,155,156,157,158,159,160,161,162,163,164,165,166,167,168,169,170,171,172,173,174,175,176,177,178,179,180]
[null,null,0,5,{"$nulls":4},10,{"$nulls":4},15,{"$nulls":4},20,{"$nulls":4},25,{"$nulls":4},30,{"$nulls":4},35,{"$nulls":4},40,{"$nulls":4},45,{"$nulls":4},50,{"$nulls":4},55,{"$nulls":4},60,{"$nulls":4},65,{"$nulls":4},70,{"$nulls":4},75,{"$nulls":4},80,{"$nulls":4},85,{"$nulls":4},90,{"$nulls":4},95,{"$nulls":4},100,{"$nulls":4},105,{"$nulls":4},110,{"$nulls":4},115,{"$nulls":4},120,{"$nulls":4},125,{"$nulls":4},130,{"$nulls":4},135,{"$nulls":4},140,{"$nulls":4},145,{"$nulls":4},150,{"$nulls":4},155,{"$nulls":4},160,{"$nulls":4},165,{"$nulls":4},170,{"$nulls":4},175,{"$nulls":4},180]
["??4 CAA",80,80]
[null,79]
[null,78]
[null,77]
[null,76]
[null,75,75]
[null,74]
[null,73]
[null,72]
[null,71]
[null,70,70]
[null,69]
[null,68]
[null,67]
[null,66]
[null,65,65]
[null,64]
[null,63]
[null,62]
[null,61]
[null,60,60]
[null,59]
[null,58]
[null,57]
[null,56]
[null,55,55]
[null,54]
[null,53]
[null,52]
[null,51]
[null,50,50]
[null,49]
[null,48]
[null,47]
[null,46]
[null,45,45]
[null,44]
[null,43]
[null,42]
[null,41]
[null,40,40]
[null,39]
[null,38]
[null,37]
[null,36]
[null,35,35]
[null,34]
[null,33]
[null,32]
[null,31]
[null,30,30]
[null,29]
[null,28]
[null,27]
[null,26]
[null,25,25]
[null,24]
[null,23]
[null,22]
[null,21]
[null,20,20]
[null,19]
[null,18]
[null,17]
[null,16]
[null,15,15]
[null,14]
[null,13]
[null,12]
[null,11]
[null,10,10]
[null,9]
[null,8]
[null,7]
[null,6]
[null,5,5]
[null,4]
[null,3]
[null,2]
[null,1]
[null,0,null,1,2,3,4,5,6,7,8,9,10,11,12,13,14,15,16,17,18,19,20,21,22,23,24,25,26,27,28,29,30,31,32,33,34,35,36,37,38,39,40,41,42,43,44,45,46,47,48,49,50,51,52,53,54,55,56,57,58,59,60,61,62,63,64,65,66,67,68,69,70,71,72,73,74,75,76,77,78,79,80,81,82,83,84,85,86,87,88,89,90,91,92,93,94,95,96,97,98,99,100,101,102,103,104,105,106,107,108,109,110,111,112,113,114,115,116,117,118,119,120,121,122,123,124,125,126,127,128,129,130,131,132,133,134,135,136,137,138,139,140,141,142,143,144,145,146,147,148,149,150,151,152,153,154,155,156,157,158,159,160,161,162,163,164,165,166,167,168,169,170,171,172,173,174,175,176,177,178,179,180]
[{"$nulls":3},5,{"$nulls":4},10,{"$nulls":4},15,{"$nulls":4},20,{"$nulls":4},25,{"$nulls":4},30,{"$nulls":4},35,{"$nulls":4},40,{"$nulls":4},45,{"$nulls":4},50,{"$nulls":4},55,{"$nulls":4},60,{"$nulls":4},65,{"$nulls":4},70,{"$nulls":4},75,{"$nulls":4},80,{"$nulls":4},85,{"$nulls":4},90,{"$nulls":4},95,{"$nulls":4},100,{"$nulls":4},105,{"$nulls":4},110,{"$nulls":4},115,{"$nulls":4},120,{"$nulls":4},125,{"$nulls":4},130,{"$nulls":4},135,{"$nulls":4},140,{"$nulls":4},145,{"$nulls":4},150,{"$nulls":4},155,{"$nulls":4},160,{"$nulls":4},165,{"$nulls":4},170,{"$nulls":4},175,{"$nulls":4},180]
["??2 CAA",80,80]
[null,79]
[null,78]
[null,77]
[null,76]
[null,75,75]
[null,74]
[null,73]
[null,72]
[null,71]
[null,70,70]
[null,69]
[null,68]
[null,67]
[null,66]
[null,65,65]
[null,64]
[null,63]
[null,62]
[null,61]
[null,60,60]
[null,59]
[null,58]
[null,57]
[null,56]
[null,55,55]
[null,54]
[null,53]
[null,52]
[null,51]
[null,50,50]
[null,49]
[null,48]
[null,47]
[null,46]
[null,45,45]
[null,44]
[null,43]
[null,42]
[null,41]
[null,40,40]
[null,39]
[null,38]
[null,37]
[null,36]
[null,35,35]
[null,34]
[null,33]
[null,32]
[null,31]
[null,30,30]
[null,29]
[null,28]
[null,27]
[null,26]
[null,25,25]
[null,24]
[null,23]
[null,22]
[null,21]
[null,20,20]
[null,19]
[null,18]
[null,17]
[null,16]
[null,15,15]
[null,14]
[null,13]
[null,12]
[null,11]
[null,10,10]
[null,9]
[null,8]
[null,7]
[null,6]
[null,5,5]
[null,4]
[null,3]
[null,2]
[null,1]
[null,0,null,1,2,3,4,5,6,7,8,9,10,11,12,13,14,15,16,17,18,19,20,21,22,23,24,25,26,27,28,29,30,31,32,33,34,35,36,37,38,39,40,41,42,43,44,45,46,47,48,49,50,51,52,53,54,55,56,57,58,59,60,61,62,63,64,65,66,67,68,69,70,71,72,73,74,75,76,77,78,79,80,81,82,83,84,85,86,87,88,89,90,91,92,93,94,95,96,97,98,99,100,101,102,103,104,105,106,107,108,109,110,111,112,113,114,115,116,117,118,119,120,121,122,123,124,125,126,127,128,129,130,131,132,133,134,135,136,137,138,139,140,141,142,143,144,145,146,147,148,149,150,151,152,153,154,155,156,157,158,159,160,161,162,163,164,165,166,167,168,169,170,171,172,173,174,175,176,177,178,179,180]
[{"$nulls":3},5,{"$nulls":4},10,{"$nulls":4},15,{"$nulls":4},20,{"$nulls":4},25,{"$nulls":4},30,{"$nulls":4},35,{"$nulls":4},40,{"$nulls":4},45,{"$nulls":4},50,{"$nulls":4},55,{"$nulls":4},60,{"$nulls":4},65,{"$nulls":4},70,{"$nulls":4},75,{"$nulls":4},80,{"$nulls":4},85,{"$nulls":4},90,{"$nulls":4},95,{"$nulls":4},100,{"$nulls":4},105,{"$nulls":4},110,{"$nulls":4},115,{"$nulls":4},120,{"$nulls":4},125,{"$nulls":4},130,{"$nulls":4},135,{"$nulls":4},140,{"$nulls":4},145,{"$nulls":4},150,{"$nulls":4},155,{"$nulls":4},160,{"$nulls":4},165,{"$nulls":4},170,{"$nulls":4},175,{"$nulls":4},180]
["??1/0 CAA",80,80]
[null,79]
[null,78]
[null,77]
[null,76]
[null,75,75]
[null,74]
[null,73]
[null,72]
[null,71]
[null,70,70]
[null,69]
[null,68]
[null,67]
[null,66]
[null,65,65]
[null,64]
[null,63]
[null,62]
[null,61]
[null,60,60]
[null,59]
[null,58]
[null,57]
[null,56]
[null,55,55]
[null,54]
[null,53]
[null,52]
[null,51]
[null,50,50]
[null,49]
[null,48]
[null,47]
[null,46]
[null,45,45]
[null,44]
[null,43]
[null,42]
[null,41]
[null,40,40]
[null,39]
[null,38]
[null,37]
[null,36]
[null,35,35]
[null,34]
[null,33]
[null,32]
[null,31]
[null,30,30]
[null,29]
[null,28]
[null,27]
[null,26]
[null,25,25]
[null,24]
[null,23]
[null,22]
[null,21]
[null,20,20]
[null,19]
[null,18]
[null,17]
[null,16]
[null,15,15]
[null,14]
[null,13]
[null,12]
[null,11]
[null,10,10]
[null,9]
[null,8]
[null,7]
[null,6]
[null,5,5]
[null,4]
[null,3]
[null,2]
[null,1]
[null,0,null,1,2,3,4,5,6,7,8,9,10,11,12,13,14,15,16,17,18,19,20,21,22,23,24,25,26,27,28,29,30,31,32,33,34,35,36,37,38,39,40,41,42,43,44,45,46,47,48,49,50,51,52,53,54,55,56,57,58,59,60,61,62,63,64,65,66,67,68,69,70,71,72,73,74,75,76,77,78,79,80,81,82,83,84,85,86,87,88,89,90,91,92,93,94,95,96,97,98,99,100,101,102,103,104,105,106,107,108,109,110,111,112,113,114,115,116,117,118,119,120,121,122,123,124,125,126,127,128,129,130,131,132,133,134,135,136,137,138,139,140,141,142,143,144,145,146,147,148,149,150,151,152,153,154,155,156,157,158,159,160,161,162,163,164,165,166,167,168,169,170,171,172,173,174,175,176,177,178,179,180]
[{"$nulls":3},5,{"$nulls":4},10,{"$nulls":4},15,{"$nulls":4},20,{"$nulls":4},25,{"$nulls":4},30,{"$nulls":4},35,{"$nulls":4},40,{"$nulls":4},45,{"$nulls":4},50,{"$nulls":4},55,{"$nulls":4},60,{"$nulls":4},65,{"$nulls":4},70,{"$nulls":4},75,{"$nulls":4},80,{"$nulls":4},85,{"$nulls":4},90,{"$nulls":4},95,{"$nulls":4},100,{"$nulls":4},105,{"$nulls":4},110,{"$nulls":4},115,{"$nulls":4},120,{"$nulls":4},125,{"$nulls":4},130,{"$nulls":4},135,{"$nulls":4},140,{"$nulls":4},145,{"$nulls":4},150,{"$nulls":4},155,{"$nulls":4},160,{"$nulls":4},165,{"$nulls":4},170,{"$nulls":4},175,{"$nulls":4},180]
["??2/0 CAA",80,80]
[null,79]
[null,78]
[null,77]
[null,76]
[null,75,75]
[null,74]
[null,73]
[null,72]
[null,71]
[null,70,70]
[null,69]
[null,68]
[null,67]
[null,66]
[null,65,65]
[null,64]
[null,63]
[null,62]
[null,61]
[null,60,60]
[null,59]
[null,58]
[null,57]
[null,56]
[null,55,55]
[null,54]
[null,53]
[null,52]
[null,51]
[null,50,50]
[null,49]
[null,48]
[null,47]
[null,46]
[null,45,45]
[null,44]
[null,43]
[null,42]
[null,41]
[null,40,40]
[null,39]
[null,38]
[null,37]
[null,36]
[null,35,35]
[null,34]
[null,33]
[null,32]
[null,31]
[null,30,30]
[null,29]
[null,28]
[null,27]
[null,26]
[null,25,25]
[null,24]
[null,23]
[null,22]
[null,21]
[null,20,20]
[null,19]
[null,18]
[null,17]
[null,16]
[null,15,15]
[null,14]
[null,13]
[null,12]
[null,11]
[null,10,10]
[null,9]
[null,8]
[null,7]
[null,6]
[null,5,5]
[null,4]
[null,3]
[null,2]
[null,1]
[null,0,null,1,2,3,4,5,6,7,8,9,10,11,12,13,14,15,16,17,18,19,20,21,22,23,24,25,26,27,28,29,30,31,32,33,34,35,36,37,38,39,40,41,42,43,44,45,46,47,48,49,50,51,52,53,54,55,56,57,58,59,60,61,62,63,64,65,66,67,68,69,70,71,72,73,74,75,76,77,78,79,80,81,82,83,84,85,86,87,88,89,90,91,92,93,94,95,96,97,98,99,100,101,102,103,104,105,106,107,108,109,110,111,112,113,114,115,116,117,118,119,120,121,122,123,124,125,126,127,128,129,130,131,132,133,134,135,136,137,138,139,140,141,142,143,144,145,146,147,148,149,150,151,152,153,154,155,156,157,158,159,160,161,162,163,164,165,166,167,168,169,170,171,172,173,174,175,176,177,178,179,180]
[{"$nulls":3},5,{"$nulls":4},10,{"$nulls":4},15,{"$nulls":4},20,{"$nulls":4},25,{"$nulls":4},30,{"$nulls":4},35,{"$nulls":4},40,{"$nulls":4},45,{"$nulls":4},50,{"$nulls":4},55,{"$nulls":4},60,{"$nulls":4},65,{"$nulls":4},70,{"$nulls":4},75,{"$nulls":4},80,{"$nulls":4},85,{"$nulls":4},90,{"$nulls":4},95,{"$nulls":4},100,{"$nulls":4},105,{"$nulls":4},110,{"$nulls":4},115,{"$nulls":4},120,{"$nulls":4},125,{"$nulls":4},130,{"$nulls":4},135,{"$nulls":4},140,{"$nulls":4},145,{"$nulls":4},150,{"$nulls":4},155,{"$nulls":4},160,{"$nulls":4},165,{"$nulls":4},170,{"$nulls":4},175,{"$nulls":4},180]
["??3/0 CAA",80,80]
[null,79]
[null,78]
[null,77]
[null,76]
[null,75,75]
[null,74]
[null,73]
[null,72]
[null,71]
[null,70,70]
[null,69]
[null,68]
[null,67]
[null,66]
[null,65,65]
[null,64]
[null,63]
[null,62]
[null,61]
[null,60,60]
[null,59]
[null,58]
[null,57]
[null,56]
[null,55,55]
[null,54]
[null,53]
[null,52]
[null,51]
[null,50,50]
[null,49]
[null,48]
[null,47]
[null,46]
[null,45,45]
[null,44]
[null,43]
[null,42]
[null,41]
[null,40,40]
[null,39]
[null,38]
[null,37]
[null,36]
[null,35,35]
[null,34]
[null,33]
[null,32]
[null,31]
[null,30,30]
[null,29]
[null,28]
[null,27]
[null,26]
[null,25,25]
[null,24]
[null,23]
[null,22]
[null,21]
[null,20,20]
[null,19]
[null,18]
[null,17]
[null,16]
[null,15,15]
[null,14]
[null,13]
[null,12]
[null,11]
[null,10,10]
[null,9]
[null,8]
[null,7]
[null,6]
[null,5,5]
[null,4]
[null,3]
[null,2]
[null,1]
[null,0,null,1,2,3,4,5,6,7,8,9,10,11,12,13,14,15,16,17,18,19,20,21,22,23,24,25,26,27,28,29,30,31,32,33,34,35,36,37,38,39,40,41,42,43,44,45,46,47,48,49,50,51,52,53,54,55,56,57,58,59,60,61,62,63,64,65,66,67,68,69,70,71,72,73,74,75,76,77,78,79,80,81,82,83,84,85,86,87,88,89,90,91,92,93,94,95,96,97,98,99,100,101,102,103,104,105,106,107,108,109,110,111,112,113,114,115,116,117,118,119,120,121,122,123,124,125,126,127,128,129,130,131,132,133,134,135,136,137,138,139,140,141,142,143,144,145,146,147,148,149,150,151,152,153,154,155,156,157,158,159,160,161,162,163,164,165,166,167,168,169,170,171,172,173,174,175,176,177,178,179,180]
[{"$nulls":3},5,{"$nulls":4},10,{"$nulls":4},15,{"$nulls":4},20,{"$nulls":4},25,{"$nulls":4},30,{"$nulls":4},35,{"$nulls":4},40,{"$nulls":4},45,{"$nulls":4},50,{"$nulls":4},55,{"$nulls":4},60,{"$nulls":4},65,{"$nulls":4},70,{"$nulls":4},75,{"$nulls":4},80,{"$nulls":4},85,{"$nulls":4},90,{"$nulls":4},95,{"$nulls":4},100,{"$nulls":4},105,{"$nulls":4},110,{"$nulls":4},115,{"$nulls":4},120,{"$nulls":4},125,{"$nulls":4},130,{"$nulls":4},135,{"$nulls":4},140,{"$nulls":4},145,{"$nulls":4},150,{"$nulls":4},155,{"$nulls":4},160,{"$nulls":4},165,{"$nulls":4},170,{"$nulls":4},175,{"$nulls":4},180]
["??4/0 CAA",80,80]
[null,79]
[null,78]
[null,77]
[null,76]
[null,75,75]
[null,74]
[null,73]
[null,72]
[null,71]
[null,70,70]
[null,69]
[null,68]
[null,67]
[null,66]
[null,65,65]
[null,64]
[null,63]
[null,62]
[null,61]
[null,60,60]
[null,59]
[null,58]
[null,57]
[null,56]
[null,55,55]
[null,54]
[null,53]
[null,52]
[null,51]
[null,50,50]
[null,49]
[null,48]
[null,47]
[null,46]
[null,45,45]
[null,44]
[null,43]
[null,42]
[null,41]
[null,40,40]
[null,39]
[null,38]
[null,37]
[null,36]
[null,35,35]
[null,34]
[null,33]
[null,32]
[null,31]
[null,30,30]
[null,29]
[null,28]
[null,27]
[null,26]
[null,25,25]
[null,24]
[null,23]
[null,22]
[null,21]
[null,20,20]
[null,19]
[null,18]
[null,17]
[null,16]
[null,15,15]
[null,14]
[null,13]
[null,12]
[null,11]
[null,10,10]
[null,9]
[null,8]
[null,7]
[null,6]
[null,5,5]
[null,4]
[null,3]
[null,2]
[null,1]
[null,0,null,1,2,3,4,5,6,7,8,9,10,11,12,13,14,15,16,17,18,19,20,21,22,23,24,25,26,27,28,29,30,31,32,33,34,35,36,37,38,39,40,41,42,43,44,45,46,47,48,49,50,51,52,53,54,55,56,57,58,59,60,61,62,63,64,65,66,67,68,69,70,71,72,73,74,75,76,77,78,79,80,81,82,83,84,85,86,87,88,89,90,91,92,93,94,95,96,97,98,99,100,101,102,103,104,105,106,107,108,109,110,111,112,113,114,115,116,117,118,119,120,121,122,123,124,125,126,127,128,129,130,131,132,133,134,135,136,137,138,139,140,141,142,143,144,145,146,147,148,149,150,151,152,153,154,155,156,157,158,159,160,161,162,163,164,165,166,167,168,169,170,171,172,173,174,175,176,177,178,179,180]
[{"$nulls":3},5,{"$nulls":4},10,{"$nulls":4},15,{"$nulls":4},20,{"$nulls":4},25,{"$nulls":4},30,{"$nulls":4},35,{"$nulls":4},40,{"$nulls":4},45,{"$nulls":4},50,{"$nulls":4},55,{"$nulls":4},60,{"$nulls":4},65,{"$nulls":4},70,{"$nulls":4},75,{"$nulls":4},80,{"$nulls":4},85,{"$nulls":4},90,{"$nulls":4},95,{"$nulls":4},100,{"$nulls":4},105,{"$nulls":4},110,{"$nulls":4},115,{"$nulls":4},120,{"$nulls":4},125,{"$nulls":4},130,{"$nulls":4},135,{"$nulls":4},140,{"$nulls":4},145,{"$nulls":4},150,{"$nulls":4},155,{"$nulls":4},160,{"$nulls":4},165,{"$nulls":4},170,{"$nulls":4},175,{"$nulls":4},180]
["??336,4 CAA (LINNET)",80,80]
[null,79]
[null,78]
[null,77]
[null,76]
[null,75,75]
[null,74]
[null,73]
[null,72]
[null,71]
[null,70,70]
[null,69]
[null,68]
[null,67]
[null,66]
[null,65,65]
[null,64]
[null,63]
[null,62]
[null,61]
[null,60,60]
[null,59]
[null,58]
[null,57]
[null,56]
[null,55,55]
[null,54]
[null,53]
[null,52]
[null,51]
[null,50,50]
[null,49]
[null,48]
[null,47]
[null,46]
[null,45,45]
[null,44]
[null,43]
[null,42]
[null,41]
[null,40,40]
[null,39]
[null,38]
[null,37]
[null,36]
[null,35,35]
[null,34]
[null,33]
[null,32]
[null,31]
[null,30,30]
[null,29]
[null,28]
[null,27]
[null,26]
[null,25,25]
[null,24]
[null,23]
[null,22]
[null,21]
[null,20,20]
[null,19]
[null,18]
[null,17]
[null,16]
[null,15,15]
[null,14]
[null,13]
[null,12]
[null,11]
[null,10,10]
[null,9]
[null,8]
[null,7]
[null,6]
[null,5,5]
[null,4]
[null,3]
[null,2]
[null,1]
[null,0,null,1,2,3,4,5,6,7,8,9,10,11,12,13,14,15,16,17,18,19,20,21,22,23,24,25,26,27,28,29,30,31,32,33,34,35,36,37,38,39,40,41,42,43,44,45,46,47,48,49,50,51,52,53,54,55,56,57,58,59,60,61,62,63,64,65,66,67,68,69,70,71,72,73,74,75,76,77,78,79,80,81,82,83,84,85,86,87,88,89,90,91,92,93,94,95,96,97,98,99,100,101,102,103,104,105,106,107,108,109,110,111,112,113,114,115,116,117,118,119,120,121,122,123,124,125,126,127,128,129,130,131,132,133,134,135,136,137,138,139,140,141,142,143,144,145,146,147,148,149,150,151,152,153,154,155,156,157,158,159,160,161,162,163,164,165,166,167,168,169,170,171,172,173,174,175,176,177,178,179,180]
[{"$nulls":3},5,{"$nulls":4},10,{"$nulls":4},15,{"$nulls":4},20,{"$nulls":4},25,{"$nulls":4},30,{"$nulls":4},35,{"$nulls":4},40,{"$nulls":4},45,{"$nulls":4},50,{"$nulls":4},55,{"$nulls":4},60,{"$nulls":4},65,{"$nulls":4},70,{"$nulls":4},75,{"$nulls":4},80,{"$nulls":4},85,{"$nulls":4},90,{"$nulls":4},95,{"$nulls":4},100,{"$nulls":4},105,{"$nulls":4},110,{"$nulls":4},115,{"$nulls":4},120,{"$nulls":4},125,{"$nulls":4},130,{"$nulls":4},135,{"$nulls":4},140,{"$nulls":4},145,{"$nulls":4},150,{"$nulls":4},155,{"$nulls":4},160,{"$nulls":4},165,{"$nulls":4},170,{"$nulls":4},175,{"$nulls":4},180]
["??336,4 CAA (ORIOLE)",80,80]
[null,79]
[null,78]
[null,77]
[null,76]
[null,75,75]
[null,74]
[null,73]
[null,72]
[null,71]
[null,70,70]
[null,69]
[null,68]
[null,67]
[null,66]
[null,65,65]
[null,64]
[null,63]
[null,62]
[null,61]
[null,60,60]
[null,59]
[null,58]
[null,57]
[null,56]
[null,55,55]
[null,54]
[null,53]
[null,52]
[null,51]
[null,50,50]
[null,49]
[null,48]
[null,47]
[null,46]
[null,45,45]
[null,44]
[null,43]
[null,42]
[null,41]
[null,40,40]
[null,39]
[null,38]
[null,37]
[null,36]
[null,35,35]
[null,34]
[null,33]
[null,32]
[null,31]
[null,30,30]
[null,29]
[null,28]
[null,27]
[null,26]
[null,25,25]
[null,24]
[null,23]
[null,22]
[null,21]
[null,20,20]
[null,19]
[null,18]
[null,17]
[null,16]
[null,15,15]
[null,14]
[null,13]
[null,12]
[null,11]
[null,10,10]
[null,9]
[null,8]
[null,7]
[null,6]
[null,5,5]
[null,4]
[null,3]
[null,2]
[null,1]
[null,0,null,1,2,3,4,5,6,7,8,9,10,11,12,13,14,15,16,17,18,19,20,21,22,23,24,25,26,27,28,29,30,31,32,33,34,35,36,37,38,39,40,41,42,43,44,45,46,47,48,49,50,51,52,53,54,55,56,57,58,59,60,61,62,63,64,65,66,67,68,69,70,71,72,73,74,75,76,77,78,79,80,81,82,83,84,85,86,87,88,89,90,91,92,93,94,95,96,97,98,99,100,101,102,103,104,105,106,107,108,109,110,111,112,113,114,115,116,117,118,119,120,121,122,123,124,125,126,127,128,129,130,131,132,133,134,135,136,137,138,139,140,141,142,143,144,145,146,147,148,149,150,151,152,153,154,155,156,157,158,159,160,161,162,163,164,165,166,167,168,169,170,171,172,173,174,175,176,177,178,179,180]
[{"$nulls":3},5,{"$nulls":4},10,{"$nulls":4},15,{"$nulls":4},20,{"$nulls":4},25,{"$nulls":4},30,{"$nulls":4},35,{"$nulls":4},40,{"$nulls":4},45,{"$nulls":4},50,{"$nulls":4},55,{"$nulls":4},60,{"$nulls":4},65,{"$nulls":4},70,{"$nulls":4},75,{"$nulls":4},80,{"$nulls":4},85,{"$nulls":4},90,{"$nulls":4},95,{"$nulls":4},100,{"$nulls":4},105,{"$nulls":4},110,{"$nulls":4},115,{"$nulls":4},120,{"$nulls":4},125,{"$nulls":4},130,{"$nulls":4},135,{"$nulls":4},140,{"$nulls":4},145,{"$nulls":4},150,{"$nulls":4},155,{"$nulls":4},160,{"$nulls":4},165,{"$nulls":4},170,{"$nulls":4},175,{"$nulls":4},180]
["??3336,4 CAA (MERLIN)",80,80]
[null,79]
[null,78]
[null,77]
[null,76]
[null,75,75]
[null,74]
[null,73]
[null,72]
[null,71]
[null,70,70]
[null,69]
[null,68]
[null,67]
[null,66]
[null,65,65]
[null,64]
[null,63]
[null,62]
[null,61]
[null,60,60]
[null,59]
[null,58]
[null,57]
[null,56]
[null,55,55]
[null,54]
[null,53]
[null,52]
[null,51]
[null,50,50]
[null,49]
[null,48]
[null,47]
[null,46]
[null,45,45]
[null,44]
[null,43]
[null,42]
[null,41]
[null,40,40]
[null,39]
[null,38]
[null,37]
[null,36]
[null,35,35]
[null,34]
[null,33]
[null,32]
[null,31]
[null,30,30]
[null,29]
[null,28]
[null,27]
[null,26]
[null,25,25]
[null,24]
[null,23]
[null,22]
[null,21]
[null,20,20]
[null,19]
[null,18]
[null,17]
[null,16]
[null,15,15]
[null,14]
[null,13]
[null,12]
[null,11]
[null,10,10]
[null,9]
[null,8]
[null,7]
[null,6]
[null,5,5]
[null,4]
[null,3]
[null,2]
[null,1]
[null,0,null,1,2,3,4,5,6,7,8,9,10,11,12,13,14,15,16,17,18,19,20,21,22,23,24,25,26,27,28,29,30,31,32,33,34,35,36,37,38,39,40,41,42,43,44,45,46,47,48,49,50,51,52,53,54,55,56,57,58,59,60,61,62,63,64,65,66,67,68,69,70,71,72,73,74,75,76,77,78,79,80,81,82,83,84,85,86,87,88,89,90,91,92,93,94,95,96,97,98,99,100,101,102,103,104,105,106,107,108,109,110,111,112,113,114,115,116,117,118,119,120,121,122,123,124,125,126,127,128,129,130,131,132,133,134,135,136,137,138,139,140,141,142,143,144,145,146,147,148,149,150,151,152,153,154,155,156,157,158,159,160,161,162,163,164,165,166,167,168,169,170,171,172,173,174,175,176,177,178,179,180]
[{"$nulls":3},5,{"$nulls":4},10,{"$nulls":4},15,{"$nulls":4},20,{"$nulls":4},25,{"$nulls":4},30,{"$nulls":4},35,{"$nulls":4},40,{"$nulls":4},45,{"$nulls":4},50,{"$nulls":4},55,{"$nulls":4},60,{"$nulls":4},65,{"$nulls":4},70,{"$nulls":4},75,{"$nulls":4},80,{"$nulls":4},85,{"$nulls":4},90,{"$nulls":4},95,{"$nulls":4},100,{"$nulls":4},105,{"$nulls":4},110,{"$nulls":4},115,{"$nulls":4},120,{"$nulls":4},125,{"$nulls":4},130,{"$nulls":4},135,{"$nulls":4},140,{"$nulls":4},145,{"$nulls":4},150,{"$nulls":4},155,{"$nulls":4},160,{"$nulls":4},165,{"$nulls":4},170,{"$nulls":4},175,{"$nulls":4},180]

{"sheet":"Estrut_Urbana_25KV","index":20,"n_rows":1320,"n_cols":183,"rows_kept":1320,"merged":[[0,0,2,183],[3,0,84,0],[3,2,7,2],[3,183,84,183],[8,2,12,2],[13,2,17,2],[18,2,22,2],[23,2,27,2],[28,2,32,2],[33,2,37,2],[38,2,42,2],[43,2,47,2],[48,2,52,2],[53,2,57,2],[58,2,62,2],[63,2,67,2],[68,2,72,2],[73,2,77,2],[78,2,82,2],[84,3,84,7],[84,8,84,12],[84,13,84,17],[84,18,84,22],[84,23,84,27],[84,28,84,32],[84,33,84,37],[84,38,84,42],[84,43,84,47],[84,48,84,52],[84,53,84,57],[84,58,84,62],[84,63,84,67],[84,68,84,72],[84,73,84,77],[84,78,84,82],[84,83,84,87],[84,88,84,92],[84,93,84,97],[84,98,84,102],[84,103,84,107],[84,108,84,112],[84,113,84,117],[84,118,84,122],[84,123,84,127],[84,128,84,132],[84,133,84,137],[84,138,84,142],[84,143,84,147],[84,148,84,152],[84,153,84,157],[84,158,84,162],[84,163,84,167],[84,168,84,172],[84,173,84,177],[84,178,84,182],[85,0,166,0],[85,2,89,2],[85,183,166,183],[90,2,94,2],[95,2,99,2],[100,2,104,2],[105,2,109,2],[110,2,114,2],[115,2,119,2],[120,2,124,2],[125,2,129,2],[130,2,134,2],[135,2,139,2],[140,2,144,2],[145,2,149,2],[150,2,154,2],[155,2,159,2],[160,2,164,2],[166,3,166,7],[166,8,166,12],[166,13,166,17],[166,18,166,22],[166,23,166,27],[166,28,166,32],[166,33,166,37],[166,38,166,42],[166,43,166,47],[166,48,166,52],[166,53,166,57],[166,58,166,62],[166,63,166,67],[166,68,166,72],[166,73,166,77],[166,78,166,82],[166,83,166,87],[166,88,166,92],[166,93,166,97],[166,98,166,102],[166,103,166,107],[166,108,166,112],[166,113,166,117],[166,118,166,122],[166,123,166,127],[166,128,166,132],[166,133,166,137],[166,138,166,142],[166,143,166,147],[166,148,166,152],[166,153,166,157],[166,158,166,162],[166,163,166,167],[166,168,166,172],[166,173,166,177],[166,178,166,182],[167,0,248,0],[167,2,171,2],[167,183,248,183],[172,2,176,2],[177,2,181,2],[182,2,186,2],[187,2,191,2],[192,2,196,2],[197,2,201,2],[202,2,206,2],[207,2,211,2],[212,2,216,2],[217,2,221,2],[222,2,226,2],[227,2,231,2],[232,2,236,2],[237,2,241,2],[242,2,246,2],[248,3,248,7],[248,8,248,12],[248,13,248,17],[248,18,248,22],[248,23,248,27],[248,28,248,32],[248,33,248,37],[248,38,248,42],[248,43,248,47],[248,48,248,52],[248,53,248,57],[248,58,248,62],[248,63,248,67],[248,68,248,72],[248,73,248,77],[248,78,248,82],[248,83,248,87],[248,88,248,92],[248,93,248,97],[248,98,248,102],[248,103,248,107],[248,108,248,112],[248,113,248,117],[248,118,248,122],[248,123,248,127],[248,128,248,132],[248,133,248,137],[248,138,248,142],[248,143,248,147],[248,148,248,152],[248,153,248,157],[248,158,248,162],[248,163,248,167],[248,168,248,172],[248,173,248,177],[248,178,248,182],[249,0,330,0],[249,2,253,2],[249,183,330,183],[254,2,258,2],[259,2,263,2],[264,2,268,2],[269,2,273,2],[274,2,278,2],[279,2,283,2],[284,2,288,2],[289,2,293,2],[294,2,298,2],[299,2,303,2],[304,2,308,2],[309,2,313,2],[314,2,318,2],[319,2,323,2],[324,2,328,2],[330,3,330,7],[330,8,330,12],[330,13,330,17],[330,18,330,22],[330,23,330,27],[330,28,330,32],[330,33,330,37],[330,38,330,42],[330,43,330,47],[330,48,330,52],[330,53,330,57],[330,58,330,62],[330,63,330,67],[330,68,330,72],[330,73,330,77],[330,78,330,82],[330,83,330,87],[330,88,330,92],[330,93,330,97],[330,98,330,102],[330,103,330,107],[330,108,330,112],[330,113,330,117],[330,118,330,122],[330,123,330,127],[330,128,330,132],[330,133,330,137],[330,138,330,142],[330,143,330,147],[330,148,330,152],[330,153,330,157],[330,158,330,162],[330,163,330,167],[330,168,330,172],[330,173,330,177],[330,178,330,182],[331,0,412,0],[331,2,335,2],[331,183,412,183],[336,2,340,2],[341,2,345,2],[346,2,350,2],[351,2,355,2],[356,2,360,2],[361,2,365,2],[366,2,370,2],[371,2,375,2],[376,2,380,2],[381,2,385,2],[386,2,390,2],[391,2,395,2],[396,2,400,2],[401,2,405,2],[406,2,410,2],[412,3,412,7],[412,8,412,12],[412,13,412,17],[412,18,412,22],[412,23,412,27],[412,28,412,32],[412,33,412,37],[412,38,412,42],[412,43,412,47],[412,48,412,52],[412,53,412,57],[412,58,412,62],[412,63,412,67],[412,68,412,72],[412,73,412,77],[412,78,412,82],[412,83,412,87],[412,88,412,92],[412,93,412,97],[412,98,412,102],[412,103,412,107],[412,108,412,112],[412,113,412,117],[412,118,412,122],[412,123,412,127],[412,128,412,132],[412,133,412,137],[412,138,412,142],[412,143,412,147],[412,148,412,152],[412,153,412,157],[412,158,412,162],[412,163,412,167],[412,168,412,172],[412,173,412,177],[412,178,412,182],[413,0,494,0],[413,2,417,2],[413,183,494,183],[418,2,422,2],[423,2,427,2],[428,2,432,2],[433,2,437,2],[438,2,442,2],[443,2,447,2],[448,2,452,2],[453,2,457,2],[458,2,462,2],[463,2,467,2],[468,2,472,2],[473,2,477,2],[478,2,482,2],[483,2,487,2],[488,2,492,2],[494,3,494,7],[494,8,494,12],[494,13,494,17],[494,18,494,22],[494,23,494,27],[494,28,494,32],[494,33,494,37],[494,38,494,42],[494,43,494,47],[494,48,494,52],[494,53,494,57],[494,58,494,62],[494,63,494,67],[494,68,494,72],[494,73,494,77],[494,78,494,82],[494,83,494,87],[494,88,494,92],[494,93,494,97],[494,98,494,102],[494,103,494,107],[494,108,494,112],[494,113,494,117],[494,118,494,122],[494,123,494,127],[494,128,494,132],[494,133,494,137],[494,138,494,142],[494,143,494,147],[494,148,494,152],[494,153,494,157],[494,158,494,162],[494,163,494,167],[494,168,494,172],[494,173,494,177],[494,178,494,182],[495,0,576,0],[495,2,499,2],[495,183,576,183],[500,2,504,2],[505,2,509,2],[510,2,514,2],[515,2,519,2],[520,2,524,2],[525,2,529,2],[530,2,534,2],[535,2,539,2],[540,2,544,2],[545,2,549,2],[550,2,554,2],[555,2,559,2],[560,2,564,2],[565,2,569,2],[570,2,574,2],[576,3,576,7],[576,8,576,12],[576,13,576,17],[576,18,576,22],[576,23,576,27],[576,28,576,32],[576,33,576,37],[576,38,576,42],[576,43,576,47],[576,48,576,52],[576,53,576,57],[576,58,576,62],[576,63,576,67],[576,68,576,72],[576,73,576,77],[576,78,576,82],[576,83,576,87],[576,88,576,92],[576,93,576,97],[576,98,576,102],[576,103,576,107],[576,108,576,112],[576,113,576,117],[576,118,576,122],[576,123,576,127],[576,128,576,132],[576,133,576,137],[576,138,576,142],[576,143,576,147],[576,148,576,152],[576,153,576,157],[576,158,576,162],[576,163,576,167],[576,168,576,172],[576,173,576,177],[576,178,576,182],[577,0,658,0],[577,2,581,2],[577,183,658,183],[582,2,586,2],[587,2,591,2],[592,2,596,2],[597,2,601,2],[602,2,606,2],[607,2,611,2],[612,2,616,2],[617,2,621,2],[622,2,626,2],[627,2,631,2],[632,2,636,2],[637,2,641,2],[642,2,646,2],[647,2,651,2],[652,2,656,2],[658,3,658,7],[658,8,658,12],[658,13,658,17],[658,18,658,22],[658,23,658,27],[658,28,658,32],[658,33,658,37],[658,38,658,42],[658,43,658,47],[658,48,658,52],[658,53,658,57],[658,58,658,62],[658,63,658,67],[658,68,658,72],[658,73,658,77],[658,78,658,82],[658,83,658,87],[658,88,658,92],[658,93,658,97],[658,98,658,102],[658,103,658,107],[658,108,658,112],[658,113,658,117],[658,118,658,122],[658,123,658,127],[658,128,658,132],[658,133,658,137],[658,138,658,142],[658,143,658,147],[658,148,658,152],[658,153,658,157],[658,158,658,162],[658,163,658,167],[658,168,658,172],[658,173,658,177],[658,178,658,182],[659,0,740,0],[659,2,663,2],[659,183,740,183],[664,2,668,2],[669,2,673,2],[674,2,678,2],[679,2,683,2],[684,2,688,2],[689,2,693,2],[694,2,698,2],[699,2,703,2],[704,2,708,2],[709,2,713,2],[714,2,718,2],[719,2,723,2],[724,2,728,2],[729,2,733,2],[734,2,738,2],[740,3,740,7],[740,8,740,12],[740,13,740,17],[740,18,740,22],[740,23,740,27],[740,28,740,32],[740,33,740,37],[740,38,740,42],[740,43,740,47],[740,48,740,52],[740,53,740,57],[740,58,740,62],[740,63,740,67],[740,68,740,72],[740,73,740,77],[740,78,740,82],[740,83,740,87],[740,88,740,92],[740,93,740,97],[740,98,740,102],[740,103,740,107],[740,108,740,112],[740,113,740,117],[740,118,740,122],[740,123,740,127],[740,128,740,132],[740,133,740,137],[740,138,740,142],[740,143,740,147],[740,148,740,152],[740,153,740,157],[740,158,740,162],[740,163,740,167],[740,168,740,172],[740,173,740,177],[740,178,740,182],[741,0,822,0],[741,2,745,2],[741,183,822,183],[746,2,750,2],[751,2,755,2],[756,2,760,2],[761,2,765,2],[766,2,770,2],[771,2,775,2],[776,2,780,2],[781,2,785,2],[786,2,790,2],[791,2,795,2],[796,2,800,2],[801,2,805,2],[806,2,810,2],[811,2,815,2],[816,2,820,2],[822,3,822,7],[822,8,822,12],[822,13,822,17],[822,18,822,22],[822,23,822,27],[822,28,822,32],[822,33,822,37],[822,38,822,42],[822,43,822,47],[822,48,822,52],[822,53,822,57],[822,58,822,62],[822,63,822,67],[822,68,822,72],[822,73,822,77],[822,78,822,82],[822,83,822,87],[822,88,822,92],[822,93,822,97],[822,98,822,102],[822,103,822,107],[822,108,822,112],[822,113,822,117],[822,118,822,122],[822,123,822,127],[822,128,822,132],[822,133,822,137],[822,138,822,142],[822,143,822,147],[822,148,822,152],[822,153,822,157],[822,158,822,162],[822,163,822,167],[822,168,822,172],[822,173,822,177],[822,178,822,182],[823,0,904,0],[823,2,827,2],[823,183,904,183],[828,2,832,2],[833,2,837,2],[838,2,842,2],[843,2,847,2],[848,2,852,2],[853,2,857,2],[858,2,862,2],[863,2,867,2],[868,2,872,2],[873,2,877,2],[878,2,882,2],[883,2,887,2],[888,2,892,2],[893,2,897,2],[898,2,902,2],[904,3,904,7],[904,8,904,12],[904,13,904,17],[904,18,904,22],[904,23,904,27],[904,28,904,32],[904,33,904,37],[904,38,904,42],[904,43,904,47],[904,48,904,52],[904,53,904,57],[904,58,904,62],[904,63,904,67],[904,68,904,72],[904,73,904,77],[904,78,904,82],[904,83,904,87],[904,88,904,92],[904,93,904,97],[904,98,904,102],[904,103,904,107],[904,108,904,112],[904,113,904,117],[904,118,904,122],[904,123,904,127],[904,128,904,132],[904,133,904,137],[904,138,904,142],[904,143,904,147],[904,148,904,152],[904,153,904,157],[904,158,904,162],[904,163,904,167],[904,168,904,172],[904,173,904,177],[904,178,904,182],[905,0,986,0],[905,2,909,2],[905,183,986,183],[910,2,914,2],[915,2,919,2],[920,2,924,2],[925,2,929,2],[930,2,934,2],[935,2,939,2],[940,2,944,2],[945,2,949,2],[950,2,954,2],[955,2,959,2],[960,2,964,2],[965,2,969,2],[970,2,974,2],[975,2,979,2],[980,2,984,2],[986,3,986,7],[986,8,986,12],[986,13,986,17],[986,18,986,22],[986,23,986,27],[986,28,986,32],[986,33,986,37],[986,38,986,42],[986,43,986,47],[986,48,986,52],[986,53,986,57],[986,58,986,62],[986,63,986,67],[986,68,986,72],[986,73,986,77],[986,78,986,82],[986,83,986,87],[986,88,986,92],[986,93,986,97],[986,98,986,102],[986,103,986,107],[986,108,986,112],[986,113,986,117],[986,118,986,122],[986,123,986,127],[986,128,986,132],[986,133,986,137],[986,138,986,142],[986,143,986,147],[986,148,986,152],[986,153,986,157],[986,158,986,162],[986,163,986,167],[986,168,986,172],[986,173,986,177],[986,178,986,182],[987,0,1068,0],[987,2,991,2],[987,183,1068,183],[992,2,996,2],[997,2,1001,2],[1002,2,1006,2],[1007,2,1011,2],[1012,2,1016,2],[1017,2,1021,2],[1022,2,1026,2],[1027,2,1031,2],[1032,2,1036,2],[1037,2,1041,2],[1042,2,1046,2],[1047,2,1051,2],[1052,2,1056,2],[1057,2,1061,2],[1062,2,1066,2],[1068,3,1068,7],[1068,8,1068,12],[1068,13,1068,17],[1068,18,1068,22],[1068,23,1068,27],[1068,28,1068,32],[1068,33,1068,37],[1068,38,1068,42],[1068,43,1068,47],[1068,48,1068,52],[1068,53,1068,57],[1068,58,1068,62],[1068,63,1068,67],[1068,68,1068,72],[1068,73,1068,77],[1068,78,1068,82],[1068,83,1068,87],[1068,88,1068,92],[1068,93,1068,97],[1068,98,1068,102],[1068,103,1068,107],[1068,108,1068,112],[1068,113,1068,117],[1068,118,1068,122],[1068,123,1068,127],[1068,128,1068,132],[1068,133,1068,137],[1068,138,1068,142],[1068,143,1068,147],[1068,148,1068,152],[1068,153,1068,157],[1068,158,1068,162],[1068,163,1068,167],[1068,168,1068,172],[1068,173,1068,177],[1068,178,1068,182],[1069,0,1150,0],[1069,2,1073,2],[1069,183,1150,183],[1074,2,1078,2],[1079,2,1083,2],[1084,2,1088,2],[1089,2,1093,2],[1094,2,1098,2],[1099,2,1103,2],[1104,2,1108,2],[1109,2,1113,2],[1114,2,1118,2],[1119,2,1123,2],[1124,2,1128,2],[1129,2,1133,2],[1134,2,1138,2],[1139,2,1143,2],[1144,2,1148,2],[1150,3,1150,7],[1150,8,1150,12],[1150,13,1150,17],[1150,18,1150,22],[1150,23,1150,27],[1150,28,1150,32],[1150,33,1150,37],[1150,38,1150,42],[1150,43,1150,47],[1150,48,1150,52],[1150,53,1150,57],[1150,58,1150,62],[1150,63,1150,67],[1150,68,1150,72],[1150,73,1150,77],[1150,78,1150,82],[1150,83,1150,87],[1150,88,1150,92],[1150,93,1150,97],[1150,98,1150,102],[1150,103,1150,107],[1150,108,1150,112],[1150,113,1150,117],[1150,118,1150,122],[1150,123,1150,127],[1150,128,1150,132],[1150,133,1150,137],[1150,138,1150,142],[1150,143,1150,147],[1150,148,1150,152],[1150,153,1150,157],[1150,158,1150,162],[1150,163,1150,167],[1150,168,1150,172],[1150,173,1150,177],[1150,178,1150,182],[1151,0,1232,0],[1151,2,1155,2],[1151,183,1232,183],[1156,2,1160,2],[1161,2,1165,2],[1166,2,1170,2],[1171,2,1175,2],[1176,2,1180,2],[1181,2,1185,2],[1186,2,1190,2],[1191,2,1195,2],[1196,2,1200,2],[1201,2,1205,2],[1206,2,1210,2],[1211,2,1215,2],[1216,2,1220,2],[1221,2,1225,2],[1226,2,1230,2],[1232,3,1232,7],[1232,8,1232,12],[1232,13,1232,17],[1232,18,1232,22],[1232,23,1232,27],[1232,28,1232,32],[1232,33,1232,37],[1232,38,1232,42],[1232,43,1232,47],[1232,48,1232,52],[1232,53,1232,57],[1232,58,1232,62],[1232,63,1232,67],[1232,68,1232,72],[1232,73,1232,77],[1232,78,1232,82],[1232,83,1232,87],[1232,88,1232,92],[1232,93,1232,97],[1232,98,1232,102],[1232,103,1232,107],[1232,108,1232,112],[1232,113,1232,117],[1232,118,1232,122],[1232,123,1232,127],[1232,128,1232,132],[1232,133,1232,137],[1232,138,1232,142],[1232,143,1232,147],[1232,148,1232,152],[1232,153,1232,157],[1232,158,1232,162],[1232,163,1232,167],[1232,168,1232,172],[1232,173,1232,177],[1232,178,1232,182],[1233,0,1314,0],[1233,2,1237,2],[1233,183,1314,183],[1238,2,1242,2],[1243,2,1247,2],[1248,2,1252,2],[1253,2,1257,2],[1258,2,1262,2],[1263,2,1267,2],[1268,2,1272,2],[1273,2,1277,2],[1278,2,1282,2],[1283,2,1287,2],[1288,2,1292,2],[1293,2,1297,2],[1298,2,1302,2],[1303,2,1307,2],[1308,2,1312,2],[1314,3,1314,7],[1314,8,1314,12],[1314,13,1314,17],[1314,18,1314,22],[1314,23,1314,27],[1314,28,1314,32],[1314,33,1314,37],[1314,38,1314,42],[1314,43,1314,47],[1314,48,1314,52],[1314,53,1314,57],[1314,58,1314,62],[1314,63,1314,67],[1314,68,1314,72],[1314,73,1314,77],[1314,78,1314,82],[1314,83,1314,87],[1314,88,1314,92],[1314,93,1314,97],[1314,98,1314,102],[1314,103,1314,107],[1314,108,1314,112],[1314,113,1314,117],[1314,118,1314,122],[1314,123,1314,127],[1314,128,1314,132],[1314,133,1314,137],[1314,138,1314,142],[1314,143,1314,147],[1314,148,1314,152],[1314,153,1314,157],[1314,158,1314,162],[1314,163,1314,167],[1314,168,1314,172],[1314,173,1314,177],[1314,178,1314,182]]}
["NÃO INSERIR NEM EXCLUIR LINHAS OU COLUNAS NESTA PLANILA"]
[]
[]
["??4CA",80,80]
[null,79]
[null,78]
[null,77]
[null,76]
[null,75,75]
[null,74]
[null,73]
[null,72]
[null,71]
[null,70,70]
[null,69]
[null,68]
[null,67]
[null,66]
[null,65,65]
[null,64]
[null,63]
[null,62]
[null,61]
[null,60,60]
[null,59]
[null,58]
[null,57]
[null,56]
[null,55,55]
[null,54]
[null,53]
[null,52]
[null,51]
[null,50,50]
[null,49]
[null,48]
[null,47]
[null,46]
[null,45,45]
[null,44]
[null,43]
[null,42]
[null,41]
[null,40,40]
[null,39]
[null,38]
[null,37]
[null,36]
[null,35,35]
[null,34]
[null,33]
[null,32]
[null,31]
[null,30,30]
[null,29]
[null,28]
[null,27]
[null,26]
[null,25,25]
[null,24]
[null,23]
[null,22]
[null,21]
[null,20,20]
[null,19]
[null,18]
[null,17]
[null,16]
[null,15,15]
[null,14]
[null,13]
[null,12]
[null,11]
[null,10,10]
[null,9]
[null,8]
[null,7]
[null,6]
[null,5,5]
[null,4]
[null,3]
[null,2]
[null,1]
[null,0,0,1,2,3,4,5,6,7,8,9,10,11,12,13,14,15,16,17,18,19,20,21,22,23,24,25,26,27,28,29,30,31,32,33,34,35,36,37,38,39,40,41,42,43,44,45,46,47,48,49,50,51,52,53,54,55,56,57,58,59,60,61,62,63,64,65,66,67,68,69,70,71,72,73,74,75,76,77,78,79,80,81,82,83,84,85,86,87,88,89,90,91,92,93,94,95,96,97,98,99,100,101,102,103,104,105,106,107,108,109,110,111,112,113,114,115,116,117,118,119,120,121,122,123,124,125,126,127,128,129,130,131,132,133,134,135,136,137,138,139,140,141,142,143,144,145,146,147,148,149,150,151,152,153,154,155,156,157,158,159,160,161,162,163,164,165,166,167,168,169,170,171,172,173,174,175,176,177,178,179,180]
[null,null,0,5,{"$nulls":4},10,{"$nulls":4},15,{"$nulls":4},20,{"$nulls":4},25,{"$nulls":4},30,{"$nulls":4},35,{"$nulls":4},40,{"$nulls":4},45,{"$nulls":4},50,{"$nulls":4},55,{"$nulls":4},60,{"$nulls":4},65,{"$nulls":4},70,{"$nulls":4},75,{"$nulls":4},80,{"$nulls":4},85,{"$nulls":4},90,{"$nulls":4},95,{"$nulls":4},100,{"$nulls":4},105,{"$nulls":4},110,{"$nulls":4},115,{"$nulls":4},120,{"$nulls":4},125,{"$nulls":4},130,{"$nulls":4},135,{"$nulls":4},140,{"$nulls":4},145,{"$nulls":4},150,{"$nulls":4},155,{"$nulls":4},160,{"$nulls":4},165,{"$nulls":4},170,{"$nulls":4},175,{"$nulls":4},180]
["2 CA",80,80]
[null,79]
[null,78]
[null,77]
[null,76]
[null,75,75]
[null,74]
[null,73]
[null,72]
[null,71]
[null,70,70]
[null,69]
[null,68]
[null,67]
[null,66]
[null,65,65]
[null,64]
[null,63]
[null,62]
[null,61]
[null,60,60]
[null,59]
[null,58]
[null,57]
[null,56]
[null,55,55]
[null,54]
[null,53]
[null,52]
[null,51]
[null,50,50]
[null,49]
[null,48]
[null,47]
[null,46]
[null,45,45]
[null,44]
[null,43]
[null,42]
[null,41]
[null,40,40]
[null,39]
[null,38]
[null,37]
[null,36]
[null,35,35]
[null,34]
[null,33]
[null,32]
[null,31]
[null,30,30]
[null,29]
[null,28]
[null,27]
[null,26]
[null,25,25]
[null,24]
[null,23]
[null,22]
[null,21]
[null,20,20]
[null,19]
[null,18]
[null,17]
[null,16]
[null,15,15]
[null,14]
[null,13]
[null,12]
[null,11]
[null,10,10]
[null,9]
[null,8]
[null,7]
[null,6]
[null,5,5]
[null,4]
[null,3]
[null,2]
[null,1]
[null,0,0,1,2,3,4,5,6,7,8,9,10,11,12,13,14,15,16,17,18,19,20,21,22,23,24,25,26,27,28,29,30,31,32,33,34,35,36,37,38,39,40,41,42,43,44,45,46,47,48,49,50,51,52,53,54,55,56,57,58,59,60,61,62,63,64,65,66,67,68,69,70,71,72,73,74,75,76,77,78,79,80,81,82,83,84,85,86,87,88,89,90,91,92,93,94,95,96,97,98,99,100,101,102,103,104,105,106,107,108,109,110,111,112,113,114,115,116,117,118,119,120,121,122,123,124,125,126,127,128,129,130,131,132,133,134,135,136,137,138,139,140,141,142,143,144,145,146,147,148,149,150,151,152,153,154,155,156,157,158,159,160,161,162,163,164,165,166,167,168,169,170,171,172,173,174,175,176,177,178,179,180]
[null,null,0,5,{"$nulls":4},10,{"$nulls":4},15,{"$nulls":4},20,{"$nulls":4},25,{"$nulls":4},30,{"$nulls":4},35,{"$nulls":4},40,{"$nulls":4},45,{"$nulls":4},50,{"$nulls":4},55,{"$nulls":4},60,{"$nulls":4},65,{"$nulls":4},70,{"$nulls":4},75,{"$nulls":4},80,{"$nulls":4},85,{"$nulls":4},90,{"$nulls":4},95,{"$nulls":4},100,{"$nulls":4},105,{"$nulls":4},110,{"$nulls":4},115,{"$nulls":4},120,{"$nulls":4},125,{"$nulls":4},130,{"$nulls":4},135,{"$nulls":4},140,{"$nulls":4},145,{"$nulls":4},150,{"$nulls":4},155,{"$nulls":4},160,{"$nulls":4},165,{"$nulls":4},170,{"$nulls":4},175,{"$nulls":4},180]
["1/0 CA",80,80," "]
[null,79]
[null,78]
[null,77]
[null,76]
[null,75,75]
[null,74]
[null,73]
[null,72]
[null,71]
[null,70,70]
[null,69]
[null,68]
[null,67]
[null,66]
[null,65,65]
[null,64]
[null,63]
[null,62]
[null,61]
[null,60,60]
[null,59]
[null,58]
[null,57]
[null,56]
[null,55,55]
[null,54]
[null,53]
[null,52]
[null,51]
[null,50,50]
[null,49]
[null,48]
[null,47]
[null,46]
[null,45,45]
[null,44]
[null,43]
[null,42]
[null,41]
[null,40,40]
[null,39]
[null,38]
[null,37]
[null,36]
[null,35,35]
[null,34]
[null,33]
[null,32]
[null,31]
[null,30,30]
[null,29]
[null,28]
[null,27]
[null,26]
[null,25,25]
[null,24]
[null,23]
[null,22]
[null,21]
[null,20,20]
[null,19]
[null,18]
[null,17]
[null,16]
[null,15,15]
[null,14]
[null,13]
[null,12]
[null,11]
[null,10,10]
[null,9]
[null,8]
[null,7]
[null,6]
[null,5,5]
[null,4]
[null,3]
[null,2]
[null,1]
[null,0,0,1,2,3,4,5,6,7,8,9,10,11,12,13,14,15,16,17,18,19,20,21,22,23,24,25,26,27,28,29,30,31,32,33,34,35,36,37,38,39,40,41,42,43,44,45,46,47,48,49,50,51,52,53,54,55,56,57,58,59,60,61,62,63,64,65,66,67,68,69,70,71,72,73,74,75,76,77,78,79,80,81,82,83,84,85,86,87,88,89,90,91,92,93,94,95,96,97,98,99,100,101,102,103,104,105,106,107,108,109,110,111,112,113,114,115,116,117,118,119,120,121,122,123,124,125,126,127,128,129,130,131,132,133,134,135,136,137,138,139,140,141,142,143,144,145,146,147,148,149,150,151,152,153,154,155,156,157,158,159,160,161,162,163,164,165,166,167,168,169,170,171,172,173,174,175,176,177,178,179,180]
[null,null,0,5,{"$nulls":4},10,{"$nulls":4},15,{"$nulls":4},20,{"$nulls":4},25,{"$nulls":4},30,{"$nulls":4},35,{"$nulls":4},40,{"$nulls":4},45,{"$nulls":4},50,{"$nulls":4},55,{"$nulls":4},60,{"$nulls":4},65,{"$nulls":4},70,{"$nulls":4},75,{"$nulls":4},80,{"$nulls":4},85,{"$nulls":4},90,{"$nulls":4},95,{"$nulls":4},100,{"$nulls":4},105,{"$nulls":4},110,{"$nulls":4},115,{"$nulls":4},120,{"$nulls":4},125,{"$nulls":4},130,{"$nulls":4},135,{"$nulls":4},140,{"$nulls":4},145,{"$nulls":4},150,{"$nulls":4},155,{"$nulls":4},160,{"$nulls":4},165,{"$nulls":4},170,{"$nulls":4},175,{"$nulls":4},180]
["??2/0 CA",80,80," "]
[null,79]
[null,78]
[null,77]
[null,76]
[null,75,75]
[null,74]
[null,73]
[null,72]
[null,71]
[null,70,70]
[null,69]
[null,68]
[null,67]
[null,66]
[null,65,65]
[null,64]
[null,63]
[null,62]
[null,61]
[null,60,60]
[null,59]
[null,58]
[null,57]
[null,56]
[null,55,55]
[null,54]
[null,53]
[null,52]
[null,51]
[null,50,50]
[null,49]
[null,48]
[null,47]
[null,46]
[null,45,45]
[null,44]
[null,43]
[null,42]
[null,41]
[null,40,40]
[null,39]
[null,38]
[null,37]
[null,36]
[null,35,35]
[null,34]
[null,33]
[null,32]
[null,31]
[null,30,30]
[null,29]
[null,28]
[null,27]
[null,26]
[null,25,25]
[null,24]
[null,23]
[null,22]
[null,21]
[null,20,20]
[null,19]
[null,18]
[null,17]
[null,16]
[null,15,15]
[null,14]
[null,13]
[null,12]
[null,11]
[null,10,10]
[null,9]
[null,8]
[null,7]
[null,6]
[null,5,5]
[null,4]
[null,3]
[null,2]
[null,1]
[null,0,0,1,2,3,4,5,6,7,8,9,10,11,12,13,14,15,16,17,18,19,20,21,22,23,24,25,26,27,28,29,30,31,32,33,34,35,36,37,38,39,40,41,42,43,44,45,46,47,48,49,50,51,52,53,54,55,56,57,58,59,60,61,62,63,64,65,66,67,68,69,70,71,72,73,74,75,76,77,78,79,80,81,82,83,84,85,86,87,88,89,90,91,92,93,94,95,96,97,98,99,100,101,102,103,104,105,106,107,108,109,110,111,112,113,114,115,116,117,118,119,120,121,122,123,124,125,126,127,128,129,130,131,132,133,134,135,136,137,138,139,140,141,142,143,144,145,146,147,148,149,150,151,152,153,154,155,156,157,158,159,160,161,162,163,164,165,166,167,168,169,170,171,172,173,174,175,176,177,178,179,180]
[null,null,0,5,{"$nulls":4},10,{"$nulls":4},15,{"$nulls":4},20,{"$nulls":4},25,{"$nulls":4},30,{"$nulls":4},35,{"$nulls":4},40,{"$nulls":4},45,{"$nulls":4},50,{"$nulls":4},55,{"$nulls":4},60,{"$nulls":4},65,{"$nulls":4},70,{"$nulls":4},75,{"$nulls":4},80,{"$nulls":4},85,{"$nulls":4},90,{"$nulls":4},95,{"$nulls":4},100,{"$nulls":4},105,{"$nulls":4},110,{"$nulls":4},115,{"$nulls":4},120,{"$nulls":4},125,{"$nulls":4},130,{"$nulls":4},135,{"$nulls":4},140,{"$nulls":4},145,{"$nulls":4},150,{"$nulls":4},155,{"$nulls":4},160,{"$nulls":4},165,{"$nulls":4},170,{"$nulls":4},175,{"$nulls":4},180]
["??3/0 CA",80,80," "]
[null,79]
[null,78]
[null,77]
[null,76]
[null,75,75]
[null,74]
[null,73]
[null,72]
[null,71]
[null,70,70]
[null,69]
[null,68]
[null,67]
[null,66]
[null,65,65]
[null,64]
[null,63]
[null,62]
[null,61]
[null,60,60]
[null,59]
[null,58]
[null,57]
[null,56]
[null,55,55]
[null,54]
[null,53]
[null,52]
[null,51]
[null,50,50]
[null,49]
[null,48]
[null,47]
[null,46]
[null,45,45]
[null,44]
[null,43]
[null,42]
[null,41]
[null,40,40]
[null,39]
[null,38]
[null,37]
[null,36]
[null,35,35]
[null,34]
[null,33]
[null,32]
[null,31]
[null,30,30]
[null,29]
[null,28]
[null,27]
[null,26]
[null,25,25]
[null,24]
[null,23]
[null,22]
[null,21]
[null,20,20]
[null,19]
[null,18]
[null,17]
[null,16]
[null,15,15]
[null,14]
[null,13]
[null,12]
[null,11]
[null,10,10]
[null,9]
[null,8]
[null,7]
[null,6]
[null,5,5]
[null,4]
[null,3]
[null,2]
[null,1]
[null,0,0,1,2,3,4,5,6,7,8,9,10,11,12,13,14,15,16,17,18,19,20,21,22,23,24,25,26,27,28,29,30,31,32,33,34,35,36,37,38,39,40,41,42,43,44,45,46,47,48,49,50,51,52,53,54,55,56,57,58,59,60,61,62,63,64,65,66,67,68,69,70,71,72,73,74,75,76,77,78,79,80,81,82,83,84,85,86,87,88,89,90,91,92,93,94,95,96,97,98,99,100,101,102,103,104,105,106,107,108,109,110,111,112,113,114,115,116,117,118,119,120,121,122,123,124,125,126,127,128,129,130,131,132,133,134,135,136,137,138,139,140,141,142,143,144,145,146,147,148,149,150,151,152,153,154,155,156,157,158,159,160,161,162,163,164,165,166,167,168,169,170,171,172,173,174,175,176,177,178,179,180]
[null,null,0,5,{"$nulls":4},10,{"$nulls":4},15,{"$nulls":4},20,{"$nulls":4},25,{"$nulls":4},30,{"$nulls":4},35,{"$nulls":4},40,{"$nulls":4},45,{"$nulls":4},50,{"$nulls":4},55,{"$nulls":4},60,{"$nulls":4},65,{"$nulls":4},70,{"$nulls":4},75,{"$nulls":4},80,{"$nulls":4},85,{"$nulls":4},90,{"$nulls":4},95,{"$nulls":4},100,{"$nulls":4},105,{"$nulls":4},110,{"$nulls":4},115,{"$nulls":4},120,{"$nulls":4},125,{"$nulls":4},130,{"$nulls":4},135,{"$nulls":4},140,{"$nulls":4},145,{"$nulls":4},150,{"$nulls":4},155,{"$nulls":4},160,{"$nulls":4},165,{"$nulls":4},170,{"$nulls":4},175,{"$nulls":4},180]
["4/0 CA",80,80]
[null,79]
[null,78]
[null,77]
[null,76]
[null,75,75]
[null,74]
[null,73]
[null,72]
[null,71]
[null,70,70]
[null,69]
[null,68]
[null,67]
[null,66]
[null,65,65]
[null,64]
[null,63]
[null,62]
[null,61]
[null,60,60]
[null,59]
[null,58]
[null,57]
[null,56]
[null,55,55]
[null,54]
[null,53]
[null,52]
[null,51]
[null,50,50]
[null,49]
[null,48]
[null,47]
[null,46]
[null,45,45]
[null,44]
[null,43]
[null,42]
[null,41]
[null,40,40]
[null,39]
[null,38]
[null,37]
[null,36]
[null,35,35]
[null,34]
[null,33]
[null,32]
[null,31]
[null,30,30]
[null,29]
[null,28]
[null,27]
[null,26]
[null,25,25]
[null,24]
[null,23]
[null,22]
[null,21]
[null,20,20]
[null,19]
[null,18]
[null,17]
[null,16]
[null,15,15]
[null,14]
[null,13]
[null,12]
[null,11]
[null,10,10]
[null,9]
[null,8]
[null,7]
[null,6]
[null,5,5]
[null,4]
[null,3]
[null,2]
[null,1]
[null,0,0,1,2,3,4,5,6,7,8,9,10,11,12,13,14,15,16,17,18,19,20,21,22,23,24,25,26,27,28,29,30,31,32,33,34,35,36,37,38,39,40,41,42,43,44,45,46,47,48,49,50,51,52,53,54,55,56,57,58,59,60,61,62,63,64,65,66,67,68,69,70,71,72,73,74,75,76,77,78,79,80,81,82,83,84,85,86,87,88,89,90,91,92,93,94,95,96,97,98,99,100,101,102,103,104,105,106,107,108,109,110,111,112,113,114,115,116,117,118,119,120,121,122,123,124,125,126,127,128,129,130,131,132,133,134,135,136,137,138,139,140,141,142,143,144,145,146,147,148,149,150,151,152,153,154,155,156,157,158,159,160,161,162,163,164,165,166,167,168,169,170,171,172,173,174,175,176,177,178,179,180]
[null,null,0,5,{"$nulls":4},10,{"$nulls":4},15,{"$nulls":4},20,{"$nulls":4},25,{"$nulls":4},30,{"$nulls":4},35,{"$nulls":4},40,{"$nulls":4},45,{"$nulls":4},50,{"$nulls":4},55,{"$nulls":4},60,{"$nulls":4},65,{"$nulls":4},70,{"$nulls":4},75,{"$nulls":4},80,{"$nulls":4},85,{"$nulls":4},90,{"$nulls":4},95,{"$nulls":4},100,{"$nulls":4},105,{"$nulls":4},110,{"$nulls":4},115,{"$nulls":4},120,{"$nulls":4},125,{"$nulls":4},130,{"$nulls":4},135,{"$nulls":4},140,{"$nulls":4},145,{"$nulls":4},150,{"$nulls":4},155,{"$nulls":4},160,{"$nulls":4},165,{"$nulls":4},170,{"$nulls":4},175,{"$nulls":4},180]
["336,4 CA",80,80]
[null,79]
[null,78]
[null,77]
[null,76]
[null,75,75]
[null,74]
[null,73]
[null,72]
[null,71]
[null,70,70]
[null,69]
[null,68]
[null,67]
[null,66]
[null,65,65]
[null,64]
[null,63]
[null,62]
[null,61]
[null,60,60]
[null,59]
[null,58]
[null,57]
[null,56]
[null,55,55]
[null,54]
[null,53]
[null,52]
[null,51]
[null,50,50]
[null,49]
[null,48]
[null,47]
[null,46]
[null,45,45]
[null,44]
[null,43]
[null,42]
[null,41]
[null,40,40]
[null,39]
[null,38]
[null,37]
[null,36]
[null,35,35]
[null,34]
[null,33]
[null,32]
[null,31]
[null,30,30]
[null,29]
[null,28]
[null,27]
[null,26]
[null,25,25]
[null,24]
[null,23]
[null,22]
[null,21]
[null,20,20]
[null,19]
[null,18]
[null,17]
[null,16]
[null,15,15]
[null,14]
[null,13]
[null,12]
[null,11]
[null,10,10]
[null,9]
[null,8]
[null,7]
[null,6]
[null,5,5]
[null,4]
[null,3]
[null,2]
[null,1]
[null,0,0,1,2,3,4,5,6,7,8,9,10,11,12,13,14,15,16,17,18,19,20,21,22,23,24,25,26,27,28,29,30,31,32,33,34,35,36,37,38,39,40,41,42,43,44,45,46,47,48,49,50,51,52,53,54,55,56,57,58,59,60,61,62,63,64,65,66,67,68,69,70,71,72,73,74,75,76,77,78,79,80,81,82,83,84,85,86,87,88,89,90,91,92,93,94,95,96,97,98,99,100,101,102,103,104,105,106,107,108,109,110,111,112,113,114,115,116,117,118,119,120,121,122,123,124,125,126,127,128,129,130,131,132,133,134,135,136,137,138,139,140,141,142,143,144,145,146,147,148,149,150,151,152,153,154,155,156,157,158,159,160,161,162,163,164,165,166,167,168,169,170,171,172,173,174,175,176,177,178,179,180]
[null,null,0,5,{"$nulls":4},10,{"$nulls":4},15,{"$nulls":4},20,{"$nulls":4},25,{"$nulls":4},30,{"$nulls":4},35,{"$nulls":4},40,{"$nulls":4},45,{"$nulls":4},50,{"$nulls":4},55,{"$nulls":4},60,{"$nulls":4},65,{"$nulls":4},70,{"$nulls":4},75,{"$nulls":4},80,{"$nulls":4},85,{"$nulls":4},90,{"$nulls":4},95,{"$nulls":4},100,{"$nulls":4},105,{"$nulls":4},110,{"$nulls":4},115,{"$nulls":4},120,{"$nulls":4},125,{"$nulls":4},130,{"$nulls":4},135,{"$nulls":4},140,{"$nulls":4},145,{"$nulls":4},150,{"$nulls":4},155,{"$nulls":4},160,{"$nulls":4},165,{"$nulls":4},170,{"$nulls":4},175,{"$nulls":4},180]
["??4 CAA",80,80]
[null,79]
[null,78]
[null,77]
[null,76]
[null,75,75]
[null,74]
[null,73]
[null,72]
[null,71]
[null,70,70]
[null,69]
[null,68]
[null,67]
[null,66]
[null,65,65]
[null,64]
[null,63]
[null,62]
[null,61]
[null,60,60]
[null,59]
[null,58]
[null,57]
[null,56]
[null,55,55]
[null,54]
[null,53]
[null,52]
[null,51]
[null,50,50]
[null,49]
[null,48]
[null,47]
[null,46]
[null,45,45]
[null,44]
[null,43]
[null,42]
[null,41]
[null,40,40]
[null,39]
[null,38]
[null,37]
[null,36]
[null,35,35]
[null,34]
[null,33]
[null,32]
[null,31]
[null,30,30]
[null,29]
[null,28]
[null,27]
[null,26]
[null,25,25]
[null,24]
[null,23]
[null,22]
[null,21]
[null,20,20]
[null,19]
[null,18]
[null,17]
[null,16]
[null,15,15]
[null,14]
[null,13]
[null,12]
[null,11]
[null,10,10]
[null,9]
[null,8]
[null,7]
[null,6]
[null,5,5]
[null,4]
[null,3]
[null,2]
[null,1]
[null,0,null,1,2,3,4,5,6,7,8,9,10,11,12,13,14,15,16,17,18,19,20,21,22,23,24,25,26,27,28,29,30,31,32,33,34,35,36,37,38,39,40,41,42,43,44,45,46,47,48,49,50,51,52,53,54,55,56,57,58,59,60,61,62,63,64,65,66,67,68,69,70,71,72,73,74,75,76,77,78,79,80,81,82,83,84,85,86,87,88,89,90,91,92,93,94,95,96,97,98,99,100,101,102,103,104,105,106,107,108,109,110,111,112,113,114,115,116,117,118,119,120,121,122,123,124,125,126,127,128,129,130,131,132,133,134,135,136,137,138,139,140,141,142,143,144,145,146,147,148,149,150,151,152,153,154,155,156,157,158,159,160,161,162,163,164,165,166,167,168,169,170,171,172,173,174,175,176,177,178,179,180]
[{"$nulls":3},5,{"$nulls":4},10,{"$nulls":4},15,{"$nulls":4},20,{"$nulls":4},25,{"$nulls":4},30,{"$nulls":4},35,{"$nulls":4},40,{"$nulls":4},45,{"$nulls":4},50,{"$nulls":4},55,{"$nulls":4},60,{"$nulls":4},65,{"$nulls":4},70,{"$nulls":4},75,{"$nulls":4},80,{"$nulls":4},85,{"$nulls":4},90,{"$nulls":4},95,{"$nulls":4},100,{"$nulls":4},105,{"$nulls":4},110,{"$nulls":4},115,{"$nulls":4},120,{"$nulls":4},125,{"$nulls":4},130,{"$nulls":4},135,{"$nulls":4},140,{"$nulls":4},145,{"$nulls":4},150,{"$nulls":4},155,{"$nulls":4},160,{"$nulls":4},165,{"$nulls":4},170,{"$nulls":4},175,{"$nulls":4},180]
["??2 CAA",80,80]
[null,79]
[null,78]
[null,77]
[null,76]
[null,75,75]
[null,74]
[null,73]
[null,72]
[null,71]
[null,70,70]
[null,69]
[null,68]
[null,67]
[null,66]
[null,65,65]
[null,64]
[null,63]
[null,62]
[null,61]
[null,60,60]
[null,59]
[null,58]
[null,57]
[null,56]
[null,55,55]
[null,54]
[null,53]
[null,52]
[null,51]
[null,50,50]
[null,49]
[null,48]
[null,47]
[null,46]
[null,45,45]
[null,44]
[null,43]
[null,42]
[null,41]
[null,40,40]
[null,39]
[null,38]
[null,37]
[null,36]
[null,35,35]
[null,34]
[null,33]
[null,32]
[null,31]
[null,30,30]
[null,29]
[null,28]
[null,27]
[null,26]
[null,25,25]
[null,24]
[null,23]
[null,22]
[null,21]
[null,20,20]
[null,19]
[null,18]
[null,17]
[null,16]
[null,15,15]
[null,14]
[null,13]
[null,12]
[null,11]
[null,10,10]
[null,9]
[null,8]
[null,7]
[null,6]
[null,5,5]
[null,4]
[null,3]
[null,2]
[null,1]
[null,0,null,1,2,3,4,5,6,7,8,9,10,11,12,13,14,15,16,17,18,19,20,21,22,23,24,25,26,27,28,29,30,31,32,33,34,35,36,37,38,39,40,41,42,43,44,45,46,47,48,49,50,51,52,53,54,55,56,57,58,59,60,61,62,63,64,65,66,67,68,69,70,71,72,73,74,75,76,77,78,79,80,81,82,83,84,85,86,87,88,89,90,91,92,93,94,95,96,97,98,99,100,101,102,103,104,105,106,107,108,109,110,111,112,113,114,115,116,117,118,119,120,121,122,123,124,125,126,127,128,129,130,131,132,133,134,135,136,137,138,139,140,141,142,143,144,145,146,147,148,149,150,151,152,153,154,155,156,157,158,159,160,161,162,163,164,165,166,167,168,169,170,171,172,173,174,175,176,177,178,179,180]
[{"$nulls":3},5,{"$nulls":4},10,{"$nulls":4},15,{"$nulls":4},20,{"$nulls":4},25,{"$nulls":4},30,{"$nulls":4},35,{"$nulls":4},40,{"$nulls":4},45,{"$nulls":4},50,{"$nulls":4},55,{"$nulls":4},60,{"$nulls":4},65,{"$nulls":4},70,{"$nulls":4},75,{"$nulls":4},80,{"$nulls":4},85,{"$nulls":4},90,{"$nulls":4},95,{"$nulls":4},100,{"$nulls":4},105,{"$nulls":4},110,{"$nulls":4},115,{"$nulls":4},120,{"$nulls":4},125,{"$nulls":4},130,{"$nulls":4},135,{"$nulls":4},140,{"$nulls":4},145,{"$nulls":4},150,{"$nulls":4},155,{"$nulls":4},160,{"$nulls":4},165,{"$nulls":4},170,{"$nulls":4},175,{"$nulls":4},180]
["??1/0 CAA",80,80]
[null,79]
[null,78]
[null,77]
[null,76]
[null,75,75]
[null,74]
[null,73]
[null,72]
[null,71]
[null,70,70]
[null,69]
[null,68]
[null,67]
[null,66]
[null,65,65]
[null,64]
[null,63]
[null,62]
[null,61]
[null,60,60]
[null,59]
[null,58]
[null,57]
[null,56]
[null,55,55]
[null,54]
[null,53]
[null,52]
[null,51]
[null,50,50]
[null,49]
[null,48]
[null,47]
[null,46]
[null,45,45]
[null,44]
[null,43]
[null,42]
[null,41]
[null,40,40]
[null,39]
[null,38]
[null,37]
[null,36]
[null,35,35]
[null,34]
[null,33]
[null,32]
[null,31]
[null,30,30]
[null,29]
[null,28]
[null,27]
[null,26]
[null,25,25]
[null,24]
[null,23]
[null,22]
[null,21]
[null,20,20]
[null,19]
[null,18]
[null,17]
[null,16]
[null,15,15]
[null,14]
[null,13]
[null,12]
[null,11]
[null,10,10]
[null,9]
[null,8]
[null,7]
[null,6]
[null,5,5]
[null,4]
[null,3]
[null,2]
[null,1]
[null,0,null,1,2,3,4,5,6,7,8,9,10,11,12,13,14,15,16,17,18,19,20,21,22,23,24,25,26,27,28,29,30,31,32,33,34,35,36,37,38,39,40,41,42,43,44,45,46,47,48,49,50,51,52,53,54,55,56,57,58,59,60,61,62,63,64,65,66,67,68,69,70,71,72,73,74,75,76,77,78,79,80,81,82,83,84,85,86,87,88,89,90,91,92,93,94,95,96,97,98,99,100,101,102,103,104,105,106,107,108,109,110,111,112,113,114,115,116,117,118,119,120,121,122,123,124,125,126,127,128,129,130,131,132,133,134,135,136,137,138,139,140,141,142,143,144,145,146,147,148,149,150,151,152,153,154,155,156,157,158,159,160,161,162,163,164,165,166,167,168,169,170,171,172,173,174,175,176,177,178,179,180]
[{"$nulls":3},5,{"$nulls":4},10,{"$nulls":4},15,{"$nulls":4},20,{"$nulls":4},25,{"$nulls":4},30,{"$nulls":4},35,{"$nulls":4},40,{"$nulls":4},45,{"$nulls":4},50,{"$nulls":4},55,{"$nulls":4},60,{"$nulls":4},65,{"$nulls":4},70,{"$nulls":4},75,{"$nulls":4},80,{"$nulls":4},85,{"$nulls":4},90,{"$nulls":4},95,{"$nulls":4},100,{"$nulls":4},105,{"$nulls":4},110,{"$nulls":4},115,{"$nulls":4},120,{"$nulls":4},125,{"$nulls":4},130,{"$nulls":4},135,{"$nulls":4},140,{"$nulls":4},145,{"$nulls":4},150,{"$nulls":4},155,{"$nulls":4},160,{"$nulls":4},165,{"$nulls":4},170,{"$nulls":4},175,{"$nulls":4},180]
["??2/0 CAA",80,80]
[null,79]
[null,78]
[null,77]
[null,76]
[null,75,75]
[null,74]
[null,73]
[null,72]
[null,71]
[null,70,70]
[null,69]
[null,68]
[null,67]
[null,66]
[null,65,65]
[null,64]
[null,63]
[null,62]
[null,61]
[null,60,60]
[null,59]
[null,58]
[null,57]
[null,56]
[null,55,55]
[null,54]
[null,53]
[null,52]
[null,51]
[null,50,50]
[null,49]
[null,48]
[null,47]
[null,46]
[null,45,45]
[null,44]
[null,43]
[null,42]
[null,41]
[null,40,40]
[null,39]
[null,38]
[null,37]
[null,36]
[null,35,35]
[null,34]
[null,33]
[null,32]
[null,31]
[null,30,30]
[null,29]
[null,28]
[null,27]
[null,26]
[null,25,25]
[null,24]
[null,23]
[null,22]
[null,21]
[null,20,20]
[null,19]
[null,18]
[null,17]
[null,16]
[null,15,15]
[null,14]
[null,13]
[null,12]
[null,11]
[null,10,10]
[null,9]
[null,8]
[null,7]
[null,6]
[null,5,5]
[null,4]
[null,3]
[null,2]
[null,1]
[null,0,null,1,2,3,4,5,6,7,8,9,10,11,12,13,14,15,16,17,18,19,20,21,22,23,24,25,26,27,28,29,30,31,32,33,34,35,36,37,38,39,40,41,42,43,44,45,46,47,48,49,50,51,52,53,54,55,56,57,58,59,60,61,62,63,64,65,66,67,68,69,70,71,72,73,74,75,76,77,78,79,80,81,82,83,84,85,86,87,88,89,90,91,92,93,94,95,96,97,98,99,100,101,102,103,104,105,106,107,108,109,110,111,112,113,114,115,116,117,118,119,120,121,122,123,124,125,126,127,128,129,130,131,132,133,134,135,136,137,138,139,140,141,142,143,144,145,146,147,148,149,150,151,152,153,154,155,156,157,158,159,160,161,162,163,164,165,166,167,168,169,170,171,172,173,174,175,176,177,178,179,180]
[{"$nulls":3},5,{"$nulls":4},10,{"$nulls":4},15,{"$nulls":4},20,{"$nulls":4},25,{"$nulls":4},30,{"$nulls":4},35,{"$nulls":4},40,{"$nulls":4},45,{"$nulls":4},50,{"$nulls":4},55,{"$nulls":4},60,{"$nulls":4},65,{"$nulls":4},70,{"$nulls":4},75,{"$nulls":4},80,{"$nulls":4},85,{"$nulls":4},90,{"$nulls":4},95,{"$nulls":4},100,{"$nulls":4},105,{"$nulls":4},110,{"$nulls":4},115,{"$nulls":4},120,{"$nulls":4},125,{"$nulls":4},130,{"$nulls":4},135,{"$nulls":4},140,{"$nulls":4},145,{"$nulls":4},150,{"$nulls":4},155,{"$nulls":4},160,{"$nulls":4},165,{"$nulls":4},170,{"$nulls":4},175,{"$nulls":4},180]
["??3/0 CAA",80,80]
[null,79]
[null,78]
[null,77]
[null,76]
[null,75,75]
[null,74]
[null,73]
[null,72]
[null,71]
[null,70,70]
[null,69]
[null,68]
[null,67]
[null,66]
[null,65,65]
[null,64]
[null,63]
[null,62]
[null,61]
[null,60,60]
[null,59]
[null,58]
[null,57]
[null,56]
[null,55,55]
[null,54]
[null,53]
[null,52]
[null,51]
[null,50,50]
[null,49]
[null,48]
[null,47]
[null,46]
[null,45,45]
[null,44]
[null,43]
[null,42]
[null,41]
[null,40,40]
[null,39]
[null,38]
[null,37]
[null,36]
[null,35,35]
[null,34]
[null,33]
[null,32]
[null,31]
[null,30,30]
[null,29]
[null,28]
[null,27]
[null,26]
[null,25,25]
[null,24]
[null,23]
[null,22]
[null,21]
[null,20,20]
[null,19]
[null,18]
[null,17]
[null,16]
[null,15,15]
[null,14]
[null,13]
[null,12]
[null,11]
[null,10,10]
[null,9]
[null,8]
[null,7]
[null,6]
[null,5,5]
[null,4]
[null,3]
[null,2]
[null,1]
[null,0,null,1,2,3,4,5,6,7,8,9,10,11,12,13,14,15,16,17,18,19,20,21,22,23,24,25,26,27,28,29,30,31,32,33,34,35,36,37,38,39,40,41,42,43,44,45,46,47,48,49,50,51,52,53,54,55,56,57,58,59,60,61,62,63,64,65,66,67,68,69,70,71,72,73,74,75,76,77,78,79,80,81,82,83,84,85,86,87,88,89,90,91,92,93,94,95,96,97,98,99,100,101,102,103,104,105,106,107,108,109,110,111,112,113,114,115,116,117,118,119,120,121,122,123,124,125,126,127,128,129,130,131,132,133,134,135,136,137,138,139,140,141,142,143,144,145,146,147,148,149,150,151,152,153,154,155,156,157,158,159,160,161,162,163,164,165,166,167,168,169,170,171,172,173,174,175,176,177,178,179,180]
[{"$nulls":3},5,{"$nulls":4},10,{"$nulls":4},15,{"$nulls":4},20,{"$nulls":4},25,{"$nulls":4},30,{"$nulls":4},35,{"$nulls":4},40,{"$nulls":4},45,{"$nulls":4},50,{"$nulls":4},55,{"$nulls":4},60,{"$nulls":4},65,{"$nulls":4},70,{"$nulls":4},75,{"$nulls":4},80,{"$nulls":4},85,{"$nulls":4},90,{"$nulls":4},95,{"$nulls":4},100,{"$nulls":4},105,{"$nulls":4},110,{"$nulls":4},115,{"$nulls":4},120,{"$nulls":4},125,{"$nulls":4},130,{"$nulls":4},135,{"$nulls":4},140,{"$nulls":4},145,{"$nulls":4},150,{"$nulls":4},155,{"$nulls":4},160,{"$nulls":4},165,{"$nulls":4},170,{"$nulls":4},175,{"$nulls":4},180]
["??4/0 CAA",80,80]
[null,79]
[null,78]
[null,77]
[null,76]
[null,75,75]
[null,74]
[null,73]
[null,72]
[null,71]
[null,70,70]
[null,69]
[null,68]
[null,67]
[null,66]
[null,65,65]
[null,64]
[null,63]
[null,62]
[null,61]
[null,60,60]
[null,59]
[null,58]
[null,57]
[null,56]
[null,55,55]
[null,54]
[null,53]
[null,52]
[null,51]
[null,50,50]
[null,49]
[null,48]
[null,47]
[null,46]
[null,45,45]
[null,44]
[null,43]
[null,42]
[null,41]
[null,40,40]
[null,39]
[null,38]
[null,37]
[null,36]
[null,35,35]
[null,34]
[null,33]
[null,32]
[null,31]
[null,30,30]
[null,29]
[null,28]
[null,27]
[null,26]
[null,25,25]
[null,24]
[null,23]
[null,22]
[null,21]
[null,20,20]
[null,19]
[null,18]
[null,17]
[null,16]
[null,15,15]
[null,14]
[null,13]
[null,12]
[null,11]
[null,10,10]
[null,9]
[null,8]
[null,7]
[null,6]
[null,5,5]
[null,4]
[null,3]
[null,2]
[null,1]
[null,0,null,1,2,3,4,5,6,7,8,9,10,11,12,13,14,15,16,17,18,19,20,21,22,23,24,25,26,27,28,29,30,31,32,33,34,35,36,37,38,39,40,41,42,43,44,45,46,47,48,49,50,51,52,53,54,55,56,57,58,59,60,61,62,63,64,65,66,67,68,69,70,71,72,73,74,75,76,77,78,79,80,81,82,83,84,85,86,87,88,89,90,91,92,93,94,95,96,97,98,99,100,101,102,103,104,105,106,107,108,109,110,111,112,113,114,115,116,117,118,119,120,121,122,123,124,125,126,127,128,129,130,131,132,133,134,135,136,137,138,139,140,141,142,143,144,145,146,147,148,149,150,151,152,153,154,155,156,157,158,159,160,161,162,163,164,165,166,167,168,169,170,171,172,173,174,175,176,177,178,179,180]
[{"$nulls":3},5,{"$nulls":4},10,{"$nulls":4},15,{"$nulls":4},20,{"$nulls":4},25,{"$nulls":4},30,{"$nulls":4},35,{"$nulls":4},40,{"$nulls":4},45,{"$nulls":4},50,{"$nulls":4},55,{"$nulls":4},60,{"$nulls":4},65,{"$nulls":4},70,{"$nulls":4},75,{"$nulls":4},80,{"$nulls":4},85,{"$nulls":4},90,{"$nulls":4},95,{"$nulls":4},100,{"$nulls":4},105,{"$nulls":4},110,{"$nulls":4},115,{"$nulls":4},120,{"$nulls":4},125,{"$nulls":4},130,{"$nulls":4},135,{"$nulls":4},140,{"$nulls":4},145,{"$nulls":4},150,{"$nulls":4},155,{"$nulls":4},160,{"$nulls":4},165,{"$nulls":4},170,{"$nulls":4},175,{"$nulls":4},180]
["??336,4 CAA (LINNET)",80,80]
[null,79]
[null,78]
[null,77]
[null,76]
[null,75,75]
[null,74]
[null,73]
[null,72]
[null,71]
[null,70,70]
[null,69]
[null,68]
[null,67]
[null,66]
[null,65,65]
[null,64]
[null,63]
[null,62]
[null,61]
[null,60,60]
[null,59]
[null,58]
[null,57]
[null,56]
[null,55,55]
[null,54]
[null,53]
[null,52]
[null,51]
[null,50,50]
[null,49]
[null,48]
[null,47]
[null,46]
[null,45,45]
[null,44]
[null,43]
[null,42]
[null,41]
[null,40,40]
[null,39]
[null,38]
[null,37]
[null,36]
[null,35,35]
[null,34]
[null,33]
[null,32]
[null,31]
[null,30,30]
[null,29]
[null,28]
[null,27]
[null,26]
[null,25,25]
[null,24]
[null,23]
[null,22]
[null,21]
[null,20,20]
[null,19]
[null,18]
[null,17]
[null,16]
[null,15,15]
[null,14]
[null,13]
[null,12]
[null,11]
[null,10,10]
[null,9]
[null,8]
[null,7]
[null,6]
[null,5,5]
[null,4]
[null,3]
[null,2]
[null,1]
[null,0,null,1,2,3,4,5,6,7,8,9,10,11,12,13,14,15,16,17,18,19,20,21,22,23,24,25,26,27,28,29,30,31,32,33,34,35,36,37,38,39,40,41,42,43,44,45,46,47,48,49,50,51,52,53,54,55,56,57,58,59,60,61,62,63,64,65,66,67,68,69,70,71,72,73,74,75,76,77,78,79,80,81,82,83,84,85,86,87,88,89,90,91,92,93,94,95,96,97,98,99,100,101,102,103,104,105,106,107,108,109,110,111,112,113,114,115,116,117,118,119,120,121,122,123,124,125,126,127,128,129,130,131,132,133,134,135,136,137,138,139,140,141,142,143,144,145,146,147,148,149,150,151,152,153,154,155,156,157,158,159,160,161,162,163,164,165,166,167,168,169,170,171,172,173,174,175,176,177,178,179,180]
[{"$nulls":3},5,{"$nulls":4},10,{"$nulls":4},15,{"$nulls":4},20,{"$nulls":4},25,{"$nulls":4},30,{"$nulls":4},35,{"$nulls":4},40,{"$nulls":4},45,{"$nulls":4},50,{"$nulls":4},55,{"$nulls":4},60,{"$nulls":4},65,{"$nulls":4},70,{"$nulls":4},75,{"$nulls":4},80,{"$nulls":4},85,{"$nulls":4},90,{"$nulls":4},95,{"$nulls":4},100,{"$nulls":4},105,{"$nulls":4},110,{"$nulls":4},115,{"$nulls":4},120,{"$nulls":4},125,{"$nulls":4},130,{"$nulls":4},135,{"$nulls":4},140,{"$nulls":4},145,{"$nulls":4},150,{"$nulls":4},155,{"$nulls":4},160,{"$nulls":4},165,{"$nulls":4},170,{"$nulls":4},175,{"$nulls":4},180]
["??336,4 CAA (MERLIN)",80,80]
[null,79]
[null,78]
[null,77]
[null,76]
[null,75,75]
[null,74]
[null,73]
[null,72]
[null,71]
[null,70,70]
[null,69]
[null,68]
[null,67]
[null,66]
[null,65,65]
[null,64]
[null,63]
[null,62]
[null,61]
[null,60,60]
[null,59]
[null,58]
[null,57]
[null,56]
[null,55,55]
[null,54]
[null,53]
[null,52]
[null,51]
[null,50,50]
[null,49]
[null,48]
[null,47]
[null,46]
[null,45,45]
[null,44]
[null,43]
[null,42]
[null,41]
[null,40,40]
[null,39]
[null,38]
[null,37]
[null,36]
[null,35,35]
[null,34]
[null,33]
[null,32]
[null,31]
[null,30,30]
[null,29]
[null,28]
[null,27]
[null,26]
[null,25,25]
[null,24]
[null,23]
[null,22]
[null,21]
[null,20,20]
[null,19]
[null,18]
[null,17]
[null,16]
[null,15,15]
[null,14]
[null,13]
[null,12]
[null,11]
[null,10,10]
[null,9]
[null,8]
[null,7]
[null,6]
[null,5,5]
[null,4]
[null,3]
[null,2]
[null,1]
[null,0,null,1,2,3,4,5,6,7,8,9,10,11,12,13,14,15,16,17,18,19,20,21,22,23,24,25,26,27,28,29,30,31,32,33,34,35,36,37,38,39,40,41,42,43,44,45,46,47,48,49,50,51,52,53,54,55,56,57,58,59,60,61,62,63,64,65,66,67,68,69,70,71,72,73,74,75,76,77,78,79,80,81,82,83,84,85,86,87,88,89,90,91,92,93,94,95,96,97,98,99,100,101,102,103,104,105,106,107,108,109,110,111,112,113,114,115,116,117,118,119,120,121,122,123,124,125,126,127,128,129,130,131,132,133,134,135,136,137,138,139,140,141,142,143,144,145,146,147,148,149,150,151,152,153,154,155,156,157,158,159,160,161,162,163,164,165,166,167,168,169,170,171,172,173,174,175,176,177,178,179,180]
[{"$nulls":3},5,{"$nulls":4},10,{"$nulls":4},15,{"$nulls":4},20,{"$nulls":4},25,{"$nulls":4},30,{"$nulls":4},35,{"$nulls":4},40,{"$nulls":4},45,{"$nulls":4},50,{"$nulls":4},55,{"$nulls":4},60,{"$nulls":4},65,{"$nulls":4},70,{"$nulls":4},75,{"$nulls":4},80,{"$nulls":4},85,{"$nulls":4},90,{"$nulls":4},95,{"$nulls":4},100,{"$nulls":4},105,{"$nulls":4},110,{"$nulls":4},115,{"$nulls":4},120,{"$nulls":4},125,{"$nulls":4},130,{"$nulls":4},135,{"$nulls":4},140,{"$nulls":4},145,{"$nulls":4},150,{"$nulls":4},155,{"$nulls":4},160,{"$nulls":4},165,{"$nulls":4},170,{"$nulls":4},175,{"$nulls":4},180]
["??336,4 CAA (ORIOLE)",80,80]
[null,79]
[null,78]
[null,77]
[null,76]
[null,75,75]
[null,74]
[null,73]
[null,72]
[null,71]
[null,70,70]
[null,69]
[null,68]
[null,67]
[null,66]
[null,65,65]
[null,64]
[null,63]
[null,62]
[null,61]
[null,60,60]
[null,59]
[null,58]
[null,57]
[null,56]
[null,55,55]
[null,54]
[null,53]
[null,52]
[null,51]
[null,50,50]
[null,49]
[null,48]
[null,47]
[null,46]
[null,45,45]
[null,44]
[null,43]
[null,42]
[null,41]
[null,40,40]
[null,39]
[null,38]
[null,37]
[null,36]
[null,35,35]
[null,34]
[null,33]
[null,32]
[null,31]
[null,30,30]
[null,29]
[null,28]
[null,27]
[null,26]
[null,25,25]
[null,24]
[null,23]
[null,22]
[null,21]
[null,20,20]
[null,19]
[null,18]
[null,17]
[null,16]
[null,15,15]
[null,14]
[null,13]
[null,12]
[null,11]
[null,10,10]
[null,9]
[null,8]
[null,7]
[null,6]
[null,5,5]
[null,4]
[null,3]
[null,2]
[null,1]
[null,0,null,1,2,3,4,5,6,7,8,9,10,11,12,13,14,15,16,17,18,19,20,21,22,23,24,25,26,27,28,29,30,31,32,33,34,35,36,37,38,39,40,41,42,43,44,45,46,47,48,49,50,51,52,53,54,55,56,57,58,59,60,61,62,63,64,65,66,67,68,69,70,71,72,73,74,75,76,77,78,79,80,81,82,83,84,85,86,87,88,89,90,91,92,93,94,95,96,97,98,99,100,101,102,103,104,105,106,107,108,109,110,111,112,113,114,115,116,117,118,119,120,121,122,123,124,125,126,127,128,129,130,131,132,133,134,135,136,137,138,139,140,141,142,143,144,145,146,147,148,149,150,151,152,153,154,155,156,157,158,159,160,161,162,163,164,165,166,167,168,169,170,171,172,173,174,175,176,177,178,179,180]
[{"$nulls":3},5,{"$nulls":4},10,{"$nulls":4},15,{"$nulls":4},20,{"$nulls":4},25,{"$nulls":4},30,{"$nulls":4},35,{"$nulls":4},40,{"$nulls":4},45,{"$nulls":4},50,{"$nulls":4},55,{"$nulls":4},60,{"$nulls":4},65,{"$nulls":4},70,{"$nulls":4},75,{"$nulls":4},80,{"$nulls":4},85,{"$nulls":4},90,{"$nulls":4},95,{"$nulls":4},100,{"$nulls":4},105,{"$nulls":4},110,{"$nulls":4},115,{"$nulls":4},120,{"$nulls":4},125,{"$nulls":4},130,{"$nulls":4},135,{"$nulls":4},140,{"$nulls":4},145,{"$nulls":4},150,{"$nulls":4},155,{"$nulls":4},160,{"$nulls":4},165,{"$nulls":4},170,{"$nulls":4},175,{"$nulls":4},180]
[]
[]
["336,4 CAA (LINNET)"]
["336,4 CAA (MERLIN)"]
["336,4 CAA (ORIOLE)"]

{"sheet":"DT_9_2kN","index":21,"n_rows":53,"n_cols":16,"rows_kept":53,"merged":[[1,1,1,9],[4,4,4,9],[5,4,5,9],[6,4,6,6],[6,7,6,9],[7,5,7,6],[7,8,7,9]]}
[]
[null,"ENSAIOS DE TRAÇÃO MECÂNICA EM POSTES DE CONCRETO DUPLO \"T\" E TRONCO CÔNICO"]
[]
[]
[null,200,"daN",null,"POSTE"]
[null,100,"daN",null,"DT - 9(200daN)"]
[null,11,"m",null,"Face A - Côncava",null,null,"Face B - Lisa"]
[null,null,"Altura do Esforço","Carga Aplic.","% da ","Flexão",null,"% da ","Flexão",{"$nulls":3},{"v":0.25,"d":"25%"},{"v":0.5,"d":"50%"},{"v":0.75,"d":"75%"},{"v":1,"d":"100%"}]
[null,null,"em Relação ao topo","(daN)","nominal","cm","%","nominal","cm","% L",null,"0,1m",2.9,7.5,17.8,26.3]
[{"$nulls":3},50,{"$f":"D10/$B$6","v":{"v":0.5,"d":"50%"}},null,{"$f":"(F10/$B$7)/100","v":0},{"$f":"D10/$B$5","v":{"v":0.25,"d":"25%"}},2.9,{"$f":"(I10/$B$7)/100","v":{"v":2.6363636363636363E-3,"d":"0.26%"}},null,"0,5m",4.6,13.4,20.1,27.9]
[{"$nulls":3},100,{"$f":"D11/$B$6","v":{"v":1,"d":"100%"}},null,{"$f":"(F11/$B$7)/100","v":0},{"v":0.5,"d":"50%"},7.5,{"v":0.006818181818181818,"d":"0.68%"},null,"1,0m",3.5,10.2,17.2,22.8]
[null,null,"0,1m",150,"-","-","-",{"v":0.75,"d":"75%"},17.8,{"v":0.016181818181818183,"d":"1.62%"},null,"1,5m",2.6,7.9,14.1,18.5]
[{"$nulls":3},200,"-","-","-",{"v":1,"d":"100%"},26.3,{"v":0.02390909090909091,"d":"2.39%"},null,"2,0m",2.3,6.2,11.6,17.4]
[{"$nulls":3},250,"-","-","-",{"v":1.25,"d":"125%"},36.4,{"v":0.03309090909090909,"d":"3.31%"}]
[{"$nulls":3},50,{"$f":"D15/$B$6","v":{"v":0.5,"d":"50%"}},null,{"$f":"(F15/$B$7)/100","v":0},{"v":0.25,"d":"25%"},4.6,{"v":4.1818181818181815E-3,"d":"0.42%"}]
[{"$nulls":3},100,{"$f":"D16/$B$6","v":{"v":1,"d":"100%"}},null,{"$f":"(F16/$B$7)/100","v":0},{"v":0.5,"d":"50%"},13.4,{"v":0.012181818181818183,"d":"1.22%"}]
[null,null,"0,5m",150,"-","-","-",{"v":0.75,"d":"75%"},20.1,{"v":0.018272727272727274,"d":"1.83%"}]
[{"$nulls":3},200,"-","-","-",{"v":1,"d":"100%"},27.9,{"v":0.025363636363636363,"d":"2.54%"}]
[{"$nulls":3},250,"-","-","-",{"v":1.25,"d":"125%"},33.8,{"v":0.030727272727272725,"d":"3.07%"}]
[{"$nulls":3},50,{"$f":"D20/$B$6","v":{"v":0.5,"d":"50%"}},null,{"$f":"(F20/$B$7)/100","v":0},{"v":0.25,"d":"25%"},3.5,{"v":0.003181818181818182,"d":"0.32%"}]
[{"$nulls":3},100,{"$f":"D21/$B$6","v":{"v":1,"d":"100%"}},null,{"$f":"(F21/$B$7)/100","v":0},{"v":0.5,"d":"50%"},10.2,{"v":0.009272727272727273,"d":"0.93%"}]
[null,"Esf. ","1,0m",150,"-","-","-",{"v":0.75,"d":"75%"},17.2,{"v":0.015636363636363636,"d":"1.56%"}]
[null,"Concentrado",null,200,"-","-","-",{"v":1,"d":"100%"},22.8,{"v":0.020727272727272726,"d":"2.07%"}]
[{"$nulls":3},250,"-","-","-",{"v":1.25,"d":"125%"},28.8,{"v":0.02618181818181818,"d":"2.62%"}]
[{"$nulls":3},50,{"$f":"D25/$B$6","v":{"v":0.5,"d":"50%"}},null,{"$f":"(F25/$B$7)/100","v":0},{"v":0.25,"d":"25%"},2.6,{"v":2.3636363636363638E-3,"d":"0.24%"}]
[{"$nulls":3},100,{"$f":"D26/$B$6","v":{"v":1,"d":"100%"}},null,{"$f":"(F26/$B$7)/100","v":0},{"v":0.5,"d":"50%"},7.9,{"v":7.1818181818181824E-3,"d":"0.72%"}]
[null,null,"1,5m",150,"-","-","-",{"v":0.75,"d":"75%"},14.1,{"v":0.012818181818181817,"d":"1.28%"}]
[{"$nulls":3},200,"-","-","-",{"v":1,"d":"100%"},18.5,{"v":0.01681818181818182,"d":"1.68%"}]
[{"$nulls":3},250,"-","-","-",{"v":1.25,"d":"125%"},24.5,{"v":0.02227272727272727,"d":"2.23%"},null,null,{"v":0.25,"d":"25%"},{"v":0.5,"d":"50%"},{"v":0.75,"d":"75%"},{"v":1,"d":"100%"}]
[{"$nulls":3},50,{"$f":"D30/$B$6","v":{"v":0.5,"d":"50%"}},null,{"$f":"(F30/$B$7)/100","v":0},{"v":0.25,"d":"25%"},2.3,{"v":2.0909090909090908E-3,"d":"0.21%"},null,"AT",3.6,13.6,22.6,31.8]
[{"$nulls":3},100,{"$f":"D31/$B$6","v":{"v":1,"d":"100%"}},null,{"$f":"(F31/$B$7)/100","v":0},{"v":0.5,"d":"50%"},6.2,{"v":0.005636363636363636,"d":"0.56%"},null,"BT",4.1,15.3,25.5,33.2]
[null,null,"2,0m",150,"-","-","-",{"v":0.75,"d":"75%"},11.6,{"v":0.010545454545454545,"d":"1.05%"}]
[{"$nulls":3},200,"-","-","-",{"v":1,"d":"100%"},17.4,{"v":0.015818181818181818,"d":"1.58%"}]
[{"$nulls":3},250,"-","-","-",{"v":1.25,"d":"125%"},20.5,{"v":0.018636363636363635,"d":"1.86%"}]
[]
[{"$nulls":3},50,{"$f":"D36/$B$6","v":{"v":0.5,"d":"50%"}},null,{"$f":"(F36/$B$7)/100","v":0},{"$f":"D36/$B$5","v":{"v":0.25,"d":"25%"}},3.6,{"$f":"(I36/$B$7)/100","v":{"v":3.2727272727272726E-3,"d":"0.33%"}}]
[{"$nulls":3},100,{"$f":"D37/$B$6","v":{"v":1,"d":"100%"}},null,{"$f":"(F37/$B$7)/100","v":0},{"v":0.5,"d":"50%"},13.6,{"v":0.012363636363636363,"d":"1.24%"}]
[null,null,"0,1/0,8/1,5m",150,"-","-","-",{"v":0.75,"d":"75%"},22.6,{"v":0.020545454545454547,"d":"2.05%"}]
[{"$nulls":3},200,"-","-","-",{"v":1,"d":"100%"},31.8,{"v":0.028909090909090912,"d":"2.89%"}]
[null,"Esf. ",null,250,"-","-","-",{"v":1.25,"d":"125%"},40.2,{"v":0.03654545454545455,"d":"3.65%"}]
[null,"Distribuído",null,50,{"$f":"D41/$B$6","v":{"v":0.5,"d":"50%"}},null,{"$f":"(F41/$B$7)/100","v":0},{"v":0.25,"d":"25%"},4.1,{"v":3.7272727272727266E-3,"d":"0.37%"}]
[{"$nulls":3},100,{"$f":"D42/$B$6","v":{"v":1,"d":"100%"}},null,{"$f":"(F42/$B$7)/100","v":0},{"v":0.5,"d":"50%"},15.3,{"v":0.01390909090909091,"d":"1.39%"}]
[null,null,"0,15/0,35/0,55/0,75m",150,"-","-","-",{"v":0.75,"d":"75%"},25.5,{"v":0.023181818181818182,"d":"2.32%"}]
[{"$nulls":3},200,"-","-","-",{"v":1,"d":"100%"},33.2,{"v":0.030181818181818185,"d":"3.02%"}]
[{"$nulls":3},250,"-","-","-",{"v":1.25,"d":"125%"},43.8,{"v":0.039818181818181815,"d":"3.98%"}]
[]
[null,"OBS.:","O poste DT-9(2) é fabricado com furação 3025mm, diferentemente dos demais "]
[null,null,"do ensaio que são fabricados com furação 4525mm."]
[]
[]
[null,"COPREL"]
[null,"ENGENHARIA"]
[null,"2007-07-20"]

{"sheet":"DT_11_2kN","index":22,"n_rows":51,"n_cols":16,"rows_kept":51,"merged":[[1,1,1,9],[4,4,4,9],[5,4,5,9],[6,4,6,6],[6,7,6,9],[7,5,7,6],[7,8,7,9]]}
[]
[null,"ENSAIOS DE TRAÇÃO MECÂNICA EM POSTES DE CONCRETO DUPLO \"T\" E TRONCO CÔNICO"]
[]
[]
[null,200,"daN",null,"POSTE"]
[null,100,"daN",null,"DT - 11 (200daN)"]
[null,11,"m",null,"Face A - Côncava",null,null,"Face B - Lisa"]
[null,null,"Altura do Esforço","Carga Aplic.","% da ","Flexão",null,"% da ","Flexão",{"$nulls":3},{"v":0.25,"d":"25%"},{"v":0.5,"d":"50%"},{"v":0.75,"d":"75%"},{"v":1,"d":"100%"}]
[null,null,"em Relação ao topo","(daN)","nominal","cm","%","nominal","cm","% L",null,"0,1m",5.5,15,25.6,35.7]
[{"$nulls":3},50,{"$f":"D10/$B$6","v":{"v":0.5,"d":"50%"}},null,{"$f":"(F10/$B$7)/100","v":0},{"$f":"D10/$B$5","v":{"v":0.25,"d":"25%"}},5.5,{"$f":"(I10/$B$7)/100","v":{"v":0.005,"d":"0.50%"}},null,"0,5m",6,15.4,26.1,34.7]
[{"$nulls":3},100,{"$f":"D11/$B$6","v":{"v":1,"d":"100%"}},null,{"$f":"(F11/$B$7)/100","v":0},{"v":0.5,"d":"50%"},15,{"v":0.013636363636363636,"d":"1.36%"},null,"1,0m",4.9,14,22.5,31.6]
[null,null,"0,1m",150,"-","-","-",{"v":0.75,"d":"75%"},25.6,{"v":0.023272727272727275,"d":"2.33%"},null,"1,5m",3.5,11.5,19.8,26.5]
[{"$nulls":3},200,"-","-","-",{"v":1,"d":"100%"},35.7,{"v":0.03245454545454546,"d":"3.25%"},null,"2,0m",3.7,10.1,18.4,24.5]
[{"$nulls":3},250,"-","-","-",{"v":1.25,"d":"125%"},48.9,{"v":0.044454545454545455,"d":"4.45%"}]
[{"$nulls":3},50,{"$f":"D15/$B$6","v":{"v":0.5,"d":"50%"}},null,{"$f":"(F15/$B$7)/100","v":0},{"v":0.25,"d":"25%"},6,{"v":0.005454545454545454,"d":"0.55%"}]
[{"$nulls":3},100,{"$f":"D16/$B$6","v":{"v":1,"d":"100%"}},null,{"$f":"(F16/$B$7)/100","v":0},{"v":0.5,"d":"50%"},15.4,{"v":0.014000000000000002,"d":"1.40%"}]
[null,null,"0,5m",150,"-","-","-",{"v":0.75,"d":"75%"},26.1,{"v":0.02372727272727273,"d":"2.37%"}]
[{"$nulls":3},200,"-","-","-",{"v":1,"d":"100%"},34.7,{"v":0.03154545454545455,"d":"3.15%"}]
[{"$nulls":3},250,"-","-","-",{"v":1.25,"d":"125%"},45.2,{"v":0.041090909090909095,"d":"4.11%"}]
[{"$nulls":3},50,{"$f":"D20/$B$6","v":{"v":0.5,"d":"50%"}},null,{"$f":"(F20/$B$7)/100","v":0},{"v":0.25,"d":"25%"},4.9,{"v":4.454545454545455E-3,"d":"0.45%"}]
[{"$nulls":3},100,{"$f":"D21/$B$6","v":{"v":1,"d":"100%"}},null,{"$f":"(F21/$B$7)/100","v":0},{"v":0.5,"d":"50%"},14,{"v":0.012727272727272728,"d":"1.27%"}]
[null,"Esf. ","1,0m",150,"-","-","-",{"v":0.75,"d":"75%"},22.5,{"v":0.020454545454545454,"d":"2.05%"}]
[null,"Concentrado",null,200,"-","-","-",{"v":1,"d":"100%"},31.6,{"v":0.02872727272727273,"d":"2.87%"}]
[{"$nulls":3},250,"-","-","-",{"v":1.25,"d":"125%"},39.6,{"v":0.036000000000000004,"d":"3.60%"}]
[{"$nulls":3},50,{"$f":"D25/$B$6","v":{"v":0.5,"d":"50%"}},null,{"$f":"(F25/$B$7)/100","v":0},{"v":0.25,"d":"25%"},3.5,{"v":0.003181818181818182,"d":"0.32%"}]
[{"$nulls":3},100,{"$f":"D26/$B$6","v":{"v":1,"d":"100%"}},null,{"$f":"(F26/$B$7)/100","v":0},{"v":0.5,"d":"50%"},11.5,{"v":0.010454545454545454,"d":"1.05%"}]
[null,null,"1,5m",150,"-","-","-",{"v":0.75,"d":"75%"},19.8,{"v":0.018000000000000002,"d":"1.80%"}]
[{"$nulls":3},200,"-","-","-",{"v":1,"d":"100%"},26.5,{"v":0.024090909090909093,"d":"2.41%"}]
[{"$nulls":3},250,"-","-","-",{"v":1.25,"d":"125%"},34.9,{"v":0.03172727272727272,"d":"3.17%"},null,null,{"v":0.25,"d":"25%"},{"v":0.5,"d":"50%"},{"v":0.75,"d":"75%"},{"v":1,"d":"100%"}]
[{"$nulls":3},50,{"$f":"D30/$B$6","v":{"v":0.5,"d":"50%"}},null,{"$f":"(F30/$B$7)/100","v":0},{"v":0.25,"d":"25%"},3.7,{"v":0.003363636363636364,"d":"0.34%"},null,"AT",3.6,13.6,22.6,31.8]
[{"$nulls":3},100,{"$f":"D31/$B$6","v":{"v":1,"d":"100%"}},null,{"$f":"(F31/$B$7)/100","v":0},{"v":0.5,"d":"50%"},10.1,{"v":0.009181818181818182,"d":"0.92%"},null,"BT",4.4,15.4,25.8,33.5]
[null,null,"2,0m",150,"-","-","-",{"v":0.75,"d":"75%"},18.4,{"v":0.016727272727272726,"d":"1.67%"}]
[{"$nulls":3},200,"-","-","-",{"v":1,"d":"100%"},24.5,{"v":0.02227272727272727,"d":"2.23%"}]
[{"$nulls":3},250,"-","-","-",{"v":1.25,"d":"125%"},30.8,{"v":0.028000000000000004,"d":"2.80%"}]
[]
[{"$nulls":3},50,{"$f":"D36/$B$6","v":{"v":0.5,"d":"50%"}},null,{"$f":"(F36/$B$7)/100","v":0},{"$f":"D36/$B$5","v":{"v":0.25,"d":"25%"}},3.6,{"$f":"(I36/$B$7)/100","v":{"v":3.2727272727272726E-3,"d":"0.33%"}}]
[{"$nulls":3},100,{"$f":"D37/$B$6","v":{"v":1,"d":"100%"}},null,{"$f":"(F37/$B$7)/100","v":0},{"v":0.5,"d":"50%"},13.6,{"v":0.012363636363636363,"d":"1.24%"}]
[null,null,"0,1/0,8/1,5m",150,"-","-","-",{"v":0.75,"d":"75%"},22.6,{"v":0.020545454545454547,"d":"2.05%"}]
[{"$nulls":3},200,"-","-","-",{"v":1,"d":"100%"},31.8,{"v":0.028909090909090912,"d":"2.89%"}]
[null,"Esf. ",null,250,"-","-","-",{"v":1.25,"d":"125%"},40.2,{"v":0.03654545454545455,"d":"3.65%"}]
[null,"Distribuído",null,50,{"$f":"D41/$B$6","v":{"v":0.5,"d":"50%"}},null,{"$f":"(F41/$B$7)/100","v":0},{"v":0.25,"d":"25%"},4.4,{"v":0.004,"d":"0.40%"}]
[{"$nulls":3},100,{"$f":"D42/$B$6","v":{"v":1,"d":"100%"}},null,{"$f":"(F42/$B$7)/100","v":0},{"v":0.5,"d":"50%"},15.4,{"v":0.014000000000000002,"d":"1.40%"}]
[null,null,"0,15/0,35/0,55/0,75m",150,"-","-","-",{"v":0.75,"d":"75%"},25.8,{"v":0.023454545454545457,"d":"2.35%"}]
[{"$nulls":3},200,"-","-","-",{"v":1,"d":"100%"},33.5,{"v":0.030454545454545453,"d":"3.05%"}]
[{"$nulls":3},250,"-","-","-",{"v":1.25,"d":"125%"},44.1,{"v":0.04009090909090909,"d":"4.01%"}]
[]
[]
[]
[null,"COPREL"]
[null,"ENGENHARIA"]
[null,"2007-07-01"]

{"sheet":"DT_12_4kN","index":23,"n_rows":77,"n_cols":21,"rows_kept":77,"merged":[[0,1,0,17],[1,1,1,9],[2,4,2,10],[3,4,3,10],[4,4,4,6],[4,7,4,9],[5,5,5,6],[5,8,5,9],[7,1,51,1],[7,2,15,2],[16,2,24,2],[25,2,33,2],[34,2,42,2],[43,2,51,2],[53,1,70,1],[53,2,61,2],[62,2,70,2]]}
[null,"ENSAIOS DE ELASTICIDADE EM POSTES DE CONCRETO DUPLO \"T\" E TRONCO CÔNICO"]
[]
[null,400,"daN",null,"POSTE"]
[null,200,"daN",12000,"DT - 12 (400daN)",{"$nulls":8},{"v":0.13,"d":"13%"},{"v":0.25,"d":"25%"},{"v":0.38,"d":"38%"},{"v":0.5,"d":"50%"},{"v":0.63,"d":"63%"},{"v":0.75,"d":"75%"},{"v":0.88,"d":"88%"},{"v":1,"d":"100%"}]
[null,12,"m",null,"Face A - Côncava",null,null,"Face B - Lisa",{"$nulls":4},"0,1m",1.3,2.9,5.6,10,13.4,19.1,24.5,28.9]
[null,null,"Altura do Esforço","Carga Aplic.","% da ","Flexão",null,"% da ","Flexão",{"$nulls":3},"0,5m",1.2,3.8,7.4,10.2,14,17,20,23.2]
[null,null,"em Relação ao topo","(daN)","nominal","cm","% L","nominal","cm","% L","Fotos",null,"1,0m",1.5,3.8,6.6,9.8,13,15.8,18.6,20.8]
[null,"Esf. Concentrado","0,1m",50,{"$f":"D8/$B$4","v":{"v":0.25,"d":"25%"}},8.5,{"$f":"(F8/$B$5)/100","v":{"v":0.007083333333333334,"d":"0.71%"}},{"$f":"D8/$B$3","v":{"v":0.125,"d":"13%"}},1.3,{"$f":"(I8/$B$5)/100","v":{"v":1.0833333333333333E-3,"d":"0.11%"}},null,null,"1,5m",1.2,3.2,5.8,8.6,11.6,14.4,16.6,18.7]
[{"$nulls":3},100,{"$f":"D9/$B$4","v":{"v":0.5,"d":"50%"}},18.3,{"$f":"(F9/$B$5)/100","v":{"v":0.015250000000000001,"d":"1.53%"}},{"$f":"D9/$B$3","v":{"v":0.25,"d":"25%"}},2.9,{"$f":"(I9/$B$5)/100","v":{"v":0.002416666666666667,"d":"0.24%"}},null,null,"2,0m",1.1,2.5,4.8,6.9,9.6,12,14.1,16]
[{"$nulls":3},150,{"$f":"D10/$B$4","v":{"v":0.75,"d":"75%"}},29.6,{"$f":"(F10/$B$5)/100","v":{"v":0.024666666666666667,"d":"2.47%"}},{"v":0.375,"d":"38%"},5.6,{"v":0.004666666666666666,"d":"0.47%"}]
[{"$nulls":3},200,{"$f":"D11/$B$4","v":{"v":1,"d":"100%"}},42.4,{"$f":"(F11/$B$5)/100","v":{"v":0.035333333333333335,"d":"3.53%"}},{"v":0.5,"d":"50%"},10,{"v":0.008333333333333333,"d":"0.83%"}]
[{"$nulls":3},250,"-","-","-",{"v":0.625,"d":"63%"},13.4,{"v":0.011166666666666667,"d":"1.12%"}]
[{"$nulls":3},300,"-","-","-",{"v":0.75,"d":"75%"},19.1,{"v":0.01591666666666667,"d":"1.59%"}]
[{"$nulls":3},350,"-","-","-",{"v":0.875,"d":"88%"},24.5,{"v":0.020416666666666666,"d":"2.04%"}]
[{"$nulls":3},400,"-","-","-",{"v":1,"d":"100%"},28.9,{"v":0.02408333333333333,"d":"2.41%"},"128-129"]
[{"$nulls":3},450,"-","-","-",{"v":1.125,"d":"113%"},"-","-"]
[null,null,"0,5m",50,{"$f":"D17/$B$4","v":{"v":0.25,"d":"25%"}},11,{"$f":"(F17/$B$5)/100","v":{"v":0.009166666666666667,"d":"0.92%"}},{"$f":"D17/$B$3","v":{"v":0.125,"d":"13%"}},1.2,{"v":1E-3,"d":"0.10%"}]
[{"$nulls":3},100,{"$f":"D18/$B$4","v":{"v":0.5,"d":"50%"}},21,{"$f":"(F18/$B$5)/100","v":{"v":0.0175,"d":"1.75%"}},{"$f":"D18/$B$3","v":{"v":0.25,"d":"25%"}},3.8,{"v":3.1666666666666666E-3,"d":"0.32%"}]
[{"$nulls":3},150,{"$f":"D19/$B$4","v":{"v":0.75,"d":"75%"}},29.8,{"$f":"(F19/$B$5)/100","v":{"v":0.024833333333333332,"d":"2.48%"}},{"v":0.375,"d":"38%"},7.4,{"v":0.006166666666666667,"d":"0.62%"}]
[{"$nulls":3},200,{"$f":"D20/$B$4","v":{"v":1,"d":"100%"}},38.8,{"$f":"(F20/$B$5)/100","v":{"v":0.03233333333333333,"d":"3.23%"}},{"v":0.5,"d":"50%"},10.2,{"v":0.0085,"d":"0.85%"}]
[{"$nulls":3},250,"-","-","-",{"v":0.625,"d":"63%"},14,{"v":0.011666666666666667,"d":"1.17%"},"130-131"]
[{"$nulls":3},300,"-","-","-",{"v":0.75,"d":"75%"},17,{"v":0.014166666666666668,"d":"1.42%"}]
[{"$nulls":3},350,"-","-","-",{"v":0.875,"d":"88%"},20,{"v":0.016666666666666666,"d":"1.67%"}]
[{"$nulls":3},400,"-","-","-",{"v":1,"d":"100%"},23.2,{"v":0.019333333333333334,"d":"1.93%"},{"$nulls":3},{"v":0.13,"d":"13%"},{"v":0.25,"d":"25%"},{"v":0.38,"d":"38%"},{"v":0.5,"d":"50%"},{"v":0.63,"d":"63%"},{"v":0.75,"d":"75%"},{"v":0.88,"d":"88%"},{"v":1,"d":"100%"}]
[{"$nulls":3},450,"-","-","-",{"v":1.125,"d":"113%"},"-","-",null,null,"AT",1.2,3.5,7.5,10.3,13.5,16.9,19.4,21.9]
[null,null,"1,0m",50,{"$f":"D26/$B$4","v":{"v":0.25,"d":"25%"}},9,{"$f":"(F26/$B$5)/100","v":{"v":0.0075,"d":"0.75%"}},{"$f":"D26/$B$3","v":{"v":0.125,"d":"13%"}},1.5,{"v":1.25E-3,"d":"0.13%"},null,null,"BT",1.8,3.7,8.4,11.3,14,17.5,22,24.5]
[{"$nulls":3},100,{"$f":"D27/$B$4","v":{"v":0.5,"d":"50%"}},19.2,{"$f":"(F27/$B$5)/100","v":{"v":0.016,"d":"1.60%"}},{"$f":"D27/$B$3","v":{"v":0.25,"d":"25%"}},3.8,{"v":3.1666666666666666E-3,"d":"0.32%"}]
[{"$nulls":3},150,{"$f":"D28/$B$4","v":{"v":0.75,"d":"75%"}},28.4,{"$f":"(F28/$B$5)/100","v":{"v":0.023666666666666666,"d":"2.37%"}},{"v":0.375,"d":"38%"},6.6,{"v":0.0055,"d":"0.55%"}]
[{"$nulls":3},200,{"$f":"D29/$B$4","v":{"v":1,"d":"100%"}},36.3,{"$f":"(F29/$B$5)/100","v":{"v":0.03025,"d":"3.03%"}},{"v":0.5,"d":"50%"},9.8,{"v":0.008166666666666668,"d":"0.82%"}]
[{"$nulls":3},250,"-","-","-",{"v":0.625,"d":"63%"},13,{"v":0.010833333333333332,"d":"1.08%"}]
[{"$nulls":3},300,"-","-","-",{"v":0.75,"d":"75%"},15.8,{"v":0.013166666666666667,"d":"1.32%"}]
[{"$nulls":3},350,"-","-","-",{"v":0.875,"d":"88%"},18.6,{"v":0.0155,"d":"1.55%"}]
[{"$nulls":3},400,"-","-","-",{"v":1,"d":"100%"},20.8,{"v":0.017333333333333333,"d":"1.73%"}]
[{"$nulls":3},450,"-","-","-",{"v":1.125,"d":"113%"},"-","-"]
[null,null,"1,5m",50,{"$f":"D35/$B$4","v":{"v":0.25,"d":"25%"}},8,{"$f":"(F35/$B$5)/100","v":{"v":0.006666666666666666,"d":"0.67%"}},{"$f":"D35/$B$3","v":{"v":0.125,"d":"13%"}},1.2,{"v":1E-3,"d":"0.10%"}]
[{"$nulls":3},100,{"$f":"D36/$B$4","v":{"v":0.5,"d":"50%"}},17.1,{"$f":"(F36/$B$5)/100","v":{"v":0.01425,"d":"1.43%"}},{"$f":"D36/$B$3","v":{"v":0.25,"d":"25%"}},3.2,{"v":2.6666666666666666E-3,"d":"0.27%"}]
[{"$nulls":3},150,{"$f":"D37/$B$4","v":{"v":0.75,"d":"75%"}},24,{"$f":"(F37/$B$5)/100","v":{"v":0.02,"d":"2.00%"}},{"v":0.375,"d":"38%"},5.8,{"v":0.004833333333333334,"d":"0.48%"}]
[{"$nulls":3},200,{"$f":"D38/$B$4","v":{"v":1,"d":"100%"}},31.6,{"$f":"(F38/$B$5)/100","v":{"v":0.026333333333333334,"d":"2.63%"}},{"v":0.5,"d":"50%"},8.6,{"v":0.007166666666666667,"d":"0.72%"}]
[{"$nulls":3},250,"-","-","-",{"v":0.625,"d":"63%"},11.6,{"v":0.009666666666666667,"d":"0.97%"}]
[{"$nulls":3},300,"-","-","-",{"v":0.75,"d":"75%"},14.4,{"v":0.012,"d":"1.20%"}]
[{"$nulls":3},350,"-","-","-",{"v":0.875,"d":"88%"},16.6,{"v":0.013833333333333335,"d":"1.38%"}]
[{"$nulls":3},400,"-","-","-",{"v":1,"d":"100%"},18.7,{"v":0.015583333333333333,"d":"1.56%"}]
[{"$nulls":3},450,"-","-","-",{"v":1.125,"d":"113%"},"-","-"]
[null,null,"2,0m",50,{"$f":"D44/$B$4","v":{"v":0.25,"d":"25%"}},5,{"$f":"(F44/$B$5)/100","v":{"v":0.004166666666666667,"d":"0.42%"}},{"$f":"D44/$B$3","v":{"v":0.125,"d":"13%"}},1.1,{"$f":"(I44/$B$5)/100","v":{"v":9.1666666666666676E-4,"d":"0.09%"}},{"$nulls":3},{"v":0.25,"d":"25%"},{"v":0.5,"d":"50%"},{"v":0.75,"d":"75%"},{"v":1,"d":"100%"}]
[{"$nulls":3},100,{"$f":"D45/$B$4","v":{"v":0.5,"d":"50%"}},13.6,{"$f":"(F45/$B$5)/100","v":{"v":0.011333333333333332,"d":"1.13%"}},{"$f":"D45/$B$3","v":{"v":0.25,"d":"25%"}},2.5,{"v":2.0833333333333333E-3,"d":"0.21%"},null,null,"0,1m",8.5,18.3,29.6,42.4]
[{"$nulls":3},150,{"$f":"D46/$B$4","v":{"v":0.75,"d":"75%"}},21.5,{"$f":"(F46/$B$5)/100","v":{"v":0.017916666666666668,"d":"1.79%"}},{"v":0.375,"d":"38%"},4.8,{"v":0.004,"d":"0.40%"},null,null,"0,5m",11,21,29.8,38.8]
[{"$nulls":3},200,{"$f":"D47/$B$4","v":{"v":1,"d":"100%"}},29,{"$f":"(F47/$B$5)/100","v":{"v":0.024166666666666666,"d":"2.42%"}},{"v":0.5,"d":"50%"},6.9,{"v":0.005750000000000001,"d":"0.58%"},null,null,"1,0m",9,19.2,28.4,36.3]
[{"$nulls":3},250,"-","-","-",{"v":0.625,"d":"63%"},9.6,{"v":0.008,"d":"0.80%"},null,null,"1,5m",8,17.1,24,31.6]
[{"$nulls":3},300,"-","-","-",{"v":0.75,"d":"75%"},12,{"v":0.01,"d":"1.00%"},null,null,"2,0m",5,13.6,21.5,29]
[{"$nulls":3},350,"-","-","-",{"v":0.875,"d":"88%"},14.1,{"v":0.01175,"d":"1.18%"}]
[{"$nulls":3},400,"-","-","-",{"v":1,"d":"100%"},16,{"v":0.013333333333333332,"d":"1.33%"}]
[{"$nulls":3},450,"-","-","-",{"v":1.125,"d":"113%"},"-","-"]
[]
[null,"Esf. Distribuído","0,1/0,8/1,5m",50,{"$f":"D54/$B$4","v":{"v":0.25,"d":"25%"}},7,{"$f":"(F54/$B$5)/100","v":{"v":0.005833333333333334,"d":"0.58%"}},{"$f":"D54/$B$3","v":{"v":0.125,"d":"13%"}},1.2,{"$f":"(I54/$B$5)/100","v":{"v":1E-3,"d":"0.10%"}}]
[{"$nulls":3},100,{"$f":"D55/$B$4","v":{"v":0.5,"d":"50%"}},14.6,{"$f":"(F55/$B$5)/100","v":{"v":0.012166666666666666,"d":"1.22%"}},{"$f":"D55/$B$3","v":{"v":0.25,"d":"25%"}},3.5,{"v":0.002916666666666667,"d":"0.29%"}]
[{"$nulls":3},150,{"$f":"D56/$B$4","v":{"v":0.75,"d":"75%"}},24,{"$f":"(F56/$B$5)/100","v":{"v":0.02,"d":"2.00%"}},{"v":0.375,"d":"38%"},7.5,{"v":0.00625,"d":"0.63%"}]
[{"$nulls":3},200,{"$f":"D57/$B$4","v":{"v":1,"d":"100%"}},33.2,{"$f":"(F57/$B$5)/100","v":{"v":0.02766666666666667,"d":"2.77%"}},{"v":0.5,"d":"50%"},10.3,{"v":0.008583333333333333,"d":"0.86%"},132]
[{"$nulls":3},250,"-","-","-",{"v":0.625,"d":"63%"},13.5,{"v":0.01125,"d":"1.13%"}]
[{"$nulls":3},300,"-","-","-",{"v":0.75,"d":"75%"},16.9,{"v":0.014083333333333331,"d":"1.41%"}]
[{"$nulls":3},350,"-","-","-",{"v":0.875,"d":"88%"},19.4,{"v":0.016166666666666666,"d":"1.62%"}]
[{"$nulls":3},400,"-","-","-",{"v":1,"d":"100%"},21.9,{"v":0.01825,"d":"1.83%"}]
[{"$nulls":3},450,"-","-","-",{"v":1.125,"d":"113%"},"-","-",{"$nulls":4},{"v":0.25,"d":"25%"},{"v":0.5,"d":"50%"},{"v":0.75,"d":"75%"},{"v":1,"d":"100%"}]
[null,null,"0,15/0,35/0,55/0,75m",50,{"$f":"D63/$B$4","v":{"v":0.25,"d":"25%"}},3,{"$f":"(F63/$B$5)/100","v":{"v":0.0025,"d":"0.25%"}},{"$f":"D63/$B$3","v":{"v":0.125,"d":"13%"}},1.8,{"$f":"(I63/$B$5)/100","v":{"v":1.5E-3,"d":"0.15%"}},{"$nulls":3},"AT",7,14.6,24,33.2]
[{"$nulls":3},100,{"$f":"D64/$B$4","v":{"v":0.5,"d":"50%"}},13,{"$f":"(F64/$B$5)/100","v":{"v":0.010833333333333332,"d":"1.08%"}},{"$f":"D64/$B$3","v":{"v":0.25,"d":"25%"}},3.7,{"v":3.0833333333333333E-3,"d":"0.31%"},{"$nulls":3},"BT",3,13,20.8,28]
[{"$nulls":3},150,{"$f":"D65/$B$4","v":{"v":0.75,"d":"75%"}},20.8,{"$f":"(F65/$B$5)/100","v":{"v":0.017333333333333333,"d":"1.73%"}},{"v":0.375,"d":"38%"},8.4,{"v":7.000000000000001E-3,"d":"0.70%"}]
[{"$nulls":3},200,{"$f":"D66/$B$4","v":{"v":1,"d":"100%"}},28,{"$f":"(F66/$B$5)/100","v":{"v":0.023333333333333334,"d":"2.33%"}},{"v":0.5,"d":"50%"},11.3,{"v":0.009416666666666667,"d":"0.94%"}]
[{"$nulls":3},250,"-","-","-",{"v":0.625,"d":"63%"},14,{"v":0.011666666666666667,"d":"1.17%"}]
[{"$nulls":3},300,"-","-","-",{"v":0.75,"d":"75%"},17.5,{"v":0.014583333333333332,"d":"1.46%"}]
[{"$nulls":3},350,"-","-","-",{"v":0.875,"d":"88%"},22,{"v":0.018333333333333333,"d":"1.83%"}]
[{"$nulls":3},400,"-","-","-",{"v":1,"d":"100%"},24.5,{"v":0.020416666666666666,"d":"2.04%"}]
[{"$nulls":3},450,"-","-","-",{"v":1.125,"d":"113%"},"-","-"]
[]
[]
[]
[null,"COPREL"]
[null,"ENGENHARIA"]
[null,"2007-05-08"]

{"sheet":"DT_12_6kN","index":24,"n_rows":103,"n_cols":25,"rows_kept":103,"merged":[[0,1,0,15],[1,1,1,9],[2,4,2,10],[3,4,3,10],[4,4,4,6],[4,7,4,9],[5,5,5,6],[5,8,5,9],[7,1,75,1],[7,2,19,2],[20,2,32,2],[33,2,45,2],[46,2,58,2],[59,2,75,2],[77,1,102,1],[77,2,89,2],[90,2,102,2]]}
[null,"ENSAIOS DE ELASTICIDADE EM POSTES DE CONCRETO DUPLO \"T\" E TRONCO CÔNICO"]
[]
[null,600,"daN",null,"POSTE"]
[null,300,"daN",null,"DT - 12 (600daN)"]
[null,12,"m",null,"Face A - Côncava",null,null,"Face B - Lisa"]
[null,null,"Altura do Esforço","Carga Aplic.","% da ","Flexão",null,"% da ","Flexão"]
[null,null,"em Relação ao topo","(daN)","nominal","cm","% L","nominal","cm","% L","Fotos",null,null,{"v":0.08,"d":"8%"},{"v":0.17,"d":"17%"},{"v":0.25,"d":"25%"},{"v":0.33,"d":"33%"},{"v":0.42,"d":"42%"},{"v":0.5,"d":"50%"},{"v":0.58,"d":"58%"},{"v":0.67,"d":"67%"},{"v":0.75,"d":"75%"},{"v":0.83,"d":"83%"},{"v":0.92,"d":"92%"},{"v":1,"d":"100%"}]
[null,"Esforço Concentrado","0,1m",50,{"$f":"D8/$B$4","v":{"v":0.16666666666666666,"d":"17%"}},1.8,{"$f":"(F8/$B$5)/100","v":{"v":1.5E-3,"d":"0.2%"}},{"$f":"D8/$B$3","v":{"v":0.08333333333333333,"d":"8%"}},0.7,{"$f":"(I8/$B$5)/100","v":{"v":5.8333333333333327E-4,"d":"0.1%"}},null,null,"0,1 m",0.7,2.7,5.4,8.2,11.1,14.1,16.7,18.7,21.6,24.6,27.9,30.3]
[{"$nulls":3},100,{"v":0.3333333333333333,"d":"33%"},6.9,{"v":0.005750000000000001,"d":"0.6%"},{"$f":"D9/$B$3","v":{"v":0.16666666666666666,"d":"17%"}},2.7,{"$f":"(I9/$B$5)/100","v":{"v":2.2500000000000003E-3,"d":"0.2%"}},null,null,"0,5 m",1.2,3,5.4,8,10.4,12.6,15,17,18.8,20.9,22.9,25]
[{"$nulls":3},150,{"v":0.5,"d":"50%"},15,{"v":0.0125,"d":"1.3%"},{"v":0.25,"d":"25%"},5.4,{"v":4.5000000000000005E-3,"d":"0.5%"},null,null,"1,0 m",0.6,2.4,4.8,6.6,8.8,11,12.6,14.4,16.2,18,19.8,20.8]
[{"$nulls":3},200,{"v":0.6666666666666666,"d":"67%"},23.4,{"v":0.0195,"d":"2.0%"},{"v":0.3333333333333333,"d":"33%"},8.2,{"v":0.006833333333333333,"d":"0.7%"},63,null,"1,5 m ",0.3,2,4,6,8,9.6,11,13,14.5,16,17.8,19.4]
[{"$nulls":3},250,{"v":0.8333333333333334,"d":"83%"},33,{"v":0.0275,"d":"2.8%"},{"v":0.4166666666666667,"d":"42%"},11.1,{"v":0.00925,"d":"0.9%"},null,null,"2,0 m",0.3,1.8,3.4,5.3,7,8.5,10,11.4,13.2,14.3,15.8,17.3]
[{"$nulls":3},300,{"v":1,"d":"100%"},42.8,{"v":0.035666666666666666,"d":"3.6%"},{"v":0.5,"d":"50%"},14.1,{"v":0.01175,"d":"1.2%"},64]
[{"$nulls":3},350,"-","-","-",{"v":0.5833333333333334,"d":"58%"},16.7,{"v":0.013916666666666666,"d":"1.4%"},65]
[{"$nulls":3},400,"-","-","-",{"v":0.6666666666666666,"d":"67%"},18.7,{"v":0.015583333333333333,"d":"1.6%"},66]
[{"$nulls":3},450,"-","-","-",{"v":0.75,"d":"75%"},21.6,{"v":0.018000000000000002,"d":"1.8%"},67]
[{"$nulls":3},500,"-","-","-",{"v":0.8333333333333334,"d":"83%"},24.6,{"v":0.020500000000000004,"d":"2.1%"},68]
[{"$nulls":3},550,"-","-","-",{"v":0.9166666666666666,"d":"92%"},27.9,{"v":0.023249999999999996,"d":"2.3%"},69]
[{"$nulls":3},600,"-","-","-",{"v":1,"d":"100%"},30.3,{"v":0.025249999999999998,"d":"2.5%"},"70 a 72"]
[{"$nulls":3},650,"-","-","-",{"v":1.0833333333333333,"d":"108%"},"-","-"]
[null,null,"0,5m",50,{"$f":"D21/$B$4","v":{"v":0.16666666666666666,"d":"17%"}},3.8,{"$f":"(F21/$B$5)/100","v":{"v":3.1666666666666666E-3,"d":"0.3%"}},{"v":0.08333333333333333,"d":"8%"},1.2,{"$f":"(I21/$B$5)/100","v":{"v":1E-3,"d":"0.1%"}}]
[{"$nulls":3},100,{"v":0.3333333333333333,"d":"33%"},11,{"v":0.009166666666666667,"d":"0.9%"},{"v":0.16666666666666666,"d":"17%"},3,{"$f":"(I22/$B$5)/100","v":{"v":0.0025,"d":"0.3%"}}]
[{"$nulls":3},150,{"v":0.5,"d":"50%"},17.2,{"v":0.014333333333333333,"d":"1.4%"},{"v":0.25,"d":"25%"},5.4,{"v":4.5000000000000005E-3,"d":"0.5%"}]
[{"$nulls":3},200,{"v":0.6666666666666666,"d":"67%"},22.8,{"v":0.019000000000000003,"d":"1.9%"},{"v":0.3333333333333333,"d":"33%"},8,{"v":0.006666666666666666,"d":"0.7%"}]
[null,null,"0,5m",250,{"v":0.8333333333333334,"d":"83%"},29.8,{"v":0.024833333333333332,"d":"2.5%"},{"v":0.4166666666666667,"d":"42%"},10.4,{"v":0.008666666666666666,"d":"0.9%"},74]
[{"$nulls":3},300,{"v":1,"d":"100%"},36.4,{"v":0.030333333333333334,"d":"3.0%"},{"v":0.5,"d":"50%"},12.6,{"v":0.0105,"d":"1.1%"},75]
[{"$nulls":3},350,"-","-","-",{"v":0.5833333333333334,"d":"58%"},15,{"v":0.0125,"d":"1.3%"},76]
[{"$nulls":3},400,"-","-","-",{"v":0.6666666666666666,"d":"67%"},17,{"v":0.014166666666666668,"d":"1.4%"},77]
[{"$nulls":3},450,"-","-","-",{"v":0.75,"d":"75%"},18.6,{"v":0.0155,"d":"1.6%"},78,null,null,{"v":0.08,"d":"8%"},{"v":0.17,"d":"17%"},{"v":0.25,"d":"25%"},{"v":0.33,"d":"33%"},{"v":0.42,"d":"42%"},{"v":0.5,"d":"50%"},{"v":0.58,"d":"58%"},{"v":0.67,"d":"67%"},{"v":0.75,"d":"75%"},{"v":0.83,"d":"83%"},{"v":0.92,"d":"92%"},{"v":1,"d":"100%"}]
[{"$nulls":3},500,"-","-","-",{"v":0.8333333333333334,"d":"83%"},20.9,{"v":0.017416666666666664,"d":"1.7%"},79,null,"AT",0.2,0.9,2.1,3.9,6.1,8.2,10.4,12.9,15.2,17.7,20.3,23.8]
[{"$nulls":3},550,"-","-","-",{"v":0.9166666666666666,"d":"92%"},22.9,{"v":0.01908333333333333,"d":"1.9%"},80,null,"BT",0.2,2.3,4.6,6.9,9.8,11.9,14.2,16,18.2,20.2,22.5,25.2]
[{"$nulls":3},600,"-","-","-",{"v":1,"d":"100%"},25,{"v":0.020833333333333336,"d":"2.1%"},81]
[{"$nulls":3},650,"-","-","-",{"v":1.0833333333333333,"d":"108%"},"-","-"]
[null,null,"1,0m",50,{"$f":"D34/$B$4","v":{"v":0.16666666666666666,"d":"17%"}},2.7,{"$f":"(F34/$B$5)/100","v":{"v":2.2500000000000003E-3,"d":"0.2%"}},{"v":0.08333333333333333,"d":"8%"},0.6,{"$f":"(I34/$B$5)/100","v":{"v":0.0005,"d":"0.1%"}}]
[{"$nulls":3},100,{"v":0.3333333333333333,"d":"33%"},9.3,{"v":0.00775,"d":"0.8%"},{"v":0.16666666666666666,"d":"17%"},2.4,{"$f":"(I35/$B$5)/100","v":{"v":2E-3,"d":"0.2%"}}]
[{"$nulls":3},150,{"v":0.5,"d":"50%"},15.4,{"v":0.012833333333333334,"d":"1.3%"},{"v":0.25,"d":"25%"},4.8,{"v":0.004,"d":"0.4%"}]
[{"$nulls":3},200,{"v":0.6666666666666666,"d":"67%"},20.4,{"v":0.017,"d":"1.7%"},{"v":0.3333333333333333,"d":"33%"},6.6,{"v":0.0055,"d":"0.6%"}]
[{"$nulls":3},250,{"v":0.8333333333333334,"d":"83%"},25.6,{"v":0.021333333333333333,"d":"2.1%"},{"v":0.4166666666666667,"d":"42%"},8.8,{"v":0.007333333333333334,"d":"0.7%"}]
[{"$nulls":3},300,{"v":1,"d":"100%"},31.1,{"v":0.025916666666666668,"d":"2.6%"},{"v":0.5,"d":"50%"},11,{"v":0.009166666666666667,"d":"0.9%"}]
[{"$nulls":3},350,"-","-","-",{"v":0.5833333333333334,"d":"58%"},12.6,{"v":0.0105,"d":"1.1%"}]
[{"$nulls":3},400,"-","-","-",{"v":0.6666666666666666,"d":"67%"},14.4,{"v":0.012,"d":"1.2%"}]
[{"$nulls":3},450,"-","-","-",{"v":0.75,"d":"75%"},16.2,{"v":0.013499999999999998,"d":"1.4%"}]
[{"$nulls":3},500,"-","-","-",{"v":0.8333333333333334,"d":"83%"},18,{"v":0.015,"d":"1.5%"},82,{"$nulls":3},{"v":0.17,"d":"17%"},{"v":0.33,"d":"33%"},{"v":0.5,"d":"50%"},{"v":0.67,"d":"67%"},{"v":0.83,"d":"83%"},{"v":1,"d":"100%"}]
[{"$nulls":3},550,"-","-","-",{"v":0.9166666666666666,"d":"92%"},19.8,{"v":0.0165,"d":"1.7%"},83,null,null,"0,1 m",1.8,6.9,15,23.4,33,42.8]
[{"$nulls":3},600,"-","-","-",{"v":1,"d":"100%"},20.8,{"v":0.017333333333333333,"d":"1.7%"},84,null,null,"0,5 m",3.8,11,17.2,22.8,29.8,36.4]
[{"$nulls":3},650,"-","-","-",{"v":1.0833333333333333,"d":"108%"},"-","-",{"$nulls":3},"1,0 m",2.7,9.3,15.4,20.4,25.6,31.1]
[null,null,"1,5m",50,{"$f":"D47/$B$4","v":{"v":0.16666666666666666,"d":"17%"}},1.8,{"$f":"(F47/$B$5)/100","v":{"v":1.5E-3,"d":"0.2%"}},{"v":0.08333333333333333,"d":"8%"},0.3,{"$f":"(I47/$B$5)/100","v":{"v":0.00025,"d":"0.0%"}},{"$nulls":3},"1,5 m ",1.8,7.5,13.1,18.1,23.2,27.9]
[{"$nulls":3},100,{"v":0.3333333333333333,"d":"33%"},7.5,{"v":0.00625,"d":"0.6%"},{"v":0.16666666666666666,"d":"17%"},2,{"$f":"(I48/$B$5)/100","v":{"v":1.6666666666666666E-3,"d":"0.2%"}},{"$nulls":3},"2,0 m",2,6.8,12.3,17.1,22.2,26.1]
[{"$nulls":3},150,{"v":0.5,"d":"50%"},13.1,{"v":0.010916666666666665,"d":"1.1%"},{"v":0.25,"d":"25%"},4,{"v":0.003333333333333333,"d":"0.3%"}]
[{"$nulls":3},200,{"v":0.6666666666666666,"d":"67%"},18.1,{"v":0.015083333333333336,"d":"1.5%"},{"v":0.3333333333333333,"d":"33%"},6,{"v":0.005,"d":"0.5%"}]
[{"$nulls":3},250,{"v":0.8333333333333334,"d":"83%"},23.2,{"v":0.019333333333333334,"d":"1.9%"},{"v":0.4166666666666667,"d":"42%"},8,{"v":0.006666666666666666,"d":"0.7%"}]
[{"$nulls":3},300,{"v":1,"d":"100%"},27.9,{"v":0.023249999999999996,"d":"2.3%"},{"v":0.5,"d":"50%"},9.6,{"v":0.008,"d":"0.8%"}]
[{"$nulls":3},350,"-","-","-",{"v":0.5833333333333334,"d":"58%"},11,{"v":0.009166666666666667,"d":"0.9%"}]
[{"$nulls":3},400,"-","-","-",{"v":0.6666666666666666,"d":"67%"},13,{"v":0.010833333333333332,"d":"1.1%"}]
[{"$nulls":3},450,"-","-","-",{"v":0.75,"d":"75%"},14.5,{"v":0.012083333333333333,"d":"1.2%"}]
[{"$nulls":3},500,"-","-","-",{"v":0.8333333333333334,"d":"83%"},16,{"v":0.013333333333333332,"d":"1.3%"},85]
[{"$nulls":3},550,"-","-","-",{"v":0.9166666666666666,"d":"92%"},17.8,{"v":0.014833333333333334,"d":"1.5%"},86]
[{"$nulls":3},600,"-","-","-",{"v":1,"d":"100%"},19.4,{"v":0.016166666666666666,"d":"1.6%"},87]
[{"$nulls":3},650,"-","-","-",{"v":1.0833333333333333,"d":"108%"},"-","-"]
[null,null,"2,0m",50,{"$f":"D60/$B$4","v":{"v":0.16666666666666666,"d":"17%"}},2,{"$f":"(F60/$B$5)/100","v":{"v":1.6666666666666666E-3,"d":"0.2%"}},{"v":0.08333333333333333,"d":"8%"},0.3,{"$f":"(I60/$B$5)/100","v":{"v":0.00025,"d":"0.0%"}}]
[{"$nulls":3},100,{"v":0.3333333333333333,"d":"33%"},6.8,{"v":0.005666666666666666,"d":"0.6%"},{"v":0.16666666666666666,"d":"17%"},1.8,{"$f":"(I61/$B$5)/100","v":{"v":1.5E-3,"d":"0.2%"}}]
[{"$nulls":3},150,{"v":0.5,"d":"50%"},12.3,{"v":0.010250000000000002,"d":"1.0%"},{"v":0.25,"d":"25%"},3.4,{"v":0.002833333333333333,"d":"0.3%"}]
[{"$nulls":3},200,{"v":0.6666666666666666,"d":"67%"},17.1,{"v":0.01425,"d":"1.4%"},{"v":0.3333333333333333,"d":"33%"},5.3,{"v":0.004416666666666667,"d":"0.4%"}]
[{"$nulls":3},250,{"v":0.8333333333333334,"d":"83%"},22.2,{"v":0.0185,"d":"1.9%"},{"v":0.4166666666666667,"d":"42%"},7,{"v":0.005833333333333334,"d":"0.6%"}]
[{"$nulls":3},300,{"v":1,"d":"100%"},26.1,{"v":0.021750000000000002,"d":"2.2%"},{"v":0.5,"d":"50%"},8.5,{"v":0.007083333333333334,"d":"0.7%"},{"$nulls":6},{"v":0.17,"d":"17%"},{"v":0.33,"d":"33%"},{"v":0.5,"d":"50%"},{"v":0.67,"d":"67%"},{"v":0.83,"d":"83%"},{"v":1,"d":"100%"}]
[{"$nulls":3},350,"-","-","-",{"v":0.5833333333333334,"d":"58%"},10,{"v":0.008333333333333333,"d":"0.8%"},{"$nulls":5},"AT",0.8,8.1,15.8,23.2,31.7,38.6]
[{"$nulls":3},400,"-","-","-",{"v":0.6666666666666666,"d":"67%"},11.4,{"v":0.009500000000000001,"d":"1.0%"},{"$nulls":5},"BT",0.7,9.1,17.2,23.6,32.2,37.5]
[{"$nulls":3},450,"-","-","-",{"v":0.75,"d":"75%"},13.2,{"v":0.011,"d":"1.1%"}]
[{"$nulls":3},500,"-","-","-",{"v":0.8333333333333334,"d":"83%"},14.3,{"v":0.011916666666666666,"d":"1.2%"},88]
[{"$nulls":3},550,"-","-","-",{"v":0.9166666666666666,"d":"92%"},15.8,{"v":0.013166666666666667,"d":"1.3%"},89]
[{"$nulls":3},600,"-","-","-",{"v":1,"d":"100%"},17.3,{"v":0.014416666666666666,"d":"1.4%"},90]
[{"$nulls":3},650,"-","-","-",{"v":1.0833333333333333,"d":"108%"},19,{"v":0.01583333333333333,"d":"1.6%"},91]
[{"$nulls":3},700,"-","-","-",{"$f":"D73/$B$3","v":{"v":1.1666666666666667,"d":"117%"}},20.3,{"v":0.016916666666666667,"d":"1.7%"}]
[{"$nulls":3},750,"-","-","-",{"v":1.25,"d":"125%"},21.8,{"v":0.018166666666666668,"d":"1.8%"}]
[{"$nulls":3},800,"-","-","-",{"v":1.3333333333333333,"d":"133%"},23.4,{"v":0.0195,"d":"2.0%"}]
[{"$nulls":3},840,"-","-","-",{"v":1.4,"d":"140%"},24.6,{"v":0.020500000000000004,"d":"2.1%"}]
[]
[null,"Esf. Distribuído","0,1/0,8/1,5m",50,{"$f":"D78/$B$4","v":{"v":0.16666666666666666,"d":"17%"}},0.8,{"$f":"(F78/$B$5)/100","v":{"v":6.6666666666666664E-4,"d":"0.1%"}},{"v":0.08333333333333333,"d":"8%"},0.2,{"$f":"(I78/$B$5)/100","v":{"v":1.6666666666666666E-4,"d":"0.0%"}}]
[{"$nulls":3},100,{"v":0.3333333333333333,"d":"33%"},8.1,{"v":0.006749999999999999,"d":"0.7%"},{"v":0.16666666666666666,"d":"17%"},0.9,{"$f":"(I79/$B$5)/100","v":{"v":0.00075,"d":"0.1%"}}]
[{"$nulls":3},150,{"v":0.5,"d":"50%"},15.8,{"v":0.013166666666666667,"d":"1.3%"},{"v":0.25,"d":"25%"},2.1,{"v":1.7500000000000003E-3,"d":"0.2%"}]
[{"$nulls":3},200,{"v":0.6666666666666666,"d":"67%"},23.2,{"v":0.019333333333333334,"d":"1.9%"},{"v":0.3333333333333333,"d":"33%"},3.9,{"v":3.2500000000000003E-3,"d":"0.3%"},28]
[{"$nulls":3},250,{"v":0.8333333333333334,"d":"83%"},31.7,{"v":0.026416666666666665,"d":"2.6%"},{"v":0.4166666666666667,"d":"42%"},6.1,{"v":0.005083333333333333,"d":"0.5%"}]
[{"$nulls":3},300,{"v":1,"d":"100%"},38.6,{"v":0.03216666666666667,"d":"3.2%"},{"v":0.5,"d":"50%"},8.2,{"v":0.006833333333333333,"d":"0.7%"}]
[{"$nulls":3},350,"-","-","-",{"v":0.5833333333333334,"d":"58%"},10.4,{"v":0.008666666666666666,"d":"0.9%"},29]
[{"$nulls":3},400,"-","-","-",{"v":0.6666666666666666,"d":"67%"},12.9,{"v":0.01075,"d":"1.1%"},30]
[{"$nulls":3},450,"-","-","-",{"v":0.75,"d":"75%"},15.2,{"v":0.012666666666666666,"d":"1.3%"}]
[{"$nulls":3},500,"-","-","-",{"v":0.8333333333333334,"d":"83%"},17.7,{"v":0.01475,"d":"1.5%"},"31-32"]
[{"$nulls":3},550,"-","-","-",{"v":0.9166666666666666,"d":"92%"},20.3,{"v":0.016916666666666667,"d":"1.7%"},33]
[{"$nulls":3},600,"-","-","-",{"v":1,"d":"100%"},23.8,{"v":0.019833333333333335,"d":"2.0%"},34]
[{"$nulls":3},650,"-","-","-",{"v":1.0833333333333333,"d":"108%"},"-","-"]
[null,null,"0,15/0,35/0,55/0,75m",50,{"$f":"D91/$B$4","v":{"v":0.16666666666666666,"d":"17%"}},0.7,{"$f":"(F91/$B$5)/100","v":{"v":5.8333333333333327E-4,"d":"0.1%"}},{"v":0.08333333333333333,"d":"8%"},0.2,{"$f":"(I91/$B$5)/100","v":{"v":1.6666666666666666E-4,"d":"0.0%"}}]
[{"$nulls":3},100,{"v":0.3333333333333333,"d":"33%"},9.1,{"v":0.007583333333333333,"d":"0.8%"},{"v":0.16666666666666666,"d":"17%"},2.3,{"$f":"(I92/$B$5)/100","v":{"v":1.9166666666666666E-3,"d":"0.2%"}}]
[{"$nulls":3},150,{"v":0.5,"d":"50%"},17.2,{"v":0.014333333333333333,"d":"1.4%"},{"v":0.25,"d":"25%"},4.6,{"v":0.003833333333333333,"d":"0.4%"}]
[{"$nulls":3},200,{"v":0.6666666666666666,"d":"67%"},23.6,{"v":0.01966666666666667,"d":"2.0%"},{"v":0.3333333333333333,"d":"33%"},6.9,{"v":0.005750000000000001,"d":"0.6%"}]
[{"$nulls":3},250,{"v":0.8333333333333334,"d":"83%"},32.2,{"v":0.026833333333333334,"d":"2.7%"},{"v":0.4166666666666667,"d":"42%"},9.8,{"v":0.008166666666666668,"d":"0.8%"},38]
[{"$nulls":3},300,{"v":1,"d":"100%"},37.5,{"v":0.03125,"d":"3.1%"},{"v":0.5,"d":"50%"},11.9,{"v":0.009916666666666667,"d":"1.0%"},39]
[{"$nulls":3},350,"-","-","-",{"v":0.5833333333333334,"d":"58%"},14.2,{"v":0.011833333333333333,"d":"1.2%"},40]
[{"$nulls":3},400,"-","-","-",{"v":0.6666666666666666,"d":"67%"},16,{"v":0.013333333333333332,"d":"1.3%"},41]
[{"$nulls":3},450,"-","-","-",{"v":0.75,"d":"75%"},18.2,{"v":0.015166666666666667,"d":"1.5%"},42]
[{"$nulls":3},500,"-","-","-",{"v":0.8333333333333334,"d":"83%"},20.2,{"v":0.016833333333333332,"d":"1.7%"}]
[{"$nulls":3},550,"-","-","-",{"v":0.9166666666666666,"d":"92%"},22.5,{"v":0.01875,"d":"1.9%"},45]
[{"$nulls":3},600,"-","-","-",{"v":1,"d":"100%"},25.2,{"v":0.021,"d":"2.1%"},"47 a 49"]
[{"$nulls":3},650,"-","-","-",{"v":1.0833333333333333,"d":"108%"},"-","-"]

{"sheet":"TC_12_10kN","index":25,"n_rows":147,"n_cols":30,"rows_kept":147,"merged":[[0,1,0,7],[1,1,1,6],[2,5,2,7],[3,5,3,7],[4,5,4,6],[6,1,105,1],[6,2,25,2],[26,2,45,2],[46,2,65,2],[66,2,85,2],[86,2,105,2],[107,1,146,1],[107,2,126,2],[127,2,146,2]]}
[null,"ENSAIOS DE ELASTICIDADE EM POSTES DE CONCRETO DUPLO \"T\" E TRONCO CÔNICO"]
[]
[null,1000,"daN",null,null,"POSTE"]
[null,12,"m",null,null,"TC - 12 (1000daN)"]
[null,null,"Altura do Esforço","Carga Aplic.","% da ","Flexão"]
[null,null,"em Relação ao topo","(daN)","nominal","cm","%","Fotos",null,null,{"v":0.05,"d":"5%"},{"v":0.1,"d":"10%"},{"v":0.15,"d":"15%"},{"v":0.2,"d":"20%"},{"v":0.25,"d":"25%"},{"v":0.3,"d":"30%"},{"v":0.35,"d":"35%"},{"v":0.4,"d":"40%"},{"v":0.45,"d":"45%"},{"v":0.5,"d":"50%"},{"v":0.55,"d":"55%"},{"v":0.6,"d":"60%"},{"v":0.65,"d":"65%"},{"v":0.7,"d":"70%"},{"v":0.75,"d":"75%"},{"v":0.8,"d":"80%"},{"v":0.85,"d":"85%"},{"v":0.9,"d":"90%"},{"v":0.95,"d":"95%"},{"v":1,"d":"100%"}]
[null,"Esforço concentrado","0,1m",50,{"$f":"D7/$B$3","v":{"v":0.05,"d":"5%"}},0.8,{"$f":"(F7/$B$4)/100","v":{"v":6.6666666666666664E-4,"d":"0.07%"}},null,null,"0,1m",0.8,1.5,2.7,{"v":4,"d":"4.0"},5.7,7.5,{"v":9,"d":"9.0"},{"v":11,"d":"11.0"},12.8,15.1,16.8,18.8,{"v":20,"d":"20.0"},21.5,23.5,25.9,27.8,29.8,{"v":32,"d":"32.0"},34.4]
[{"$nulls":3},100,{"$f":"D8/$B$3","v":{"v":0.1,"d":"10%"}},1.5,{"$f":"(F8/$B$4)/100","v":{"v":1.25E-3,"d":"0.13%"}},null,null,"0,5m",0.8,1.8,4.2,{"v":5,"d":"5.0"},6.4,{"v":8,"d":"8.0"},9.8,11.2,13.2,14.9,16.9,18.4,20.1,22.1,24.1,25.7,27.4,{"v":29,"d":"29.0"},{"v":31,"d":"31.0"},32.7]
[{"$nulls":3},150,{"v":0.15,"d":"15%"},2.7,{"v":2.2500000000000003E-3,"d":"0.23%"},null,null,"1,0m",0.6,1.5,3.4,4.5,5.8,8.2,9.8,10.7,12.4,13.8,15.8,17.6,{"v":19,"d":"19.0"},20.7,{"v":22,"d":"22.0"},{"v":24,"d":"24.0"},25.4,27.1,28.5,30.2]
[{"$nulls":3},200,{"v":0.2,"d":"20%"},{"v":4,"d":"4.0"},{"v":0.003333333333333333,"d":"0.33%"},null,null,"1,5m",0.6,1.3,2.4,3.9,5.1,6.6,{"v":8,"d":"8.0"},9.6,10.6,12.4,{"v":14,"d":"14.0"},15.5,16.9,18.6,19.8,{"v":21,"d":"21.0"},22.6,{"v":24,"d":"24.0"},25.5,{"v":27,"d":"27.0"}]
[{"$nulls":3},250,{"v":0.25,"d":"25%"},5.7,{"v":0.004750000000000001,"d":"0.48%"},null,null,"2,0m",0.5,1.2,{"v":2,"d":"2.0"},3.4,4.4,5.4,7.2,8.4,9.7,11.1,12.4,13.9,15.4,16.7,{"v":18,"d":"18.0"},19.2,20.4,21.8,23.2,24.4]
[{"$nulls":3},300,{"v":0.3,"d":"30%"},7.5,{"v":0.00625,"d":"0.63%"}]
[{"$nulls":3},350,{"v":0.35,"d":"35%"},{"v":9,"d":"9.0"},{"v":0.0075,"d":"0.75%"}]
[{"$nulls":3},400,{"v":0.4,"d":"40%"},{"v":11,"d":"11.0"},{"v":0.009166666666666667,"d":"0.92%"},94]
[{"$nulls":3},450,{"v":0.45,"d":"45%"},12.8,{"v":0.010666666666666666,"d":"1.07%"}]
[{"$nulls":3},500,{"v":0.5,"d":"50%"},15.1,{"v":0.012583333333333334,"d":"1.26%"},95]
[{"$nulls":3},550,{"v":0.55,"d":"55%"},16.8,{"v":0.014000000000000002,"d":"1.40%"},96]
[{"$nulls":3},600,{"v":0.6,"d":"60%"},18.8,{"v":0.015666666666666666,"d":"1.57%"},99]
[{"$nulls":3},650,{"v":0.65,"d":"65%"},{"v":20,"d":"20.0"},{"v":0.016666666666666666,"d":"1.67%"},"98-100"]
[{"$nulls":3},700,{"v":0.7,"d":"70%"},21.5,{"v":0.017916666666666668,"d":"1.79%"},101]
[{"$nulls":3},750,{"v":0.75,"d":"75%"},23.5,{"v":0.01958333333333333,"d":"1.96%"}]
[{"$nulls":3},800,{"v":0.8,"d":"80%"},25.9,{"v":0.021583333333333333,"d":"2.16%"}]
[{"$nulls":3},850,{"v":0.85,"d":"85%"},27.8,{"v":0.02316666666666667,"d":"2.32%"},{"$nulls":3},{"v":0.05,"d":"5%"},{"v":0.1,"d":"10%"},{"v":0.15,"d":"15%"},{"v":0.2,"d":"20%"},{"v":0.25,"d":"25%"},{"v":0.3,"d":"30%"},{"v":0.35,"d":"35%"},{"v":0.4,"d":"40%"},{"v":0.45,"d":"45%"},{"v":0.5,"d":"50%"},{"v":0.55,"d":"55%"},{"v":0.6,"d":"60%"},{"v":0.65,"d":"65%"},{"v":0.7,"d":"70%"},{"v":0.75,"d":"75%"},{"v":0.8,"d":"80%"},{"v":0.85,"d":"85%"},{"v":0.9,"d":"90%"},{"v":0.95,"d":"95%"},{"v":1,"d":"100%"}]
[{"$nulls":3},900,{"v":0.9,"d":"90%"},29.8,{"v":0.024833333333333332,"d":"2.48%"},103,null,"AT",0.6,1.3,2.5,{"v":4,"d":"4.0"},5.5,7.5,9.6,10.5,12.3,{"v":14,"d":"14.0"},16.1,{"v":18,"d":"18.0"},{"v":19,"d":"19.0"},{"v":21,"d":"21.0"},22.2,24.2,25.5,26.9,28.5,30.1]
[{"$nulls":3},950,{"v":0.95,"d":"95%"},{"v":32,"d":"32.0"},{"v":0.026666666666666665,"d":"2.67%"},null,null,"BT",0.6,1.5,3.2,4.8,{"v":6,"d":"6.0"},{"v":8,"d":"8.0"},{"v":10,"d":"10.0"},{"v":12,"d":"12.0"},13.9,15.9,17.5,19.4,21.1,22.8,24.7,26.5,{"v":28,"d":"28.0"},29.5,30.6,{"v":33,"d":"33.0"}]
[{"$nulls":3},1000,{"v":1,"d":"100%"},34.4,{"v":0.028666666666666667,"d":"2.87%"}]
[null,null,"0,5m",50,{"$f":"D27/$B$3","v":{"v":0.05,"d":"5%"}},0.8,{"$f":"(F27/$B$4)/100","v":{"v":6.6666666666666664E-4,"d":"0.07%"}}]
[{"$nulls":3},100,{"v":0.1,"d":"10%"},1.8,{"v":1.5E-3,"d":"0.15%"}]
[{"$nulls":3},150,{"v":0.15,"d":"15%"},4.2,{"v":3.5000000000000005E-3,"d":"0.35%"}]
[{"$nulls":3},200,{"v":0.2,"d":"20%"},{"v":5,"d":"5.0"},{"v":0.004166666666666667,"d":"0.42%"}]
[null,null,"0,5m",250,{"v":0.25,"d":"25%"},6.4,{"v":0.005333333333333333,"d":"0.53%"}]
[{"$nulls":3},300,{"v":0.3,"d":"30%"},{"v":8,"d":"8.0"},{"v":0.006666666666666666,"d":"0.67%"}]
[{"$nulls":3},350,{"v":0.35,"d":"35%"},9.8,{"v":0.008166666666666668,"d":"0.82%"}]
[{"$nulls":3},400,{"v":0.4,"d":"40%"},11.2,{"v":0.009333333333333332,"d":"0.93%"}]
[{"$nulls":3},450,{"v":0.45,"d":"45%"},13.2,{"v":0.011,"d":"1.10%"}]
[{"$nulls":3},500,{"v":0.5,"d":"50%"},14.9,{"v":0.012416666666666666,"d":"1.24%"}]
[{"$nulls":3},550,{"v":0.55,"d":"55%"},16.9,{"v":0.014083333333333331,"d":"1.41%"}]
[{"$nulls":3},600,{"v":0.6,"d":"60%"},18.4,{"v":0.015333333333333332,"d":"1.53%"},"104-105"]
[{"$nulls":3},650,{"v":0.65,"d":"65%"},20.1,{"v":0.01675,"d":"1.68%"}]
[{"$nulls":3},700,{"v":0.7,"d":"70%"},22.1,{"v":0.018416666666666668,"d":"1.84%"}]
[{"$nulls":3},750,{"v":0.75,"d":"75%"},24.1,{"v":0.02008333333333333,"d":"2.01%"}]
[{"$nulls":3},800,{"v":0.8,"d":"80%"},25.7,{"v":0.021416666666666667,"d":"2.14%"}]
[{"$nulls":3},850,{"v":0.85,"d":"85%"},27.4,{"v":0.02283333333333333,"d":"2.28%"},106]
[{"$nulls":3},900,{"v":0.9,"d":"90%"},{"v":29,"d":"29.0"},{"v":0.024166666666666666,"d":"2.42%"}]
[{"$nulls":3},950,{"v":0.95,"d":"95%"},{"v":31,"d":"31.0"},{"v":0.025833333333333333,"d":"2.58%"},108]
[{"$nulls":3},1000,{"v":1,"d":"100%"},32.7,{"v":0.02725,"d":"2.73%"},109]
[null,null,"1,0m",50,{"$f":"D47/$B$3","v":{"v":0.05,"d":"5%"}},0.6,{"$f":"(F47/$B$4)/100","v":{"v":0.0005,"d":"0.05%"}}]
[{"$nulls":3},100,{"v":0.1,"d":"10%"},1.5,{"v":1.25E-3,"d":"0.13%"}]
[{"$nulls":3},150,{"v":0.15,"d":"15%"},3.4,{"v":0.002833333333333333,"d":"0.28%"}]
[{"$nulls":3},200,{"v":0.2,"d":"20%"},4.5,{"v":0.00375,"d":"0.38%"}]
[null,null,"1,0m",250,{"v":0.25,"d":"25%"},5.8,{"v":0.004833333333333334,"d":"0.48%"}]
[{"$nulls":3},300,{"v":0.3,"d":"30%"},8.2,{"v":0.006833333333333333,"d":"0.68%"}]
[{"$nulls":3},350,{"v":0.35,"d":"35%"},9.8,{"v":0.008166666666666668,"d":"0.82%"}]
[{"$nulls":3},400,{"v":0.4,"d":"40%"},10.7,{"v":0.008916666666666666,"d":"0.89%"}]
[{"$nulls":3},450,{"v":0.45,"d":"45%"},12.4,{"v":0.010333333333333335,"d":"1.03%"}]
[{"$nulls":3},500,{"v":0.5,"d":"50%"},13.8,{"v":0.011500000000000002,"d":"1.15%"}]
[{"$nulls":3},550,{"v":0.55,"d":"55%"},15.8,{"v":0.013166666666666667,"d":"1.32%"}]
[{"$nulls":3},600,{"v":0.6,"d":"60%"},17.6,{"v":0.014666666666666668,"d":"1.47%"}]
[{"$nulls":3},650,{"v":0.65,"d":"65%"},{"v":19,"d":"19.0"},{"v":0.01583333333333333,"d":"1.58%"}]
[{"$nulls":3},700,{"v":0.7,"d":"70%"},20.7,{"v":0.017249999999999998,"d":"1.73%"},110]
[{"$nulls":3},750,{"v":0.75,"d":"75%"},{"v":22,"d":"22.0"},{"v":0.018333333333333333,"d":"1.83%"}]
[{"$nulls":3},800,{"v":0.8,"d":"80%"},{"v":24,"d":"24.0"},{"v":0.02,"d":"2.00%"}]
[{"$nulls":3},850,{"v":0.85,"d":"85%"},25.4,{"v":0.021166666666666667,"d":"2.12%"}]
[{"$nulls":3},900,{"v":0.9,"d":"90%"},27.1,{"v":0.022583333333333334,"d":"2.26%"}]
[{"$nulls":3},950,{"v":0.95,"d":"95%"},28.5,{"v":0.02375,"d":"2.38%"}]
[{"$nulls":3},1000,{"v":1,"d":"100%"},30.2,{"v":0.025166666666666667,"d":"2.52%"}]
[null,null,"1,5m",50,{"$f":"D67/$B$3","v":{"v":0.05,"d":"5%"}},0.6,{"$f":"(F67/$B$4)/100","v":{"v":0.0005,"d":"0.05%"}}]
[{"$nulls":3},100,{"v":0.1,"d":"10%"},1.3,{"v":1.0833333333333333E-3,"d":"0.11%"}]
[{"$nulls":3},150,{"v":0.15,"d":"15%"},2.4,{"v":2E-3,"d":"0.20%"}]
[{"$nulls":3},200,{"v":0.2,"d":"20%"},3.9,{"v":3.2500000000000003E-3,"d":"0.33%"}]
[null,null,"1,5m",250,{"v":0.25,"d":"25%"},5.1,{"v":0.00425,"d":"0.43%"}]
[{"$nulls":3},300,{"$f":"D72/$B$3","v":{"v":0.3,"d":"30%"}},6.6,{"$f":"(F72/$B$4)/100","v":{"v":0.0055,"d":"0.55%"}}]
[{"$nulls":3},350,{"v":0.35,"d":"35%"},{"v":8,"d":"8.0"},{"v":0.006666666666666666,"d":"0.67%"}]
[{"$nulls":3},400,{"v":0.4,"d":"40%"},9.6,{"v":0.008,"d":"0.80%"}]
[{"$nulls":3},450,{"v":0.45,"d":"45%"},10.6,{"v":0.008833333333333334,"d":"0.88%"}]
[{"$nulls":3},500,{"v":0.5,"d":"50%"},12.4,{"v":0.010333333333333335,"d":"1.03%"}]
[{"$nulls":3},550,{"v":0.55,"d":"55%"},{"v":14,"d":"14.0"},{"v":0.011666666666666667,"d":"1.17%"}]
[{"$nulls":3},600,{"v":0.6,"d":"60%"},15.5,{"v":0.012916666666666667,"d":"1.29%"}]
[{"$nulls":3},650,{"v":0.65,"d":"65%"},16.9,{"v":0.014083333333333331,"d":"1.41%"}]
[{"$nulls":3},700,{"v":0.7,"d":"70%"},18.6,{"v":0.0155,"d":"1.55%"}]
[{"$nulls":3},750,{"v":0.75,"d":"75%"},19.8,{"v":0.0165,"d":"1.65%"}]
[{"$nulls":3},800,{"v":0.8,"d":"80%"},{"v":21,"d":"21.0"},{"v":0.0175,"d":"1.75%"}]
[{"$nulls":3},850,{"v":0.85,"d":"85%"},22.6,{"v":0.018833333333333334,"d":"1.88%"}]
[{"$nulls":3},900,{"v":0.9,"d":"90%"},{"v":24,"d":"24.0"},{"v":0.02,"d":"2.00%"}]
[{"$nulls":3},950,{"v":0.95,"d":"95%"},25.5,{"v":0.02125,"d":"2.13%"}]
[{"$nulls":3},1000,{"v":1,"d":"100%"},{"v":27,"d":"27.0"},{"v":0.0225,"d":"2.25%"}]
[null,null,"2,0m",50,{"$f":"D87/$B$3","v":{"v":0.05,"d":"5%"}},0.5,{"$f":"(F87/$B$4)/100","v":{"v":4.1666666666666664E-4,"d":"0.04%"}}]
[{"$nulls":3},100,{"$f":"D88/$B$3","v":{"v":0.1,"d":"10%"}},1.2,{"$f":"(F88/$B$4)/100","v":{"v":1E-3,"d":"0.10%"}}]
[{"$nulls":3},150,{"v":0.15,"d":"15%"},{"v":2,"d":"2.0"},{"v":1.6666666666666666E-3,"d":"0.17%"}]
[{"$nulls":3},200,{"v":0.2,"d":"20%"},3.4,{"v":0.002833333333333333,"d":"0.28%"}]
[null,null,"2,0m",250,{"v":0.25,"d":"25%"},4.4,{"v":3.666666666666667E-3,"d":"0.37%"}]
[{"$nulls":3},300,{"v":0.3,"d":"30%"},5.4,{"v":4.5000000000000005E-3,"d":"0.45%"}]
[{"$nulls":3},350,{"v":0.35,"d":"35%"},7.2,{"v":0.006,"d":"0.60%"}]
[{"$nulls":3},400,{"v":0.4,"d":"40%"},8.4,{"v":7.000000000000001E-3,"d":"0.70%"}]
[{"$nulls":3},450,{"v":0.45,"d":"45%"},9.7,{"v":8.083333333333333E-3,"d":"0.81%"}]
[{"$nulls":3},500,{"v":0.5,"d":"50%"},11.1,{"v":0.00925,"d":"0.93%"}]
[{"$nulls":3},550,{"v":0.55,"d":"55%"},12.4,{"v":0.010333333333333335,"d":"1.03%"}]
[{"$nulls":3},600,{"v":0.6,"d":"60%"},13.9,{"v":0.011583333333333334,"d":"1.16%"}]
[{"$nulls":3},650,{"v":0.65,"d":"65%"},15.4,{"v":0.012833333333333334,"d":"1.28%"}]
[{"$nulls":3},700,{"v":0.7,"d":"70%"},16.7,{"v":0.013916666666666666,"d":"1.39%"}]
[{"$nulls":3},750,{"v":0.75,"d":"75%"},{"v":18,"d":"18.0"},{"v":0.015,"d":"1.50%"}]
[{"$nulls":3},800,{"v":0.8,"d":"80%"},19.2,{"v":0.016,"d":"1.60%"}]
[{"$nulls":3},850,{"v":0.85,"d":"85%"},20.4,{"v":0.017,"d":"1.70%"}]
[{"$nulls":3},900,{"v":0.9,"d":"90%"},21.8,{"v":0.018166666666666668,"d":"1.82%"}]
[{"$nulls":3},950,{"v":0.95,"d":"95%"},23.2,{"v":0.019333333333333334,"d":"1.93%"}]
[{"$nulls":3},1000,{"v":1,"d":"100%"},24.4,{"v":0.02033333333333333,"d":"2.03%"}]
[]
[null,"Esforço distribuído","0,1/0,8/1,5m",50,{"$f":"D108/$B$3","v":{"v":0.05,"d":"5%"}},0.6,{"$f":"(F108/$B$4)/100","v":{"v":0.0005,"d":"0.05%"}}]
[{"$nulls":3},100,{"$f":"D109/$B$3","v":{"v":0.1,"d":"10%"}},1.3,{"$f":"(F109/$B$4)/100","v":{"v":1.0833333333333333E-3,"d":"0.11%"}}]
[{"$nulls":3},150,{"v":0.15,"d":"15%"},2.5,{"v":2.0833333333333333E-3,"d":"0.21%"}]
[{"$nulls":3},200,{"v":0.2,"d":"20%"},{"v":4,"d":"4.0"},{"v":0.003333333333333333,"d":"0.33%"}]
[null,null,"0,1/0,8/1,5m",250,{"v":0.25,"d":"25%"},5.5,{"v":0.004583333333333333,"d":"0.46%"}]
[{"$nulls":3},300,{"v":0.3,"d":"30%"},7.5,{"v":0.00625,"d":"0.63%"}]
[{"$nulls":3},350,{"v":0.35,"d":"35%"},9.6,{"v":0.008,"d":"0.80%"}]
[{"$nulls":3},400,{"v":0.4,"d":"40%"},10.5,{"v":0.00875,"d":"0.88%"}]
[{"$nulls":3},450,{"v":0.45,"d":"45%"},12.3,{"v":0.010250000000000002,"d":"1.03%"}]
[{"$nulls":3},500,{"v":0.5,"d":"50%"},{"v":14,"d":"14.0"},{"v":0.011666666666666667,"d":"1.17%"}]
[{"$nulls":3},550,{"v":0.55,"d":"55%"},16.1,{"v":0.013416666666666667,"d":"1.34%"},"120-121"]
[{"$nulls":3},600,{"v":0.6,"d":"60%"},{"v":18,"d":"18.0"},{"v":0.015,"d":"1.50%"}]
[{"$nulls":3},650,{"v":0.65,"d":"65%"},{"v":19,"d":"19.0"},{"v":0.01583333333333333,"d":"1.58%"}]
[{"$nulls":3},700,{"v":0.7,"d":"70%"},{"v":21,"d":"21.0"},{"v":0.0175,"d":"1.75%"},"122-123"]
[{"$nulls":3},750,{"v":0.75,"d":"75%"},22.2,{"v":0.0185,"d":"1.85%"}]
[{"$nulls":3},800,{"v":0.8,"d":"80%"},24.2,{"v":0.020166666666666666,"d":"2.02%"}]
[{"$nulls":3},850,{"v":0.85,"d":"85%"},25.5,{"v":0.02125,"d":"2.13%"}]
[{"$nulls":3},900,{"v":0.9,"d":"90%"},26.9,{"v":0.022416666666666668,"d":"2.24%"}]
[{"$nulls":3},950,{"v":0.95,"d":"95%"},28.5,{"v":0.02375,"d":"2.38%"}]
[{"$nulls":3},1000,{"v":1,"d":"100%"},30.1,{"v":0.025083333333333332,"d":"2.51%"},"124-125"]
[null,null,"0,15/0,35/0,55/0,75m",50,{"$f":"D128/$B$3","v":{"v":0.05,"d":"5%"}},0.6,{"$f":"(F128/$B$4)/100","v":{"v":0.0005,"d":"0.05%"}}]
[{"$nulls":3},100,{"$f":"D129/$B$3","v":{"v":0.1,"d":"10%"}},1.5,{"$f":"(F129/$B$4)/100","v":{"v":1.25E-3,"d":"0.13%"}}]
[{"$nulls":3},150,{"v":0.15,"d":"15%"},3.2,{"v":2.6666666666666666E-3,"d":"0.27%"}]
[{"$nulls":3},200,{"v":0.2,"d":"20%"},4.8,{"v":0.004,"d":"0.40%"}]
[null,null,"0,15/0,35/0,55/0,75m",250,{"v":0.25,"d":"25%"},{"v":6,"d":"6.0"},{"v":0.005,"d":"0.50%"}]
[{"$nulls":3},300,{"v":0.3,"d":"30%"},{"v":8,"d":"8.0"},{"v":0.006666666666666666,"d":"0.67%"}]
[{"$nulls":3},350,{"v":0.35,"d":"35%"},{"v":10,"d":"10.0"},{"v":0.008333333333333333,"d":"0.83%"}]
[{"$nulls":3},400,{"v":0.4,"d":"40%"},{"v":12,"d":"12.0"},{"v":0.01,"d":"1.00%"}]
[{"$nulls":3},450,{"v":0.45,"d":"45%"},13.9,{"v":0.011583333333333334,"d":"1.16%"}]
[{"$nulls":3},500,{"v":0.5,"d":"50%"},15.9,{"v":0.01325,"d":"1.33%"}]
[{"$nulls":3},550,{"v":0.55,"d":"55%"},17.5,{"v":0.014583333333333332,"d":"1.46%"}]
[{"$nulls":3},600,{"v":0.6,"d":"60%"},19.4,{"v":0.016166666666666666,"d":"1.62%"}]
[{"$nulls":3},650,{"v":0.65,"d":"65%"},21.1,{"v":0.017583333333333336,"d":"1.76%"}]
[{"$nulls":3},700,{"v":0.7,"d":"70%"},22.8,{"v":0.019000000000000003,"d":"1.90%"}]
[{"$nulls":3},750,{"v":0.75,"d":"75%"},24.7,{"v":0.020583333333333332,"d":"2.06%"}]
[{"$nulls":3},800,{"v":0.8,"d":"80%"},26.5,{"v":0.022083333333333333,"d":"2.21%"}]
[{"$nulls":3},850,{"v":0.85,"d":"85%"},{"v":28,"d":"28.0"},{"v":0.023333333333333334,"d":"2.33%"}]
[{"$nulls":3},900,{"v":0.9,"d":"90%"},29.5,{"v":0.024583333333333336,"d":"2.46%"}]
[{"$nulls":3},950,{"v":0.95,"d":"95%"},30.6,{"v":0.025500000000000002,"d":"2.55%"}]
[{"$nulls":3},1000,{"v":1,"d":"100%"},{"v":33,"d":"33.0"},{"v":0.0275,"d":"2.75%"}]

{"sheet":"Graf_Comparativos","index":26,"n_rows":77,"n_cols":5,"rows_kept":77}
[]
[]
[]
[]
["0,1m"]
[null,{"v":0.25,"d":"25%"},{"v":0.5,"d":"50%"},{"v":0.75,"d":"75%"},{"v":1,"d":"100%"}]
["DT-11(2)"]
["DT-9(2)",2.9,7.5,17.8,26.3]
["DT-11(2)",5.5,15,25.6,35.7]
["DT-12(4)",2.9,{"v":10,"d":"10.0"},19.1,28.9]
["DT-12(6)",5.4,14.1,21.6,30.3]
["TC-12(10)",5.7,15.1,23.5,34.4]
["Média",{"$f":"AVERAGE(B10:B12)","v":{"v":4.666666666666667,"d":"4.7"}},{"$f":"AVERAGE(C10:C12)","v":{"v":13.066666666666668,"d":"13.1"}},{"$f":"AVERAGE(D10:D12)","v":{"v":21.400000000000002,"d":"21.4"}},{"$f":"AVERAGE(E10:E12)","v":31.2}]
[]
["0,5m"]
[null,{"v":0.25,"d":"25%"},{"v":0.5,"d":"50%"},{"v":0.75,"d":"75%"},{"v":1,"d":"100%"}]
["DT-11(2)"]
["DT-9(2)",4.6,13.4,20.1,27.9]
["DT-11(2)",6,15.4,26.1,34.7]
["DT-12(4)",3.8,10.2,{"v":17,"d":"17.0"},23.2]
["DT-12(6)",5.4,12.6,18.6,{"v":25,"d":"25.0"}]
["TC-12(10)",6.4,14.9,24.1,32.7]
["Média",{"$f":"AVERAGE(B20:B22)","v":5.2},{"$f":"AVERAGE(C20:C22)","v":{"v":12.566666666666665,"d":"12.6"}},{"$f":"AVERAGE(D20:D22)","v":{"v":19.900000000000002,"d":"19.9"}},{"$f":"AVERAGE(E20:E22)","v":{"v":26.96666666666667,"d":"27.0"}}]
[]
["1,0m"]
[null,{"v":0.25,"d":"25%"},{"v":0.5,"d":"50%"},{"v":0.75,"d":"75%"},{"v":1,"d":"100%"}]
["DT-11(2)"]
["DT-9(2)",3.5,10.2,17.2,22.8]
["DT-11(2)",4.9,14,22.5,31.6]
["DT-12(4)",3.8,9.8,15.8,20.8]
["DT-12(6)",4.8,{"v":11,"d":"11.0"},16.2,20.8]
["TC-12(10)",5.8,13.8,{"v":22,"d":"22.0"},30.2]
["Média",{"$f":"AVERAGE(B30:B32)","v":4.8},{"$f":"AVERAGE(C30:C32)","v":{"v":11.533333333333333,"d":"11.5"}},{"$f":"AVERAGE(D30:D32)","v":{"v":18,"d":"18.0"}},{"$f":"AVERAGE(E30:E32)","v":{"v":23.933333333333334,"d":"23.9"}}]
[]
["1,5m",{"$nulls":3},4]
[null,{"v":0.25,"d":"25%"},{"v":0.5,"d":"50%"},{"v":0.75,"d":"75%"},{"v":1,"d":"100%"}]
["DT-11(2)"]
["DT-9(2)",2.6,7.9,14.1,18.5]
["DT-11(2)",3.5,11.5,19.8,26.5]
["DT-12(4)",3.2,8.6,14.4,18.7]
["DT-12(6)",{"v":4,"d":"4.0"},9.6,14.5,19.4]
["TC-12(10)",5.1,12.4,19.8,{"v":27,"d":"27.0"}]
["Média",{"$f":"AVERAGE(B40:B42)","v":{"v":4.1000000000000005,"d":"4.1"}},{"$f":"AVERAGE(C40:C42)","v":{"v":10.200000000000001,"d":"10.2"}},{"$f":"AVERAGE(D40:D42)","v":{"v":16.233333333333334,"d":"16.2"}},{"$f":"AVERAGE(E40:E42)","v":21.7}]
[]
["2,0m"]
[null,{"v":0.25,"d":"25%"},{"v":0.5,"d":"50%"},{"v":0.75,"d":"75%"},{"v":1,"d":"100%"}]
["DT-11(2)"]
["DT-9(2)",2.3,6.2,11.6,17.4]
["DT-11(2)",3.7,10.1,18.4,24.5]
["DT-12(4)",2.5,6.9,{"v":12,"d":"12.0"},{"v":16,"d":"16.0"}]
["DT-12(6)",3.4,8.5,13.2,17.3]
["TC-12(10)",4.4,11.1,{"v":18,"d":"18.0"},24.4]
["Média",{"$f":"AVERAGE(B50:B52)","v":{"v":3.4333333333333336,"d":"3.4"}},{"$f":"AVERAGE(C50:C52)","v":{"v":8.833333333333334,"d":"8.8"}},{"$f":"AVERAGE(D50:D52)","v":14.4},{"$f":"AVERAGE(E50:E52)","v":{"v":19.23333333333333,"d":"19.2"}}]
[]
["AT"]
[null,{"v":0.25,"d":"25%"},{"v":0.5,"d":"50%"},{"v":0.75,"d":"75%"},{"v":1,"d":"100%"}]
["DT-11(2)"]
["DT-9(2)",3.6,13.6,22.6,31.8]
["DT-11(2)",3.6,13.6,22.6,31.8]
["DT-12(4)",3.5,10.3,16.9,21.9]
["DT-12(6)",2.1,8.2,15.2,23.8]
["TC-12(10)",5.5,{"v":14,"d":"14.0"},22.2,30.1]
["Média",{"$f":"AVERAGE(B60:B62)","v":{"v":3.6999999999999997,"d":"3.7"}},{"$f":"AVERAGE(C60:C62)","v":{"v":10.833333333333334,"d":"10.8"}},{"$f":"AVERAGE(D60:D62)","v":{"v":18.099999999999998,"d":"18.1"}},{"$f":"AVERAGE(E60:E62)","v":{"v":25.26666666666667,"d":"25.3"}}]
[]
["BT"]
[null,{"v":0.25,"d":"25%"},{"v":0.5,"d":"50%"},{"v":0.75,"d":"75%"},{"v":1,"d":"100%"}]
["DT-11(2)"]
["DT-9(2)",4.1,15.3,25.5,33.2]
["DT-11(2)",4.4,15.4,25.8,33.5]
["DT-12(4)",3.7,11.3,17.5,24.5]
["DT-12(6)",4.6,11.9,18.2,25.8]
["TC-12(10)",{"v":6,"d":"6.0"},15.9,24.7,{"v":33,"d":"33.0"}]
["Média",{"$f":"AVERAGE(B70:B72)","v":{"v":4.766666666666667,"d":"4.8"}},{"$f":"AVERAGE(C70:C72)","v":{"v":13.033333333333333,"d":"13.0"}},{"$f":"AVERAGE(D70:D72)","v":{"v":20.133333333333336,"d":"20.1"}},{"$f":"AVERAGE(E70:E72)","v":{"v":27.766666666666666,"d":"27.8"}}]
[]
["COPREL"]
["ENGENHARIA"]
["2007-07-01"]

{"sheet":"Newton","index":27,"n_rows":6,"n_cols":5,"rows_kept":6,"hidden":true}
[]
[{"$nulls":4},"Resultado"]
[]
[]
[]
[0.0896410938467708]

{"sheet":"Barras de Ferramentas","index":28,"n_rows":0,"n_cols":0,"rows_kept":0}